{"text_format":"1","workbook":"xlsx","n_sheets":5,"sheets":["Lakás Törlesztéscsökkentő fiók","Személyi Törl. csökkentő fiók","Segédlet","THM fiók","THM fiók HE"],"not_rendered":{"charts":0,"images":1,"macros":1,"external_links":0,"defined_names":2,"comments":0,"pivot_tables":0},"unopened":[],"bounds":{"document_bytes":16777216,"sheet_cells":100000,"rows_first":2000,"rows_last":500,"rows_between":2000,"halvings":0,"cell_chars":16384,"cell_head_chars":4096},"cells_cut":0,"cells_raw":0,"read":"whole","date_system":"1900"}

{"sheet":"Lakás Törlesztéscsökkentő fiók","index":0,"n_rows":441,"n_cols":21,"rows_kept":441,"cut":false,"hidden":false,"merged":[[64,10,68,12],[27,10,27,13],[35,0,35,6],[36,0,36,6],[37,0,37,6],[39,0,39,6],[40,0,40,6],[38,0,38,6],[34,0,34,6],[30,0,30,6],[31,0,31,6],[13,0,13,1],[53,10,53,11],[29,0,29,2],[33,0,33,6],[0,0,0,6],[1,0,1,6],[3,0,3,1],[3,8,3,10],[4,4,5,5],[4,6,5,6],[6,4,7,4],[6,5,7,5],[6,6,7,6],[8,4,9,4],[8,5,9,5],[8,6,9,6]]}
["tájékoztató kalkuláció a K&H törlesztéscsökkentő hitelről"]
["Kiváltandó hitel: eredendően lakáscélú hitel"]
[]
["JELENLEGI HITEL (nem kombinált hitel)",null,null,null,null,null,null,null,"árfolyam",null,null,null,"alap",null,"Induló díjakkal","Csak kamattal","HUF",0.08,{"$f":"IF(B5=Q4,\"\",\"HUF\")","v":"HUF"},"igen",0]
["A hitel devizaneme",null,null,null,"TÖRLESZTÉSCSÖKKENÉS ÖSSZEGE",null,{"$f":"IF(G9>0,\"\",J24)","v":""},null,"CHF",310,"HUF/CHF","3 hónap",2.1000000000000001E-2,"K1",{"$f":"HLOOKUP($B$26,$K$29:$N$35,2,FALSE)","v":2.5999999999999999E-2},{"$f":"O5+0.002","v":2.7999999999999997E-2},"CHF",7.0000000000000007E-2,{"$f":"IF(B5=Q4,\"\",B5)","v":0},"nem",{"$f":"+U4+0.1","v":0.1}]
[{"$f":"IF(B5=\"\",\"\",IF(B5=Q4,\"forinthitel, emiatt ezt nem kell kitölteni\",CONCATENATE(\"fennálló tőketartozás megadása HUF vagy \",B5,\"?\")))","v":""},null,null,null,null,null,null,null,"EUR",315,"HUF/EUR","12 hónap",2.1100000000000001E-2,"K2",{"$f":"HLOOKUP($B$26,$K$29:$N$35,3,FALSE)","v":2.7E-2},{"$f":"O6+0.002","v":2.8999999999999998E-2},"EUR",0.09,null,"%",{"$f":"+U5+0.1","v":0.2}]
[{"$f":"CONCATENATE(\"Fennálló tőketartozás \",IF(B5=Q4,Q4,B6))","v":"Fennálló tőketartozás "},null,null,null,"havonta","évente",{"$f":"IF(G9>0,J23,J24)","v":"lejáratig"},null,"JPY",215,"HUF/100JPY","3 év",2.81E-2,"K3",{"$f":"HLOOKUP($B$26,$K$29:$N$35,4,FALSE)","v":2.9000000000000001E-2},3.1E-2,"JPY",0.05,null,"Ft",0.30000000000000004]
["Hátralévő futamidő (hónap)",null,null,null,null,null,null,null,"HUF",1,null,"5 év",3.3000000000000002E-2,"K4",{"$f":"HLOOKUP($B$26,$K$29:$N$35,5,FALSE)","v":3.1E-2},3.3000000000000002E-2,null,null,{"$f":"IF(OR(B5=\"\",B5=Q4,AND(B5<>Q4,B6<>Q4,B5<>B6)),S9,B6)","v":"fehér"},null,0.4]
["Havi törlesztőrészlet (forintban)",null,null,null,{"$f":"IF(OR(B9=0,ISERROR(B9-B28)),\"\",B9-B28)","v":""},{"$f":"IF(OR(B9=0,ISERROR(B9-B28)),\"\",E9*12)","v":""},{"$f":"IF(OR(B9=0,ISERROR(B9-B28)),\"\",(B9*B8)-(B28*J10))","v":""},null,null,null,null,"most",{"$f":"VLOOKUP(B26,L5:M8,2,FALSE)","v":2.1100000000000001E-2},"K5",{"$f":"HLOOKUP($B$26,$K$29:$N$35,6,FALSE)","v":3.4000000000000002E-2},3.6000000000000004E-2,null,null,"fehér",null,0.5]
["Végtörlesztési díj %-ban vagy forintban?",null,null,null,null,null,null,null,"futamidő",{"$f":"IF(OR(B8=\"\",B17=\"\",AND(B8<>\"\",B17=T4,B18=\"\")),0,MIN(420,IF(B17=T5,B8,B18)))","v":0},null,null,null,"K6",{"$f":"HLOOKUP($B$26,$K$29:$N$35,7,FALSE)","v":4.2999999999999997E-2},4.4999999999999998E-2,null,null,null,null,0.6]
["Végtörlesztési díj %",null,null,null,null,null,null,null,"szla",508,null,null,null,"most",{"$f":"VLOOKUP(B21,N5:P10,IF(B19=O4,2,3),FALSE)","v":{"$error":"#N/A"}},null,null,null,null,null,0.7]
["Végtörlesztési díj HUF",null,null,null,null,null,null,null,"DD",116,null,null,null,"Bérátutalás",{"$f":"IF(B22=$T$4,-0.5%,0%)","v":-5.0000000000000001E-3},null,null,null,null,null,0.79999999999999993]
[null,null,null,null,null,null,null,null,"életbizt",2400,null,null,null,"vagyonbiztosítás",{"$f":"IF(B23=$T$4,-0.2%,0%)","v":-2E-3},null,null,null,null,null,0.89999999999999991]
["K&H TÖRLESZTÉSCSÖKKENTŐ HITEL",null,null,null,null,null,null,null,"Földhivatal",12600,null,null,null,"életbiztosítás",{"$f":"IF(B24=$T$4,-0.3%,0%)","v":0},null,null,null,null,null,0.99999999999999989]
["Devizanem","HUF",null,null,null,null,null,null,null,null,null,null,null,"Prémium ügyfél",{"$f":"IF(B25=$T$4,-0.25%,0%)","v":0}]
[{"$f":"IF(OR(B5=Q4,B6=Q4),\"Hitelösszeg\",\"Hitelösszeg a megadott árfolyammal\")","v":"Hitelösszeg a megadott árfolyammal"},{"$f":"IF(OR(AND(B5<>Q4,B6=\"\"),AND(B5=\"\",B6=\"\")),\"\",IF(OR(B5=Q4,B6=Q4),IF(B10=T6,B7*(1+B11),B7+B12),IF(B10=T6,IF(B6=Q7,B7*J7/100,B7*IF(B6=I5,J5,J6))*(1+B11),IF(B6=Q7,B7*J7/100,B7*IF(B6=I5,J5,J6))+B12)))","v":""},null,null,null,null,null,null,null,null,null,null,null,"Kamatfelár",{"$f":"MAX(2%,SUM(O11:O15))","v":{"$error":"#N/A"}}]
["Futamidő módosítás történik? (max 420 hónap lehet)","nem",null,null,null,null,null,null,null,null,null,null,null,"Kamatkedvezmények",{"$f":"SUM(O12:O15)","v":-7.0000000000000001E-3}]
[{"$f":"IF(OR(B8=\"\",B17=\"\"),\"\",IF(AND(B17=T5,B8<421),CONCATENATE(\"változatlan futamidő: \",B8,\" hónap\"),IF(AND(B17=T5,B8>420),\"maximum szabály miatt a futamidő: 420 hónap\",IF(AND(B8<>\"\",B17=T4,B18=\"\"),\"új futamidő: \",CONCATENATE(\"új futamidő: \",J10,\" (hónap)\")))))","v":""},null,null,null,null,null,null,null,null,null,null,null,null,"valós kedvezmény",{"$f":"O16-O11","v":{"$error":"#N/A"}}]
["Induló díjakkal vagy csak kamattal","Induló díjakkal",null,null,null,null,null,null,null,"becslés a jelenlegire"]
["Szerződéskötési díj:",{"$f":"IF(OR(AND(B5<>Q4,B6=\"\"),AND(B5=\"\",B6=\"\")),\"\",IF(OR(B19=P4,B16=\"\"),0,MIN(200000,B16*1%)))","v":""},null,null,null,null,null,null,null,{"$f":"PMT(VLOOKUP(B5,Q4:R7,2,FALSE)/12,B8,-B7*IF(B5=Q4,1,VLOOKUP(B6,I5:J8,2,FALSE)))","v":{"$error":"#N/A"}}]
["Kockázati besorolás (K1-K6):",null,null,null,null,null,null,null,null,null,null,null,"megtaki","kamat","EBKM",null,"megtak","kamat","záró"]
["Bérátutalás kamatkedvezménye","igen",null,null,null,null,null,null,null,null,null,null,0,1.15E-2,1.1599999999999999E-2,1,{"$f":"L56","v":""},{"$f":"Q22*$N$26/12","v":{"$error":"#VALUE!"}},{"$f":"+Q22+R22","v":{"$error":"#VALUE!"}}]
["Vagyonbiztosítás kamatkedvezménye","igen",null,null,null,null,null,null,null,"lejáratig",null,null,5000,1.95E-2,1.9699999999999999E-2,{"$f":"+P22+1","v":2},{"$f":"+S22+$L$56","v":{"$error":"#VALUE!"}},{"$error":"#VALUE!"},{"$f":"+Q23+R23","v":{"$error":"#VALUE!"}}]
["Életbiztosítás kamatkedvezménye","nem",null,null,"Hitelközvetítő neve (cégneve)",null,null,null,null,"üres",null,null,10000,2.0500000000000001E-2,2.07E-2,{"$f":"+P23+1","v":3},{"$error":"#VALUE!"},{"$error":"#VALUE!"},{"$f":"+Q24+R24","v":{"$error":"#VALUE!"}}]
["Prémium ügyfélkör kamatkedvezménye","nem",null,null,"Tanácsadó neve",null,null,null,null,null,null,null,35000,2.1499999999999998E-2,2.1700000000000001E-2,4,{"$error":"#VALUE!"},{"$error":"#VALUE!"},{"$error":"#VALUE!"}]
["Kamatperiódus hossza","12 hónap",null,null,"telefonszám",null,null,null,null,null,null,null,"most",{"$f":"VLOOKUP(L56,M22:N25,2)","v":{"$error":"#N/A"}},{"$f":"VLOOKUP(L56,M22:O25,3)","v":{"$error":"#N/A"}},5,{"$error":"#VALUE!"},{"$error":"#VALUE!"},{"$error":"#VALUE!"}]
["Ügyleti éves kamatláb",{"$f":"IF(OR(B16=0,B16=\"\",ISERROR(M9+O16)),\"\",M9+O16)","v":""},null,null,"e-mail",null,null,null,null,null,null,null,null,null,null,6,{"$error":"#VALUE!"},{"$error":"#VALUE!"},{"$error":"#VALUE!"}]
["Havi törlesztőrészlet összege",{"$f":"IF(ISERROR(PMT(B27/12,J10,-B16)),\"\",PMT(B27/12,J10,-B16))","v":""},null,null,null,null,null,null,null,null,"kamatfelárak",null,null,null,null,7,{"$error":"#VALUE!"},{"$error":"#VALUE!"},{"$error":"#VALUE!"}]
["THM¹",{"$f":"IF(ABS('THM fiók'!I2)*100>1,\"\",'THM fiók'!H1)","v":{"$error":"#VALUE!"}},null,null,null,null,null,null,null,null,"3 hónap","12 hónap","3 év","5 év",null,8,{"$error":"#VALUE!"},{"$error":"#VALUE!"},{"$error":"#VALUE!"}]
[null,null,null,null,null,null,null,null,null,null,2.5999999999999999E-2,2.5999999999999999E-2,2.5599999999999998E-2,2.8799999999999999E-2,null,9,{"$error":"#VALUE!"},{"$error":"#VALUE!"},{"$error":"#VALUE!"}]
["Induló díjas konstrukcióknál szerződéskötési díj esetében az alábbi akciós kedvezményt nyújtjuk 2014. március 1. és 2015. március 31. között befogadott igénylések esetén:\n- elengedjük a teljes szerződéskötési díjat, amennyiben Ön újonnan nyit, vagy rendelkezik már K&H okos számlacsomagok egyikével, és a szerződéskötéstől számított 5 évig megtartja. \n- elengedjük a szerződéskötési díj 50%-át abban az esetben is, ha az utóbbi pontban felsorolt feltételeknek nem tesz eleget. ",null,null,null,null,null,null,null,null,null,2.7E-2,2.7E-2,2.6599999999999999E-2,2.98E-2,null,10,{"$error":"#VALUE!"},{"$error":"#VALUE!"},{"$error":"#VALUE!"}]
["A hatályos akcióink további részletei a kapcsolódó feltételekkel megtalálhatóak a lentebb nevezett hatályos hirdetményben vagy honlapunkon (www.kh.hu).",null,null,null,null,null,null,null,null,null,2.9000000000000001E-2,2.9000000000000001E-2,2.86E-2,3.1800000000000002E-2,null,11,{"$error":"#VALUE!"},{"$error":"#VALUE!"},{"$error":"#VALUE!"}]
[null,null,null,null,null,null,null,null,null,null,3.1E-2,3.1E-2,3.0599999999999999E-2,3.3799999999999997E-2,null,12,{"$error":"#VALUE!"},{"$error":"#VALUE!"},{"$error":"#VALUE!"}]
["Amennyiben további kérdése merülne fel, hívja bizalommal a tanácsadóját.",null,null,null,null,null,null,null,null,null,3.4000000000000002E-2,3.4000000000000002E-2,3.3600000000000005E-2,3.6799999999999999E-2,null,13,{"$error":"#VALUE!"},{"$error":"#VALUE!"},{"$error":"#VALUE!"}]
[null,null,null,null,null,null,null,null,null,null,4.2999999999999997E-2,4.2999999999999997E-2,4.2599999999999999E-2,4.5799999999999993E-2,null,14,{"$error":"#VALUE!"},{"$f":"Q35*$N$26/12","v":{"$error":"#VALUE!"}},{"$f":"+Q35+R35","v":{"$error":"#VALUE!"}}]
["Jelen kalkuláció nem minősül ajánlattételnek, a benne szereplő adatok kizárólag tájékoztató jellegűek. A kondíciók módosításának jogát a Bank fenntartja, és a kalkuláció nem kötelez hitelnyújtásra.",null,null,null,null,null,null,null,null,null,null,null,null,null,null,15,{"$error":"#VALUE!"},{"$error":"#VALUE!"},{"$error":"#VALUE!"}]
["A hitelszerződés megkötésének feltétele a bank által előírt dokumentáció benyújtása, a termékhez kapcsolódó alapfeltételeknek való megfelelés, majd a bank belső szabályzata alapján meghozott pozitív bírálat és a szerződési feltételek elfogadása.",null,null,null,null,null,null,null,null,null,"¹ A Teljes Hiteldíj Mutató (THM) meghatározása az aktuális feltételek, illetve a hatályos jogszabályok figyelembevételével történt és a feltételek változása esetén mértéke módosulhat. A THM mutató értéke nem tükrözi a hitel kamatkockázatát. Az ügyleti kamaton felül a szerződéskötési díjat, a földhivatali eljárási illetéket és a K&H lakossági bankszámlacsomag havi díját tartalmazza.",null,null,null,null,16,{"$error":"#VALUE!"},{"$error":"#VALUE!"},{"$error":"#VALUE!"}]
["A termék részletes leírását, illetve feltételeit a vonatkozó szerződés, az Általános Szerződési Feltételek, a K&H Bank Üzletszabályzata, valamint az aktuális hirdetmény tartalmazza, mely utóbbiak megtekinthetők a bankfiókokban és a www.kh.hu internetes oldalon. ",null,null,null,null,null,null,null,null,null,"¹ A Teljes Hiteldíj Mutató (THM) meghatározása az aktuális feltételek, illetve a hatályos jogszabályok figyelembevételével történt és a feltételek változása esetén mértéke módosulhat. A THM mutató értéke nem tükrözi a hitel kamatkockázatát. Az ügyleti kamaton felül a szerződéskötési díjat, a földhivatali eljárási illetéket, a K&H lakossági bankszámlacsomag havi díját és havi 2.400 Ft (csoportos beszedéssel teljesített) életbiztosítás díját tartalmazza .",null,null,null,null,17,{"$error":"#VALUE!"},{"$error":"#VALUE!"},{"$error":"#VALUE!"}]
["A K&H törlesztéscsökkentő hitel kondíciói a hatályos \"A forint alapú K&H üzleti feltételű lakáshitelek, K&H törlesztőcsökkentő hitel és K&H zöldhitel ingatlanfedezettel kondícióiról\" c. hirdetmény alapján kerülnek meghatározásra.",null,null,null,null,null,null,null,null,null,null,null,null,null,null,18,{"$error":"#VALUE!"},{"$error":"#VALUE!"},{"$error":"#VALUE!"}]
[{"$f":"IF(B24=\"nem\",K37,K38)","v":"¹ A Teljes Hiteldíj Mutató (THM) meghatározása az aktuális feltételek, illetve a hatályos jogszabályok figyelembevételével történt és a feltételek változása esetén mértéke módosulhat. A THM mutató értéke nem tükrözi a hitel kamatkockázatát. Az ügyleti kamaton felül a szerződéskötési díjat, a földhivatali eljárási illetéket és a K&H lakossági bankszámlacsomag havi díját tartalmazza."},null,null,null,null,null,null,null,null,null,null,null,null,null,null,19,{"$error":"#VALUE!"},{"$error":"#VALUE!"},{"$error":"#VALUE!"}]
[null,null,null,null,null,null,null,null,null,null,null,null,null,null,null,20,{"$error":"#VALUE!"},{"$error":"#VALUE!"},{"$error":"#VALUE!"}]
[null,null,null,null,null,null,null,null,null,null,null,null,null,null,null,21,{"$error":"#VALUE!"},{"$error":"#VALUE!"},{"$error":"#VALUE!"}]
[null,null,null,null,null,null,null,null,null,null,null,null,null,null,null,22,{"$error":"#VALUE!"},{"$error":"#VALUE!"},{"$error":"#VALUE!"}]
[null,null,null,null,null,null,null,null,null,null,null,null,null,null,null,23,{"$error":"#VALUE!"},{"$error":"#VALUE!"},{"$error":"#VALUE!"}]
[null,null,null,null,null,null,null,null,null,null,null,null,null,null,null,24,{"$error":"#VALUE!"},{"$error":"#VALUE!"},{"$error":"#VALUE!"}]
[null,null,null,null,null,null,null,null,null,null,null,null,null,null,null,25,{"$error":"#VALUE!"},{"$error":"#VALUE!"},{"$error":"#VALUE!"}]
[null,null,null,null,null,null,null,null,null,null,null,null,null,null,null,26,{"$error":"#VALUE!"},{"$error":"#VALUE!"},{"$error":"#VALUE!"}]
[null,null,null,null,null,null,null,null,null,null,null,null,null,null,null,27,{"$error":"#VALUE!"},{"$error":"#VALUE!"},{"$error":"#VALUE!"}]
[null,null,null,null,null,null,null,null,null,null,null,null,null,null,null,28,{"$error":"#VALUE!"},{"$error":"#VALUE!"},{"$error":"#VALUE!"}]
[null,null,null,null,null,null,null,null,null,null,null,null,null,null,null,29,{"$error":"#VALUE!"},{"$error":"#VALUE!"},{"$error":"#VALUE!"}]
[null,null,null,null,null,null,null,null,null,null,null,null,null,null,null,30,{"$error":"#VALUE!"},{"$error":"#VALUE!"},{"$error":"#VALUE!"}]
[null,null,null,null,null,null,null,null,null,null,null,null,null,null,null,31,{"$error":"#VALUE!"},{"$error":"#VALUE!"},{"$error":"#VALUE!"}]
[null,null,null,null,null,null,null,null,null,null,null,null,null,null,null,32,{"$error":"#VALUE!"},{"$error":"#VALUE!"},{"$error":"#VALUE!"}]
[null,null,null,null,null,null,null,null,null,null,"K&H BIZTOS TARTALÉK megtakarítás",null,null,null,null,33,{"$error":"#VALUE!"},{"$error":"#VALUE!"},{"$error":"#VALUE!"}]
[null,null,null,null,null,null,null,null,null,null,"Törlesztéscsökkenés havi összegének  %-a",0.99999999999999989,null,null,null,34,{"$error":"#VALUE!"},{"$error":"#VALUE!"},{"$error":"#VALUE!"}]
[null,null,null,null,null,null,null,null,null,null,"Havi megtakarítás összege",{"$f":"IF(ISERROR(E9*L55),\"\",E9*L55)","v":""},null,null,null,35,{"$error":"#VALUE!"},{"$error":"#VALUE!"},{"$error":"#VALUE!"}]
[null,null,null,null,null,null,null,null,null,null,"Aktuális éves betéti kamatláb²",{"$f":"IF(ISERROR(N26),\"\",N26)","v":""},null,null,null,36,{"$error":"#VALUE!"},{"$error":"#VALUE!"},{"$error":"#VALUE!"}]
[null,null,null,null,null,null,null,null,null,null,"EBKM²",{"$f":"IF(ISERROR(O26),\"\",O26)","v":""},null,null,null,37,{"$error":"#VALUE!"},{"$error":"#VALUE!"},{"$error":"#VALUE!"}]
[null,null,null,null,null,null,null,null,null,null,null,null,null,null,null,38,{"$error":"#VALUE!"},{"$error":"#VALUE!"},{"$error":"#VALUE!"}]
[null,null,null,null,null,null,null,null,null,null,"Megtakarított összeg 1 év múlva",{"$f":"IF(ISERROR(VLOOKUP(12,P22:S441,4,FALSE)),\"\",VLOOKUP(12,P22:S441,4,FALSE))","v":""},null,null,null,39,{"$error":"#VALUE!"},{"$error":"#VALUE!"},{"$error":"#VALUE!"}]
[null,null,null,null,null,null,null,null,null,null,{"$f":"CONCATENATE(\"Megtakarított összeg \",IF(J10=0,\"…\",J10),\" hónap alatt\")","v":"Megtakarított összeg … hónap alatt"},{"$f":"IF(ISERROR(VLOOKUP(IF(B17=T5,B8,B18),P22:S441,4,FALSE)),\"\",VLOOKUP(IF(B17=T5,B8,B18),P22:S441,4,FALSE))","v":""},null,null,null,40,{"$error":"#VALUE!"},{"$error":"#VALUE!"},{"$error":"#VALUE!"}]
[null,null,null,null,null,null,null,null,null,null,null,null,null,null,null,41,{"$error":"#VALUE!"},{"$error":"#VALUE!"},{"$error":"#VALUE!"}]
[null,null,null,null,null,null,null,null,null,null,null,null,null,null,null,42,{"$error":"#VALUE!"},{"$error":"#VALUE!"},{"$error":"#VALUE!"}]
[null,null,null,null,null,null,null,null,null,null,null,null,null,null,null,43,{"$error":"#VALUE!"},{"$error":"#VALUE!"},{"$error":"#VALUE!"}]
[null,null,null,null,null,null,null,null,null,null,"² A betéti kamat és az EBKM mértéke a TERMÉSZETES SZEMÉLYEK bankszámláira, betétszámláira, lekötött betéteire valamint pénztári tranzakcióira vonatkozó hatályos hirdetmény alapján kerül meghatározásra. A megtakarításra vonatkozó számítás nem ajánlattétel, a kamat és így az EBKM mértéke változhat. A betéti kalkuláció kizárólag a megtakarított összegre vonatkozik 2 499 999 forintig terjedő betétrészre vonatkozó premium kammattal számítva mely az adott hónapban megtakarított összeg nagyságának függvénye, továbbá feltétele a számla minimum 50 000 forint napi záró egyenlege amely - az adott hónap első banki munkanapjától kezdődően - minden nap eléri a minimum egyenleget. EBKM: 1,51%-2,94% ",null,null,null,null,44,{"$error":"#VALUE!"},{"$error":"#VALUE!"},{"$error":"#VALUE!"}]
[null,null,null,null,null,null,null,null,null,null,null,null,null,null,null,45,{"$error":"#VALUE!"},{"$error":"#VALUE!"},{"$error":"#VALUE!"}]
[null,null,null,null,null,null,null,null,null,null,null,null,null,null,null,46,{"$error":"#VALUE!"},{"$error":"#VALUE!"},{"$error":"#VALUE!"}]
[null,null,null,null,null,null,null,null,null,null,null,null,null,null,null,47,{"$error":"#VALUE!"},{"$error":"#VALUE!"},{"$error":"#VALUE!"}]
[null,null,null,null,null,null,null,null,null,null,null,null,null,null,null,48,{"$error":"#VALUE!"},{"$error":"#VALUE!"},{"$error":"#VALUE!"}]
[null,null,null,null,null,null,null,null,null,null,null,null,null,null,null,49,{"$error":"#VALUE!"},{"$error":"#VALUE!"},{"$error":"#VALUE!"}]
[null,null,null,null,null,null,null,null,null,null,null,null,null,null,null,50,{"$error":"#VALUE!"},{"$error":"#VALUE!"},{"$error":"#VALUE!"}]
[null,null,null,null,null,null,null,null,null,null,null,null,null,null,null,51,{"$error":"#VALUE!"},{"$error":"#VALUE!"},{"$error":"#VALUE!"}]
[null,null,null,null,null,null,null,null,null,null,null,null,null,null,null,52,{"$error":"#VALUE!"},{"$error":"#VALUE!"},{"$error":"#VALUE!"}]
[null,null,null,null,null,null,null,null,null,null,null,null,null,null,null,53,{"$error":"#VALUE!"},{"$error":"#VALUE!"},{"$error":"#VALUE!"}]
[null,null,null,null,null,null,null,null,null,null,null,null,null,null,null,54,{"$error":"#VALUE!"},{"$error":"#VALUE!"},{"$error":"#VALUE!"}]
[null,null,null,null,null,null,null,null,null,null,null,null,null,null,null,55,{"$error":"#VALUE!"},{"$error":"#VALUE!"},{"$error":"#VALUE!"}]
[null,null,null,null,null,null,null,null,null,null,null,null,null,null,null,56,{"$error":"#VALUE!"},{"$error":"#VALUE!"},{"$error":"#VALUE!"}]
[null,null,null,null,null,null,null,null,null,null,null,null,null,null,null,57,{"$error":"#VALUE!"},{"$error":"#VALUE!"},{"$error":"#VALUE!"}]
[null,null,null,null,null,null,null,null,null,null,null,null,null,null,null,58,{"$error":"#VALUE!"},{"$error":"#VALUE!"},{"$error":"#VALUE!"}]
[null,null,null,null,null,null,null,null,null,null,null,null,null,null,null,59,{"$error":"#VALUE!"},{"$error":"#VALUE!"},{"$error":"#VALUE!"}]
[null,null,null,null,null,null,null,null,null,null,null,null,null,null,null,60,{"$error":"#VALUE!"},{"$error":"#VALUE!"},{"$error":"#VALUE!"}]
[null,null,null,null,null,null,null,null,null,null,null,null,null,null,null,61,{"$error":"#VALUE!"},{"$error":"#VALUE!"},{"$error":"#VALUE!"}]
[null,null,null,null,null,null,null,null,null,null,null,null,null,null,null,62,{"$error":"#VALUE!"},{"$error":"#VALUE!"},{"$error":"#VALUE!"}]
[null,null,null,null,null,null,null,null,null,null,null,null,null,null,null,63,{"$error":"#VALUE!"},{"$error":"#VALUE!"},{"$error":"#VALUE!"}]
[null,null,null,null,null,null,null,null,null,null,null,null,null,null,null,64,{"$error":"#VALUE!"},{"$error":"#VALUE!"},{"$error":"#VALUE!"}]
[null,null,null,null,null,null,null,null,null,null,null,null,null,null,null,65,{"$error":"#VALUE!"},{"$error":"#VALUE!"},{"$error":"#VALUE!"}]
[null,null,null,null,null,null,null,null,null,null,null,null,null,null,null,66,{"$f":"+S86+$L$56","v":{"$error":"#VALUE!"}},{"$error":"#VALUE!"},{"$error":"#VALUE!"}]
[null,null,null,null,null,null,null,null,null,null,null,null,null,null,null,{"$f":"+P87+1","v":67},{"$error":"#VALUE!"},{"$error":"#VALUE!"},{"$error":"#VALUE!"}]
[null,null,null,null,null,null,null,null,null,null,null,null,null,null,null,68,{"$error":"#VALUE!"},{"$error":"#VALUE!"},{"$error":"#VALUE!"}]
[null,null,null,null,null,null,null,null,null,null,null,null,null,null,null,69,{"$error":"#VALUE!"},{"$error":"#VALUE!"},{"$error":"#VALUE!"}]
[null,null,null,null,null,null,null,null,null,null,null,null,null,null,null,70,{"$error":"#VALUE!"},{"$error":"#VALUE!"},{"$error":"#VALUE!"}]
[null,null,null,null,null,null,null,null,null,null,null,null,null,null,null,71,{"$error":"#VALUE!"},{"$error":"#VALUE!"},{"$error":"#VALUE!"}]
[null,null,null,null,null,null,null,null,null,null,null,null,null,null,null,72,{"$error":"#VALUE!"},{"$error":"#VALUE!"},{"$error":"#VALUE!"}]
[null,null,null,null,null,null,null,null,null,null,null,null,null,null,null,73,{"$error":"#VALUE!"},{"$error":"#VALUE!"},{"$error":"#VALUE!"}]
[null,null,null,null,null,null,null,null,null,null,null,null,null,null,null,74,{"$error":"#VALUE!"},{"$error":"#VALUE!"},{"$error":"#VALUE!"}]
[null,null,null,null,null,null,null,null,null,null,null,null,null,null,null,75,{"$error":"#VALUE!"},{"$error":"#VALUE!"},{"$error":"#VALUE!"}]
[null,null,null,null,null,null,null,null,null,null,null,null,null,null,null,76,{"$error":"#VALUE!"},{"$error":"#VALUE!"},{"$error":"#VALUE!"}]
[null,null,null,null,null,null,null,null,null,null,null,null,null,null,null,77,{"$error":"#VALUE!"},{"$error":"#VALUE!"},{"$error":"#VALUE!"}]
[null,null,null,null,null,null,null,null,null,null,null,null,null,null,null,78,{"$error":"#VALUE!"},{"$f":"Q99*$N$26/12","v":{"$error":"#VALUE!"}},{"$f":"+Q99+R99","v":{"$error":"#VALUE!"}}]
[null,null,null,null,null,null,null,null,null,null,null,null,null,null,null,79,{"$error":"#VALUE!"},{"$error":"#VALUE!"},{"$error":"#VALUE!"}]
[null,null,null,null,null,null,null,null,null,null,null,null,null,null,null,80,{"$error":"#VALUE!"},{"$error":"#VALUE!"},{"$error":"#VALUE!"}]
[null,null,null,null,null,null,null,null,null,null,null,null,null,null,null,81,{"$error":"#VALUE!"},{"$error":"#VALUE!"},{"$error":"#VALUE!"}]
[null,null,null,null,null,null,null,null,null,null,null,null,null,null,null,82,{"$error":"#VALUE!"},{"$error":"#VALUE!"},{"$error":"#VALUE!"}]
[null,null,null,null,null,null,null,null,null,null,null,null,null,null,null,83,{"$error":"#VALUE!"},{"$error":"#VALUE!"},{"$error":"#VALUE!"}]
[null,null,null,null,null,null,null,null,null,null,null,null,null,null,null,84,{"$error":"#VALUE!"},{"$error":"#VALUE!"},{"$error":"#VALUE!"}]
[null,null,null,null,null,null,null,null,null,null,null,null,null,null,null,85,{"$error":"#VALUE!"},{"$error":"#VALUE!"},{"$error":"#VALUE!"}]
[null,null,null,null,null,null,null,null,null,null,null,null,null,null,null,86,{"$error":"#VALUE!"},{"$error":"#VALUE!"},{"$error":"#VALUE!"}]
[null,null,null,null,null,null,null,null,null,null,null,null,null,null,null,87,{"$error":"#VALUE!"},{"$error":"#VALUE!"},{"$error":"#VALUE!"}]
[null,null,null,null,null,null,null,null,null,null,null,null,null,null,null,88,{"$error":"#VALUE!"},{"$error":"#VALUE!"},{"$error":"#VALUE!"}]
[null,null,null,null,null,null,null,null,null,null,null,null,null,null,null,89,{"$error":"#VALUE!"},{"$error":"#VALUE!"},{"$error":"#VALUE!"}]
[null,null,null,null,null,null,null,null,null,null,null,null,null,null,null,90,{"$error":"#VALUE!"},{"$error":"#VALUE!"},{"$error":"#VALUE!"}]
[null,null,null,null,null,null,null,null,null,null,null,null,null,null,null,91,{"$error":"#VALUE!"},{"$error":"#VALUE!"},{"$error":"#VALUE!"}]
[null,null,null,null,null,null,null,null,null,null,null,null,null,null,null,92,{"$error":"#VALUE!"},{"$error":"#VALUE!"},{"$error":"#VALUE!"}]
[null,null,null,null,null,null,null,null,null,null,null,null,null,null,null,93,{"$error":"#VALUE!"},{"$error":"#VALUE!"},{"$error":"#VALUE!"}]
[null,null,null,null,null,null,null,null,null,null,null,null,null,null,null,94,{"$error":"#VALUE!"},{"$error":"#VALUE!"},{"$error":"#VALUE!"}]
[null,null,null,null,null,null,null,null,null,null,null,null,null,null,null,95,{"$error":"#VALUE!"},{"$error":"#VALUE!"},{"$error":"#VALUE!"}]
[null,null,null,null,null,null,null,null,null,null,null,null,null,null,null,96,{"$error":"#VALUE!"},{"$error":"#VALUE!"},{"$error":"#VALUE!"}]
[null,null,null,null,null,null,null,null,null,null,null,null,null,null,null,97,{"$error":"#VALUE!"},{"$error":"#VALUE!"},{"$error":"#VALUE!"}]
[null,null,null,null,null,null,null,null,null,null,null,null,null,null,null,98,{"$error":"#VALUE!"},{"$error":"#VALUE!"},{"$error":"#VALUE!"}]
[null,null,null,null,null,null,null,null,null,null,null,null,null,null,null,99,{"$error":"#VALUE!"},{"$error":"#VALUE!"},{"$error":"#VALUE!"}]
[null,null,null,null,null,null,null,null,null,null,null,null,null,null,null,100,{"$error":"#VALUE!"},{"$error":"#VALUE!"},{"$error":"#VALUE!"}]
[null,null,null,null,null,null,null,null,null,null,null,null,null,null,null,101,{"$error":"#VALUE!"},{"$error":"#VALUE!"},{"$error":"#VALUE!"}]
[null,null,null,null,null,null,null,null,null,null,null,null,null,null,null,102,{"$error":"#VALUE!"},{"$error":"#VALUE!"},{"$error":"#VALUE!"}]
[null,null,null,null,null,null,null,null,null,null,null,null,null,null,null,103,{"$error":"#VALUE!"},{"$error":"#VALUE!"},{"$error":"#VALUE!"}]
[null,null,null,null,null,null,null,null,null,null,null,null,null,null,null,104,{"$error":"#VALUE!"},{"$error":"#VALUE!"},{"$error":"#VALUE!"}]
[null,null,null,null,null,null,null,null,null,null,null,null,null,null,null,105,{"$error":"#VALUE!"},{"$error":"#VALUE!"},{"$error":"#VALUE!"}]
[null,null,null,null,null,null,null,null,null,null,null,null,null,null,null,106,{"$error":"#VALUE!"},{"$error":"#VALUE!"},{"$error":"#VALUE!"}]
[null,null,null,null,null,null,null,null,null,null,null,null,null,null,null,107,{"$error":"#VALUE!"},{"$error":"#VALUE!"},{"$error":"#VALUE!"}]
[null,null,null,null,null,null,null,null,null,null,null,null,null,null,null,108,{"$error":"#VALUE!"},{"$error":"#VALUE!"},{"$error":"#VALUE!"}]
[null,null,null,null,null,null,null,null,null,null,null,null,null,null,null,109,{"$error":"#VALUE!"},{"$error":"#VALUE!"},{"$error":"#VALUE!"}]
[null,null,null,null,null,null,null,null,null,null,null,null,null,null,null,110,{"$error":"#VALUE!"},{"$error":"#VALUE!"},{"$error":"#VALUE!"}]
[null,null,null,null,null,null,null,null,null,null,null,null,null,null,null,111,{"$error":"#VALUE!"},{"$error":"#VALUE!"},{"$error":"#VALUE!"}]
[null,null,null,null,null,null,null,null,null,null,null,null,null,null,null,112,{"$error":"#VALUE!"},{"$error":"#VALUE!"},{"$error":"#VALUE!"}]
[null,null,null,null,null,null,null,null,null,null,null,null,null,null,null,113,{"$error":"#VALUE!"},{"$error":"#VALUE!"},{"$error":"#VALUE!"}]
[null,null,null,null,null,null,null,null,null,null,null,null,null,null,null,114,{"$error":"#VALUE!"},{"$error":"#VALUE!"},{"$error":"#VALUE!"}]
[null,null,null,null,null,null,null,null,null,null,null,null,null,null,null,115,{"$error":"#VALUE!"},{"$error":"#VALUE!"},{"$error":"#VALUE!"}]
[null,null,null,null,null,null,null,null,null,null,null,null,null,null,null,116,{"$error":"#VALUE!"},{"$error":"#VALUE!"},{"$error":"#VALUE!"}]
[null,null,null,null,null,null,null,null,null,null,null,null,null,null,null,117,{"$error":"#VALUE!"},{"$error":"#VALUE!"},{"$error":"#VALUE!"}]
[null,null,null,null,null,null,null,null,null,null,null,null,null,null,null,118,{"$error":"#VALUE!"},{"$error":"#VALUE!"},{"$error":"#VALUE!"}]
[null,null,null,null,null,null,null,null,null,null,null,null,null,null,null,119,{"$error":"#VALUE!"},{"$error":"#VALUE!"},{"$error":"#VALUE!"}]
[null,null,null,null,null,null,null,null,null,null,null,null,null,null,null,120,{"$error":"#VALUE!"},{"$error":"#VALUE!"},{"$error":"#VALUE!"}]
[null,null,null,null,null,null,null,null,null,null,null,null,null,null,null,121,{"$error":"#VALUE!"},{"$error":"#VALUE!"},{"$error":"#VALUE!"}]
[null,null,null,null,null,null,null,null,null,null,null,null,null,null,null,122,{"$error":"#VALUE!"},{"$error":"#VALUE!"},{"$error":"#VALUE!"}]
[null,null,null,null,null,null,null,null,null,null,null,null,null,null,null,123,{"$error":"#VALUE!"},{"$error":"#VALUE!"},{"$error":"#VALUE!"}]
[null,null,null,null,null,null,null,null,null,null,null,null,null,null,null,124,{"$error":"#VALUE!"},{"$error":"#VALUE!"},{"$error":"#VALUE!"}]
[null,null,null,null,null,null,null,null,null,null,null,null,null,null,null,125,{"$error":"#VALUE!"},{"$error":"#VALUE!"},{"$error":"#VALUE!"}]
[null,null,null,null,null,null,null,null,null,null,null,null,null,null,null,126,{"$error":"#VALUE!"},{"$error":"#VALUE!"},{"$error":"#VALUE!"}]
[null,null,null,null,null,null,null,null,null,null,null,null,null,null,null,127,{"$error":"#VALUE!"},{"$error":"#VALUE!"},{"$error":"#VALUE!"}]
[null,null,null,null,null,null,null,null,null,null,null,null,null,null,null,128,{"$error":"#VALUE!"},{"$error":"#VALUE!"},{"$error":"#VALUE!"}]
[null,null,null,null,null,null,null,null,null,null,null,null,null,null,null,129,{"$error":"#VALUE!"},{"$error":"#VALUE!"},{"$error":"#VALUE!"}]
[null,null,null,null,null,null,null,null,null,null,null,null,null,null,null,130,{"$f":"+S150+$L$56","v":{"$error":"#VALUE!"}},{"$error":"#VALUE!"},{"$error":"#VALUE!"}]
[null,null,null,null,null,null,null,null,null,null,null,null,null,null,null,{"$f":"+P151+1","v":131},{"$error":"#VALUE!"},{"$error":"#VALUE!"},{"$error":"#VALUE!"}]
[null,null,null,null,null,null,null,null,null,null,null,null,null,null,null,132,{"$error":"#VALUE!"},{"$error":"#VALUE!"},{"$error":"#VALUE!"}]
[null,null,null,null,null,null,null,null,null,null,null,null,null,null,null,133,{"$error":"#VALUE!"},{"$error":"#VALUE!"},{"$error":"#VALUE!"}]
[null,null,null,null,null,null,null,null,null,null,null,null,null,null,null,134,{"$error":"#VALUE!"},{"$error":"#VALUE!"},{"$error":"#VALUE!"}]
[null,null,null,null,null,null,null,null,null,null,null,null,null,null,null,135,{"$error":"#VALUE!"},{"$error":"#VALUE!"},{"$error":"#VALUE!"}]
[null,null,null,null,null,null,null,null,null,null,null,null,null,null,null,136,{"$error":"#VALUE!"},{"$error":"#VALUE!"},{"$error":"#VALUE!"}]
[null,null,null,null,null,null,null,null,null,null,null,null,null,null,null,137,{"$error":"#VALUE!"},{"$error":"#VALUE!"},{"$error":"#VALUE!"}]
[null,null,null,null,null,null,null,null,null,null,null,null,null,null,null,138,{"$error":"#VALUE!"},{"$error":"#VALUE!"},{"$error":"#VALUE!"}]
[null,null,null,null,null,null,null,null,null,null,null,null,null,null,null,139,{"$error":"#VALUE!"},{"$error":"#VALUE!"},{"$error":"#VALUE!"}]
[null,null,null,null,null,null,null,null,null,null,null,null,null,null,null,140,{"$error":"#VALUE!"},{"$error":"#VALUE!"},{"$error":"#VALUE!"}]
[null,null,null,null,null,null,null,null,null,null,null,null,null,null,null,141,{"$error":"#VALUE!"},{"$error":"#VALUE!"},{"$error":"#VALUE!"}]
[null,null,null,null,null,null,null,null,null,null,null,null,null,null,null,142,{"$error":"#VALUE!"},{"$f":"Q163*$N$26/12","v":{"$error":"#VALUE!"}},{"$f":"+Q163+R163","v":{"$error":"#VALUE!"}}]
[null,null,null,null,null,null,null,null,null,null,null,null,null,null,null,143,{"$error":"#VALUE!"},{"$error":"#VALUE!"},{"$error":"#VALUE!"}]
[null,null,null,null,null,null,null,null,null,null,null,null,null,null,null,144,{"$error":"#VALUE!"},{"$error":"#VALUE!"},{"$error":"#VALUE!"}]
[null,null,null,null,null,null,null,null,null,null,null,null,null,null,null,145,{"$error":"#VALUE!"},{"$error":"#VALUE!"},{"$error":"#VALUE!"}]
[null,null,null,null,null,null,null,null,null,null,null,null,null,null,null,146,{"$error":"#VALUE!"},{"$error":"#VALUE!"},{"$error":"#VALUE!"}]
[null,null,null,null,null,null,null,null,null,null,null,null,null,null,null,147,{"$error":"#VALUE!"},{"$error":"#VALUE!"},{"$error":"#VALUE!"}]
[null,null,null,null,null,null,null,null,null,null,null,null,null,null,null,148,{"$error":"#VALUE!"},{"$error":"#VALUE!"},{"$error":"#VALUE!"}]
[null,null,null,null,null,null,null,null,null,null,null,null,null,null,null,149,{"$error":"#VALUE!"},{"$error":"#VALUE!"},{"$error":"#VALUE!"}]
[null,null,null,null,null,null,null,null,null,null,null,null,null,null,null,150,{"$error":"#VALUE!"},{"$error":"#VALUE!"},{"$error":"#VALUE!"}]
[null,null,null,null,null,null,null,null,null,null,null,null,null,null,null,151,{"$error":"#VALUE!"},{"$error":"#VALUE!"},{"$error":"#VALUE!"}]
[null,null,null,null,null,null,null,null,null,null,null,null,null,null,null,152,{"$error":"#VALUE!"},{"$error":"#VALUE!"},{"$error":"#VALUE!"}]
[null,null,null,null,null,null,null,null,null,null,null,null,null,null,null,153,{"$error":"#VALUE!"},{"$error":"#VALUE!"},{"$error":"#VALUE!"}]
[null,null,null,null,null,null,null,null,null,null,null,null,null,null,null,154,{"$error":"#VALUE!"},{"$error":"#VALUE!"},{"$error":"#VALUE!"}]
[null,null,null,null,null,null,null,null,null,null,null,null,null,null,null,155,{"$error":"#VALUE!"},{"$error":"#VALUE!"},{"$error":"#VALUE!"}]
[null,null,null,null,null,null,null,null,null,null,null,null,null,null,null,156,{"$error":"#VALUE!"},{"$error":"#VALUE!"},{"$error":"#VALUE!"}]
[null,null,null,null,null,null,null,null,null,null,null,null,null,null,null,157,{"$error":"#VALUE!"},{"$error":"#VALUE!"},{"$error":"#VALUE!"}]
[null,null,null,null,null,null,null,null,null,null,null,null,null,null,null,158,{"$error":"#VALUE!"},{"$error":"#VALUE!"},{"$error":"#VALUE!"}]
[null,null,null,null,null,null,null,null,null,null,null,null,null,null,null,159,{"$error":"#VALUE!"},{"$error":"#VALUE!"},{"$error":"#VALUE!"}]
[null,null,null,null,null,null,null,null,null,null,null,null,null,null,null,160,{"$error":"#VALUE!"},{"$error":"#VALUE!"},{"$error":"#VALUE!"}]
[null,null,null,null,null,null,null,null,null,null,null,null,null,null,null,161,{"$error":"#VALUE!"},{"$error":"#VALUE!"},{"$error":"#VALUE!"}]
[null,null,null,null,null,null,null,null,null,null,null,null,null,null,null,162,{"$error":"#VALUE!"},{"$error":"#VALUE!"},{"$error":"#VALUE!"}]
[null,null,null,null,null,null,null,null,null,null,null,null,null,null,null,163,{"$error":"#VALUE!"},{"$error":"#VALUE!"},{"$error":"#VALUE!"}]
[null,null,null,null,null,null,null,null,null,null,null,null,null,null,null,164,{"$error":"#VALUE!"},{"$error":"#VALUE!"},{"$error":"#VALUE!"}]
[null,null,null,null,null,null,null,null,null,null,null,null,null,null,null,165,{"$error":"#VALUE!"},{"$error":"#VALUE!"},{"$error":"#VALUE!"}]
[null,null,null,null,null,null,null,null,null,null,null,null,null,null,null,166,{"$error":"#VALUE!"},{"$error":"#VALUE!"},{"$error":"#VALUE!"}]
[null,null,null,null,null,null,null,null,null,null,null,null,null,null,null,167,{"$error":"#VALUE!"},{"$error":"#VALUE!"},{"$error":"#VALUE!"}]
[null,null,null,null,null,null,null,null,null,null,null,null,null,null,null,168,{"$error":"#VALUE!"},{"$error":"#VALUE!"},{"$error":"#VALUE!"}]
[null,null,null,null,null,null,null,null,null,null,null,null,null,null,null,169,{"$error":"#VALUE!"},{"$error":"#VALUE!"},{"$error":"#VALUE!"}]
[null,null,null,null,null,null,null,null,null,null,null,null,null,null,null,170,{"$error":"#VALUE!"},{"$error":"#VALUE!"},{"$error":"#VALUE!"}]
[null,null,null,null,null,null,null,null,null,null,null,null,null,null,null,171,{"$error":"#VALUE!"},{"$error":"#VALUE!"},{"$error":"#VALUE!"}]
[null,null,null,null,null,null,null,null,null,null,null,null,null,null,null,172,{"$error":"#VALUE!"},{"$error":"#VALUE!"},{"$error":"#VALUE!"}]
[null,null,null,null,null,null,null,null,null,null,null,null,null,null,null,173,{"$error":"#VALUE!"},{"$error":"#VALUE!"},{"$error":"#VALUE!"}]
[null,null,null,null,null,null,null,null,null,null,null,null,null,null,null,174,{"$error":"#VALUE!"},{"$error":"#VALUE!"},{"$error":"#VALUE!"}]
[null,null,null,null,null,null,null,null,null,null,null,null,null,null,null,175,{"$error":"#VALUE!"},{"$error":"#VALUE!"},{"$error":"#VALUE!"}]
[null,null,null,null,null,null,null,null,null,null,null,null,null,null,null,176,{"$error":"#VALUE!"},{"$error":"#VALUE!"},{"$error":"#VALUE!"}]
[null,null,null,null,null,null,null,null,null,null,null,null,null,null,null,177,{"$error":"#VALUE!"},{"$error":"#VALUE!"},{"$error":"#VALUE!"}]
[null,null,null,null,null,null,null,null,null,null,null,null,null,null,null,178,{"$error":"#VALUE!"},{"$error":"#VALUE!"},{"$error":"#VALUE!"}]
[null,null,null,null,null,null,null,null,null,null,null,null,null,null,null,179,{"$error":"#VALUE!"},{"$error":"#VALUE!"},{"$error":"#VALUE!"}]
[null,null,null,null,null,null,null,null,null,null,null,null,null,null,null,180,{"$error":"#VALUE!"},{"$error":"#VALUE!"},{"$error":"#VALUE!"}]
[null,null,null,null,null,null,null,null,null,null,null,null,null,null,null,181,{"$error":"#VALUE!"},{"$error":"#VALUE!"},{"$error":"#VALUE!"}]
[null,null,null,null,null,null,null,null,null,null,null,null,null,null,null,182,{"$error":"#VALUE!"},{"$error":"#VALUE!"},{"$error":"#VALUE!"}]
[null,null,null,null,null,null,null,null,null,null,null,null,null,null,null,183,{"$error":"#VALUE!"},{"$error":"#VALUE!"},{"$error":"#VALUE!"}]
[null,null,null,null,null,null,null,null,null,null,null,null,null,null,null,184,{"$error":"#VALUE!"},{"$error":"#VALUE!"},{"$error":"#VALUE!"}]
[null,null,null,null,null,null,null,null,null,null,null,null,null,null,null,185,{"$error":"#VALUE!"},{"$error":"#VALUE!"},{"$error":"#VALUE!"}]
[null,null,null,null,null,null,null,null,null,null,null,null,null,null,null,186,{"$error":"#VALUE!"},{"$error":"#VALUE!"},{"$error":"#VALUE!"}]
[null,null,null,null,null,null,null,null,null,null,null,null,null,null,null,187,{"$error":"#VALUE!"},{"$error":"#VALUE!"},{"$error":"#VALUE!"}]
[null,null,null,null,null,null,null,null,null,null,null,null,null,null,null,188,{"$error":"#VALUE!"},{"$error":"#VALUE!"},{"$error":"#VALUE!"}]
[null,null,null,null,null,null,null,null,null,null,null,null,null,null,null,189,{"$error":"#VALUE!"},{"$error":"#VALUE!"},{"$error":"#VALUE!"}]
[null,null,null,null,null,null,null,null,null,null,null,null,null,null,null,190,{"$error":"#VALUE!"},{"$error":"#VALUE!"},{"$error":"#VALUE!"}]
[null,null,null,null,null,null,null,null,null,null,null,null,null,null,null,191,{"$error":"#VALUE!"},{"$error":"#VALUE!"},{"$error":"#VALUE!"}]
[null,null,null,null,null,null,null,null,null,null,null,null,null,null,null,192,{"$error":"#VALUE!"},{"$error":"#VALUE!"},{"$error":"#VALUE!"}]
[null,null,null,null,null,null,null,null,null,null,null,null,null,null,null,193,{"$error":"#VALUE!"},{"$error":"#VALUE!"},{"$error":"#VALUE!"}]
[null,null,null,null,null,null,null,null,null,null,null,null,null,null,null,194,{"$f":"+S214+$L$56","v":{"$error":"#VALUE!"}},{"$error":"#VALUE!"},{"$error":"#VALUE!"}]
[null,null,null,null,null,null,null,null,null,null,null,null,null,null,null,{"$f":"+P215+1","v":195},{"$error":"#VALUE!"},{"$error":"#VALUE!"},{"$error":"#VALUE!"}]
[null,null,null,null,null,null,null,null,null,null,null,null,null,null,null,196,{"$error":"#VALUE!"},{"$error":"#VALUE!"},{"$error":"#VALUE!"}]
[null,null,null,null,null,null,null,null,null,null,null,null,null,null,null,197,{"$error":"#VALUE!"},{"$error":"#VALUE!"},{"$error":"#VALUE!"}]
[null,null,null,null,null,null,null,null,null,null,null,null,null,null,null,198,{"$error":"#VALUE!"},{"$error":"#VALUE!"},{"$error":"#VALUE!"}]
[null,null,null,null,null,null,null,null,null,null,null,null,null,null,null,199,{"$error":"#VALUE!"},{"$error":"#VALUE!"},{"$error":"#VALUE!"}]
[null,null,null,null,null,null,null,null,null,null,null,null,null,null,null,200,{"$error":"#VALUE!"},{"$error":"#VALUE!"},{"$error":"#VALUE!"}]
[null,null,null,null,null,null,null,null,null,null,null,null,null,null,null,201,{"$error":"#VALUE!"},{"$error":"#VALUE!"},{"$error":"#VALUE!"}]
[null,null,null,null,null,null,null,null,null,null,null,null,null,null,null,202,{"$error":"#VALUE!"},{"$error":"#VALUE!"},{"$error":"#VALUE!"}]
[null,null,null,null,null,null,null,null,null,null,null,null,null,null,null,203,{"$error":"#VALUE!"},{"$error":"#VALUE!"},{"$error":"#VALUE!"}]
[null,null,null,null,null,null,null,null,null,null,null,null,null,null,null,204,{"$error":"#VALUE!"},{"$error":"#VALUE!"},{"$error":"#VALUE!"}]
[null,null,null,null,null,null,null,null,null,null,null,null,null,null,null,205,{"$error":"#VALUE!"},{"$error":"#VALUE!"},{"$error":"#VALUE!"}]
[null,null,null,null,null,null,null,null,null,null,null,null,null,null,null,206,{"$error":"#VALUE!"},{"$f":"Q227*$N$26/12","v":{"$error":"#VALUE!"}},{"$f":"+Q227+R227","v":{"$error":"#VALUE!"}}]
[null,null,null,null,null,null,null,null,null,null,null,null,null,null,null,207,{"$error":"#VALUE!"},{"$error":"#VALUE!"},{"$error":"#VALUE!"}]
[null,null,null,null,null,null,null,null,null,null,null,null,null,null,null,208,{"$error":"#VALUE!"},{"$error":"#VALUE!"},{"$error":"#VALUE!"}]
[null,null,null,null,null,null,null,null,null,null,null,null,null,null,null,209,{"$error":"#VALUE!"},{"$error":"#VALUE!"},{"$error":"#VALUE!"}]
[null,null,null,null,null,null,null,null,null,null,null,null,null,null,null,210,{"$error":"#VALUE!"},{"$error":"#VALUE!"},{"$error":"#VALUE!"}]
[null,null,null,null,null,null,null,null,null,null,null,null,null,null,null,211,{"$error":"#VALUE!"},{"$error":"#VALUE!"},{"$error":"#VALUE!"}]
[null,null,null,null,null,null,null,null,null,null,null,null,null,null,null,212,{"$error":"#VALUE!"},{"$error":"#VALUE!"},{"$error":"#VALUE!"}]
[null,null,null,null,null,null,null,null,null,null,null,null,null,null,null,213,{"$error":"#VALUE!"},{"$error":"#VALUE!"},{"$error":"#VALUE!"}]
[null,null,null,null,null,null,null,null,null,null,null,null,null,null,null,214,{"$error":"#VALUE!"},{"$error":"#VALUE!"},{"$error":"#VALUE!"}]
[null,null,null,null,null,null,null,null,null,null,null,null,null,null,null,215,{"$error":"#VALUE!"},{"$error":"#VALUE!"},{"$error":"#VALUE!"}]
[null,null,null,null,null,null,null,null,null,null,null,null,null,null,null,216,{"$error":"#VALUE!"},{"$error":"#VALUE!"},{"$error":"#VALUE!"}]
[null,null,null,null,null,null,null,null,null,null,null,null,null,null,null,217,{"$error":"#VALUE!"},{"$error":"#VALUE!"},{"$error":"#VALUE!"}]
[null,null,null,null,null,null,null,null,null,null,null,null,null,null,null,218,{"$error":"#VALUE!"},{"$error":"#VALUE!"},{"$error":"#VALUE!"}]
[null,null,null,null,null,null,null,null,null,null,null,null,null,null,null,219,{"$error":"#VALUE!"},{"$error":"#VALUE!"},{"$error":"#VALUE!"}]
[null,null,null,null,null,null,null,null,null,null,null,null,null,null,null,220,{"$error":"#VALUE!"},{"$error":"#VALUE!"},{"$error":"#VALUE!"}]
[null,null,null,null,null,null,null,null,null,null,null,null,null,null,null,221,{"$error":"#VALUE!"},{"$error":"#VALUE!"},{"$error":"#VALUE!"}]
[null,null,null,null,null,null,null,null,null,null,null,null,null,null,null,222,{"$error":"#VALUE!"},{"$error":"#VALUE!"},{"$error":"#VALUE!"}]
[null,null,null,null,null,null,null,null,null,null,null,null,null,null,null,223,{"$error":"#VALUE!"},{"$error":"#VALUE!"},{"$error":"#VALUE!"}]
[null,null,null,null,null,null,null,null,null,null,null,null,null,null,null,224,{"$error":"#VALUE!"},{"$error":"#VALUE!"},{"$error":"#VALUE!"}]
[null,null,null,null,null,null,null,null,null,null,null,null,null,null,null,225,{"$error":"#VALUE!"},{"$error":"#VALUE!"},{"$error":"#VALUE!"}]
[null,null,null,null,null,null,null,null,null,null,null,null,null,null,null,226,{"$error":"#VALUE!"},{"$error":"#VALUE!"},{"$error":"#VALUE!"}]
[null,null,null,null,null,null,null,null,null,null,null,null,null,null,null,227,{"$error":"#VALUE!"},{"$error":"#VALUE!"},{"$error":"#VALUE!"}]
[null,null,null,null,null,null,null,null,null,null,null,null,null,null,null,228,{"$error":"#VALUE!"},{"$error":"#VALUE!"},{"$error":"#VALUE!"}]
[null,null,null,null,null,null,null,null,null,null,null,null,null,null,null,229,{"$error":"#VALUE!"},{"$error":"#VALUE!"},{"$error":"#VALUE!"}]
[null,null,null,null,null,null,null,null,null,null,null,null,null,null,null,230,{"$error":"#VALUE!"},{"$error":"#VALUE!"},{"$error":"#VALUE!"}]
[null,null,null,null,null,null,null,null,null,null,null,null,null,null,null,231,{"$error":"#VALUE!"},{"$error":"#VALUE!"},{"$error":"#VALUE!"}]
[null,null,null,null,null,null,null,null,null,null,null,null,null,null,null,232,{"$error":"#VALUE!"},{"$error":"#VALUE!"},{"$error":"#VALUE!"}]
[null,null,null,null,null,null,null,null,null,null,null,null,null,null,null,233,{"$error":"#VALUE!"},{"$error":"#VALUE!"},{"$error":"#VALUE!"}]
[null,null,null,null,null,null,null,null,null,null,null,null,null,null,null,234,{"$error":"#VALUE!"},{"$error":"#VALUE!"},{"$error":"#VALUE!"}]
[null,null,null,null,null,null,null,null,null,null,null,null,null,null,null,235,{"$error":"#VALUE!"},{"$error":"#VALUE!"},{"$error":"#VALUE!"}]
[null,null,null,null,null,null,null,null,null,null,null,null,null,null,null,236,{"$error":"#VALUE!"},{"$error":"#VALUE!"},{"$error":"#VALUE!"}]
[null,null,null,null,null,null,null,null,null,null,null,null,null,null,null,237,{"$error":"#VALUE!"},{"$error":"#VALUE!"},{"$error":"#VALUE!"}]
[null,null,null,null,null,null,null,null,null,null,null,null,null,null,null,238,{"$error":"#VALUE!"},{"$error":"#VALUE!"},{"$error":"#VALUE!"}]
[null,null,null,null,null,null,null,null,null,null,null,null,null,null,null,239,{"$error":"#VALUE!"},{"$error":"#VALUE!"},{"$error":"#VALUE!"}]
[null,null,null,null,null,null,null,null,null,null,null,null,null,null,null,240,{"$error":"#VALUE!"},{"$error":"#VALUE!"},{"$error":"#VALUE!"}]
[null,null,null,null,null,null,null,null,null,null,null,null,null,null,null,241,{"$error":"#VALUE!"},{"$error":"#VALUE!"},{"$error":"#VALUE!"}]
[null,null,null,null,null,null,null,null,null,null,null,null,null,null,null,242,{"$error":"#VALUE!"},{"$error":"#VALUE!"},{"$error":"#VALUE!"}]
[null,null,null,null,null,null,null,null,null,null,null,null,null,null,null,243,{"$error":"#VALUE!"},{"$error":"#VALUE!"},{"$error":"#VALUE!"}]
[null,null,null,null,null,null,null,null,null,null,null,null,null,null,null,244,{"$error":"#VALUE!"},{"$error":"#VALUE!"},{"$error":"#VALUE!"}]
[null,null,null,null,null,null,null,null,null,null,null,null,null,null,null,245,{"$error":"#VALUE!"},{"$error":"#VALUE!"},{"$error":"#VALUE!"}]
[null,null,null,null,null,null,null,null,null,null,null,null,null,null,null,246,{"$error":"#VALUE!"},{"$error":"#VALUE!"},{"$error":"#VALUE!"}]
[null,null,null,null,null,null,null,null,null,null,null,null,null,null,null,247,{"$error":"#VALUE!"},{"$error":"#VALUE!"},{"$error":"#VALUE!"}]
[null,null,null,null,null,null,null,null,null,null,null,null,null,null,null,248,{"$error":"#VALUE!"},{"$error":"#VALUE!"},{"$error":"#VALUE!"}]
[null,null,null,null,null,null,null,null,null,null,null,null,null,null,null,249,{"$error":"#VALUE!"},{"$error":"#VALUE!"},{"$error":"#VALUE!"}]
[null,null,null,null,null,null,null,null,null,null,null,null,null,null,null,250,{"$error":"#VALUE!"},{"$error":"#VALUE!"},{"$error":"#VALUE!"}]
[null,null,null,null,null,null,null,null,null,null,null,null,null,null,null,251,{"$error":"#VALUE!"},{"$error":"#VALUE!"},{"$error":"#VALUE!"}]
[null,null,null,null,null,null,null,null,null,null,null,null,null,null,null,252,{"$error":"#VALUE!"},{"$error":"#VALUE!"},{"$error":"#VALUE!"}]
[null,null,null,null,null,null,null,null,null,null,null,null,null,null,null,253,{"$error":"#VALUE!"},{"$error":"#VALUE!"},{"$error":"#VALUE!"}]
[null,null,null,null,null,null,null,null,null,null,null,null,null,null,null,254,{"$error":"#VALUE!"},{"$error":"#VALUE!"},{"$error":"#VALUE!"}]
[null,null,null,null,null,null,null,null,null,null,null,null,null,null,null,255,{"$error":"#VALUE!"},{"$error":"#VALUE!"},{"$error":"#VALUE!"}]
[null,null,null,null,null,null,null,null,null,null,null,null,null,null,null,256,{"$error":"#VALUE!"},{"$error":"#VALUE!"},{"$error":"#VALUE!"}]
[null,null,null,null,null,null,null,null,null,null,null,null,null,null,null,257,{"$error":"#VALUE!"},{"$error":"#VALUE!"},{"$error":"#VALUE!"}]
[null,null,null,null,null,null,null,null,null,null,null,null,null,null,null,258,{"$f":"+S278+$L$56","v":{"$error":"#VALUE!"}},{"$error":"#VALUE!"},{"$error":"#VALUE!"}]
[null,null,null,null,null,null,null,null,null,null,null,null,null,null,null,{"$f":"+P279+1","v":259},{"$error":"#VALUE!"},{"$error":"#VALUE!"},{"$error":"#VALUE!"}]
[null,null,null,null,null,null,null,null,null,null,null,null,null,null,null,260,{"$error":"#VALUE!"},{"$error":"#VALUE!"},{"$error":"#VALUE!"}]
[null,null,null,null,null,null,null,null,null,null,null,null,null,null,null,261,{"$error":"#VALUE!"},{"$error":"#VALUE!"},{"$error":"#VALUE!"}]
[null,null,null,null,null,null,null,null,null,null,null,null,null,null,null,262,{"$error":"#VALUE!"},{"$error":"#VALUE!"},{"$error":"#VALUE!"}]
[null,null,null,null,null,null,null,null,null,null,null,null,null,null,null,263,{"$error":"#VALUE!"},{"$error":"#VALUE!"},{"$error":"#VALUE!"}]
[null,null,null,null,null,null,null,null,null,null,null,null,null,null,null,264,{"$error":"#VALUE!"},{"$error":"#VALUE!"},{"$error":"#VALUE!"}]
[null,null,null,null,null,null,null,null,null,null,null,null,null,null,null,265,{"$error":"#VALUE!"},{"$error":"#VALUE!"},{"$error":"#VALUE!"}]
[null,null,null,null,null,null,null,null,null,null,null,null,null,null,null,266,{"$error":"#VALUE!"},{"$error":"#VALUE!"},{"$error":"#VALUE!"}]
[null,null,null,null,null,null,null,null,null,null,null,null,null,null,null,267,{"$error":"#VALUE!"},{"$error":"#VALUE!"},{"$error":"#VALUE!"}]
[null,null,null,null,null,null,null,null,null,null,null,null,null,null,null,268,{"$error":"#VALUE!"},{"$error":"#VALUE!"},{"$error":"#VALUE!"}]
[null,null,null,null,null,null,null,null,null,null,null,null,null,null,null,269,{"$error":"#VALUE!"},{"$error":"#VALUE!"},{"$error":"#VALUE!"}]
[null,null,null,null,null,null,null,null,null,null,null,null,null,null,null,270,{"$error":"#VALUE!"},{"$f":"Q291*$N$26/12","v":{"$error":"#VALUE!"}},{"$f":"+Q291+R291","v":{"$error":"#VALUE!"}}]
[null,null,null,null,null,null,null,null,null,null,null,null,null,null,null,271,{"$error":"#VALUE!"},{"$error":"#VALUE!"},{"$error":"#VALUE!"}]
[null,null,null,null,null,null,null,null,null,null,null,null,null,null,null,272,{"$error":"#VALUE!"},{"$error":"#VALUE!"},{"$error":"#VALUE!"}]
[null,null,null,null,null,null,null,null,null,null,null,null,null,null,null,273,{"$error":"#VALUE!"},{"$error":"#VALUE!"},{"$error":"#VALUE!"}]
[null,null,null,null,null,null,null,null,null,null,null,null,null,null,null,274,{"$error":"#VALUE!"},{"$error":"#VALUE!"},{"$error":"#VALUE!"}]
[null,null,null,null,null,null,null,null,null,null,null,null,null,null,null,275,{"$error":"#VALUE!"},{"$error":"#VALUE!"},{"$error":"#VALUE!"}]
[null,null,null,null,null,null,null,null,null,null,null,null,null,null,null,276,{"$error":"#VALUE!"},{"$error":"#VALUE!"},{"$error":"#VALUE!"}]
[null,null,null,null,null,null,null,null,null,null,null,null,null,null,null,277,{"$error":"#VALUE!"},{"$error":"#VALUE!"},{"$error":"#VALUE!"}]
[null,null,null,null,null,null,null,null,null,null,null,null,null,null,null,278,{"$error":"#VALUE!"},{"$error":"#VALUE!"},{"$error":"#VALUE!"}]
[null,null,null,null,null,null,null,null,null,null,null,null,null,null,null,279,{"$error":"#VALUE!"},{"$error":"#VALUE!"},{"$error":"#VALUE!"}]
[null,null,null,null,null,null,null,null,null,null,null,null,null,null,null,280,{"$error":"#VALUE!"},{"$error":"#VALUE!"},{"$error":"#VALUE!"}]
[null,null,null,null,null,null,null,null,null,null,null,null,null,null,null,281,{"$error":"#VALUE!"},{"$error":"#VALUE!"},{"$error":"#VALUE!"}]
[null,null,null,null,null,null,null,null,null,null,null,null,null,null,null,282,{"$error":"#VALUE!"},{"$error":"#VALUE!"},{"$error":"#VALUE!"}]
[null,null,null,null,null,null,null,null,null,null,null,null,null,null,null,283,{"$error":"#VALUE!"},{"$error":"#VALUE!"},{"$error":"#VALUE!"}]
[null,null,null,null,null,null,null,null,null,null,null,null,null,null,null,284,{"$error":"#VALUE!"},{"$error":"#VALUE!"},{"$error":"#VALUE!"}]
[null,null,null,null,null,null,null,null,null,null,null,null,null,null,null,285,{"$error":"#VALUE!"},{"$error":"#VALUE!"},{"$error":"#VALUE!"}]
[null,null,null,null,null,null,null,null,null,null,null,null,null,null,null,286,{"$error":"#VALUE!"},{"$error":"#VALUE!"},{"$error":"#VALUE!"}]
[null,null,null,null,null,null,null,null,null,null,null,null,null,null,null,287,{"$error":"#VALUE!"},{"$error":"#VALUE!"},{"$error":"#VALUE!"}]
[null,null,null,null,null,null,null,null,null,null,null,null,null,null,null,288,{"$error":"#VALUE!"},{"$error":"#VALUE!"},{"$error":"#VALUE!"}]
[null,null,null,null,null,null,null,null,null,null,null,null,null,null,null,289,{"$error":"#VALUE!"},{"$error":"#VALUE!"},{"$error":"#VALUE!"}]
[null,null,null,null,null,null,null,null,null,null,null,null,null,null,null,290,{"$error":"#VALUE!"},{"$error":"#VALUE!"},{"$error":"#VALUE!"}]
[null,null,null,null,null,null,null,null,null,null,null,null,null,null,null,291,{"$error":"#VALUE!"},{"$error":"#VALUE!"},{"$error":"#VALUE!"}]
[null,null,null,null,null,null,null,null,null,null,null,null,null,null,null,292,{"$error":"#VALUE!"},{"$error":"#VALUE!"},{"$error":"#VALUE!"}]
[null,null,null,null,null,null,null,null,null,null,null,null,null,null,null,293,{"$error":"#VALUE!"},{"$error":"#VALUE!"},{"$error":"#VALUE!"}]
[null,null,null,null,null,null,null,null,null,null,null,null,null,null,null,294,{"$error":"#VALUE!"},{"$error":"#VALUE!"},{"$error":"#VALUE!"}]
[null,null,null,null,null,null,null,null,null,null,null,null,null,null,null,295,{"$error":"#VALUE!"},{"$error":"#VALUE!"},{"$error":"#VALUE!"}]
[null,null,null,null,null,null,null,null,null,null,null,null,null,null,null,296,{"$error":"#VALUE!"},{"$error":"#VALUE!"},{"$error":"#VALUE!"}]
[null,null,null,null,null,null,null,null,null,null,null,null,null,null,null,297,{"$error":"#VALUE!"},{"$error":"#VALUE!"},{"$error":"#VALUE!"}]
[null,null,null,null,null,null,null,null,null,null,null,null,null,null,null,298,{"$error":"#VALUE!"},{"$error":"#VALUE!"},{"$error":"#VALUE!"}]
[null,null,null,null,null,null,null,null,null,null,null,null,null,null,null,299,{"$error":"#VALUE!"},{"$error":"#VALUE!"},{"$error":"#VALUE!"}]
[null,null,null,null,null,null,null,null,null,null,null,null,null,null,null,300,{"$error":"#VALUE!"},{"$error":"#VALUE!"},{"$error":"#VALUE!"}]
[null,null,null,null,null,null,null,null,null,null,null,null,null,null,null,301,{"$error":"#VALUE!"},{"$error":"#VALUE!"},{"$error":"#VALUE!"}]
[null,null,null,null,null,null,null,null,null,null,null,null,null,null,null,302,{"$error":"#VALUE!"},{"$error":"#VALUE!"},{"$error":"#VALUE!"}]
[null,null,null,null,null,null,null,null,null,null,null,null,null,null,null,303,{"$error":"#VALUE!"},{"$error":"#VALUE!"},{"$error":"#VALUE!"}]
[null,null,null,null,null,null,null,null,null,null,null,null,null,null,null,304,{"$error":"#VALUE!"},{"$error":"#VALUE!"},{"$error":"#VALUE!"}]
[null,null,null,null,null,null,null,null,null,null,null,null,null,null,null,305,{"$error":"#VALUE!"},{"$error":"#VALUE!"},{"$error":"#VALUE!"}]
[null,null,null,null,null,null,null,null,null,null,null,null,null,null,null,306,{"$error":"#VALUE!"},{"$error":"#VALUE!"},{"$error":"#VALUE!"}]
[null,null,null,null,null,null,null,null,null,null,null,null,null,null,null,307,{"$error":"#VALUE!"},{"$error":"#VALUE!"},{"$error":"#VALUE!"}]
[null,null,null,null,null,null,null,null,null,null,null,null,null,null,null,308,{"$error":"#VALUE!"},{"$error":"#VALUE!"},{"$error":"#VALUE!"}]
[null,null,null,null,null,null,null,null,null,null,null,null,null,null,null,309,{"$error":"#VALUE!"},{"$error":"#VALUE!"},{"$error":"#VALUE!"}]
[null,null,null,null,null,null,null,null,null,null,null,null,null,null,null,310,{"$error":"#VALUE!"},{"$error":"#VALUE!"},{"$error":"#VALUE!"}]
[null,null,null,null,null,null,null,null,null,null,null,null,null,null,null,311,{"$error":"#VALUE!"},{"$error":"#VALUE!"},{"$error":"#VALUE!"}]
[null,null,null,null,null,null,null,null,null,null,null,null,null,null,null,312,{"$error":"#VALUE!"},{"$error":"#VALUE!"},{"$error":"#VALUE!"}]
[null,null,null,null,null,null,null,null,null,null,null,null,null,null,null,313,{"$error":"#VALUE!"},{"$error":"#VALUE!"},{"$error":"#VALUE!"}]
[null,null,null,null,null,null,null,null,null,null,null,null,null,null,null,314,{"$error":"#VALUE!"},{"$error":"#VALUE!"},{"$error":"#VALUE!"}]
[null,null,null,null,null,null,null,null,null,null,null,null,null,null,null,315,{"$error":"#VALUE!"},{"$error":"#VALUE!"},{"$error":"#VALUE!"}]
[null,null,null,null,null,null,null,null,null,null,null,null,null,null,null,316,{"$error":"#VALUE!"},{"$error":"#VALUE!"},{"$error":"#VALUE!"}]
[null,null,null,null,null,null,null,null,null,null,null,null,null,null,null,317,{"$error":"#VALUE!"},{"$error":"#VALUE!"},{"$error":"#VALUE!"}]
[null,null,null,null,null,null,null,null,null,null,null,null,null,null,null,318,{"$error":"#VALUE!"},{"$error":"#VALUE!"},{"$error":"#VALUE!"}]
[null,null,null,null,null,null,null,null,null,null,null,null,null,null,null,319,{"$error":"#VALUE!"},{"$error":"#VALUE!"},{"$error":"#VALUE!"}]
[null,null,null,null,null,null,null,null,null,null,null,null,null,null,null,320,{"$error":"#VALUE!"},{"$error":"#VALUE!"},{"$error":"#VALUE!"}]
[null,null,null,null,null,null,null,null,null,null,null,null,null,null,null,321,{"$error":"#VALUE!"},{"$error":"#VALUE!"},{"$error":"#VALUE!"}]
[null,null,null,null,null,null,null,null,null,null,null,null,null,null,null,322,{"$f":"+S342+$L$56","v":{"$error":"#VALUE!"}},{"$error":"#VALUE!"},{"$error":"#VALUE!"}]
[null,null,null,null,null,null,null,null,null,null,null,null,null,null,null,{"$f":"+P343+1","v":323},{"$error":"#VALUE!"},{"$error":"#VALUE!"},{"$error":"#VALUE!"}]
[null,null,null,null,null,null,null,null,null,null,null,null,null,null,null,324,{"$error":"#VALUE!"},{"$error":"#VALUE!"},{"$error":"#VALUE!"}]
[null,null,null,null,null,null,null,null,null,null,null,null,null,null,null,325,{"$error":"#VALUE!"},{"$error":"#VALUE!"},{"$error":"#VALUE!"}]
[null,null,null,null,null,null,null,null,null,null,null,null,null,null,null,326,{"$error":"#VALUE!"},{"$error":"#VALUE!"},{"$error":"#VALUE!"}]
[null,null,null,null,null,null,null,null,null,null,null,null,null,null,null,327,{"$error":"#VALUE!"},{"$error":"#VALUE!"},{"$error":"#VALUE!"}]
[null,null,null,null,null,null,null,null,null,null,null,null,null,null,null,328,{"$error":"#VALUE!"},{"$error":"#VALUE!"},{"$error":"#VALUE!"}]
[null,null,null,null,null,null,null,null,null,null,null,null,null,null,null,329,{"$error":"#VALUE!"},{"$error":"#VALUE!"},{"$error":"#VALUE!"}]
[null,null,null,null,null,null,null,null,null,null,null,null,null,null,null,330,{"$error":"#VALUE!"},{"$error":"#VALUE!"},{"$error":"#VALUE!"}]
[null,null,null,null,null,null,null,null,null,null,null,null,null,null,null,331,{"$error":"#VALUE!"},{"$error":"#VALUE!"},{"$error":"#VALUE!"}]
[null,null,null,null,null,null,null,null,null,null,null,null,null,null,null,332,{"$error":"#VALUE!"},{"$error":"#VALUE!"},{"$error":"#VALUE!"}]
[null,null,null,null,null,null,null,null,null,null,null,null,null,null,null,333,{"$error":"#VALUE!"},{"$error":"#VALUE!"},{"$error":"#VALUE!"}]
[null,null,null,null,null,null,null,null,null,null,null,null,null,null,null,334,{"$error":"#VALUE!"},{"$f":"Q355*$N$26/12","v":{"$error":"#VALUE!"}},{"$f":"+Q355+R355","v":{"$error":"#VALUE!"}}]
[null,null,null,null,null,null,null,null,null,null,null,null,null,null,null,335,{"$error":"#VALUE!"},{"$error":"#VALUE!"},{"$error":"#VALUE!"}]
[null,null,null,null,null,null,null,null,null,null,null,null,null,null,null,336,{"$error":"#VALUE!"},{"$error":"#VALUE!"},{"$error":"#VALUE!"}]
[null,null,null,null,null,null,null,null,null,null,null,null,null,null,null,337,{"$error":"#VALUE!"},{"$error":"#VALUE!"},{"$error":"#VALUE!"}]
[null,null,null,null,null,null,null,null,null,null,null,null,null,null,null,338,{"$error":"#VALUE!"},{"$error":"#VALUE!"},{"$error":"#VALUE!"}]
[null,null,null,null,null,null,null,null,null,null,null,null,null,null,null,339,{"$error":"#VALUE!"},{"$error":"#VALUE!"},{"$error":"#VALUE!"}]
[null,null,null,null,null,null,null,null,null,null,null,null,null,null,null,340,{"$error":"#VALUE!"},{"$error":"#VALUE!"},{"$error":"#VALUE!"}]
[null,null,null,null,null,null,null,null,null,null,null,null,null,null,null,341,{"$error":"#VALUE!"},{"$error":"#VALUE!"},{"$error":"#VALUE!"}]
[null,null,null,null,null,null,null,null,null,null,null,null,null,null,null,342,{"$error":"#VALUE!"},{"$error":"#VALUE!"},{"$error":"#VALUE!"}]
[null,null,null,null,null,null,null,null,null,null,null,null,null,null,null,343,{"$error":"#VALUE!"},{"$error":"#VALUE!"},{"$error":"#VALUE!"}]
[null,null,null,null,null,null,null,null,null,null,null,null,null,null,null,344,{"$error":"#VALUE!"},{"$error":"#VALUE!"},{"$error":"#VALUE!"}]
[null,null,null,null,null,null,null,null,null,null,null,null,null,null,null,345,{"$error":"#VALUE!"},{"$error":"#VALUE!"},{"$error":"#VALUE!"}]
[null,null,null,null,null,null,null,null,null,null,null,null,null,null,null,346,{"$error":"#VALUE!"},{"$error":"#VALUE!"},{"$error":"#VALUE!"}]
[null,null,null,null,null,null,null,null,null,null,null,null,null,null,null,347,{"$error":"#VALUE!"},{"$error":"#VALUE!"},{"$error":"#VALUE!"}]
[null,null,null,null,null,null,null,null,null,null,null,null,null,null,null,348,{"$error":"#VALUE!"},{"$error":"#VALUE!"},{"$error":"#VALUE!"}]
[null,null,null,null,null,null,null,null,null,null,null,null,null,null,null,349,{"$error":"#VALUE!"},{"$error":"#VALUE!"},{"$error":"#VALUE!"}]
[null,null,null,null,null,null,null,null,null,null,null,null,null,null,null,350,{"$error":"#VALUE!"},{"$error":"#VALUE!"},{"$error":"#VALUE!"}]
[null,null,null,null,null,null,null,null,null,null,null,null,null,null,null,351,{"$error":"#VALUE!"},{"$error":"#VALUE!"},{"$error":"#VALUE!"}]
[null,null,null,null,null,null,null,null,null,null,null,null,null,null,null,352,{"$error":"#VALUE!"},{"$error":"#VALUE!"},{"$error":"#VALUE!"}]
[null,null,null,null,null,null,null,null,null,null,null,null,null,null,null,353,{"$error":"#VALUE!"},{"$error":"#VALUE!"},{"$error":"#VALUE!"}]
[null,null,null,null,null,null,null,null,null,null,null,null,null,null,null,354,{"$error":"#VALUE!"},{"$error":"#VALUE!"},{"$error":"#VALUE!"}]
[null,null,null,null,null,null,null,null,null,null,null,null,null,null,null,355,{"$error":"#VALUE!"},{"$error":"#VALUE!"},{"$error":"#VALUE!"}]
[null,null,null,null,null,null,null,null,null,null,null,null,null,null,null,356,{"$error":"#VALUE!"},{"$error":"#VALUE!"},{"$error":"#VALUE!"}]
[null,null,null,null,null,null,null,null,null,null,null,null,null,null,null,357,{"$error":"#VALUE!"},{"$error":"#VALUE!"},{"$error":"#VALUE!"}]
[null,null,null,null,null,null,null,null,null,null,null,null,null,null,null,358,{"$error":"#VALUE!"},{"$error":"#VALUE!"},{"$error":"#VALUE!"}]
[null,null,null,null,null,null,null,null,null,null,null,null,null,null,null,359,{"$error":"#VALUE!"},{"$error":"#VALUE!"},{"$error":"#VALUE!"}]
[null,null,null,null,null,null,null,null,null,null,null,null,null,null,null,360,{"$error":"#VALUE!"},{"$error":"#VALUE!"},{"$error":"#VALUE!"}]
[null,null,null,null,null,null,null,null,null,null,null,null,null,null,null,361,{"$error":"#VALUE!"},{"$error":"#VALUE!"},{"$error":"#VALUE!"}]
[null,null,null,null,null,null,null,null,null,null,null,null,null,null,null,362,{"$error":"#VALUE!"},{"$error":"#VALUE!"},{"$error":"#VALUE!"}]
[null,null,null,null,null,null,null,null,null,null,null,null,null,null,null,363,{"$error":"#VALUE!"},{"$error":"#VALUE!"},{"$error":"#VALUE!"}]
[null,null,null,null,null,null,null,null,null,null,null,null,null,null,null,364,{"$error":"#VALUE!"},{"$error":"#VALUE!"},{"$error":"#VALUE!"}]
[null,null,null,null,null,null,null,null,null,null,null,null,null,null,null,365,{"$error":"#VALUE!"},{"$error":"#VALUE!"},{"$error":"#VALUE!"}]
[null,null,null,null,null,null,null,null,null,null,null,null,null,null,null,366,{"$error":"#VALUE!"},{"$error":"#VALUE!"},{"$error":"#VALUE!"}]
[null,null,null,null,null,null,null,null,null,null,null,null,null,null,null,367,{"$error":"#VALUE!"},{"$error":"#VALUE!"},{"$error":"#VALUE!"}]
[null,null,null,null,null,null,null,null,null,null,null,null,null,null,null,368,{"$error":"#VALUE!"},{"$error":"#VALUE!"},{"$error":"#VALUE!"}]
[null,null,null,null,null,null,null,null,null,null,null,null,null,null,null,369,{"$error":"#VALUE!"},{"$error":"#VALUE!"},{"$error":"#VALUE!"}]
[null,null,null,null,null,null,null,null,null,null,null,null,null,null,null,370,{"$error":"#VALUE!"},{"$error":"#VALUE!"},{"$error":"#VALUE!"}]
[null,null,null,null,null,null,null,null,null,null,null,null,null,null,null,371,{"$error":"#VALUE!"},{"$error":"#VALUE!"},{"$error":"#VALUE!"}]
[null,null,null,null,null,null,null,null,null,null,null,null,null,null,null,372,{"$error":"#VALUE!"},{"$error":"#VALUE!"},{"$error":"#VALUE!"}]
[null,null,null,null,null,null,null,null,null,null,null,null,null,null,null,373,{"$error":"#VALUE!"},{"$error":"#VALUE!"},{"$error":"#VALUE!"}]
[null,null,null,null,null,null,null,null,null,null,null,null,null,null,null,374,{"$error":"#VALUE!"},{"$error":"#VALUE!"},{"$error":"#VALUE!"}]
[null,null,null,null,null,null,null,null,null,null,null,null,null,null,null,375,{"$error":"#VALUE!"},{"$error":"#VALUE!"},{"$error":"#VALUE!"}]
[null,null,null,null,null,null,null,null,null,null,null,null,null,null,null,376,{"$error":"#VALUE!"},{"$error":"#VALUE!"},{"$error":"#VALUE!"}]
[null,null,null,null,null,null,null,null,null,null,null,null,null,null,null,377,{"$error":"#VALUE!"},{"$error":"#VALUE!"},{"$error":"#VALUE!"}]
[null,null,null,null,null,null,null,null,null,null,null,null,null,null,null,378,{"$error":"#VALUE!"},{"$error":"#VALUE!"},{"$error":"#VALUE!"}]
[null,null,null,null,null,null,null,null,null,null,null,null,null,null,null,379,{"$error":"#VALUE!"},{"$error":"#VALUE!"},{"$error":"#VALUE!"}]
[null,null,null,null,null,null,null,null,null,null,null,null,null,null,null,380,{"$error":"#VALUE!"},{"$error":"#VALUE!"},{"$error":"#VALUE!"}]
[null,null,null,null,null,null,null,null,null,null,null,null,null,null,null,381,{"$error":"#VALUE!"},{"$error":"#VALUE!"},{"$error":"#VALUE!"}]
[null,null,null,null,null,null,null,null,null,null,null,null,null,null,null,382,{"$error":"#VALUE!"},{"$error":"#VALUE!"},{"$error":"#VALUE!"}]
[null,null,null,null,null,null,null,null,null,null,null,null,null,null,null,383,{"$error":"#VALUE!"},{"$error":"#VALUE!"},{"$error":"#VALUE!"}]
[null,null,null,null,null,null,null,null,null,null,null,null,null,null,null,384,{"$error":"#VALUE!"},{"$error":"#VALUE!"},{"$error":"#VALUE!"}]
[null,null,null,null,null,null,null,null,null,null,null,null,null,null,null,385,{"$error":"#VALUE!"},{"$error":"#VALUE!"},{"$error":"#VALUE!"}]
[null,null,null,null,null,null,null,null,null,null,null,null,null,null,null,386,{"$f":"+S406+$L$56","v":{"$error":"#VALUE!"}},{"$error":"#VALUE!"},{"$error":"#VALUE!"}]
[null,null,null,null,null,null,null,null,null,null,null,null,null,null,null,{"$f":"+P407+1","v":387},{"$error":"#VALUE!"},{"$error":"#VALUE!"},{"$error":"#VALUE!"}]
[null,null,null,null,null,null,null,null,null,null,null,null,null,null,null,388,{"$error":"#VALUE!"},{"$error":"#VALUE!"},{"$error":"#VALUE!"}]
[null,null,null,null,null,null,null,null,null,null,null,null,null,null,null,389,{"$error":"#VALUE!"},{"$error":"#VALUE!"},{"$error":"#VALUE!"}]
[null,null,null,null,null,null,null,null,null,null,null,null,null,null,null,390,{"$error":"#VALUE!"},{"$error":"#VALUE!"},{"$error":"#VALUE!"}]
[null,null,null,null,null,null,null,null,null,null,null,null,null,null,null,391,{"$error":"#VALUE!"},{"$error":"#VALUE!"},{"$error":"#VALUE!"}]
[null,null,null,null,null,null,null,null,null,null,null,null,null,null,null,392,{"$error":"#VALUE!"},{"$error":"#VALUE!"},{"$error":"#VALUE!"}]
[null,null,null,null,null,null,null,null,null,null,null,null,null,null,null,393,{"$error":"#VALUE!"},{"$error":"#VALUE!"},{"$error":"#VALUE!"}]
[null,null,null,null,null,null,null,null,null,null,null,null,null,null,null,394,{"$error":"#VALUE!"},{"$error":"#VALUE!"},{"$error":"#VALUE!"}]
[null,null,null,null,null,null,null,null,null,null,null,null,null,null,null,395,{"$error":"#VALUE!"},{"$error":"#VALUE!"},{"$error":"#VALUE!"}]
[null,null,null,null,null,null,null,null,null,null,null,null,null,null,null,396,{"$error":"#VALUE!"},{"$error":"#VALUE!"},{"$error":"#VALUE!"}]
[null,null,null,null,null,null,null,null,null,null,null,null,null,null,null,397,{"$error":"#VALUE!"},{"$error":"#VALUE!"},{"$error":"#VALUE!"}]
[null,null,null,null,null,null,null,null,null,null,null,null,null,null,null,398,{"$error":"#VALUE!"},{"$f":"Q419*$N$26/12","v":{"$error":"#VALUE!"}},{"$f":"+Q419+R419","v":{"$error":"#VALUE!"}}]
[null,null,null,null,null,null,null,null,null,null,null,null,null,null,null,399,{"$error":"#VALUE!"},{"$error":"#VALUE!"},{"$error":"#VALUE!"}]
[null,null,null,null,null,null,null,null,null,null,null,null,null,null,null,400,{"$error":"#VALUE!"},{"$error":"#VALUE!"},{"$error":"#VALUE!"}]
[null,null,null,null,null,null,null,null,null,null,null,null,null,null,null,401,{"$error":"#VALUE!"},{"$error":"#VALUE!"},{"$error":"#VALUE!"}]
[null,null,null,null,null,null,null,null,null,null,null,null,null,null,null,402,{"$error":"#VALUE!"},{"$error":"#VALUE!"},{"$error":"#VALUE!"}]
[null,null,null,null,null,null,null,null,null,null,null,null,null,null,null,403,{"$error":"#VALUE!"},{"$error":"#VALUE!"},{"$error":"#VALUE!"}]
[null,null,null,null,null,null,null,null,null,null,null,null,null,null,null,404,{"$error":"#VALUE!"},{"$error":"#VALUE!"},{"$error":"#VALUE!"}]
[null,null,null,null,null,null,null,null,null,null,null,null,null,null,null,405,{"$error":"#VALUE!"},{"$error":"#VALUE!"},{"$error":"#VALUE!"}]
[null,null,null,null,null,null,null,null,null,null,null,null,null,null,null,406,{"$error":"#VALUE!"},{"$error":"#VALUE!"},{"$error":"#VALUE!"}]
[null,null,null,null,null,null,null,null,null,null,null,null,null,null,null,407,{"$error":"#VALUE!"},{"$error":"#VALUE!"},{"$error":"#VALUE!"}]
[null,null,null,null,null,null,null,null,null,null,null,null,null,null,null,408,{"$error":"#VALUE!"},{"$error":"#VALUE!"},{"$error":"#VALUE!"}]
[null,null,null,null,null,null,null,null,null,null,null,null,null,null,null,409,{"$error":"#VALUE!"},{"$error":"#VALUE!"},{"$error":"#VALUE!"}]
[null,null,null,null,null,null,null,null,null,null,null,null,null,null,null,410,{"$error":"#VALUE!"},{"$error":"#VALUE!"},{"$error":"#VALUE!"}]
[null,null,null,null,null,null,null,null,null,null,null,null,null,null,null,411,{"$error":"#VALUE!"},{"$error":"#VALUE!"},{"$error":"#VALUE!"}]
[null,null,null,null,null,null,null,null,null,null,null,null,null,null,null,412,{"$error":"#VALUE!"},{"$error":"#VALUE!"},{"$error":"#VALUE!"}]
[null,null,null,null,null,null,null,null,null,null,null,null,null,null,null,413,{"$error":"#VALUE!"},{"$error":"#VALUE!"},{"$error":"#VALUE!"}]
[null,null,null,null,null,null,null,null,null,null,null,null,null,null,null,414,{"$error":"#VALUE!"},{"$error":"#VALUE!"},{"$error":"#VALUE!"}]
[null,null,null,null,null,null,null,null,null,null,null,null,null,null,null,415,{"$error":"#VALUE!"},{"$error":"#VALUE!"},{"$error":"#VALUE!"}]
[null,null,null,null,null,null,null,null,null,null,null,null,null,null,null,416,{"$error":"#VALUE!"},{"$error":"#VALUE!"},{"$error":"#VALUE!"}]
[null,null,null,null,null,null,null,null,null,null,null,null,null,null,null,417,{"$error":"#VALUE!"},{"$error":"#VALUE!"},{"$error":"#VALUE!"}]
[null,null,null,null,null,null,null,null,null,null,null,null,null,null,null,418,{"$error":"#VALUE!"},{"$error":"#VALUE!"},{"$error":"#VALUE!"}]
[null,null,null,null,null,null,null,null,null,null,null,null,null,null,null,419,{"$error":"#VALUE!"},{"$error":"#VALUE!"},{"$error":"#VALUE!"}]
[null,null,null,null,null,null,null,null,null,null,null,null,null,null,null,420,{"$error":"#VALUE!"},{"$error":"#VALUE!"},{"$error":"#VALUE!"}]

{"sheet":"Személyi Törl. csökkentő fiók","index":1,"n_rows":441,"n_cols":21,"rows_kept":441,"cut":false,"hidden":false,"merged":[[64,11,68,13],[0,0,0,6],[1,0,1,6],[3,0,3,1],[3,8,3,10],[4,4,5,5],[4,6,5,6],[6,4,7,4],[6,5,7,5],[6,6,7,6],[8,4,9,4],[8,5,9,5],[8,6,9,6],[61,7,61,13],[13,0,13,1],[50,11,50,12],[36,0,36,6],[37,0,37,6],[38,0,38,6],[39,0,39,6],[27,10,27,13],[29,0,29,2],[33,0,33,6],[34,0,34,6],[35,0,35,6],[30,0,30,6],[31,0,31,6]]}
["tájékoztató kalkuláció a K&H törlesztéscsökkentő hitelről"]
["Kiváltandó hitel: eredendően szabad felhasználású jelzáloghitel"]
[]
["JELENLEGI HITEL (nem kombinált hitel)",null,null,null,null,null,null,null,"árfolyam",null,null,null,"alap",null,"Induló díjakkal","Csak kamattal","HUF",0.08,{"$f":"IF(B5=Q4,\"\",\"HUF\")","v":"HUF"},"igen",0]
["A hitel devizaneme",null,null,null,"TÖRLESZTÉSCSÖKKENÉS ÖSSZEGE",null,{"$f":"IF(G9>0,\"\",J24)","v":""},null,"CHF",310,"HUF/CHF","3 hónap",2.1000000000000001E-2,"K1",{"$f":"HLOOKUP($B$26,$K$29:$N$35,2,FALSE)","v":4.4999999999999998E-2},{"$f":"O5+0.002","v":4.7E-2},"CHF",7.0000000000000007E-2,{"$f":"IF(B5=Q4,\"\",B5)","v":0},"nem",{"$f":"+U4+0.1","v":0.1}]
[{"$f":"IF(B5=\"\",\"\",IF(B5=Q4,\"forinthitel, emiatt ezt nem kell kitölteni\",CONCATENATE(\"fennálló tőketartozás megadása HUF vagy \",B5,\"?\")))","v":""},null,null,null,null,null,null,null,"EUR",315,"HUF/EUR","12 hónap",2.1100000000000001E-2,"K2",{"$f":"HLOOKUP($B$26,$K$29:$N$35,3,FALSE)","v":0.05},{"$f":"O6+0.002","v":5.2000000000000005E-2},"EUR",0.09,null,"%",{"$f":"+U5+0.1","v":0.2}]
[{"$f":"CONCATENATE(\"Fennálló tőketartozás \",IF(B5=Q4,Q4,B6))","v":"Fennálló tőketartozás "},null,null,null,"havonta","évente",{"$f":"IF(G9>0,J23,J24)","v":"lejáratig"},null,"JPY",215,"HUF/100JPY","3 év",2.81E-2,"K3",{"$f":"HLOOKUP($B$26,$K$29:$N$35,4,FALSE)","v":5.7500000000000002E-2},5.9500000000000004E-2,"JPY",0.05,null,"Ft",0.30000000000000004]
["Hátralévő futamidő (hónap)",null,null,null,null,null,null,null,"HUF",1,null,"5 év",3.3000000000000002E-2,"K4",{"$f":"HLOOKUP($B$26,$K$29:$N$35,5,FALSE)","v":6.8000000000000005E-2},7.0000000000000007E-2,null,null,{"$f":"IF(OR(B5=\"\",B5=Q4,AND(B5<>Q4,B6<>Q4,B5<>B6)),S9,B6)","v":"fehér"},null,0.4]
["Havi törlesztőrészlet (forintban)",null,null,null,{"$f":"IF(OR(B9=0,ISERROR(B9-B28)),\"\",B9-B28)","v":""},{"$f":"IF(OR(B9=0,ISERROR(B9-B28)),\"\",E9*12)","v":""},{"$f":"IF(OR(B9=0,ISERROR(B9-B28)),\"\",(B9*B8)-(B28*J10))","v":""},null,null,null,null,"most",{"$f":"VLOOKUP(B26,L5:M8,2,FALSE)","v":2.1100000000000001E-2},"K5",{"$f":"HLOOKUP($B$26,$K$29:$N$35,6,FALSE)","v":0},2E-3,null,null,"fehér",null,0.5]
["Végtörlesztési díj %-ban vagy forintban?",null,null,null,null,null,null,null,"futamidő",{"$f":"IF(OR(B8=\"\",B17=\"\",AND(B8<>\"\",B17=T4,B18=\"\")),0,MIN(420,IF(B17=T5,B8,B18)))","v":0},null,null,null,"K6",{"$f":"HLOOKUP($B$26,$K$29:$N$35,7,FALSE)","v":0},2E-3,null,null,null,null,0.6]
["Végtörlesztési díj %",null,null,null,null,null,null,null,"szla",508,null,null,null,"most",{"$f":"VLOOKUP(B21,N5:P10,IF(B19=O4,2,3),FALSE)","v":{"$error":"#N/A"}},null,null,null,null,null,0.7]
["Végtörlesztési díj HUF",null,null,null,null,null,null,null,"DD",116,null,null,null,"Bérátutalás",{"$f":"IF(B22=$T$4,-0.5%,0%)","v":-5.0000000000000001E-3},null,null,null,null,null,0.79999999999999993]
[null,null,null,null,null,null,null,null,"életbizt",2400,null,null,null,"vagyonbiztosítás",{"$f":"IF(B23=$T$4,-0.2%,0%)","v":-2E-3},null,null,null,null,null,0.89999999999999991]
["K&H TÖRLESZTÉSCSÖKKENTŐ HITEL",null,null,null,null,null,null,null,"Földhivatal",12600,null,null,null,"életbiztosítás",{"$f":"IF(B24=$T$4,-0.3%,0%)","v":0},null,null,null,null,null,0.99999999999999989]
["Devizanem","HUF",null,null,null,null,null,null,null,null,null,null,null,"Prémium ügyfél",{"$f":"IF(B25=$T$4,-0.25%,0%)","v":0}]
[{"$f":"IF(OR(B5=Q4,B6=Q4),\"Hitelösszeg\",\"Hitelösszeg a megadott árfolyammal\")","v":"Hitelösszeg a megadott árfolyammal"},{"$f":"IF(OR(AND(B5<>Q4,B6=\"\"),AND(B5=\"\",B6=\"\")),\"\",IF(OR(B5=Q4,B6=Q4),IF(B10=T6,B7*(1+B11),B7+B12),IF(B10=T6,IF(B6=Q7,B7*J7/100,B7*IF(B6=I5,J5,J6))*(1+B11),IF(B6=Q7,B7*J7/100,B7*IF(B6=I5,J5,J6))+B12)))","v":""},null,null,null,null,null,null,null,null,null,null,null,"Kamatfelár",{"$f":"MAX(2%,SUM(O11:O15))","v":{"$error":"#N/A"}}]
["Futamidő módosítás történik? (max 420 hónap lehet)","nem",null,null,null,null,null,null,null,null,null,null,null,"Kamatkedvezmények",{"$f":"SUM(O12:O15)","v":-7.0000000000000001E-3}]
[{"$f":"IF(OR(B8=\"\",B17=\"\"),\"\",IF(AND(B17=T5,B8<421),CONCATENATE(\"változatlan futamidő: \",B8,\" hónap\"),IF(AND(B17=T5,B8>420),\"maximum szabály miatt a futamidő: 420 hónap\",IF(AND(B8<>\"\",B17=T4,B18=\"\"),\"új futamidő: \",CONCATENATE(\"új futamidő: \",J10,\" (hónap)\")))))","v":""},null,null,null,null,null,null,null,null,null,null,null,null,"valós kedvezmény",{"$f":"O16-O11","v":{"$error":"#N/A"}}]
["Induló díjakkal vagy csak kamattal","Induló díjakkal",null,null,null,null,null,null,null,"becslés a jelenlegire"]
["Szerződéskötési díj:",{"$f":"IF(OR(AND(B5<>Q4,B6=\"\"),AND(B5=\"\",B6=\"\")),\"\",IF(OR(B19=P4,B16=\"\"),0,MIN(200000,B16*1%)))","v":""},null,null,null,null,null,null,null,{"$f":"PMT(VLOOKUP(B5,Q4:R7,2,FALSE)/12,B8,-B7*IF(B5=Q4,1,VLOOKUP(B6,I5:J8,2,FALSE)))","v":{"$error":"#N/A"}}]
["Kockázati besorolás (K1-K4):",null,null,null,null,null,null,null,null,null,null,null,"megtaki","kamat","EBKM",null,"megtak","kamat","záró"]
["Bérátutalás kamatkedvezménye","igen",null,null,null,null,null,null,null,null,null,null,0,1.15E-2,1.1599999999999999E-2,1,{"$f":"M53","v":""},{"$f":"Q22*$N$26/12","v":{"$error":"#VALUE!"}},{"$f":"+Q22+R22","v":{"$error":"#VALUE!"}}]
["Vagyonbiztosítás kamatkedvezménye","igen",null,null,null,null,null,null,null,"lejáratig",null,null,5000,1.95E-2,1.9699999999999999E-2,{"$f":"+P22+1","v":2},{"$f":"+S22+$M$53","v":{"$error":"#VALUE!"}},{"$error":"#VALUE!"},{"$f":"+Q23+R23","v":{"$error":"#VALUE!"}}]
["Életbiztosítás kamatkedvezménye","nem",null,null,"Hitelközvetítő neve (cégneve)",null,null,null,null,"üres",null,null,10000,2.0500000000000001E-2,2.07E-2,{"$f":"+P23+1","v":3},{"$error":"#VALUE!"},{"$error":"#VALUE!"},{"$f":"+Q24+R24","v":{"$error":"#VALUE!"}}]
["Prémium ügyfélkör kamatkedvezménye","nem",null,null,"Tanácsadó neve",null,null,null,null,null,null,null,35000,2.1499999999999998E-2,2.1700000000000001E-2,4,{"$error":"#VALUE!"},{"$error":"#VALUE!"},{"$error":"#VALUE!"}]
["Kamatperiódus hossza","12 hónap",null,null,"telefonszám",null,null,null,null,null,null,null,"most",{"$f":"VLOOKUP(M53,M22:N25,2)","v":{"$error":"#N/A"}},{"$f":"VLOOKUP(M53,M22:O25,3)","v":{"$error":"#N/A"}},5,{"$error":"#VALUE!"},{"$error":"#VALUE!"},{"$error":"#VALUE!"}]
["Ügyleti éves kamatláb",{"$f":"IF(OR(B16=0,B16=\"\",ISERROR(M9+O16)),\"\",M9+O16)","v":""},null,null,"e-mail",null,null,null,null,null,null,null,null,null,null,6,{"$error":"#VALUE!"},{"$error":"#VALUE!"},{"$error":"#VALUE!"}]
["Havi törlesztőrészlet összege",{"$f":"IF(ISERROR(PMT(B27/12,J10,-B16)),\"\",PMT(B27/12,J10,-B16))","v":""},null,null,null,null,null,null,null,null,"kamatfelárak",null,null,null,null,7,{"$error":"#VALUE!"},{"$error":"#VALUE!"},{"$error":"#VALUE!"}]
["THM¹",{"$f":"IF(ABS('THM fiók HE'!I2)*100>1,\"\",'THM fiók HE'!H1)","v":{"$error":"#VALUE!"}},null,null,null,null,null,null,null,null,"3 hónap","12 hónap","3 év","5 év",null,8,{"$error":"#VALUE!"},{"$error":"#VALUE!"},{"$error":"#VALUE!"}]
[null,null,null,null,null,null,null,null,null,null,4.4999999999999998E-2,4.4999999999999998E-2,4.9599999999999998E-2,5.28E-2,null,9,{"$error":"#VALUE!"},{"$error":"#VALUE!"},{"$error":"#VALUE!"}]
["Induló díjas konstrukcióknál szerződéskötési díj esetében az alábbi akciós kedvezményt nyújtjuk 2014. március 1. és 2015. március 31. között befogadott igénylések esetén:\n- elengedjük a teljes szerződéskötési díjat, amennyiben Ön újonnan nyit, vagy rendelkezik már K&H okos számlacsomagok egyikével, és a szerződéskötéstől számított 5 évig megtartja. \n- elengedjük a szerződéskötési díj 50%-át abban az esetben is, ha az utóbbi pontban felsorolt feltételeknek nem tesz eleget. ",null,null,null,null,null,null,null,null,null,0.05,0.05,5.4600000000000003E-2,5.7799999999999997E-2,null,10,{"$error":"#VALUE!"},{"$error":"#VALUE!"},{"$error":"#VALUE!"}]
["A hatályos akcióink további részletei a kapcsolódó feltételekkel megtalálhatóak a lentebb nevezett hatályos hirdetményben vagy honlapunkon (www.kh.hu).",null,null,null,null,null,null,null,null,null,5.7500000000000002E-2,5.7500000000000002E-2,6.2100000000000002E-2,6.5299999999999997E-2,null,11,{"$error":"#VALUE!"},{"$error":"#VALUE!"},{"$error":"#VALUE!"}]
[null,null,null,null,null,null,null,null,null,null,6.8000000000000005E-2,6.8000000000000005E-2,7.2599999999999998E-2,7.5800000000000006E-2,null,12,{"$error":"#VALUE!"},{"$error":"#VALUE!"},{"$error":"#VALUE!"}]
["Amennyiben további kérdése merülne fel, hívja bizalommal a tanácsadóját.",null,null,null,null,null,null,null,null,null,null,null,null,null,null,13,{"$error":"#VALUE!"},{"$error":"#VALUE!"},{"$error":"#VALUE!"}]
[null,null,null,null,null,null,null,null,null,null,null,null,null,null,null,14,{"$error":"#VALUE!"},{"$error":"#VALUE!"},{"$error":"#VALUE!"}]
["Jelen kalkuláció nem minősül ajánlattételnek, a benne szereplő adatok kizárólag tájékoztató jellegűek. A kondíciók módosításának jogát a Bank fenntartja, és a kalkuláció nem kötelez hitelnyújtásra.",null,null,null,null,null,null,null,null,null,null,null,null,null,null,15,{"$error":"#VALUE!"},{"$error":"#VALUE!"},{"$error":"#VALUE!"}]
["A hitelszerződés megkötésének feltétele a bank által előírt dokumentáció benyújtása, a termékhez kapcsolódó alapfeltételeknek való megfelelés, majd a bank belső szabályzata alapján meghozott pozitív bírálat és a szerződési feltételek elfogadása.",null,null,null,null,null,null,null,null,null,"¹ A Teljes Hiteldíj Mutató (THM) meghatározása az aktuális feltételek, illetve a hatályos jogszabályok figyelembevételével történt és a feltételek változása esetén mértéke módosulhat. A THM mutató értéke nem tükrözi a hitel kamatkockázatát. Az ügyleti kamaton felül a szerződéskötési díjat, a földhivatali eljárási illetéket és a K&H lakossági bankszámlacsomag havi díját tartalmazza.",null,null,null,null,16,{"$error":"#VALUE!"},{"$error":"#VALUE!"},{"$error":"#VALUE!"}]
["A termék részletes leírását, illetve feltételeit a vonatkozó szerződés, az Általános Szerződési Feltételek, a K&H Bank Üzletszabályzata, valamint az aktuális hirdetmény tartalmazza, mely utóbbiak megtekinthetők a bankfiókokban és a www.kh.hu internetes oldalon. ",null,null,null,null,null,null,null,null,null,"¹ A Teljes Hiteldíj Mutató (THM) meghatározása az aktuális feltételek, illetve a hatályos jogszabályok figyelembevételével történt és a feltételek változása esetén mértéke módosulhat. A THM mutató értéke nem tükrözi a hitel kamatkockázatát. Az ügyleti kamaton felül a szerződéskötési díjat, a földhivatali eljárási illetéket, a K&H lakossági bankszámlacsomag havi díját és havi 2.400 Ft (csoportos beszedéssel teljesített) életbiztosítás díját tartalmazza .",null,null,null,null,17,{"$error":"#VALUE!"},{"$error":"#VALUE!"},{"$error":"#VALUE!"}]
["A K&H törlesztéscsökkentő hitel kondíciói a hatályos \"A forint alapú K&H ingatlanfedezetű személyi hitel és a K&H törlesztőcsökkentő hitel kondícióiról\" c. hirdetmény alapján kerülnek meghatározásra.",null,null,null,null,null,null,null,null,null,null,null,null,null,null,18,{"$error":"#VALUE!"},{"$error":"#VALUE!"},{"$error":"#VALUE!"}]
[{"$f":"IF(B24=\"nem\",K37,K38)","v":"¹ A Teljes Hiteldíj Mutató (THM) meghatározása az aktuális feltételek, illetve a hatályos jogszabályok figyelembevételével történt és a feltételek változása esetén mértéke módosulhat. A THM mutató értéke nem tükrözi a hitel kamatkockázatát. Az ügyleti kamaton felül a szerződéskötési díjat, a földhivatali eljárási illetéket és a K&H lakossági bankszámlacsomag havi díját tartalmazza."},null,null,null,null,null,null,null,null,null,null,null,null,null,null,19,{"$error":"#VALUE!"},{"$error":"#VALUE!"},{"$error":"#VALUE!"}]
[null,null,null,null,null,null,null,null,null,null,null,null,null,null,null,20,{"$error":"#VALUE!"},{"$error":"#VALUE!"},{"$error":"#VALUE!"}]
[null,null,null,null,null,null,null,null,null,null,null,null,null,null,null,21,{"$error":"#VALUE!"},{"$error":"#VALUE!"},{"$error":"#VALUE!"}]
[null,null,null,null,null,null,null,null,null,null,null,null,null,null,null,22,{"$error":"#VALUE!"},{"$error":"#VALUE!"},{"$error":"#VALUE!"}]
[null,null,null,null,null,null,null,null,null,null,null,null,null,null,null,23,{"$error":"#VALUE!"},{"$error":"#VALUE!"},{"$error":"#VALUE!"}]
[null,null,null,null,null,null,null,null,null,null,null,null,null,null,null,24,{"$error":"#VALUE!"},{"$error":"#VALUE!"},{"$error":"#VALUE!"}]
[null,null,null,null,null,null,null,null,null,null,null,null,null,null,null,25,{"$error":"#VALUE!"},{"$error":"#VALUE!"},{"$error":"#VALUE!"}]
[null,null,null,null,null,null,null,null,null,null,null,null,null,null,null,26,{"$error":"#VALUE!"},{"$error":"#VALUE!"},{"$error":"#VALUE!"}]
[null,null,null,null,null,null,null,null,null,null,null,null,null,null,null,27,{"$error":"#VALUE!"},{"$error":"#VALUE!"},{"$error":"#VALUE!"}]
[null,null,null,null,null,null,null,null,null,null,null,null,null,null,null,28,{"$error":"#VALUE!"},{"$error":"#VALUE!"},{"$error":"#VALUE!"}]
[null,null,null,null,null,null,null,null,null,null,null,null,null,null,null,29,{"$error":"#VALUE!"},{"$error":"#VALUE!"},{"$error":"#VALUE!"}]
[null,null,null,null,null,null,null,null,null,null,null,"K&H BIZTOS TARTALÉK megtakarítás",null,null,null,30,{"$error":"#VALUE!"},{"$error":"#VALUE!"},{"$error":"#VALUE!"}]
[null,null,null,null,null,null,null,null,null,null,null,"Törlesztéscsökkenés havi összegének  %-a",0.99999999999999989,null,null,31,{"$error":"#VALUE!"},{"$error":"#VALUE!"},{"$error":"#VALUE!"}]
[null,null,null,null,null,null,null,null,null,null,null,"Havi megtakarítás összege",{"$f":"IF(ISERROR(E9*M52),\"\",E9*M52)","v":""},null,null,32,{"$error":"#VALUE!"},{"$error":"#VALUE!"},{"$error":"#VALUE!"}]
[null,null,null,null,null,null,null,null,null,null,null,"Aktuális éves betéti kamatláb²",{"$f":"IF(ISERROR(N26),\"\",N26)","v":""},null,null,33,{"$error":"#VALUE!"},{"$error":"#VALUE!"},{"$error":"#VALUE!"}]
[null,null,null,null,null,null,null,null,null,null,null,"EBKM²",{"$f":"IF(ISERROR(O26),\"\",O26)","v":""},null,null,34,{"$error":"#VALUE!"},{"$error":"#VALUE!"},{"$error":"#VALUE!"}]
[null,null,null,null,null,null,null,null,null,null,null,null,null,null,null,35,{"$error":"#VALUE!"},{"$error":"#VALUE!"},{"$error":"#VALUE!"}]
[null,null,null,null,null,null,null,null,null,null,null,"Megtakarított összeg 1 év múlva",{"$f":"IF(ISERROR(VLOOKUP(12,P22:S441,4,FALSE)),\"\",VLOOKUP(12,P22:S441,4,FALSE))","v":""},null,null,36,{"$error":"#VALUE!"},{"$error":"#VALUE!"},{"$error":"#VALUE!"}]
[null,null,null,null,null,null,null,null,null,null,null,{"$f":"CONCATENATE(\"Megtakarított összeg \",IF(J10=0,\"…\",J10),\" hónap alatt\")","v":"Megtakarított összeg … hónap alatt"},{"$f":"IF(ISERROR(VLOOKUP(IF(B17=T5,B8,B18),P22:S441,4,FALSE)),\"\",VLOOKUP(IF(B17=T5,B8,B18),P22:S441,4,FALSE))","v":""},null,null,37,{"$error":"#VALUE!"},{"$error":"#VALUE!"},{"$error":"#VALUE!"}]
[null,null,null,null,null,null,null,null,null,null,null,null,null,null,null,38,{"$error":"#VALUE!"},{"$error":"#VALUE!"},{"$error":"#VALUE!"}]
[null,null,null,null,null,null,null,null,null,null,null,null,null,null,null,39,{"$error":"#VALUE!"},{"$error":"#VALUE!"},{"$error":"#VALUE!"}]
[null,null,null,null,null,null,null,null,null,null,null,null,null,null,null,40,{"$error":"#VALUE!"},{"$error":"#VALUE!"},{"$error":"#VALUE!"}]
[null,null,null,null,null,null,null,null,null,null,null,null,null,null,null,41,{"$error":"#VALUE!"},{"$error":"#VALUE!"},{"$error":"#VALUE!"}]
[null,null,null,null,null,null,null,null,null,null,null,null,null,null,null,42,{"$error":"#VALUE!"},{"$error":"#VALUE!"},{"$error":"#VALUE!"}]
[null,null,null,null,null,null,null,null,null,null,null,null,null,null,null,43,{"$error":"#VALUE!"},{"$error":"#VALUE!"},{"$error":"#VALUE!"}]
[null,null,null,null,null,null,null,null,null,null,null,"² A betéti kamat és az EBKM mértéke a TERMÉSZETES SZEMÉLYEK bankszámláira, betétszámláira, lekötött betéteire valamint pénztári tranzakcióira vonatkozó hatályos hirdetmény alapján kerül meghatározásra. A megtakarításra vonatkozó számítás nem ajánlattétel, a kamat és így az EBKM mértéke változhat. A betéti kalkuláció kizárólag a megtakarított összegre vonatkozik 2 499 999 forintig terjedő betétrészre vonatkozó premium kammattal számítva mely az adott hónapban megtakarított összeg nagyságának függvénye, továbbá feltétele a számla minimum 50 000 forint napi záró egyenlege amely - az adott hónap első banki munkanapjától kezdődően - minden nap eléri a minimum egyenleget. EBKM: 1,51%-2,94% ",null,null,null,44,{"$error":"#VALUE!"},{"$error":"#VALUE!"},{"$error":"#VALUE!"}]
[null,null,null,null,null,null,null,null,null,null,null,null,null,null,null,45,{"$error":"#VALUE!"},{"$error":"#VALUE!"},{"$error":"#VALUE!"}]
[null,null,null,null,null,null,null,null,null,null,null,null,null,null,null,46,{"$error":"#VALUE!"},{"$error":"#VALUE!"},{"$error":"#VALUE!"}]
[null,null,null,null,null,null,null,null,null,null,null,null,null,null,null,47,{"$error":"#VALUE!"},{"$error":"#VALUE!"},{"$error":"#VALUE!"}]
[null,null,null,null,null,null,null,null,null,null,null,null,null,null,null,48,{"$error":"#VALUE!"},{"$error":"#VALUE!"},{"$error":"#VALUE!"}]
[null,null,null,null,null,null,null,null,null,null,null,null,null,null,null,49,{"$error":"#VALUE!"},{"$error":"#VALUE!"},{"$error":"#VALUE!"}]
[null,null,null,null,null,null,null,null,null,null,null,null,null,null,null,50,{"$error":"#VALUE!"},{"$error":"#VALUE!"},{"$error":"#VALUE!"}]
[null,null,null,null,null,null,null,null,null,null,null,null,null,null,null,51,{"$error":"#VALUE!"},{"$error":"#VALUE!"},{"$error":"#VALUE!"}]
[null,null,null,null,null,null,null,null,null,null,null,null,null,null,null,52,{"$error":"#VALUE!"},{"$error":"#VALUE!"},{"$error":"#VALUE!"}]
[null,null,null,null,null,null,null,null,null,null,null,null,null,null,null,53,{"$error":"#VALUE!"},{"$error":"#VALUE!"},{"$error":"#VALUE!"}]
[null,null,null,null,null,null,null,null,null,null,null,null,null,null,null,54,{"$error":"#VALUE!"},{"$error":"#VALUE!"},{"$error":"#VALUE!"}]
[null,null,null,null,null,null,null,null,null,null,null,null,null,null,null,55,{"$error":"#VALUE!"},{"$error":"#VALUE!"},{"$error":"#VALUE!"}]
[null,null,null,null,null,null,null,null,null,null,null,null,null,null,null,56,{"$error":"#VALUE!"},{"$error":"#VALUE!"},{"$error":"#VALUE!"}]
[null,null,null,null,null,null,null,null,null,null,null,null,null,null,null,57,{"$error":"#VALUE!"},{"$error":"#VALUE!"},{"$error":"#VALUE!"}]
[null,null,null,null,null,null,null,null,null,null,null,null,null,null,null,58,{"$error":"#VALUE!"},{"$error":"#VALUE!"},{"$error":"#VALUE!"}]
[null,null,null,null,null,null,null,null,null,null,null,null,null,null,null,59,{"$error":"#VALUE!"},{"$error":"#VALUE!"},{"$error":"#VALUE!"}]
[null,null,null,null,null,null,null,null,null,null,null,null,null,null,null,60,{"$error":"#VALUE!"},{"$error":"#VALUE!"},{"$error":"#VALUE!"}]
[null,null,null,null,null,null,null,null,null,null,null,null,null,null,null,61,{"$error":"#VALUE!"},{"$error":"#VALUE!"},{"$error":"#VALUE!"}]
[null,null,null,null,null,null,null,null,null,null,null,null,null,null,null,62,{"$error":"#VALUE!"},{"$error":"#VALUE!"},{"$error":"#VALUE!"}]
[null,null,null,null,null,null,null,null,null,null,null,null,null,null,null,63,{"$error":"#VALUE!"},{"$error":"#VALUE!"},{"$error":"#VALUE!"}]
[null,null,null,null,null,null,null,null,null,null,null,null,null,null,null,64,{"$error":"#VALUE!"},{"$error":"#VALUE!"},{"$error":"#VALUE!"}]
[null,null,null,null,null,null,null,null,null,null,null,null,null,null,null,65,{"$error":"#VALUE!"},{"$f":"Q86*$N$26/12","v":{"$error":"#VALUE!"}},{"$error":"#VALUE!"}]
[null,null,null,null,null,null,null,null,null,null,null,null,null,null,null,66,{"$f":"+S86+$M$53","v":{"$error":"#VALUE!"}},{"$error":"#VALUE!"},{"$error":"#VALUE!"}]
[null,null,null,null,null,null,null,null,null,null,null,null,null,null,null,{"$f":"+P87+1","v":67},{"$error":"#VALUE!"},{"$error":"#VALUE!"},{"$f":"+Q88+R88","v":{"$error":"#VALUE!"}}]
[null,null,null,null,null,null,null,null,null,null,null,null,null,null,null,68,{"$error":"#VALUE!"},{"$error":"#VALUE!"},{"$error":"#VALUE!"}]
[null,null,null,null,null,null,null,null,null,null,null,null,null,null,null,69,{"$error":"#VALUE!"},{"$error":"#VALUE!"},{"$error":"#VALUE!"}]
[null,null,null,null,null,null,null,null,null,null,null,null,null,null,null,70,{"$error":"#VALUE!"},{"$error":"#VALUE!"},{"$error":"#VALUE!"}]
[null,null,null,null,null,null,null,null,null,null,null,null,null,null,null,71,{"$error":"#VALUE!"},{"$error":"#VALUE!"},{"$error":"#VALUE!"}]
[null,null,null,null,null,null,null,null,null,null,null,null,null,null,null,72,{"$error":"#VALUE!"},{"$error":"#VALUE!"},{"$error":"#VALUE!"}]
[null,null,null,null,null,null,null,null,null,null,null,null,null,null,null,73,{"$error":"#VALUE!"},{"$error":"#VALUE!"},{"$error":"#VALUE!"}]
[null,null,null,null,null,null,null,null,null,null,null,null,null,null,null,74,{"$error":"#VALUE!"},{"$error":"#VALUE!"},{"$error":"#VALUE!"}]
[null,null,null,null,null,null,null,null,null,null,null,null,null,null,null,75,{"$error":"#VALUE!"},{"$error":"#VALUE!"},{"$error":"#VALUE!"}]
[null,null,null,null,null,null,null,null,null,null,null,null,null,null,null,76,{"$error":"#VALUE!"},{"$error":"#VALUE!"},{"$error":"#VALUE!"}]
[null,null,null,null,null,null,null,null,null,null,null,null,null,null,null,77,{"$error":"#VALUE!"},{"$error":"#VALUE!"},{"$error":"#VALUE!"}]
[null,null,null,null,null,null,null,null,null,null,null,null,null,null,null,78,{"$error":"#VALUE!"},{"$error":"#VALUE!"},{"$error":"#VALUE!"}]
[null,null,null,null,null,null,null,null,null,null,null,null,null,null,null,79,{"$error":"#VALUE!"},{"$error":"#VALUE!"},{"$error":"#VALUE!"}]
[null,null,null,null,null,null,null,null,null,null,null,null,null,null,null,80,{"$error":"#VALUE!"},{"$error":"#VALUE!"},{"$error":"#VALUE!"}]
[null,null,null,null,null,null,null,null,null,null,null,null,null,null,null,81,{"$error":"#VALUE!"},{"$error":"#VALUE!"},{"$error":"#VALUE!"}]
[null,null,null,null,null,null,null,null,null,null,null,null,null,null,null,82,{"$error":"#VALUE!"},{"$error":"#VALUE!"},{"$error":"#VALUE!"}]
[null,null,null,null,null,null,null,null,null,null,null,null,null,null,null,83,{"$error":"#VALUE!"},{"$error":"#VALUE!"},{"$error":"#VALUE!"}]
[null,null,null,null,null,null,null,null,null,null,null,null,null,null,null,84,{"$error":"#VALUE!"},{"$error":"#VALUE!"},{"$error":"#VALUE!"}]
[null,null,null,null,null,null,null,null,null,null,null,null,null,null,null,85,{"$error":"#VALUE!"},{"$error":"#VALUE!"},{"$error":"#VALUE!"}]
[null,null,null,null,null,null,null,null,null,null,null,null,null,null,null,86,{"$error":"#VALUE!"},{"$error":"#VALUE!"},{"$error":"#VALUE!"}]
[null,null,null,null,null,null,null,null,null,null,null,null,null,null,null,87,{"$error":"#VALUE!"},{"$error":"#VALUE!"},{"$error":"#VALUE!"}]
[null,null,null,null,null,null,null,null,null,null,null,null,null,null,null,88,{"$error":"#VALUE!"},{"$error":"#VALUE!"},{"$error":"#VALUE!"}]
[null,null,null,null,null,null,null,null,null,null,null,null,null,null,null,89,{"$error":"#VALUE!"},{"$error":"#VALUE!"},{"$error":"#VALUE!"}]
[null,null,null,null,null,null,null,null,null,null,null,null,null,null,null,90,{"$error":"#VALUE!"},{"$error":"#VALUE!"},{"$error":"#VALUE!"}]
[null,null,null,null,null,null,null,null,null,null,null,null,null,null,null,91,{"$error":"#VALUE!"},{"$error":"#VALUE!"},{"$error":"#VALUE!"}]
[null,null,null,null,null,null,null,null,null,null,null,null,null,null,null,92,{"$error":"#VALUE!"},{"$error":"#VALUE!"},{"$error":"#VALUE!"}]
[null,null,null,null,null,null,null,null,null,null,null,null,null,null,null,93,{"$error":"#VALUE!"},{"$error":"#VALUE!"},{"$error":"#VALUE!"}]
[null,null,null,null,null,null,null,null,null,null,null,null,null,null,null,94,{"$error":"#VALUE!"},{"$error":"#VALUE!"},{"$error":"#VALUE!"}]
[null,null,null,null,null,null,null,null,null,null,null,null,null,null,null,95,{"$error":"#VALUE!"},{"$error":"#VALUE!"},{"$error":"#VALUE!"}]
[null,null,null,null,null,null,null,null,null,null,null,null,null,null,null,96,{"$error":"#VALUE!"},{"$error":"#VALUE!"},{"$error":"#VALUE!"}]
[null,null,null,null,null,null,null,null,null,null,null,null,null,null,null,97,{"$error":"#VALUE!"},{"$error":"#VALUE!"},{"$error":"#VALUE!"}]
[null,null,null,null,null,null,null,null,null,null,null,null,null,null,null,98,{"$error":"#VALUE!"},{"$error":"#VALUE!"},{"$error":"#VALUE!"}]
[null,null,null,null,null,null,null,null,null,null,null,null,null,null,null,99,{"$error":"#VALUE!"},{"$error":"#VALUE!"},{"$error":"#VALUE!"}]
[null,null,null,null,null,null,null,null,null,null,null,null,null,null,null,100,{"$error":"#VALUE!"},{"$error":"#VALUE!"},{"$error":"#VALUE!"}]
[null,null,null,null,null,null,null,null,null,null,null,null,null,null,null,101,{"$error":"#VALUE!"},{"$error":"#VALUE!"},{"$error":"#VALUE!"}]
[null,null,null,null,null,null,null,null,null,null,null,null,null,null,null,102,{"$error":"#VALUE!"},{"$error":"#VALUE!"},{"$error":"#VALUE!"}]
[null,null,null,null,null,null,null,null,null,null,null,null,null,null,null,103,{"$error":"#VALUE!"},{"$error":"#VALUE!"},{"$error":"#VALUE!"}]
[null,null,null,null,null,null,null,null,null,null,null,null,null,null,null,104,{"$error":"#VALUE!"},{"$error":"#VALUE!"},{"$error":"#VALUE!"}]
[null,null,null,null,null,null,null,null,null,null,null,null,null,null,null,105,{"$error":"#VALUE!"},{"$error":"#VALUE!"},{"$error":"#VALUE!"}]
[null,null,null,null,null,null,null,null,null,null,null,null,null,null,null,106,{"$error":"#VALUE!"},{"$error":"#VALUE!"},{"$error":"#VALUE!"}]
[null,null,null,null,null,null,null,null,null,null,null,null,null,null,null,107,{"$error":"#VALUE!"},{"$error":"#VALUE!"},{"$error":"#VALUE!"}]
[null,null,null,null,null,null,null,null,null,null,null,null,null,null,null,108,{"$error":"#VALUE!"},{"$error":"#VALUE!"},{"$error":"#VALUE!"}]
[null,null,null,null,null,null,null,null,null,null,null,null,null,null,null,109,{"$error":"#VALUE!"},{"$error":"#VALUE!"},{"$error":"#VALUE!"}]
[null,null,null,null,null,null,null,null,null,null,null,null,null,null,null,110,{"$error":"#VALUE!"},{"$error":"#VALUE!"},{"$error":"#VALUE!"}]
[null,null,null,null,null,null,null,null,null,null,null,null,null,null,null,111,{"$error":"#VALUE!"},{"$error":"#VALUE!"},{"$error":"#VALUE!"}]
[null,null,null,null,null,null,null,null,null,null,null,null,null,null,null,112,{"$error":"#VALUE!"},{"$error":"#VALUE!"},{"$error":"#VALUE!"}]
[null,null,null,null,null,null,null,null,null,null,null,null,null,null,null,113,{"$error":"#VALUE!"},{"$error":"#VALUE!"},{"$error":"#VALUE!"}]
[null,null,null,null,null,null,null,null,null,null,null,null,null,null,null,114,{"$error":"#VALUE!"},{"$error":"#VALUE!"},{"$error":"#VALUE!"}]
[null,null,null,null,null,null,null,null,null,null,null,null,null,null,null,115,{"$error":"#VALUE!"},{"$error":"#VALUE!"},{"$error":"#VALUE!"}]
[null,null,null,null,null,null,null,null,null,null,null,null,null,null,null,116,{"$error":"#VALUE!"},{"$error":"#VALUE!"},{"$error":"#VALUE!"}]
[null,null,null,null,null,null,null,null,null,null,null,null,null,null,null,117,{"$error":"#VALUE!"},{"$error":"#VALUE!"},{"$error":"#VALUE!"}]
[null,null,null,null,null,null,null,null,null,null,null,null,null,null,null,118,{"$error":"#VALUE!"},{"$error":"#VALUE!"},{"$error":"#VALUE!"}]
[null,null,null,null,null,null,null,null,null,null,null,null,null,null,null,119,{"$error":"#VALUE!"},{"$error":"#VALUE!"},{"$error":"#VALUE!"}]
[null,null,null,null,null,null,null,null,null,null,null,null,null,null,null,120,{"$error":"#VALUE!"},{"$error":"#VALUE!"},{"$error":"#VALUE!"}]
[null,null,null,null,null,null,null,null,null,null,null,null,null,null,null,121,{"$error":"#VALUE!"},{"$error":"#VALUE!"},{"$error":"#VALUE!"}]
[null,null,null,null,null,null,null,null,null,null,null,null,null,null,null,122,{"$error":"#VALUE!"},{"$error":"#VALUE!"},{"$error":"#VALUE!"}]
[null,null,null,null,null,null,null,null,null,null,null,null,null,null,null,123,{"$error":"#VALUE!"},{"$error":"#VALUE!"},{"$error":"#VALUE!"}]
[null,null,null,null,null,null,null,null,null,null,null,null,null,null,null,124,{"$error":"#VALUE!"},{"$error":"#VALUE!"},{"$error":"#VALUE!"}]
[null,null,null,null,null,null,null,null,null,null,null,null,null,null,null,125,{"$error":"#VALUE!"},{"$error":"#VALUE!"},{"$error":"#VALUE!"}]
[null,null,null,null,null,null,null,null,null,null,null,null,null,null,null,126,{"$error":"#VALUE!"},{"$error":"#VALUE!"},{"$error":"#VALUE!"}]
[null,null,null,null,null,null,null,null,null,null,null,null,null,null,null,127,{"$error":"#VALUE!"},{"$error":"#VALUE!"},{"$error":"#VALUE!"}]
[null,null,null,null,null,null,null,null,null,null,null,null,null,null,null,128,{"$error":"#VALUE!"},{"$error":"#VALUE!"},{"$error":"#VALUE!"}]
[null,null,null,null,null,null,null,null,null,null,null,null,null,null,null,129,{"$error":"#VALUE!"},{"$f":"Q150*$N$26/12","v":{"$error":"#VALUE!"}},{"$error":"#VALUE!"}]
[null,null,null,null,null,null,null,null,null,null,null,null,null,null,null,130,{"$f":"+S150+$M$53","v":{"$error":"#VALUE!"}},{"$error":"#VALUE!"},{"$error":"#VALUE!"}]
[null,null,null,null,null,null,null,null,null,null,null,null,null,null,null,{"$f":"+P151+1","v":131},{"$error":"#VALUE!"},{"$error":"#VALUE!"},{"$f":"+Q152+R152","v":{"$error":"#VALUE!"}}]
[null,null,null,null,null,null,null,null,null,null,null,null,null,null,null,132,{"$error":"#VALUE!"},{"$error":"#VALUE!"},{"$error":"#VALUE!"}]
[null,null,null,null,null,null,null,null,null,null,null,null,null,null,null,133,{"$error":"#VALUE!"},{"$error":"#VALUE!"},{"$error":"#VALUE!"}]
[null,null,null,null,null,null,null,null,null,null,null,null,null,null,null,134,{"$error":"#VALUE!"},{"$error":"#VALUE!"},{"$error":"#VALUE!"}]
[null,null,null,null,null,null,null,null,null,null,null,null,null,null,null,135,{"$error":"#VALUE!"},{"$error":"#VALUE!"},{"$error":"#VALUE!"}]
[null,null,null,null,null,null,null,null,null,null,null,null,null,null,null,136,{"$error":"#VALUE!"},{"$error":"#VALUE!"},{"$error":"#VALUE!"}]
[null,null,null,null,null,null,null,null,null,null,null,null,null,null,null,137,{"$error":"#VALUE!"},{"$error":"#VALUE!"},{"$error":"#VALUE!"}]
[null,null,null,null,null,null,null,null,null,null,null,null,null,null,null,138,{"$error":"#VALUE!"},{"$error":"#VALUE!"},{"$error":"#VALUE!"}]
[null,null,null,null,null,null,null,null,null,null,null,null,null,null,null,139,{"$error":"#VALUE!"},{"$error":"#VALUE!"},{"$error":"#VALUE!"}]
[null,null,null,null,null,null,null,null,null,null,null,null,null,null,null,140,{"$error":"#VALUE!"},{"$error":"#VALUE!"},{"$error":"#VALUE!"}]
[null,null,null,null,null,null,null,null,null,null,null,null,null,null,null,141,{"$error":"#VALUE!"},{"$error":"#VALUE!"},{"$error":"#VALUE!"}]
[null,null,null,null,null,null,null,null,null,null,null,null,null,null,null,142,{"$error":"#VALUE!"},{"$error":"#VALUE!"},{"$error":"#VALUE!"}]
[null,null,null,null,null,null,null,null,null,null,null,null,null,null,null,143,{"$error":"#VALUE!"},{"$error":"#VALUE!"},{"$error":"#VALUE!"}]
[null,null,null,null,null,null,null,null,null,null,null,null,null,null,null,144,{"$error":"#VALUE!"},{"$error":"#VALUE!"},{"$error":"#VALUE!"}]
[null,null,null,null,null,null,null,null,null,null,null,null,null,null,null,145,{"$error":"#VALUE!"},{"$error":"#VALUE!"},{"$error":"#VALUE!"}]
[null,null,null,null,null,null,null,null,null,null,null,null,null,null,null,146,{"$error":"#VALUE!"},{"$error":"#VALUE!"},{"$error":"#VALUE!"}]
[null,null,null,null,null,null,null,null,null,null,null,null,null,null,null,147,{"$error":"#VALUE!"},{"$error":"#VALUE!"},{"$error":"#VALUE!"}]
[null,null,null,null,null,null,null,null,null,null,null,null,null,null,null,148,{"$error":"#VALUE!"},{"$error":"#VALUE!"},{"$error":"#VALUE!"}]
[null,null,null,null,null,null,null,null,null,null,null,null,null,null,null,149,{"$error":"#VALUE!"},{"$error":"#VALUE!"},{"$error":"#VALUE!"}]
[null,null,null,null,null,null,null,null,null,null,null,null,null,null,null,150,{"$error":"#VALUE!"},{"$error":"#VALUE!"},{"$error":"#VALUE!"}]
[null,null,null,null,null,null,null,null,null,null,null,null,null,null,null,151,{"$error":"#VALUE!"},{"$error":"#VALUE!"},{"$error":"#VALUE!"}]
[null,null,null,null,null,null,null,null,null,null,null,null,null,null,null,152,{"$error":"#VALUE!"},{"$error":"#VALUE!"},{"$error":"#VALUE!"}]
[null,null,null,null,null,null,null,null,null,null,null,null,null,null,null,153,{"$error":"#VALUE!"},{"$error":"#VALUE!"},{"$error":"#VALUE!"}]
[null,null,null,null,null,null,null,null,null,null,null,null,null,null,null,154,{"$error":"#VALUE!"},{"$error":"#VALUE!"},{"$error":"#VALUE!"}]
[null,null,null,null,null,null,null,null,null,null,null,null,null,null,null,155,{"$error":"#VALUE!"},{"$error":"#VALUE!"},{"$error":"#VALUE!"}]
[null,null,null,null,null,null,null,null,null,null,null,null,null,null,null,156,{"$error":"#VALUE!"},{"$error":"#VALUE!"},{"$error":"#VALUE!"}]
[null,null,null,null,null,null,null,null,null,null,null,null,null,null,null,157,{"$error":"#VALUE!"},{"$error":"#VALUE!"},{"$error":"#VALUE!"}]
[null,null,null,null,null,null,null,null,null,null,null,null,null,null,null,158,{"$error":"#VALUE!"},{"$error":"#VALUE!"},{"$error":"#VALUE!"}]
[null,null,null,null,null,null,null,null,null,null,null,null,null,null,null,159,{"$error":"#VALUE!"},{"$error":"#VALUE!"},{"$error":"#VALUE!"}]
[null,null,null,null,null,null,null,null,null,null,null,null,null,null,null,160,{"$error":"#VALUE!"},{"$error":"#VALUE!"},{"$error":"#VALUE!"}]
[null,null,null,null,null,null,null,null,null,null,null,null,null,null,null,161,{"$error":"#VALUE!"},{"$error":"#VALUE!"},{"$error":"#VALUE!"}]
[null,null,null,null,null,null,null,null,null,null,null,null,null,null,null,162,{"$error":"#VALUE!"},{"$error":"#VALUE!"},{"$error":"#VALUE!"}]
[null,null,null,null,null,null,null,null,null,null,null,null,null,null,null,163,{"$error":"#VALUE!"},{"$error":"#VALUE!"},{"$error":"#VALUE!"}]
[null,null,null,null,null,null,null,null,null,null,null,null,null,null,null,164,{"$error":"#VALUE!"},{"$error":"#VALUE!"},{"$error":"#VALUE!"}]
[null,null,null,null,null,null,null,null,null,null,null,null,null,null,null,165,{"$error":"#VALUE!"},{"$error":"#VALUE!"},{"$error":"#VALUE!"}]
[null,null,null,null,null,null,null,null,null,null,null,null,null,null,null,166,{"$error":"#VALUE!"},{"$error":"#VALUE!"},{"$error":"#VALUE!"}]
[null,null,null,null,null,null,null,null,null,null,null,null,null,null,null,167,{"$error":"#VALUE!"},{"$error":"#VALUE!"},{"$error":"#VALUE!"}]
[null,null,null,null,null,null,null,null,null,null,null,null,null,null,null,168,{"$error":"#VALUE!"},{"$error":"#VALUE!"},{"$error":"#VALUE!"}]
[null,null,null,null,null,null,null,null,null,null,null,null,null,null,null,169,{"$error":"#VALUE!"},{"$error":"#VALUE!"},{"$error":"#VALUE!"}]
[null,null,null,null,null,null,null,null,null,null,null,null,null,null,null,170,{"$error":"#VALUE!"},{"$error":"#VALUE!"},{"$error":"#VALUE!"}]
[null,null,null,null,null,null,null,null,null,null,null,null,null,null,null,171,{"$error":"#VALUE!"},{"$error":"#VALUE!"},{"$error":"#VALUE!"}]
[null,null,null,null,null,null,null,null,null,null,null,null,null,null,null,172,{"$error":"#VALUE!"},{"$error":"#VALUE!"},{"$error":"#VALUE!"}]
[null,null,null,null,null,null,null,null,null,null,null,null,null,null,null,173,{"$error":"#VALUE!"},{"$error":"#VALUE!"},{"$error":"#VALUE!"}]
[null,null,null,null,null,null,null,null,null,null,null,null,null,null,null,174,{"$error":"#VALUE!"},{"$error":"#VALUE!"},{"$error":"#VALUE!"}]
[null,null,null,null,null,null,null,null,null,null,null,null,null,null,null,175,{"$error":"#VALUE!"},{"$error":"#VALUE!"},{"$error":"#VALUE!"}]
[null,null,null,null,null,null,null,null,null,null,null,null,null,null,null,176,{"$error":"#VALUE!"},{"$error":"#VALUE!"},{"$error":"#VALUE!"}]
[null,null,null,null,null,null,null,null,null,null,null,null,null,null,null,177,{"$error":"#VALUE!"},{"$error":"#VALUE!"},{"$error":"#VALUE!"}]
[null,null,null,null,null,null,null,null,null,null,null,null,null,null,null,178,{"$error":"#VALUE!"},{"$error":"#VALUE!"},{"$error":"#VALUE!"}]
[null,null,null,null,null,null,null,null,null,null,null,null,null,null,null,179,{"$error":"#VALUE!"},{"$error":"#VALUE!"},{"$error":"#VALUE!"}]
[null,null,null,null,null,null,null,null,null,null,null,null,null,null,null,180,{"$error":"#VALUE!"},{"$error":"#VALUE!"},{"$error":"#VALUE!"}]
[null,null,null,null,null,null,null,null,null,null,null,null,null,null,null,181,{"$error":"#VALUE!"},{"$error":"#VALUE!"},{"$error":"#VALUE!"}]
[null,null,null,null,null,null,null,null,null,null,null,null,null,null,null,182,{"$error":"#VALUE!"},{"$error":"#VALUE!"},{"$error":"#VALUE!"}]
[null,null,null,null,null,null,null,null,null,null,null,null,null,null,null,183,{"$error":"#VALUE!"},{"$error":"#VALUE!"},{"$error":"#VALUE!"}]
[null,null,null,null,null,null,null,null,null,null,null,null,null,null,null,184,{"$error":"#VALUE!"},{"$error":"#VALUE!"},{"$error":"#VALUE!"}]
[null,null,null,null,null,null,null,null,null,null,null,null,null,null,null,185,{"$error":"#VALUE!"},{"$error":"#VALUE!"},{"$error":"#VALUE!"}]
[null,null,null,null,null,null,null,null,null,null,null,null,null,null,null,186,{"$error":"#VALUE!"},{"$error":"#VALUE!"},{"$error":"#VALUE!"}]
[null,null,null,null,null,null,null,null,null,null,null,null,null,null,null,187,{"$error":"#VALUE!"},{"$error":"#VALUE!"},{"$error":"#VALUE!"}]
[null,null,null,null,null,null,null,null,null,null,null,null,null,null,null,188,{"$error":"#VALUE!"},{"$error":"#VALUE!"},{"$error":"#VALUE!"}]
[null,null,null,null,null,null,null,null,null,null,null,null,null,null,null,189,{"$error":"#VALUE!"},{"$error":"#VALUE!"},{"$error":"#VALUE!"}]
[null,null,null,null,null,null,null,null,null,null,null,null,null,null,null,190,{"$error":"#VALUE!"},{"$error":"#VALUE!"},{"$error":"#VALUE!"}]
[null,null,null,null,null,null,null,null,null,null,null,null,null,null,null,191,{"$error":"#VALUE!"},{"$error":"#VALUE!"},{"$error":"#VALUE!"}]
[null,null,null,null,null,null,null,null,null,null,null,null,null,null,null,192,{"$error":"#VALUE!"},{"$error":"#VALUE!"},{"$error":"#VALUE!"}]
[null,null,null,null,null,null,null,null,null,null,null,null,null,null,null,193,{"$error":"#VALUE!"},{"$f":"Q214*$N$26/12","v":{"$error":"#VALUE!"}},{"$error":"#VALUE!"}]
[null,null,null,null,null,null,null,null,null,null,null,null,null,null,null,194,{"$f":"+S214+$M$53","v":{"$error":"#VALUE!"}},{"$error":"#VALUE!"},{"$error":"#VALUE!"}]
[null,null,null,null,null,null,null,null,null,null,null,null,null,null,null,{"$f":"+P215+1","v":195},{"$error":"#VALUE!"},{"$error":"#VALUE!"},{"$f":"+Q216+R216","v":{"$error":"#VALUE!"}}]
[null,null,null,null,null,null,null,null,null,null,null,null,null,null,null,196,{"$error":"#VALUE!"},{"$error":"#VALUE!"},{"$error":"#VALUE!"}]
[null,null,null,null,null,null,null,null,null,null,null,null,null,null,null,197,{"$error":"#VALUE!"},{"$error":"#VALUE!"},{"$error":"#VALUE!"}]
[null,null,null,null,null,null,null,null,null,null,null,null,null,null,null,198,{"$error":"#VALUE!"},{"$error":"#VALUE!"},{"$error":"#VALUE!"}]
[null,null,null,null,null,null,null,null,null,null,null,null,null,null,null,199,{"$error":"#VALUE!"},{"$error":"#VALUE!"},{"$error":"#VALUE!"}]
[null,null,null,null,null,null,null,null,null,null,null,null,null,null,null,200,{"$error":"#VALUE!"},{"$error":"#VALUE!"},{"$error":"#VALUE!"}]
[null,null,null,null,null,null,null,null,null,null,null,null,null,null,null,201,{"$error":"#VALUE!"},{"$error":"#VALUE!"},{"$error":"#VALUE!"}]
[null,null,null,null,null,null,null,null,null,null,null,null,null,null,null,202,{"$error":"#VALUE!"},{"$error":"#VALUE!"},{"$error":"#VALUE!"}]
[null,null,null,null,null,null,null,null,null,null,null,null,null,null,null,203,{"$error":"#VALUE!"},{"$error":"#VALUE!"},{"$error":"#VALUE!"}]
[null,null,null,null,null,null,null,null,null,null,null,null,null,null,null,204,{"$error":"#VALUE!"},{"$error":"#VALUE!"},{"$error":"#VALUE!"}]
[null,null,null,null,null,null,null,null,null,null,null,null,null,null,null,205,{"$error":"#VALUE!"},{"$error":"#VALUE!"},{"$error":"#VALUE!"}]
[null,null,null,null,null,null,null,null,null,null,null,null,null,null,null,206,{"$error":"#VALUE!"},{"$error":"#VALUE!"},{"$error":"#VALUE!"}]
[null,null,null,null,null,null,null,null,null,null,null,null,null,null,null,207,{"$error":"#VALUE!"},{"$error":"#VALUE!"},{"$error":"#VALUE!"}]
[null,null,null,null,null,null,null,null,null,null,null,null,null,null,null,208,{"$error":"#VALUE!"},{"$error":"#VALUE!"},{"$error":"#VALUE!"}]
[null,null,null,null,null,null,null,null,null,null,null,null,null,null,null,209,{"$error":"#VALUE!"},{"$error":"#VALUE!"},{"$error":"#VALUE!"}]
[null,null,null,null,null,null,null,null,null,null,null,null,null,null,null,210,{"$error":"#VALUE!"},{"$error":"#VALUE!"},{"$error":"#VALUE!"}]
[null,null,null,null,null,null,null,null,null,null,null,null,null,null,null,211,{"$error":"#VALUE!"},{"$error":"#VALUE!"},{"$error":"#VALUE!"}]
[null,null,null,null,null,null,null,null,null,null,null,null,null,null,null,212,{"$error":"#VALUE!"},{"$error":"#VALUE!"},{"$error":"#VALUE!"}]
[null,null,null,null,null,null,null,null,null,null,null,null,null,null,null,213,{"$error":"#VALUE!"},{"$error":"#VALUE!"},{"$error":"#VALUE!"}]
[null,null,null,null,null,null,null,null,null,null,null,null,null,null,null,214,{"$error":"#VALUE!"},{"$error":"#VALUE!"},{"$error":"#VALUE!"}]
[null,null,null,null,null,null,null,null,null,null,null,null,null,null,null,215,{"$error":"#VALUE!"},{"$error":"#VALUE!"},{"$error":"#VALUE!"}]
[null,null,null,null,null,null,null,null,null,null,null,null,null,null,null,216,{"$error":"#VALUE!"},{"$error":"#VALUE!"},{"$error":"#VALUE!"}]
[null,null,null,null,null,null,null,null,null,null,null,null,null,null,null,217,{"$error":"#VALUE!"},{"$error":"#VALUE!"},{"$error":"#VALUE!"}]
[null,null,null,null,null,null,null,null,null,null,null,null,null,null,null,218,{"$error":"#VALUE!"},{"$error":"#VALUE!"},{"$error":"#VALUE!"}]
[null,null,null,null,null,null,null,null,null,null,null,null,null,null,null,219,{"$error":"#VALUE!"},{"$error":"#VALUE!"},{"$error":"#VALUE!"}]
[null,null,null,null,null,null,null,null,null,null,null,null,null,null,null,220,{"$error":"#VALUE!"},{"$error":"#VALUE!"},{"$error":"#VALUE!"}]
[null,null,null,null,null,null,null,null,null,null,null,null,null,null,null,221,{"$error":"#VALUE!"},{"$error":"#VALUE!"},{"$error":"#VALUE!"}]
[null,null,null,null,null,null,null,null,null,null,null,null,null,null,null,222,{"$error":"#VALUE!"},{"$error":"#VALUE!"},{"$error":"#VALUE!"}]
[null,null,null,null,null,null,null,null,null,null,null,null,null,null,null,223,{"$error":"#VALUE!"},{"$error":"#VALUE!"},{"$error":"#VALUE!"}]
[null,null,null,null,null,null,null,null,null,null,null,null,null,null,null,224,{"$error":"#VALUE!"},{"$error":"#VALUE!"},{"$error":"#VALUE!"}]
[null,null,null,null,null,null,null,null,null,null,null,null,null,null,null,225,{"$error":"#VALUE!"},{"$error":"#VALUE!"},{"$error":"#VALUE!"}]
[null,null,null,null,null,null,null,null,null,null,null,null,null,null,null,226,{"$error":"#VALUE!"},{"$error":"#VALUE!"},{"$error":"#VALUE!"}]
[null,null,null,null,null,null,null,null,null,null,null,null,null,null,null,227,{"$error":"#VALUE!"},{"$error":"#VALUE!"},{"$error":"#VALUE!"}]
[null,null,null,null,null,null,null,null,null,null,null,null,null,null,null,228,{"$error":"#VALUE!"},{"$error":"#VALUE!"},{"$error":"#VALUE!"}]
[null,null,null,null,null,null,null,null,null,null,null,null,null,null,null,229,{"$error":"#VALUE!"},{"$error":"#VALUE!"},{"$error":"#VALUE!"}]
[null,null,null,null,null,null,null,null,null,null,null,null,null,null,null,230,{"$error":"#VALUE!"},{"$error":"#VALUE!"},{"$error":"#VALUE!"}]
[null,null,null,null,null,null,null,null,null,null,null,null,null,null,null,231,{"$error":"#VALUE!"},{"$error":"#VALUE!"},{"$error":"#VALUE!"}]
[null,null,null,null,null,null,null,null,null,null,null,null,null,null,null,232,{"$error":"#VALUE!"},{"$error":"#VALUE!"},{"$error":"#VALUE!"}]
[null,null,null,null,null,null,null,null,null,null,null,null,null,null,null,233,{"$error":"#VALUE!"},{"$error":"#VALUE!"},{"$error":"#VALUE!"}]
[null,null,null,null,null,null,null,null,null,null,null,null,null,null,null,234,{"$error":"#VALUE!"},{"$error":"#VALUE!"},{"$error":"#VALUE!"}]
[null,null,null,null,null,null,null,null,null,null,null,null,null,null,null,235,{"$error":"#VALUE!"},{"$error":"#VALUE!"},{"$error":"#VALUE!"}]
[null,null,null,null,null,null,null,null,null,null,null,null,null,null,null,236,{"$error":"#VALUE!"},{"$error":"#VALUE!"},{"$error":"#VALUE!"}]
[null,null,null,null,null,null,null,null,null,null,null,null,null,null,null,237,{"$error":"#VALUE!"},{"$error":"#VALUE!"},{"$error":"#VALUE!"}]
[null,null,null,null,null,null,null,null,null,null,null,null,null,null,null,238,{"$error":"#VALUE!"},{"$error":"#VALUE!"},{"$error":"#VALUE!"}]
[null,null,null,null,null,null,null,null,null,null,null,null,null,null,null,239,{"$error":"#VALUE!"},{"$error":"#VALUE!"},{"$error":"#VALUE!"}]
[null,null,null,null,null,null,null,null,null,null,null,null,null,null,null,240,{"$error":"#VALUE!"},{"$error":"#VALUE!"},{"$error":"#VALUE!"}]
[null,null,null,null,null,null,null,null,null,null,null,null,null,null,null,241,{"$error":"#VALUE!"},{"$error":"#VALUE!"},{"$error":"#VALUE!"}]
[null,null,null,null,null,null,null,null,null,null,null,null,null,null,null,242,{"$error":"#VALUE!"},{"$error":"#VALUE!"},{"$error":"#VALUE!"}]
[null,null,null,null,null,null,null,null,null,null,null,null,null,null,null,243,{"$error":"#VALUE!"},{"$error":"#VALUE!"},{"$error":"#VALUE!"}]
[null,null,null,null,null,null,null,null,null,null,null,null,null,null,null,244,{"$error":"#VALUE!"},{"$error":"#VALUE!"},{"$error":"#VALUE!"}]
[null,null,null,null,null,null,null,null,null,null,null,null,null,null,null,245,{"$error":"#VALUE!"},{"$error":"#VALUE!"},{"$error":"#VALUE!"}]
[null,null,null,null,null,null,null,null,null,null,null,null,null,null,null,246,{"$error":"#VALUE!"},{"$error":"#VALUE!"},{"$error":"#VALUE!"}]
[null,null,null,null,null,null,null,null,null,null,null,null,null,null,null,247,{"$error":"#VALUE!"},{"$error":"#VALUE!"},{"$error":"#VALUE!"}]
[null,null,null,null,null,null,null,null,null,null,null,null,null,null,null,248,{"$error":"#VALUE!"},{"$error":"#VALUE!"},{"$error":"#VALUE!"}]
[null,null,null,null,null,null,null,null,null,null,null,null,null,null,null,249,{"$error":"#VALUE!"},{"$error":"#VALUE!"},{"$error":"#VALUE!"}]
[null,null,null,null,null,null,null,null,null,null,null,null,null,null,null,250,{"$error":"#VALUE!"},{"$error":"#VALUE!"},{"$error":"#VALUE!"}]
[null,null,null,null,null,null,null,null,null,null,null,null,null,null,null,251,{"$error":"#VALUE!"},{"$error":"#VALUE!"},{"$error":"#VALUE!"}]
[null,null,null,null,null,null,null,null,null,null,null,null,null,null,null,252,{"$error":"#VALUE!"},{"$error":"#VALUE!"},{"$error":"#VALUE!"}]
[null,null,null,null,null,null,null,null,null,null,null,null,null,null,null,253,{"$error":"#VALUE!"},{"$error":"#VALUE!"},{"$error":"#VALUE!"}]
[null,null,null,null,null,null,null,null,null,null,null,null,null,null,null,254,{"$error":"#VALUE!"},{"$error":"#VALUE!"},{"$error":"#VALUE!"}]
[null,null,null,null,null,null,null,null,null,null,null,null,null,null,null,255,{"$error":"#VALUE!"},{"$error":"#VALUE!"},{"$error":"#VALUE!"}]
[null,null,null,null,null,null,null,null,null,null,null,null,null,null,null,256,{"$error":"#VALUE!"},{"$error":"#VALUE!"},{"$error":"#VALUE!"}]
[null,null,null,null,null,null,null,null,null,null,null,null,null,null,null,257,{"$error":"#VALUE!"},{"$f":"Q278*$N$26/12","v":{"$error":"#VALUE!"}},{"$error":"#VALUE!"}]
[null,null,null,null,null,null,null,null,null,null,null,null,null,null,null,258,{"$f":"+S278+$M$53","v":{"$error":"#VALUE!"}},{"$error":"#VALUE!"},{"$error":"#VALUE!"}]
[null,null,null,null,null,null,null,null,null,null,null,null,null,null,null,{"$f":"+P279+1","v":259},{"$error":"#VALUE!"},{"$error":"#VALUE!"},{"$f":"+Q280+R280","v":{"$error":"#VALUE!"}}]
[null,null,null,null,null,null,null,null,null,null,null,null,null,null,null,260,{"$error":"#VALUE!"},{"$error":"#VALUE!"},{"$error":"#VALUE!"}]
[null,null,null,null,null,null,null,null,null,null,null,null,null,null,null,261,{"$error":"#VALUE!"},{"$error":"#VALUE!"},{"$error":"#VALUE!"}]
[null,null,null,null,null,null,null,null,null,null,null,null,null,null,null,262,{"$error":"#VALUE!"},{"$error":"#VALUE!"},{"$error":"#VALUE!"}]
[null,null,null,null,null,null,null,null,null,null,null,null,null,null,null,263,{"$error":"#VALUE!"},{"$error":"#VALUE!"},{"$error":"#VALUE!"}]
[null,null,null,null,null,null,null,null,null,null,null,null,null,null,null,264,{"$error":"#VALUE!"},{"$error":"#VALUE!"},{"$error":"#VALUE!"}]
[null,null,null,null,null,null,null,null,null,null,null,null,null,null,null,265,{"$error":"#VALUE!"},{"$error":"#VALUE!"},{"$error":"#VALUE!"}]
[null,null,null,null,null,null,null,null,null,null,null,null,null,null,null,266,{"$error":"#VALUE!"},{"$error":"#VALUE!"},{"$error":"#VALUE!"}]
[null,null,null,null,null,null,null,null,null,null,null,null,null,null,null,267,{"$error":"#VALUE!"},{"$error":"#VALUE!"},{"$error":"#VALUE!"}]
[null,null,null,null,null,null,null,null,null,null,null,null,null,null,null,268,{"$error":"#VALUE!"},{"$error":"#VALUE!"},{"$error":"#VALUE!"}]
[null,null,null,null,null,null,null,null,null,null,null,null,null,null,null,269,{"$error":"#VALUE!"},{"$error":"#VALUE!"},{"$error":"#VALUE!"}]
[null,null,null,null,null,null,null,null,null,null,null,null,null,null,null,270,{"$error":"#VALUE!"},{"$error":"#VALUE!"},{"$error":"#VALUE!"}]
[null,null,null,null,null,null,null,null,null,null,null,null,null,null,null,271,{"$error":"#VALUE!"},{"$error":"#VALUE!"},{"$error":"#VALUE!"}]
[null,null,null,null,null,null,null,null,null,null,null,null,null,null,null,272,{"$error":"#VALUE!"},{"$error":"#VALUE!"},{"$error":"#VALUE!"}]
[null,null,null,null,null,null,null,null,null,null,null,null,null,null,null,273,{"$error":"#VALUE!"},{"$error":"#VALUE!"},{"$error":"#VALUE!"}]
[null,null,null,null,null,null,null,null,null,null,null,null,null,null,null,274,{"$error":"#VALUE!"},{"$error":"#VALUE!"},{"$error":"#VALUE!"}]
[null,null,null,null,null,null,null,null,null,null,null,null,null,null,null,275,{"$error":"#VALUE!"},{"$error":"#VALUE!"},{"$error":"#VALUE!"}]
[null,null,null,null,null,null,null,null,null,null,null,null,null,null,null,276,{"$error":"#VALUE!"},{"$error":"#VALUE!"},{"$error":"#VALUE!"}]
[null,null,null,null,null,null,null,null,null,null,null,null,null,null,null,277,{"$error":"#VALUE!"},{"$error":"#VALUE!"},{"$error":"#VALUE!"}]
[null,null,null,null,null,null,null,null,null,null,null,null,null,null,null,278,{"$error":"#VALUE!"},{"$error":"#VALUE!"},{"$error":"#VALUE!"}]
[null,null,null,null,null,null,null,null,null,null,null,null,null,null,null,279,{"$error":"#VALUE!"},{"$error":"#VALUE!"},{"$error":"#VALUE!"}]
[null,null,null,null,null,null,null,null,null,null,null,null,null,null,null,280,{"$error":"#VALUE!"},{"$error":"#VALUE!"},{"$error":"#VALUE!"}]
[null,null,null,null,null,null,null,null,null,null,null,null,null,null,null,281,{"$error":"#VALUE!"},{"$error":"#VALUE!"},{"$error":"#VALUE!"}]
[null,null,null,null,null,null,null,null,null,null,null,null,null,null,null,282,{"$error":"#VALUE!"},{"$error":"#VALUE!"},{"$error":"#VALUE!"}]
[null,null,null,null,null,null,null,null,null,null,null,null,null,null,null,283,{"$error":"#VALUE!"},{"$error":"#VALUE!"},{"$error":"#VALUE!"}]
[null,null,null,null,null,null,null,null,null,null,null,null,null,null,null,284,{"$error":"#VALUE!"},{"$error":"#VALUE!"},{"$error":"#VALUE!"}]
[null,null,null,null,null,null,null,null,null,null,null,null,null,null,null,285,{"$error":"#VALUE!"},{"$error":"#VALUE!"},{"$error":"#VALUE!"}]
[null,null,null,null,null,null,null,null,null,null,null,null,null,null,null,286,{"$error":"#VALUE!"},{"$error":"#VALUE!"},{"$error":"#VALUE!"}]
[null,null,null,null,null,null,null,null,null,null,null,null,null,null,null,287,{"$error":"#VALUE!"},{"$error":"#VALUE!"},{"$error":"#VALUE!"}]
[null,null,null,null,null,null,null,null,null,null,null,null,null,null,null,288,{"$error":"#VALUE!"},{"$error":"#VALUE!"},{"$error":"#VALUE!"}]
[null,null,null,null,null,null,null,null,null,null,null,null,null,null,null,289,{"$error":"#VALUE!"},{"$error":"#VALUE!"},{"$error":"#VALUE!"}]
[null,null,null,null,null,null,null,null,null,null,null,null,null,null,null,290,{"$error":"#VALUE!"},{"$error":"#VALUE!"},{"$error":"#VALUE!"}]
[null,null,null,null,null,null,null,null,null,null,null,null,null,null,null,291,{"$error":"#VALUE!"},{"$error":"#VALUE!"},{"$error":"#VALUE!"}]
[null,null,null,null,null,null,null,null,null,null,null,null,null,null,null,292,{"$error":"#VALUE!"},{"$error":"#VALUE!"},{"$error":"#VALUE!"}]
[null,null,null,null,null,null,null,null,null,null,null,null,null,null,null,293,{"$error":"#VALUE!"},{"$error":"#VALUE!"},{"$error":"#VALUE!"}]
[null,null,null,null,null,null,null,null,null,null,null,null,null,null,null,294,{"$error":"#VALUE!"},{"$error":"#VALUE!"},{"$error":"#VALUE!"}]
[null,null,null,null,null,null,null,null,null,null,null,null,null,null,null,295,{"$error":"#VALUE!"},{"$error":"#VALUE!"},{"$error":"#VALUE!"}]
[null,null,null,null,null,null,null,null,null,null,null,null,null,null,null,296,{"$error":"#VALUE!"},{"$error":"#VALUE!"},{"$error":"#VALUE!"}]
[null,null,null,null,null,null,null,null,null,null,null,null,null,null,null,297,{"$error":"#VALUE!"},{"$error":"#VALUE!"},{"$error":"#VALUE!"}]
[null,null,null,null,null,null,null,null,null,null,null,null,null,null,null,298,{"$error":"#VALUE!"},{"$error":"#VALUE!"},{"$error":"#VALUE!"}]
[null,null,null,null,null,null,null,null,null,null,null,null,null,null,null,299,{"$error":"#VALUE!"},{"$error":"#VALUE!"},{"$error":"#VALUE!"}]
[null,null,null,null,null,null,null,null,null,null,null,null,null,null,null,300,{"$error":"#VALUE!"},{"$error":"#VALUE!"},{"$error":"#VALUE!"}]
[null,null,null,null,null,null,null,null,null,null,null,null,null,null,null,301,{"$error":"#VALUE!"},{"$error":"#VALUE!"},{"$error":"#VALUE!"}]
[null,null,null,null,null,null,null,null,null,null,null,null,null,null,null,302,{"$error":"#VALUE!"},{"$error":"#VALUE!"},{"$error":"#VALUE!"}]
[null,null,null,null,null,null,null,null,null,null,null,null,null,null,null,303,{"$error":"#VALUE!"},{"$error":"#VALUE!"},{"$error":"#VALUE!"}]
[null,null,null,null,null,null,null,null,null,null,null,null,null,null,null,304,{"$error":"#VALUE!"},{"$error":"#VALUE!"},{"$error":"#VALUE!"}]
[null,null,null,null,null,null,null,null,null,null,null,null,null,null,null,305,{"$error":"#VALUE!"},{"$error":"#VALUE!"},{"$error":"#VALUE!"}]
[null,null,null,null,null,null,null,null,null,null,null,null,null,null,null,306,{"$error":"#VALUE!"},{"$error":"#VALUE!"},{"$error":"#VALUE!"}]
[null,null,null,null,null,null,null,null,null,null,null,null,null,null,null,307,{"$error":"#VALUE!"},{"$error":"#VALUE!"},{"$error":"#VALUE!"}]
[null,null,null,null,null,null,null,null,null,null,null,null,null,null,null,308,{"$error":"#VALUE!"},{"$error":"#VALUE!"},{"$error":"#VALUE!"}]
[null,null,null,null,null,null,null,null,null,null,null,null,null,null,null,309,{"$error":"#VALUE!"},{"$error":"#VALUE!"},{"$error":"#VALUE!"}]
[null,null,null,null,null,null,null,null,null,null,null,null,null,null,null,310,{"$error":"#VALUE!"},{"$error":"#VALUE!"},{"$error":"#VALUE!"}]
[null,null,null,null,null,null,null,null,null,null,null,null,null,null,null,311,{"$error":"#VALUE!"},{"$error":"#VALUE!"},{"$error":"#VALUE!"}]
[null,null,null,null,null,null,null,null,null,null,null,null,null,null,null,312,{"$error":"#VALUE!"},{"$error":"#VALUE!"},{"$error":"#VALUE!"}]
[null,null,null,null,null,null,null,null,null,null,null,null,null,null,null,313,{"$error":"#VALUE!"},{"$error":"#VALUE!"},{"$error":"#VALUE!"}]
[null,null,null,null,null,null,null,null,null,null,null,null,null,null,null,314,{"$error":"#VALUE!"},{"$error":"#VALUE!"},{"$error":"#VALUE!"}]
[null,null,null,null,null,null,null,null,null,null,null,null,null,null,null,315,{"$error":"#VALUE!"},{"$error":"#VALUE!"},{"$error":"#VALUE!"}]
[null,null,null,null,null,null,null,null,null,null,null,null,null,null,null,316,{"$error":"#VALUE!"},{"$error":"#VALUE!"},{"$error":"#VALUE!"}]
[null,null,null,null,null,null,null,null,null,null,null,null,null,null,null,317,{"$error":"#VALUE!"},{"$error":"#VALUE!"},{"$error":"#VALUE!"}]
[null,null,null,null,null,null,null,null,null,null,null,null,null,null,null,318,{"$error":"#VALUE!"},{"$error":"#VALUE!"},{"$error":"#VALUE!"}]
[null,null,null,null,null,null,null,null,null,null,null,null,null,null,null,319,{"$error":"#VALUE!"},{"$error":"#VALUE!"},{"$error":"#VALUE!"}]
[null,null,null,null,null,null,null,null,null,null,null,null,null,null,null,320,{"$error":"#VALUE!"},{"$error":"#VALUE!"},{"$error":"#VALUE!"}]
[null,null,null,null,null,null,null,null,null,null,null,null,null,null,null,321,{"$error":"#VALUE!"},{"$f":"Q342*$N$26/12","v":{"$error":"#VALUE!"}},{"$error":"#VALUE!"}]
[null,null,null,null,null,null,null,null,null,null,null,null,null,null,null,322,{"$f":"+S342+$M$53","v":{"$error":"#VALUE!"}},{"$error":"#VALUE!"},{"$error":"#VALUE!"}]
[null,null,null,null,null,null,null,null,null,null,null,null,null,null,null,{"$f":"+P343+1","v":323},{"$error":"#VALUE!"},{"$error":"#VALUE!"},{"$f":"+Q344+R344","v":{"$error":"#VALUE!"}}]
[null,null,null,null,null,null,null,null,null,null,null,null,null,null,null,324,{"$error":"#VALUE!"},{"$error":"#VALUE!"},{"$error":"#VALUE!"}]
[null,null,null,null,null,null,null,null,null,null,null,null,null,null,null,325,{"$error":"#VALUE!"},{"$error":"#VALUE!"},{"$error":"#VALUE!"}]
[null,null,null,null,null,null,null,null,null,null,null,null,null,null,null,326,{"$error":"#VALUE!"},{"$error":"#VALUE!"},{"$error":"#VALUE!"}]
[null,null,null,null,null,null,null,null,null,null,null,null,null,null,null,327,{"$error":"#VALUE!"},{"$error":"#VALUE!"},{"$error":"#VALUE!"}]
[null,null,null,null,null,null,null,null,null,null,null,null,null,null,null,328,{"$error":"#VALUE!"},{"$error":"#VALUE!"},{"$error":"#VALUE!"}]
[null,null,null,null,null,null,null,null,null,null,null,null,null,null,null,329,{"$error":"#VALUE!"},{"$error":"#VALUE!"},{"$error":"#VALUE!"}]
[null,null,null,null,null,null,null,null,null,null,null,null,null,null,null,330,{"$error":"#VALUE!"},{"$error":"#VALUE!"},{"$error":"#VALUE!"}]
[null,null,null,null,null,null,null,null,null,null,null,null,null,null,null,331,{"$error":"#VALUE!"},{"$error":"#VALUE!"},{"$error":"#VALUE!"}]
[null,null,null,null,null,null,null,null,null,null,null,null,null,null,null,332,{"$error":"#VALUE!"},{"$error":"#VALUE!"},{"$error":"#VALUE!"}]
[null,null,null,null,null,null,null,null,null,null,null,null,null,null,null,333,{"$error":"#VALUE!"},{"$error":"#VALUE!"},{"$error":"#VALUE!"}]
[null,null,null,null,null,null,null,null,null,null,null,null,null,null,null,334,{"$error":"#VALUE!"},{"$error":"#VALUE!"},{"$error":"#VALUE!"}]
[null,null,null,null,null,null,null,null,null,null,null,null,null,null,null,335,{"$error":"#VALUE!"},{"$error":"#VALUE!"},{"$error":"#VALUE!"}]
[null,null,null,null,null,null,null,null,null,null,null,null,null,null,null,336,{"$error":"#VALUE!"},{"$error":"#VALUE!"},{"$error":"#VALUE!"}]
[null,null,null,null,null,null,null,null,null,null,null,null,null,null,null,337,{"$error":"#VALUE!"},{"$error":"#VALUE!"},{"$error":"#VALUE!"}]
[null,null,null,null,null,null,null,null,null,null,null,null,null,null,null,338,{"$error":"#VALUE!"},{"$error":"#VALUE!"},{"$error":"#VALUE!"}]
[null,null,null,null,null,null,null,null,null,null,null,null,null,null,null,339,{"$error":"#VALUE!"},{"$error":"#VALUE!"},{"$error":"#VALUE!"}]
[null,null,null,null,null,null,null,null,null,null,null,null,null,null,null,340,{"$error":"#VALUE!"},{"$error":"#VALUE!"},{"$error":"#VALUE!"}]
[null,null,null,null,null,null,null,null,null,null,null,null,null,null,null,341,{"$error":"#VALUE!"},{"$error":"#VALUE!"},{"$error":"#VALUE!"}]
[null,null,null,null,null,null,null,null,null,null,null,null,null,null,null,342,{"$error":"#VALUE!"},{"$error":"#VALUE!"},{"$error":"#VALUE!"}]
[null,null,null,null,null,null,null,null,null,null,null,null,null,null,null,343,{"$error":"#VALUE!"},{"$error":"#VALUE!"},{"$error":"#VALUE!"}]
[null,null,null,null,null,null,null,null,null,null,null,null,null,null,null,344,{"$error":"#VALUE!"},{"$error":"#VALUE!"},{"$error":"#VALUE!"}]
[null,null,null,null,null,null,null,null,null,null,null,null,null,null,null,345,{"$error":"#VALUE!"},{"$error":"#VALUE!"},{"$error":"#VALUE!"}]
[null,null,null,null,null,null,null,null,null,null,null,null,null,null,null,346,{"$error":"#VALUE!"},{"$error":"#VALUE!"},{"$error":"#VALUE!"}]
[null,null,null,null,null,null,null,null,null,null,null,null,null,null,null,347,{"$error":"#VALUE!"},{"$error":"#VALUE!"},{"$error":"#VALUE!"}]
[null,null,null,null,null,null,null,null,null,null,null,null,null,null,null,348,{"$error":"#VALUE!"},{"$error":"#VALUE!"},{"$error":"#VALUE!"}]
[null,null,null,null,null,null,null,null,null,null,null,null,null,null,null,349,{"$error":"#VALUE!"},{"$error":"#VALUE!"},{"$error":"#VALUE!"}]
[null,null,null,null,null,null,null,null,null,null,null,null,null,null,null,350,{"$error":"#VALUE!"},{"$error":"#VALUE!"},{"$error":"#VALUE!"}]
[null,null,null,null,null,null,null,null,null,null,null,null,null,null,null,351,{"$error":"#VALUE!"},{"$error":"#VALUE!"},{"$error":"#VALUE!"}]
[null,null,null,null,null,null,null,null,null,null,null,null,null,null,null,352,{"$error":"#VALUE!"},{"$error":"#VALUE!"},{"$error":"#VALUE!"}]
[null,null,null,null,null,null,null,null,null,null,null,null,null,null,null,353,{"$error":"#VALUE!"},{"$error":"#VALUE!"},{"$error":"#VALUE!"}]
[null,null,null,null,null,null,null,null,null,null,null,null,null,null,null,354,{"$error":"#VALUE!"},{"$error":"#VALUE!"},{"$error":"#VALUE!"}]
[null,null,null,null,null,null,null,null,null,null,null,null,null,null,null,355,{"$error":"#VALUE!"},{"$error":"#VALUE!"},{"$error":"#VALUE!"}]
[null,null,null,null,null,null,null,null,null,null,null,null,null,null,null,356,{"$error":"#VALUE!"},{"$error":"#VALUE!"},{"$error":"#VALUE!"}]
[null,null,null,null,null,null,null,null,null,null,null,null,null,null,null,357,{"$error":"#VALUE!"},{"$error":"#VALUE!"},{"$error":"#VALUE!"}]
[null,null,null,null,null,null,null,null,null,null,null,null,null,null,null,358,{"$error":"#VALUE!"},{"$error":"#VALUE!"},{"$error":"#VALUE!"}]
[null,null,null,null,null,null,null,null,null,null,null,null,null,null,null,359,{"$error":"#VALUE!"},{"$error":"#VALUE!"},{"$error":"#VALUE!"}]
[null,null,null,null,null,null,null,null,null,null,null,null,null,null,null,360,{"$error":"#VALUE!"},{"$error":"#VALUE!"},{"$error":"#VALUE!"}]
[null,null,null,null,null,null,null,null,null,null,null,null,null,null,null,361,{"$error":"#VALUE!"},{"$error":"#VALUE!"},{"$error":"#VALUE!"}]
[null,null,null,null,null,null,null,null,null,null,null,null,null,null,null,362,{"$error":"#VALUE!"},{"$error":"#VALUE!"},{"$error":"#VALUE!"}]
[null,null,null,null,null,null,null,null,null,null,null,null,null,null,null,363,{"$error":"#VALUE!"},{"$error":"#VALUE!"},{"$error":"#VALUE!"}]
[null,null,null,null,null,null,null,null,null,null,null,null,null,null,null,364,{"$error":"#VALUE!"},{"$error":"#VALUE!"},{"$error":"#VALUE!"}]
[null,null,null,null,null,null,null,null,null,null,null,null,null,null,null,365,{"$error":"#VALUE!"},{"$error":"#VALUE!"},{"$error":"#VALUE!"}]
[null,null,null,null,null,null,null,null,null,null,null,null,null,null,null,366,{"$error":"#VALUE!"},{"$error":"#VALUE!"},{"$error":"#VALUE!"}]
[null,null,null,null,null,null,null,null,null,null,null,null,null,null,null,367,{"$error":"#VALUE!"},{"$error":"#VALUE!"},{"$error":"#VALUE!"}]
[null,null,null,null,null,null,null,null,null,null,null,null,null,null,null,368,{"$error":"#VALUE!"},{"$error":"#VALUE!"},{"$error":"#VALUE!"}]
[null,null,null,null,null,null,null,null,null,null,null,null,null,null,null,369,{"$error":"#VALUE!"},{"$error":"#VALUE!"},{"$error":"#VALUE!"}]
[null,null,null,null,null,null,null,null,null,null,null,null,null,null,null,370,{"$error":"#VALUE!"},{"$error":"#VALUE!"},{"$error":"#VALUE!"}]
[null,null,null,null,null,null,null,null,null,null,null,null,null,null,null,371,{"$error":"#VALUE!"},{"$error":"#VALUE!"},{"$error":"#VALUE!"}]
[null,null,null,null,null,null,null,null,null,null,null,null,null,null,null,372,{"$error":"#VALUE!"},{"$error":"#VALUE!"},{"$error":"#VALUE!"}]
[null,null,null,null,null,null,null,null,null,null,null,null,null,null,null,373,{"$error":"#VALUE!"},{"$error":"#VALUE!"},{"$error":"#VALUE!"}]
[null,null,null,null,null,null,null,null,null,null,null,null,null,null,null,374,{"$error":"#VALUE!"},{"$error":"#VALUE!"},{"$error":"#VALUE!"}]
[null,null,null,null,null,null,null,null,null,null,null,null,null,null,null,375,{"$error":"#VALUE!"},{"$error":"#VALUE!"},{"$error":"#VALUE!"}]
[null,null,null,null,null,null,null,null,null,null,null,null,null,null,null,376,{"$error":"#VALUE!"},{"$error":"#VALUE!"},{"$error":"#VALUE!"}]
[null,null,null,null,null,null,null,null,null,null,null,null,null,null,null,377,{"$error":"#VALUE!"},{"$error":"#VALUE!"},{"$error":"#VALUE!"}]
[null,null,null,null,null,null,null,null,null,null,null,null,null,null,null,378,{"$error":"#VALUE!"},{"$error":"#VALUE!"},{"$error":"#VALUE!"}]
[null,null,null,null,null,null,null,null,null,null,null,null,null,null,null,379,{"$error":"#VALUE!"},{"$error":"#VALUE!"},{"$error":"#VALUE!"}]
[null,null,null,null,null,null,null,null,null,null,null,null,null,null,null,380,{"$error":"#VALUE!"},{"$error":"#VALUE!"},{"$error":"#VALUE!"}]
[null,null,null,null,null,null,null,null,null,null,null,null,null,null,null,381,{"$error":"#VALUE!"},{"$error":"#VALUE!"},{"$error":"#VALUE!"}]
[null,null,null,null,null,null,null,null,null,null,null,null,null,null,null,382,{"$error":"#VALUE!"},{"$error":"#VALUE!"},{"$error":"#VALUE!"}]
[null,null,null,null,null,null,null,null,null,null,null,null,null,null,null,383,{"$error":"#VALUE!"},{"$error":"#VALUE!"},{"$error":"#VALUE!"}]
[null,null,null,null,null,null,null,null,null,null,null,null,null,null,null,384,{"$error":"#VALUE!"},{"$error":"#VALUE!"},{"$error":"#VALUE!"}]
[null,null,null,null,null,null,null,null,null,null,null,null,null,null,null,385,{"$error":"#VALUE!"},{"$f":"Q406*$N$26/12","v":{"$error":"#VALUE!"}},{"$error":"#VALUE!"}]
[null,null,null,null,null,null,null,null,null,null,null,null,null,null,null,386,{"$f":"+S406+$M$53","v":{"$error":"#VALUE!"}},{"$error":"#VALUE!"},{"$error":"#VALUE!"}]
[null,null,null,null,null,null,null,null,null,null,null,null,null,null,null,{"$f":"+P407+1","v":387},{"$error":"#VALUE!"},{"$error":"#VALUE!"},{"$f":"+Q408+R408","v":{"$error":"#VALUE!"}}]
[null,null,null,null,null,null,null,null,null,null,null,null,null,null,null,388,{"$error":"#VALUE!"},{"$error":"#VALUE!"},{"$error":"#VALUE!"}]
[null,null,null,null,null,null,null,null,null,null,null,null,null,null,null,389,{"$error":"#VALUE!"},{"$error":"#VALUE!"},{"$error":"#VALUE!"}]
[null,null,null,null,null,null,null,null,null,null,null,null,null,null,null,390,{"$error":"#VALUE!"},{"$error":"#VALUE!"},{"$error":"#VALUE!"}]
[null,null,null,null,null,null,null,null,null,null,null,null,null,null,null,391,{"$error":"#VALUE!"},{"$error":"#VALUE!"},{"$error":"#VALUE!"}]
[null,null,null,null,null,null,null,null,null,null,null,null,null,null,null,392,{"$error":"#VALUE!"},{"$error":"#VALUE!"},{"$error":"#VALUE!"}]
[null,null,null,null,null,null,null,null,null,null,null,null,null,null,null,393,{"$error":"#VALUE!"},{"$error":"#VALUE!"},{"$error":"#VALUE!"}]
[null,null,null,null,null,null,null,null,null,null,null,null,null,null,null,394,{"$error":"#VALUE!"},{"$error":"#VALUE!"},{"$error":"#VALUE!"}]
[null,null,null,null,null,null,null,null,null,null,null,null,null,null,null,395,{"$error":"#VALUE!"},{"$error":"#VALUE!"},{"$error":"#VALUE!"}]
[null,null,null,null,null,null,null,null,null,null,null,null,null,null,null,396,{"$error":"#VALUE!"},{"$error":"#VALUE!"},{"$error":"#VALUE!"}]
[null,null,null,null,null,null,null,null,null,null,null,null,null,null,null,397,{"$error":"#VALUE!"},{"$error":"#VALUE!"},{"$error":"#VALUE!"}]
[null,null,null,null,null,null,null,null,null,null,null,null,null,null,null,398,{"$error":"#VALUE!"},{"$error":"#VALUE!"},{"$error":"#VALUE!"}]
[null,null,null,null,null,null,null,null,null,null,null,null,null,null,null,399,{"$error":"#VALUE!"},{"$error":"#VALUE!"},{"$error":"#VALUE!"}]
[null,null,null,null,null,null,null,null,null,null,null,null,null,null,null,400,{"$error":"#VALUE!"},{"$error":"#VALUE!"},{"$error":"#VALUE!"}]
[null,null,null,null,null,null,null,null,null,null,null,null,null,null,null,401,{"$error":"#VALUE!"},{"$error":"#VALUE!"},{"$error":"#VALUE!"}]
[null,null,null,null,null,null,null,null,null,null,null,null,null,null,null,402,{"$error":"#VALUE!"},{"$error":"#VALUE!"},{"$error":"#VALUE!"}]
[null,null,null,null,null,null,null,null,null,null,null,null,null,null,null,403,{"$error":"#VALUE!"},{"$error":"#VALUE!"},{"$error":"#VALUE!"}]
[null,null,null,null,null,null,null,null,null,null,null,null,null,null,null,404,{"$error":"#VALUE!"},{"$error":"#VALUE!"},{"$error":"#VALUE!"}]
[null,null,null,null,null,null,null,null,null,null,null,null,null,null,null,405,{"$error":"#VALUE!"},{"$error":"#VALUE!"},{"$error":"#VALUE!"}]
[null,null,null,null,null,null,null,null,null,null,null,null,null,null,null,406,{"$error":"#VALUE!"},{"$error":"#VALUE!"},{"$error":"#VALUE!"}]
[null,null,null,null,null,null,null,null,null,null,null,null,null,null,null,407,{"$error":"#VALUE!"},{"$error":"#VALUE!"},{"$error":"#VALUE!"}]
[null,null,null,null,null,null,null,null,null,null,null,null,null,null,null,408,{"$error":"#VALUE!"},{"$error":"#VALUE!"},{"$error":"#VALUE!"}]
[null,null,null,null,null,null,null,null,null,null,null,null,null,null,null,409,{"$error":"#VALUE!"},{"$error":"#VALUE!"},{"$error":"#VALUE!"}]
[null,null,null,null,null,null,null,null,null,null,null,null,null,null,null,410,{"$error":"#VALUE!"},{"$error":"#VALUE!"},{"$error":"#VALUE!"}]
[null,null,null,null,null,null,null,null,null,null,null,null,null,null,null,411,{"$error":"#VALUE!"},{"$error":"#VALUE!"},{"$error":"#VALUE!"}]
[null,null,null,null,null,null,null,null,null,null,null,null,null,null,null,412,{"$error":"#VALUE!"},{"$error":"#VALUE!"},{"$error":"#VALUE!"}]
[null,null,null,null,null,null,null,null,null,null,null,null,null,null,null,413,{"$error":"#VALUE!"},{"$error":"#VALUE!"},{"$error":"#VALUE!"}]
[null,null,null,null,null,null,null,null,null,null,null,null,null,null,null,414,{"$error":"#VALUE!"},{"$error":"#VALUE!"},{"$error":"#VALUE!"}]
[null,null,null,null,null,null,null,null,null,null,null,null,null,null,null,415,{"$error":"#VALUE!"},{"$error":"#VALUE!"},{"$error":"#VALUE!"}]
[null,null,null,null,null,null,null,null,null,null,null,null,null,null,null,416,{"$error":"#VALUE!"},{"$error":"#VALUE!"},{"$error":"#VALUE!"}]
[null,null,null,null,null,null,null,null,null,null,null,null,null,null,null,417,{"$error":"#VALUE!"},{"$error":"#VALUE!"},{"$error":"#VALUE!"}]
[null,null,null,null,null,null,null,null,null,null,null,null,null,null,null,418,{"$error":"#VALUE!"},{"$error":"#VALUE!"},{"$error":"#VALUE!"}]
[null,null,null,null,null,null,null,null,null,null,null,null,null,null,null,419,{"$error":"#VALUE!"},{"$error":"#VALUE!"},{"$error":"#VALUE!"}]
[null,null,null,null,null,null,null,null,null,null,null,null,null,null,null,420,{"$error":"#VALUE!"},{"$error":"#VALUE!"},{"$error":"#VALUE!"}]

{"sheet":"Segédlet","index":2,"n_rows":422,"n_cols":29,"rows_kept":422,"cut":false,"hidden":false,"merged":[[2,0,2,1],[13,0,13,1]]}
["Segédlet az ügyfelek által nem ismert adatok becsléséhez",null,null,null,null,null,null,null,null,null,null,{"$f":"VLOOKUP(B6,H3:L422,5,FALSE)","v":{"$error":"#N/A"}},null,{"$f":"IF(ISERROR(L1),1,2)","v":1},null,"CHF",2,null,null,null,null,null,{"$f":"CONCATENATE(YEAR(TODAY()),\"-\",MONTH(TODAY()))","v":"2015-2"},{"$f":"VLOOKUP(W1,R6:U161,Q4)","v":{"$error":"#REF!"}},null,null,{"$f":"VLOOKUP(B18,W3:AA422,5,FALSE)*X1","v":{"$error":"#N/A"}},null,{"$f":"IF(ISERROR(AA1),1,2)","v":1}]
[null,null,null,null,null,null,null,null,null,9.0042607715483544E-2,null,null,null,null,null,"EUR",3,null,null,null,null,null,null,null,7.5313960460275442E-2]
["Forintalapú hitel",null,null,null,null,null,null,1,{"$f":"B4","v":0},{"$f":"I3*$J$2/12","v":0},{"$f":"$B$5","v":0},{"$f":"I3+J3-K3","v":0},null,null,null,"JPY",4,"közép","vételi",null,null,null,1,{"$f":"+B16/S4","v":{"$error":"#N/A"}},{"$f":"X3*$Y$2/12","v":{"$error":"#N/A"}},{"$f":"+B17/X1","v":{"$error":"#REF!"}},{"$f":"X3+Y3-Z3","v":{"$error":"#N/A"}},{"$f":"AA3*$X$1","v":{"$error":"#N/A"}}]
["Eredeti hitelösszeg HUF",null,null,null,null,null,null,{"$f":"+H3+1","v":2},{"$f":"+L3","v":0},{"$f":"I4*$J$2/12","v":0},{"$f":"IF(H4>$B$6,0,$B$5)","v":0},{"$f":"I4+J4-K4","v":0},null,null,null,null,{"$f":"VLOOKUP(B15,P1:Q3,2,FALSE)","v":{"$error":"#N/A"}},{"$f":"VLOOKUP(R5,R6:U161,Q4,FALSE)","v":{"$error":"#N/A"}},{"$f":"R4/(1.01)","v":{"$error":"#N/A"}},null,null,null,{"$f":"+W3+1","v":2},{"$f":"+AA3","v":{"$error":"#N/A"}},{"$f":"X4*$Y$2/12","v":{"$error":"#N/A"}},{"$f":"IF(H4>$B$18,0,$B$17/$X$1)","v":0},{"$f":"X4+Y4-Z4","v":{"$error":"#N/A"}},{"$f":"AA4*$X$1","v":{"$error":"#N/A"}}]
["Jelenlegi havi részlet HUF",null,null,null,null,null,null,{"$f":"+H4+1","v":3},{"$f":"+L4","v":0},{"$f":"I5*$J$2/12","v":0},0,{"$f":"I5+J5-K5","v":0},null,null,null,null,null,{"$f":"CONCATENATE(B19,\"-\",B20)","v":"-"},"CHF","EUR","JPY",null,{"$f":"+W4+1","v":3},{"$f":"+AA4","v":{"$error":"#N/A"}},{"$f":"X5*$Y$2/12","v":{"$error":"#N/A"}},{"$f":"IF(H5>$B$18,0,$B$17/$X$1)","v":0},{"$f":"X5+Y5-Z5","v":{"$error":"#N/A"}},{"$error":"#N/A"}]
["Eredeti futamidő (hónap)",null,null,null,null,null,null,4,0,0,0,0,null,null,null,2003,1,{"$f":"CONCATENATE(P6,\"-\",Q6)","v":"2003-1"},160.34,234.74,1.8880000000000001,null,4,{"$error":"#N/A"},{"$error":"#N/A"},0,{"$error":"#N/A"},{"$error":"#N/A"}]
["Hitelfelvétel éve",null,null,null,null,null,null,5,0,0,0,0,null,null,null,{"$f":"IF(Q6=12,P6+1,P6)","v":2003},{"$f":"IF(Q6=12,1,Q6+1)","v":2},{"$f":"CONCATENATE(P7,\"-\",Q7)","v":"2003-2"},166.96,245.16,1.8829,null,5,{"$error":"#N/A"},{"$error":"#N/A"},0,{"$error":"#N/A"},{"$error":"#N/A"}]
["Hitelfelvétel hónapja",null,null,null,null,null,null,6,0,0,0,0,null,null,null,{"$f":"IF(Q7=12,P7+1,P7)","v":2003},{"$f":"IF(Q7=12,1,Q7+1)","v":3},"2003-3",166.65,244.63,1.9138999999999999,null,6,{"$error":"#N/A"},{"$error":"#N/A"},0,{"$error":"#N/A"},{"$error":"#N/A"}]
["Fennálló tőketartozás (becslés!)",{"$f":"IF(OR(N1=1,ISERROR(VLOOKUP(B6-B10,H3:L422,5,FALSE)),ABS(L1)*100>1),\"\",VLOOKUP(B6-B10,H3:L422,5,FALSE))","v":{"$error":"#N/A"}},null,null,null,null,null,7,0,0,0,0,null,null,null,2003,4,"2003-4",163.58000000000001,245.29,1.8911000000000002,null,7,{"$error":"#N/A"},{"$error":"#N/A"},0,{"$error":"#N/A"},{"$error":"#N/A"}]
["Hátralévő futamidő (hónap)",{"$f":"IF(OR(B6=\"\",B7=\"\",B8=\"\"),\"\",B6-((YEAR(TODAY())-B7)*12-(B8-MONTH(TODAY()))))","v":""},null,null,null,null,null,8,0,0,0,0,null,null,null,2003,5,"2003-5",162.01,244.8,1.8440000000000001,null,8,{"$error":"#N/A"},{"$error":"#N/A"},0,{"$error":"#N/A"},{"$error":"#N/A"}]
["Hiteldíj (becslés!)",{"$f":"IF(ABS(L1)*100>1,\"\",J2)","v":{"$error":"#N/A"}},null,null,null,null,null,9,0,0,0,0,null,null,null,2003,6,"2003-6",167.36,259.10000000000002,1.8693,null,9,{"$error":"#N/A"},{"$error":"#N/A"},0,{"$error":"#N/A"},{"$error":"#N/A"}]
[null,null,null,null,null,null,null,10,0,0,0,0,null,null,null,2003,7,"2003-7",167.88,260.7,1.9641999999999999,null,10,{"$error":"#N/A"},{"$error":"#N/A"},0,{"$error":"#N/A"},{"$error":"#N/A"}]
[null,null,null,null,null,null,null,11,0,0,0,0,null,null,null,2003,8,"2003-8",168.82,260.64999999999998,1.9428000000000001,null,11,{"$error":"#N/A"},{"$error":"#N/A"},0,{"$error":"#N/A"},{"$error":"#N/A"}]
["Devizaalapú hitel",null,null,null,null,null,null,12,0,0,0,0,null,null,null,2003,9,"2003-9",163.88,255.25,1.9261000000000001,null,12,{"$error":"#N/A"},{"$error":"#N/A"},0,{"$error":"#N/A"},{"$error":"#N/A"}]
["A hitel devizaneme",null,null,null,null,null,null,13,0,0,0,0,null,null,null,2003,10,"2003-10",165.84,256.32,2.0063,null,13,{"$error":"#N/A"},{"$error":"#N/A"},0,{"$error":"#N/A"},{"$error":"#N/A"}]
["Eredeti hitelösszeg HUF",null,null,null,null,null,null,14,0,0,0,0,null,null,null,2003,11,"2003-11",164.43,258.07,2.0261,null,14,{"$error":"#N/A"},{"$error":"#N/A"},0,{"$error":"#N/A"},{"$error":"#N/A"}]
["Jelenlegi havi részlet HUF",null,null,null,null,null,null,15,0,0,0,0,null,null,null,2003,12,"2003-12",169.61,263.33,1.992,null,15,{"$error":"#N/A"},{"$error":"#N/A"},0,{"$error":"#N/A"},{"$error":"#N/A"}]
["Eredeti futamidő (hónap)",null,null,null,null,null,null,16,0,0,0,0,null,null,null,2004,1,"2004-1",170.33,266.19,1.984,null,16,{"$error":"#N/A"},{"$error":"#N/A"},0,{"$error":"#N/A"},{"$error":"#N/A"}]
["Hitelfelvétel éve",null,null,null,null,null,null,17,0,0,0,0,null,null,null,2004,2,"2004-2",166.44,263.01,1.9477000000000002,null,17,{"$error":"#N/A"},{"$error":"#N/A"},0,{"$error":"#N/A"},{"$error":"#N/A"}]
["Hitelfelvétel hónapja",null,null,null,null,null,null,18,0,0,0,0,null,null,null,2004,3,"2004-3",161.36000000000001,252.7,1.8524,null,18,{"$error":"#N/A"},{"$error":"#N/A"},0,{"$error":"#N/A"},{"$error":"#N/A"}]
["Fennálló tőketartozás (becslés!)",{"$f":"IF(OR(AC1=1,ISERROR(VLOOKUP(B18-B22,W3:AA422,5,FALSE)),ABS(AA1)*100>1),\"\",VLOOKUP(B18-B22,W3:AA422,5,FALSE))*X1","v":{"$error":"#N/A"}},null,null,null,null,null,19,0,0,0,0,null,null,null,2004,4,"2004-4",163.52000000000001,253.32,1.9534,null,19,{"$error":"#N/A"},{"$error":"#N/A"},0,{"$error":"#N/A"},{"$error":"#N/A"}]
["Hátralévő futamidő (hónap)",{"$f":"IF(OR(B18=\"\",B19=\"\",B20=\"\"),\"\",B18-((YEAR(TODAY())-B19)*12-(B20-MONTH(TODAY()))))","v":""},null,null,null,null,null,20,0,0,0,0,null,null,null,2004,5,"2004-5",166.54,256.39,1.8936999999999999,null,20,{"$error":"#N/A"},{"$error":"#N/A"},0,{"$error":"#N/A"},{"$error":"#N/A"}]
["Hiteldíj (becslés!)",{"$f":"IF(ABS(AA1)*100>1,\"\",Y2)","v":{"$error":"#N/A"}},null,null,null,null,null,21,0,0,0,0,null,null,null,2004,6,"2004-6",166.45,252.9,1.8881999999999999,null,21,{"$error":"#N/A"},{"$error":"#N/A"},0,{"$error":"#N/A"},{"$error":"#N/A"}]
[null,null,null,null,null,null,null,22,0,0,0,0,null,null,null,2004,7,"2004-7",163.55000000000001,249.63,1.8471000000000002,null,22,{"$error":"#N/A"},{"$error":"#N/A"},0,{"$error":"#N/A"},{"$error":"#N/A"}]
[null,null,null,null,null,null,null,23,0,0,0,0,null,null,null,2004,8,"2004-8",162.63,249.68,1.8309,null,23,{"$error":"#N/A"},{"$error":"#N/A"},0,{"$error":"#N/A"},{"$error":"#N/A"}]
[null,null,null,null,null,null,null,24,0,0,0,0,null,null,null,2004,9,"2004-9",161.11000000000001,248.28,1.8522999999999998,null,24,{"$error":"#N/A"},{"$error":"#N/A"},0,{"$error":"#N/A"},{"$error":"#N/A"}]
[null,null,null,null,null,null,null,25,0,0,0,0,null,null,null,2004,10,"2004-10",160.63999999999999,247.7,1.8246,null,25,{"$error":"#N/A"},{"$error":"#N/A"},0,{"$error":"#N/A"},{"$error":"#N/A"}]
[null,null,null,null,null,null,null,26,0,0,0,0,null,null,null,2004,11,"2004-11",159.79,243.42,1.7811000000000001,null,26,{"$error":"#N/A"},{"$error":"#N/A"},0,{"$error":"#N/A"},{"$error":"#N/A"}]
[null,null,null,null,null,null,null,27,0,0,0,0,null,null,null,2004,12,"2004-12",160.66,245.9,1.7631000000000001,null,27,{"$error":"#N/A"},{"$error":"#N/A"},0,{"$error":"#N/A"},{"$error":"#N/A"}]
[null,null,null,null,null,null,null,28,0,0,0,0,null,null,null,2005,1,"2005-1",159.4,247.1,1.8356000000000001,null,28,{"$error":"#N/A"},{"$error":"#N/A"},0,{"$error":"#N/A"},{"$error":"#N/A"}]
[null,null,null,null,null,null,null,29,0,0,0,0,null,null,null,2005,2,"2005-2",157.35,244.11,1.7899,null,29,{"$error":"#N/A"},{"$error":"#N/A"},0,{"$error":"#N/A"},{"$error":"#N/A"}]
[null,null,null,null,null,null,null,30,0,0,0,0,null,null,null,2005,3,"2005-3",157.03,243.3,1.7406999999999999,null,30,{"$error":"#N/A"},{"$error":"#N/A"},0,{"$error":"#N/A"},{"$error":"#N/A"}]
[null,null,null,null,null,null,null,31,0,0,0,0,null,null,null,2005,4,"2005-4",159.22,247.27,1.7799,null,31,{"$error":"#N/A"},{"$error":"#N/A"},0,{"$error":"#N/A"},{"$error":"#N/A"}]
[null,null,null,null,null,null,null,32,0,0,0,0,null,null,null,2005,5,"2005-5",162.81,251.34,1.8555000000000001,null,32,{"$error":"#N/A"},{"$error":"#N/A"},0,{"$error":"#N/A"},{"$error":"#N/A"}]
[null,null,null,null,null,null,null,33,0,0,0,0,null,null,null,2005,6,"2005-6",161.54,248.55,1.8878999999999999,null,33,{"$error":"#N/A"},{"$error":"#N/A"},0,{"$error":"#N/A"},{"$error":"#N/A"}]
[null,null,null,null,null,null,null,34,0,0,0,0,null,null,null,2005,7,"2005-7",158.30000000000001,246.84,1.8224,null,34,{"$error":"#N/A"},{"$error":"#N/A"},0,{"$error":"#N/A"},{"$error":"#N/A"}]
[null,null,null,null,null,null,null,35,0,0,0,0,null,null,null,2005,8,"2005-8",157.32,244.01,1.7983000000000002,null,35,{"$error":"#N/A"},{"$error":"#N/A"},0,{"$error":"#N/A"},{"$error":"#N/A"}]
[null,null,null,null,null,null,null,36,0,0,0,0,null,null,null,2005,9,"2005-9",158.68,245.29,1.8166,null,36,{"$error":"#N/A"},{"$error":"#N/A"},0,{"$error":"#N/A"},{"$error":"#N/A"}]
[null,null,null,null,null,null,null,37,0,0,0,0,null,null,null,2005,10,"2005-10",163.47999999999999,253.3,1.8400999999999998,null,37,{"$error":"#N/A"},{"$error":"#N/A"},0,{"$error":"#N/A"},{"$error":"#N/A"}]
[null,null,null,null,null,null,null,38,0,0,0,0,null,null,null,2005,11,"2005-11",162.12,249.89,1.796,null,38,{"$error":"#N/A"},{"$error":"#N/A"},0,{"$error":"#N/A"},{"$error":"#N/A"}]
[null,null,null,null,null,null,null,39,0,0,0,0,null,null,null,2005,12,"2005-12",164.02,253.09,1.8121,null,39,{"$error":"#N/A"},{"$error":"#N/A"},0,{"$error":"#N/A"},{"$error":"#N/A"}]
[null,null,null,null,null,null,null,40,0,0,0,0,null,null,null,2006,1,"2006-1",161.76,250.43,1.8122,null,40,{"$error":"#N/A"},{"$error":"#N/A"},0,{"$error":"#N/A"},{"$error":"#N/A"}]
[null,null,null,null,null,null,null,41,0,0,0,0,null,null,null,2006,2,"2006-2",161.25,251.27,1.794,null,41,{"$error":"#N/A"},{"$error":"#N/A"},0,{"$error":"#N/A"},{"$error":"#N/A"}]
[null,null,null,null,null,null,null,42,0,0,0,0,null,null,null,2006,3,"2006-3",169.63,265.85000000000002,1.8766,null,42,{"$error":"#N/A"},{"$error":"#N/A"},0,{"$error":"#N/A"},{"$error":"#N/A"}]
[null,null,null,null,null,null,null,43,0,0,0,0,null,null,null,2006,4,"2006-4",169.65,266.72000000000003,1.8568,null,43,{"$error":"#N/A"},{"$error":"#N/A"},0,{"$error":"#N/A"},{"$error":"#N/A"}]
[null,null,null,null,null,null,null,44,0,0,0,0,null,null,null,2006,5,"2006-5",172.96,268.33999999999997,1.8933000000000002,null,44,{"$error":"#N/A"},{"$error":"#N/A"},0,{"$error":"#N/A"},{"$error":"#N/A"}]
[null,null,null,null,null,null,null,45,0,0,0,0,null,null,null,2006,6,"2006-6",173.39,269.43,1.8578999999999999,null,45,{"$error":"#N/A"},{"$error":"#N/A"},0,{"$error":"#N/A"},{"$error":"#N/A"}]
[null,null,null,null,null,null,null,46,0,0,0,0,null,null,null,2006,7,"2006-7",180.96,282.62,1.9259999999999999,null,46,{"$error":"#N/A"},{"$error":"#N/A"},0,{"$error":"#N/A"},{"$error":"#N/A"}]
[null,null,null,null,null,null,null,47,0,0,0,0,null,null,null,2006,8,"2006-8",174.26,275.56,1.8581000000000001,null,47,{"$error":"#N/A"},{"$error":"#N/A"},0,{"$error":"#N/A"},{"$error":"#N/A"}]
[null,null,null,null,null,null,null,48,0,0,0,0,null,null,null,2006,9,"2006-9",170.92,272.83999999999997,1.8280000000000001,null,48,{"$error":"#N/A"},{"$error":"#N/A"},0,{"$error":"#N/A"},{"$error":"#N/A"}]
[null,null,null,null,null,null,null,49,0,0,0,0,null,null,null,2006,10,"2006-10",166.79,265.74,1.7738,null,49,{"$error":"#N/A"},{"$error":"#N/A"},0,{"$error":"#N/A"},{"$error":"#N/A"}]
[null,null,null,null,null,null,null,50,0,0,0,0,null,null,null,2006,11,"2006-11",161.02000000000001,257.31,1.7028999999999999,null,50,{"$error":"#N/A"},{"$error":"#N/A"},0,{"$error":"#N/A"},{"$error":"#N/A"}]
[null,null,null,null,null,null,null,51,0,0,0,0,null,null,null,2006,12,"2006-12",158.16,252.75,1.6313,null,51,{"$error":"#N/A"},{"$error":"#N/A"},0,{"$error":"#N/A"},{"$error":"#N/A"}]
[null,null,null,null,null,null,null,52,0,0,0,0,null,null,null,2007,1,"2007-1",156.30000000000001,252.09,1.6159999999999999,null,52,{"$error":"#N/A"},{"$error":"#N/A"},0,{"$error":"#N/A"},{"$error":"#N/A"}]
[null,null,null,null,null,null,null,53,0,0,0,0,null,null,null,2007,2,"2007-2",154.87,251.98,1.5953999999999999,null,53,{"$error":"#N/A"},{"$error":"#N/A"},0,{"$error":"#N/A"},{"$error":"#N/A"}]
[null,null,null,null,null,null,null,54,0,0,0,0,null,null,null,2007,3,"2007-3",156.79,251.75,1.643,null,54,{"$error":"#N/A"},{"$error":"#N/A"},0,{"$error":"#N/A"},{"$error":"#N/A"}]
[null,null,null,null,null,null,null,55,0,0,0,0,null,null,null,2007,4,"2007-4",150.11000000000001,245.64,1.5347999999999999,null,55,{"$error":"#N/A"},{"$error":"#N/A"},0,{"$error":"#N/A"},{"$error":"#N/A"}]
[null,null,null,null,null,null,null,56,0,0,0,0,null,null,null,2007,5,"2007-5",150.62,248.43,1.524,null,56,{"$error":"#N/A"},{"$error":"#N/A"},0,{"$error":"#N/A"},{"$error":"#N/A"}]
[null,null,null,null,null,null,null,57,0,0,0,0,null,null,null,2007,6,"2007-6",151.69999999999999,251.56,1.5301,null,57,{"$error":"#N/A"},{"$error":"#N/A"},0,{"$error":"#N/A"},{"$error":"#N/A"}]
[null,null,null,null,null,null,null,58,0,0,0,0,null,null,null,2007,7,"2007-7",148.07,245.55,1.4559,null,58,{"$error":"#N/A"},{"$error":"#N/A"},0,{"$error":"#N/A"},{"$error":"#N/A"}]
[null,null,null,null,null,null,null,59,0,0,0,0,null,null,null,2007,8,"2007-8",157.63,258.17,1.6369999999999998,null,59,{"$error":"#N/A"},{"$error":"#N/A"},0,{"$error":"#N/A"},{"$error":"#N/A"}]
[null,null,null,null,null,null,null,60,0,0,0,0,null,null,null,2007,9,"2007-9",154.56,254.45,1.5944999999999998,null,60,{"$error":"#N/A"},{"$error":"#N/A"},0,{"$error":"#N/A"},{"$error":"#N/A"}]
[null,null,null,null,null,null,null,61,0,0,0,0,null,null,null,2007,10,"2007-10",148.91,249.88,1.4927999999999999,null,61,{"$error":"#N/A"},{"$error":"#N/A"},0,{"$error":"#N/A"},{"$error":"#N/A"}]
[null,null,null,null,null,null,null,62,0,0,0,0,null,null,null,2007,11,"2007-11",154.74,254.37,1.5678999999999998,null,62,{"$error":"#N/A"},{"$error":"#N/A"},0,{"$error":"#N/A"},{"$error":"#N/A"}]
[null,null,null,null,null,null,null,63,0,0,0,0,null,null,null,2007,12,"2007-12",151.6,252.99,1.5444,null,63,{"$error":"#N/A"},{"$error":"#N/A"},0,{"$error":"#N/A"},{"$error":"#N/A"}]
[null,null,null,null,null,null,null,64,0,0,0,0,null,null,null,2008,1,"2008-1",156.33000000000001,253.62,1.5880000000000001,null,64,{"$error":"#N/A"},{"$error":"#N/A"},0,{"$error":"#N/A"},{"$error":"#N/A"}]
[null,null,null,null,null,null,null,65,0,0,0,0,null,null,null,2008,2,"2008-2",163.13,262.16000000000003,1.6515,null,65,{"$error":"#N/A"},{"$error":"#N/A"},0,{"$error":"#N/A"},{"$error":"#N/A"}]
[null,null,null,null,null,null,null,66,0,0,{"$f":"IF(H68>$B$6,0,$B$5)","v":0},0,null,null,null,2008,3,"2008-3",163.46,257.26,1.6429,null,66,{"$error":"#N/A"},{"$error":"#N/A"},0,{"$error":"#N/A"},{"$f":"AA68*$X$1","v":{"$error":"#N/A"}}]
[null,null,null,null,null,null,null,{"$f":"+H68+1","v":67},{"$f":"+L68","v":0},{"$f":"I69*$J$2/12","v":0},0,{"$f":"I69+J69-K69","v":0},null,null,null,2008,4,"2008-4",159.29,251.88,1.5748,null,{"$f":"+W68+1","v":67},{"$f":"+AA68","v":{"$error":"#N/A"}},{"$f":"X69*$Y$2/12","v":{"$error":"#N/A"}},{"$f":"IF(H69>$B$18,0,$B$17/$X$1)","v":0},{"$f":"X69+Y69-Z69","v":{"$error":"#N/A"}},{"$error":"#N/A"}]
[null,null,null,null,null,null,null,68,0,0,0,0,null,null,null,2008,5,"2008-5",153.06,250.2,1.5358000000000001,null,68,{"$error":"#N/A"},{"$error":"#N/A"},0,{"$error":"#N/A"},{"$error":"#N/A"}]
[null,null,null,null,null,null,null,69,0,0,0,0,null,null,null,2008,6,{"$f":"CONCATENATE(P71,\"-\",Q71)","v":"2008-6"},153.54,247.28,1.486,null,69,{"$error":"#N/A"},{"$error":"#N/A"},0,{"$error":"#N/A"},{"$error":"#N/A"}]
[null,null,null,null,null,null,null,70,0,0,0,0,null,null,null,{"$f":"IF(Q71=12,P71+1,P71)","v":2008},{"$f":"IF(Q71=12,1,Q71+1)","v":7},"2008-7",143.57,231.41,1.3752000000000002,null,70,{"$error":"#N/A"},{"$error":"#N/A"},0,{"$error":"#N/A"},{"$error":"#N/A"}]
[null,null,null,null,null,null,null,71,0,0,0,0,null,null,null,2008,8,"2008-8",147.83000000000001,239.3,1.4711000000000001,null,71,{"$error":"#N/A"},{"$error":"#N/A"},0,{"$error":"#N/A"},{"$error":"#N/A"}]
[null,null,null,null,null,null,null,72,0,0,0,0,null,null,null,2008,9,"2008-9",151.65,240.92,1.6140000000000001,null,72,{"$error":"#N/A"},{"$error":"#N/A"},0,{"$error":"#N/A"},{"$error":"#N/A"}]
[null,null,null,null,null,null,null,73,0,0,0,0,null,null,null,2008,10,"2008-10",171.81,266.08999999999997,1.9391999999999998,null,73,{"$error":"#N/A"},{"$error":"#N/A"},0,{"$error":"#N/A"},{"$error":"#N/A"}]
[null,null,null,null,null,null,null,74,0,0,0,0,null,null,null,2008,11,"2008-11",179.83,271.58,2.2056,null,74,{"$error":"#N/A"},{"$error":"#N/A"},0,{"$error":"#N/A"},{"$error":"#N/A"}]
[null,null,null,null,null,null,null,75,0,0,0,0,null,null,null,2008,12,"2008-12",168.45,265.79000000000002,2.1753,null,75,{"$error":"#N/A"},{"$error":"#N/A"},0,{"$error":"#N/A"},{"$error":"#N/A"}]
[null,null,null,null,null,null,null,76,0,0,0,0,null,null,null,2009,1,"2009-1",190.76,280.8,2.4036,null,76,{"$error":"#N/A"},{"$error":"#N/A"},0,{"$error":"#N/A"},{"$error":"#N/A"}]
[null,null,null,null,null,null,null,77,0,0,0,0,null,null,null,2009,2,"2009-2",199.25,298.33999999999997,2.5221,null,77,{"$error":"#N/A"},{"$error":"#N/A"},0,{"$error":"#N/A"},{"$error":"#N/A"}]
[null,null,null,null,null,null,null,78,0,0,0,0,null,null,null,2009,3,"2009-3",192.75,295,2.3268,null,78,{"$error":"#N/A"},{"$error":"#N/A"},0,{"$error":"#N/A"},{"$error":"#N/A"}]
[null,null,null,null,null,null,null,79,0,0,0,0,null,null,null,2009,4,"2009-4",191.01,289.16000000000003,2.2011000000000003,null,79,{"$error":"#N/A"},{"$error":"#N/A"},0,{"$error":"#N/A"},{"$error":"#N/A"}]
[null,null,null,null,null,null,null,80,0,0,0,0,null,null,null,2009,5,"2009-5",191.56,288.02,2.2343000000000002,null,80,{"$error":"#N/A"},{"$error":"#N/A"},0,{"$error":"#N/A"},{"$error":"#N/A"}]
[null,null,null,null,null,null,null,81,0,0,0,0,null,null,null,2009,6,"2009-6",184.44,278.81,2.0468000000000002,null,81,{"$error":"#N/A"},{"$error":"#N/A"},0,{"$error":"#N/A"},{"$error":"#N/A"}]
[null,null,null,null,null,null,null,82,0,0,0,0,null,null,null,2009,7,"2009-7",179.52,272.76,2.0722,null,82,{"$error":"#N/A"},{"$error":"#N/A"},0,{"$error":"#N/A"},{"$error":"#N/A"}]
[null,null,null,null,null,null,null,83,0,0,0,0,null,null,null,2009,8,"2009-8",175.74,268.73,1.9772000000000001,null,83,{"$error":"#N/A"},{"$error":"#N/A"},0,{"$error":"#N/A"},{"$error":"#N/A"}]
[null,null,null,null,null,null,null,84,0,0,0,0,null,null,null,2009,9,"2009-9",179.85,272.87,2.0510999999999999,null,84,{"$error":"#N/A"},{"$error":"#N/A"},0,{"$error":"#N/A"},{"$error":"#N/A"}]
[null,null,null,null,null,null,null,85,0,0,0,0,null,null,null,2009,10,"2009-10",176.51,267.12,1.9941,null,85,{"$error":"#N/A"},{"$error":"#N/A"},0,{"$error":"#N/A"},{"$error":"#N/A"}]
[null,null,null,null,null,null,null,86,0,0,0,0,null,null,null,2009,11,"2009-11",178.12,269.06,2.0133000000000001,null,86,{"$error":"#N/A"},{"$error":"#N/A"},0,{"$error":"#N/A"},{"$error":"#N/A"}]
[null,null,null,null,null,null,null,87,0,0,0,0,null,null,null,2009,12,"2009-12",182.36,275.92,2.1271,null,87,{"$error":"#N/A"},{"$error":"#N/A"},0,{"$error":"#N/A"},{"$error":"#N/A"}]
[null,null,null,null,null,null,null,88,0,0,0,0,null,null,null,2010,1,"2010-1",180.45,266.51,2.0371999999999999,null,88,{"$error":"#N/A"},{"$error":"#N/A"},0,{"$error":"#N/A"},{"$error":"#N/A"}]
[null,null,null,null,null,null,null,89,0,0,0,0,null,null,null,2010,2,"2010-2",185.48,272,2.2212000000000001,null,89,{"$error":"#N/A"},{"$error":"#N/A"},0,{"$error":"#N/A"},{"$error":"#N/A"}]
[null,null,null,null,null,null,null,90,0,0,0,0,null,null,null,2010,3,"2010-3",182.23,265.99,2.1402999999999999,null,90,{"$error":"#N/A"},{"$error":"#N/A"},0,{"$error":"#N/A"},{"$error":"#N/A"}]
[null,null,null,null,null,null,null,91,0,0,0,0,null,null,null,2010,4,"2010-4",183.95,263.63,2.0891000000000002,null,91,{"$error":"#N/A"},{"$error":"#N/A"},0,{"$error":"#N/A"},{"$error":"#N/A"}]
[null,null,null,null,null,null,null,92,0,0,0,0,null,null,null,2010,5,"2010-5",196.2,275.01,2.3809999999999998,null,92,{"$error":"#N/A"},{"$error":"#N/A"},0,{"$error":"#N/A"},{"$error":"#N/A"}]
[null,null,null,null,null,null,null,93,0,0,0,0,null,null,null,2010,6,"2010-6",200.15,279.68,2.5169999999999999,null,93,{"$error":"#N/A"},{"$error":"#N/A"},0,{"$error":"#N/A"},{"$error":"#N/A"}]
[null,null,null,null,null,null,null,94,0,0,0,0,null,null,null,2010,7,"2010-7",207.76,278.66000000000003,2.4737,null,94,{"$error":"#N/A"},{"$error":"#N/A"},0,{"$error":"#N/A"},{"$error":"#N/A"}]
[null,null,null,null,null,null,null,95,0,0,0,0,null,null,null,2010,8,"2010-8",206.74,279.77999999999997,2.5339,null,95,{"$error":"#N/A"},{"$error":"#N/A"},0,{"$error":"#N/A"},{"$error":"#N/A"}]
[null,null,null,null,null,null,null,96,0,0,0,0,null,null,null,2010,9,"2010-9",216.2,281.70999999999998,2.5424000000000002,null,96,{"$error":"#N/A"},{"$error":"#N/A"},0,{"$error":"#N/A"},{"$error":"#N/A"}]
[null,null,null,null,null,null,null,97,0,0,0,0,null,null,null,2010,10,"2010-10",203.98,274.60000000000002,2.3975999999999997,null,97,{"$error":"#N/A"},{"$error":"#N/A"},0,{"$error":"#N/A"},{"$error":"#N/A"}]
[null,null,null,null,null,null,null,98,0,0,0,0,null,null,null,2010,11,"2010-11",206.68,276.45999999999998,2.4456000000000002,null,98,{"$error":"#N/A"},{"$error":"#N/A"},0,{"$error":"#N/A"},{"$error":"#N/A"}]
[null,null,null,null,null,null,null,99,0,0,0,0,null,null,null,2010,12,"2010-12",215.62,275.70999999999998,2.4678999999999998,null,99,{"$error":"#N/A"},{"$error":"#N/A"},0,{"$error":"#N/A"},{"$error":"#N/A"}]
[null,null,null,null,null,null,null,100,0,0,0,0,null,null,null,2011,1,"2011-1",214.33,276,2.4921000000000002,null,100,{"$error":"#N/A"},{"$error":"#N/A"},0,{"$error":"#N/A"},{"$error":"#N/A"}]
[null,null,null,null,null,null,null,101,0,0,0,0,null,null,null,2011,2,"2011-2",207,271.14,2.4018000000000002,null,101,{"$error":"#N/A"},{"$error":"#N/A"},0,{"$error":"#N/A"},{"$error":"#N/A"}]
[null,null,null,null,null,null,null,102,0,0,0,0,null,null,null,2011,3,"2011-3",212.44,273.89999999999998,2.4018000000000002,null,102,{"$error":"#N/A"},{"$error":"#N/A"},0,{"$error":"#N/A"},{"$error":"#N/A"}]
[null,null,null,null,null,null,null,103,0,0,0,0,null,null,null,2011,4,"2011-4",207.17,267.35000000000002,2.2208000000000001,null,103,{"$error":"#N/A"},{"$error":"#N/A"},0,{"$error":"#N/A"},{"$error":"#N/A"}]
[null,null,null,null,null,null,null,104,0,0,0,0,null,null,null,2011,5,"2011-5",211.16,266.85000000000002,2.3138000000000001,null,104,{"$error":"#N/A"},{"$error":"#N/A"},0,{"$error":"#N/A"},{"$error":"#N/A"}]
[null,null,null,null,null,null,null,105,0,0,0,0,null,null,null,2011,6,"2011-6",217.95,265.5,2.2938999999999998,null,105,{"$error":"#N/A"},{"$error":"#N/A"},0,{"$error":"#N/A"},{"$error":"#N/A"}]
[null,null,null,null,null,null,null,106,0,0,0,0,null,null,null,2011,7,"2011-7",234.31,270.82,2.4169999999999998,null,106,{"$error":"#N/A"},{"$error":"#N/A"},0,{"$error":"#N/A"},{"$error":"#N/A"}]
[null,null,null,null,null,null,null,107,0,0,0,0,null,null,null,2011,8,"2011-8",238.09,270.8,2.4601999999999999,null,107,{"$error":"#N/A"},{"$error":"#N/A"},0,{"$error":"#N/A"},{"$error":"#N/A"}]
[null,null,null,null,null,null,null,108,0,0,0,0,null,null,null,2011,9,"2011-9",238.47,287.76,2.7235,null,108,{"$error":"#N/A"},{"$error":"#N/A"},0,{"$error":"#N/A"},{"$error":"#N/A"}]
[null,null,null,null,null,null,null,109,0,0,0,0,null,null,null,2011,10,"2011-10",235.59,291.39,2.7445999999999997,null,109,{"$error":"#N/A"},{"$error":"#N/A"},0,{"$error":"#N/A"},{"$error":"#N/A"}]
[null,null,null,null,null,null,null,110,0,0,0,0,null,null,null,2011,11,"2011-11",254.98,316.23,3.0287999999999999,null,110,{"$error":"#N/A"},{"$error":"#N/A"},0,{"$error":"#N/A"},{"$error":"#N/A"}]
[null,null,null,null,null,null,null,111,0,0,0,0,null,null,null,2011,12,"2011-12",247.77,303.81,3.0019,null,111,{"$error":"#N/A"},{"$error":"#N/A"},0,{"$error":"#N/A"},{"$error":"#N/A"}]
[null,null,null,null,null,null,null,112,0,0,0,0,null,null,null,2012,1,"2012-1",255.47,309.3,3.1430000000000002,null,112,{"$error":"#N/A"},{"$error":"#N/A"},0,{"$error":"#N/A"},{"$error":"#N/A"}]
[null,null,null,null,null,null,null,113,0,0,0,0,null,null,null,2012,2,"2012-2",240.1,290.02,2.8047000000000004,null,113,{"$error":"#N/A"},{"$error":"#N/A"},0,{"$error":"#N/A"},{"$error":"#N/A"}]
[null,null,null,null,null,null,null,114,0,0,0,0,null,null,null,2012,3,"2012-3",240.98,291.72000000000003,2.6791,null,114,{"$error":"#N/A"},{"$error":"#N/A"},0,{"$error":"#N/A"},{"$error":"#N/A"}]
[null,null,null,null,null,null,null,115,0,0,0,0,null,null,null,2012,4,"2012-4",247.45,297.39,2.7944,null,115,{"$error":"#N/A"},{"$error":"#N/A"},0,{"$error":"#N/A"},{"$error":"#N/A"}]
[null,null,null,null,null,null,null,116,0,0,0,0,null,null,null,2012,5,"2012-5",243.32,292.35000000000002,2.8462000000000001,null,116,{"$error":"#N/A"},{"$error":"#N/A"},0,{"$error":"#N/A"},{"$error":"#N/A"}]
[null,null,null,null,null,null,null,117,0,0,0,0,null,null,null,2012,6,"2012-6",246.32,295.85000000000002,2.9666000000000001,null,117,{"$error":"#N/A"},{"$error":"#N/A"},0,{"$error":"#N/A"},{"$error":"#N/A"}]
[null,null,null,null,null,null,null,118,0,0,0,0,null,null,null,2012,7,"2012-7",241.44,290.02,2.9977,null,118,{"$error":"#N/A"},{"$error":"#N/A"},0,{"$error":"#N/A"},{"$error":"#N/A"}]
[null,null,null,null,null,null,null,119,0,0,0,0,null,null,null,2012,8,"2012-8",232.34,279.05,2.8657999999999997,null,119,{"$error":"#N/A"},{"$error":"#N/A"},0,{"$error":"#N/A"},{"$error":"#N/A"}]
[null,null,null,null,null,null,null,120,0,0,0,0,null,null,null,2012,9,"2012-9",231.49,281.44,2.7760000000000002,null,120,{"$error":"#N/A"},{"$error":"#N/A"},0,{"$error":"#N/A"},{"$error":"#N/A"}]
[null,null,null,null,null,null,null,121,0,0,0,0,null,null,null,2012,10,"2012-10",230.68,278.99,2.7392000000000003,null,121,{"$error":"#N/A"},{"$error":"#N/A"},0,{"$error":"#N/A"},{"$error":"#N/A"}]
[null,null,null,null,null,null,null,122,0,0,0,0,null,null,null,2012,11,"2012-11",237.05,285.45999999999998,2.7618999999999998,null,122,{"$error":"#N/A"},{"$error":"#N/A"},0,{"$error":"#N/A"},{"$error":"#N/A"}]
[null,null,null,null,null,null,null,123,0,0,0,0,null,null,null,{"$f":"IF(Q124=12,P124+1,P124)","v":2012},{"$f":"IF(Q124=12,1,Q124+1)","v":12},"2012-12",234.79,283.79000000000002,2.5880000000000001,null,123,{"$error":"#N/A"},{"$error":"#N/A"},0,{"$error":"#N/A"},{"$error":"#N/A"}]
[null,null,null,null,null,null,null,124,0,0,0,0,null,null,null,2013,1,"2013-1",237.9,293.75,2.4706000000000001,null,124,{"$error":"#N/A"},{"$error":"#N/A"},0,{"$error":"#N/A"},{"$error":"#N/A"}]
[null,null,null,null,null,null,null,125,0,0,0,0,null,null,null,2013,2,"2013-2",237.72,292.13,2.3744000000000001,null,125,{"$error":"#N/A"},{"$error":"#N/A"},0,{"$error":"#N/A"},{"$error":"#N/A"}]
[null,null,null,null,null,null,null,126,0,0,0,0,null,null,null,2013,3,"2013-3",247.22,305.52,2.4472999999999998,null,126,{"$error":"#N/A"},{"$error":"#N/A"},0,{"$error":"#N/A"},{"$error":"#N/A"}]
[null,null,null,null,null,null,null,127,0,0,0,0,null,null,null,2013,4,"2013-4",242.8,295,2.3039000000000001,null,127,{"$error":"#N/A"},{"$error":"#N/A"},0,{"$error":"#N/A"},{"$error":"#N/A"}]
[null,null,null,null,null,null,null,128,0,0,0,0,null,null,null,2013,5,"2013-5",233.34,291.94,2.2084999999999999,null,128,{"$error":"#N/A"},{"$error":"#N/A"},0,{"$error":"#N/A"},{"$error":"#N/A"}]
[null,null,null,null,null,null,null,129,0,0,0,0,null,null,null,2013,6,"2013-6",236.53,291.37,2.3012999999999999,null,129,{"$error":"#N/A"},{"$error":"#N/A"},0,{"$error":"#N/A"},{"$error":"#N/A"}]
[null,null,null,null,null,null,null,130,0,0,{"$f":"IF(H132>$B$6,0,$B$5)","v":0},0,null,null,null,2013,7,"2013-7",235.23,291.55,2.2427000000000001,null,130,{"$error":"#N/A"},{"$error":"#N/A"},0,{"$error":"#N/A"},{"$f":"AA132*$X$1","v":{"$error":"#N/A"}}]
[null,null,null,null,null,null,null,{"$f":"+H132+1","v":131},{"$f":"+L132","v":0},{"$f":"I133*$J$2/12","v":0},0,{"$f":"I133+J133-K133","v":0},null,null,null,2013,8,"2013-8",240.89,298.95999999999998,2.2969999999999997,null,{"$f":"+W132+1","v":131},{"$f":"+AA132","v":{"$error":"#N/A"}},{"$f":"X133*$Y$2/12","v":{"$error":"#N/A"}},{"$f":"IF(H133>$B$18,0,$B$17/$X$1)","v":0},{"$f":"X133+Y133-Z133","v":{"$error":"#N/A"}},{"$error":"#N/A"}]
[null,null,null,null,null,null,null,132,0,0,0,0,null,null,null,2013,9,"2013-9",243.04,300.8,2.2711999999999999,null,132,{"$error":"#N/A"},{"$error":"#N/A"},0,{"$error":"#N/A"},{"$error":"#N/A"}]
[null,null,null,null,null,null,null,133,0,0,0,0,null,null,null,{"$f":"IF(Q134=12,P134+1,P134)","v":2013},10,{"$f":"CONCATENATE(P135,\"-\",Q135)","v":"2013-10"},239.39,295.66000000000003,2.2149000000000001,null,133,{"$error":"#N/A"},{"$error":"#N/A"},0,{"$error":"#N/A"},{"$error":"#N/A"}]
[null,null,null,null,null,null,null,134,0,0,0,0,null,null,null,2013,11,"2013-11",241.65,298.38,2.2121,null,134,{"$error":"#N/A"},{"$error":"#N/A"},0,{"$error":"#N/A"},{"$error":"#N/A"}]
[null,null,null,null,null,null,null,135,0,0,0,0,null,null,null,2013,12,"2013-12",248.05,303.24,2.1305999999999998,null,135,{"$error":"#N/A"},{"$error":"#N/A"},0,{"$error":"#N/A"},{"$error":"#N/A"}]
[null,null,null,null,null,null,null,136,0,0,0,0,null,null,null,2014,1,"2014-1",242.84,299.95999999999998,211.22,null,136,{"$error":"#N/A"},{"$error":"#N/A"},0,{"$error":"#N/A"},{"$error":"#N/A"}]
[null,null,null,null,null,null,null,137,0,0,0,0,null,null,null,2014,2,"2014-2",252.72,308.92,221.42,null,137,{"$error":"#N/A"},{"$error":"#N/A"},0,{"$error":"#N/A"},{"$error":"#N/A"}]
[null,null,null,null,null,null,null,138,0,0,0,0,null,null,null,2014,3,"2014-3",258.22000000000003,313.51,222.1,null,138,{"$error":"#N/A"},{"$error":"#N/A"},0,{"$error":"#N/A"},{"$error":"#N/A"}]
[null,null,null,null,null,null,null,139,0,0,0,0,null,null,null,2014,4,"2014-4",252.84,307.44,218.97,null,139,{"$error":"#N/A"},{"$error":"#N/A"},0,{"$error":"#N/A"},{"$error":"#N/A"}]
[null,null,null,null,null,null,null,140,0,0,0,0,null,null,null,2014,5,"2014-5",247.87,302.83999999999997,217.41,null,140,{"$error":"#N/A"},{"$error":"#N/A"},0,{"$error":"#N/A"},{"$error":"#N/A"}]
[null,null,null,null,null,null,null,141,0,0,0,0,null,null,null,{"$f":"IF(Q142=12,P142+1,P142)","v":2014},6,{"$f":"CONCATENATE(P143,\"-\",Q143)","v":"2014-6"},252.5,307.48,223.05,null,141,{"$error":"#N/A"},{"$error":"#N/A"},0,{"$error":"#N/A"},{"$error":"#N/A"}]
[null,null,null,null,null,null,null,142,0,0,0,0,null,null,null,2014,7,"2014-7",254.81,309.43,223.97,null,142,{"$error":"#N/A"},{"$error":"#N/A"},0,{"$error":"#N/A"},{"$error":"#N/A"}]
[null,null,null,null,null,null,null,143,0,0,0,0,null,null,null,2014,8,"2014-8",257.62,312.14,227.42,null,143,{"$error":"#N/A"},{"$error":"#N/A"},0,{"$error":"#N/A"},{"$error":"#N/A"}]
[null,null,null,null,null,null,null,144,0,0,0,0,null,null,null,2014,9,"2014-9",260.22000000000003,314.93,227.16,null,144,{"$error":"#N/A"},{"$error":"#N/A"},0,{"$error":"#N/A"},{"$error":"#N/A"}]
[null,null,null,null,null,null,null,145,0,0,0,0,null,null,null,2014,10,"2014-10",253.5,306.08999999999997,225.71,null,145,{"$error":"#N/A"},{"$error":"#N/A"},0,{"$error":"#N/A"},{"$error":"#N/A"}]
[null,null,null,null,null,null,null,146,0,0,0,0,null,null,null,2014,11,"2014-11",254.53,305.95,210.99,null,146,{"$error":"#N/A"},{"$error":"#N/A"},0,{"$error":"#N/A"},{"$error":"#N/A"}]
[null,null,null,null,null,null,null,147,0,0,0,0,null,null,null,2014,12,"2014-12",256.33,307.86,208.96,null,147,{"$error":"#N/A"},{"$error":"#N/A"},0,{"$error":"#N/A"},{"$error":"#N/A"}]
[null,null,null,null,null,null,null,148,0,0,0,0,null,null,null,2015,1,"2015-1",256.33,307.86,208.96,null,148,{"$error":"#N/A"},{"$error":"#N/A"},0,{"$error":"#N/A"},{"$error":"#N/A"}]
[null,null,null,null,null,null,null,149,0,0,0,0,null,null,null,2015,2,"2015-2",256.33,307.86,208.96,null,149,{"$error":"#N/A"},{"$error":"#N/A"},0,{"$error":"#N/A"},{"$error":"#N/A"}]
[null,null,null,null,null,null,null,150,0,0,0,0,null,null,null,2015,3,"2015-3",256.33,307.86,208.96,null,150,{"$error":"#N/A"},{"$error":"#N/A"},0,{"$error":"#N/A"},{"$error":"#N/A"}]
[null,null,null,null,null,null,null,151,0,0,0,0,null,null,null,2015,4,"2015-4",256.33,307.86,208.96,null,151,{"$error":"#N/A"},{"$error":"#N/A"},0,{"$error":"#N/A"},{"$error":"#N/A"}]
[null,null,null,null,null,null,null,152,0,0,0,0,null,null,null,2015,5,"2015-5",256.33,307.86,208.96,null,152,{"$error":"#N/A"},{"$error":"#N/A"},0,{"$error":"#N/A"},{"$error":"#N/A"}]
[null,null,null,null,null,null,null,153,0,0,0,0,null,null,null,2015,6,"2015-6",256.33,307.86,208.96,null,153,{"$error":"#N/A"},{"$error":"#N/A"},0,{"$error":"#N/A"},{"$error":"#N/A"}]
[null,null,null,null,null,null,null,154,0,0,0,0,null,null,null,2015,7,"2015-7",256.33,307.86,208.96,null,154,{"$error":"#N/A"},{"$error":"#N/A"},0,{"$error":"#N/A"},{"$error":"#N/A"}]
[null,null,null,null,null,null,null,155,0,0,0,0,null,null,null,2015,8,"2015-8",256.33,307.86,208.96,null,155,{"$error":"#N/A"},{"$error":"#N/A"},0,{"$error":"#N/A"},{"$error":"#N/A"}]
[null,null,null,null,null,null,null,156,0,0,0,0,null,null,null,2015,9,"2015-9",256.33,307.86,208.96,null,156,{"$error":"#N/A"},{"$error":"#N/A"},0,{"$error":"#N/A"},{"$error":"#N/A"}]
[null,null,null,null,null,null,null,157,0,0,0,0,null,null,null,2015,10,"2015-10",256.33,307.86,208.96,null,157,{"$error":"#N/A"},{"$error":"#N/A"},0,{"$error":"#N/A"},{"$error":"#N/A"}]
[null,null,null,null,null,null,null,158,0,0,0,0,null,null,null,{"$f":"IF(Q159=12,P159+1,P159)","v":2015},11,"2015-11",256.33,307.86,208.96,null,158,{"$error":"#N/A"},{"$error":"#N/A"},0,{"$error":"#N/A"},{"$error":"#N/A"}]
[null,null,null,null,null,null,null,159,0,0,0,0,null,null,null,2015,12,"2015-12",256.33,307.86,208.96,null,159,{"$error":"#N/A"},{"$error":"#N/A"},0,{"$error":"#N/A"},{"$error":"#N/A"}]
[null,null,null,null,null,null,null,160,0,0,0,0,null,null,null,null,null,null,null,null,null,null,160,{"$error":"#N/A"},{"$error":"#N/A"},0,{"$error":"#N/A"},{"$error":"#N/A"}]
[null,null,null,null,null,null,null,161,0,0,0,0,null,null,null,null,null,null,null,null,null,null,161,{"$error":"#N/A"},{"$error":"#N/A"},0,{"$error":"#N/A"},{"$error":"#N/A"}]
[null,null,null,null,null,null,null,162,0,0,0,0,null,null,null,null,null,null,null,null,null,null,162,{"$error":"#N/A"},{"$error":"#N/A"},0,{"$error":"#N/A"},{"$error":"#N/A"}]
[null,null,null,null,null,null,null,163,0,0,0,0,null,null,null,null,null,null,null,null,null,null,163,{"$error":"#N/A"},{"$error":"#N/A"},0,{"$error":"#N/A"},{"$error":"#N/A"}]
[null,null,null,null,null,null,null,164,0,0,0,0,null,null,null,null,null,null,null,null,null,null,164,{"$error":"#N/A"},{"$error":"#N/A"},0,{"$error":"#N/A"},{"$error":"#N/A"}]
[null,null,null,null,null,null,null,165,0,0,0,0,null,null,null,null,null,null,null,null,null,null,165,{"$error":"#N/A"},{"$error":"#N/A"},0,{"$error":"#N/A"},{"$error":"#N/A"}]
[null,null,null,null,null,null,null,166,0,0,0,0,null,null,null,null,null,null,null,null,null,null,166,{"$error":"#N/A"},{"$error":"#N/A"},0,{"$error":"#N/A"},{"$error":"#N/A"}]
[null,null,null,null,null,null,null,167,0,0,0,0,null,null,null,null,null,null,null,null,null,null,167,{"$error":"#N/A"},{"$error":"#N/A"},0,{"$error":"#N/A"},{"$error":"#N/A"}]
[null,null,null,null,null,null,null,168,0,0,0,0,null,null,null,null,null,null,null,null,null,null,168,{"$error":"#N/A"},{"$error":"#N/A"},0,{"$error":"#N/A"},{"$error":"#N/A"}]
[null,null,null,null,null,null,null,169,0,0,0,0,null,null,null,null,null,null,null,null,null,null,169,{"$error":"#N/A"},{"$error":"#N/A"},0,{"$error":"#N/A"},{"$error":"#N/A"}]
[null,null,null,null,null,null,null,170,0,0,0,0,null,null,null,null,null,null,null,null,null,null,170,{"$error":"#N/A"},{"$error":"#N/A"},0,{"$error":"#N/A"},{"$error":"#N/A"}]
[null,null,null,null,null,null,null,171,0,0,0,0,null,null,null,null,null,null,null,null,null,null,171,{"$error":"#N/A"},{"$error":"#N/A"},0,{"$error":"#N/A"},{"$error":"#N/A"}]
[null,null,null,null,null,null,null,172,0,0,0,0,null,null,null,null,null,null,null,null,null,null,172,{"$error":"#N/A"},{"$error":"#N/A"},0,{"$error":"#N/A"},{"$error":"#N/A"}]
[null,null,null,null,null,null,null,173,0,0,0,0,null,null,null,null,null,null,null,null,null,null,173,{"$error":"#N/A"},{"$error":"#N/A"},0,{"$error":"#N/A"},{"$error":"#N/A"}]
[null,null,null,null,null,null,null,174,0,0,0,0,null,null,null,null,null,null,null,null,null,null,174,{"$error":"#N/A"},{"$error":"#N/A"},0,{"$error":"#N/A"},{"$error":"#N/A"}]
[null,null,null,null,null,null,null,175,0,0,0,0,null,null,null,null,null,null,null,null,null,null,175,{"$error":"#N/A"},{"$error":"#N/A"},0,{"$error":"#N/A"},{"$error":"#N/A"}]
[null,null,null,null,null,null,null,176,0,0,0,0,null,null,null,null,null,null,null,null,null,null,176,{"$error":"#N/A"},{"$error":"#N/A"},0,{"$error":"#N/A"},{"$error":"#N/A"}]
[null,null,null,null,null,null,null,177,0,0,0,0,null,null,null,null,null,null,null,null,null,null,177,{"$error":"#N/A"},{"$error":"#N/A"},0,{"$error":"#N/A"},{"$error":"#N/A"}]
[null,null,null,null,null,null,null,178,0,0,0,0,null,null,null,null,null,null,null,null,null,null,178,{"$error":"#N/A"},{"$error":"#N/A"},0,{"$error":"#N/A"},{"$error":"#N/A"}]
[null,null,null,null,null,null,null,179,0,0,0,0,null,null,null,null,null,null,null,null,null,null,179,{"$error":"#N/A"},{"$error":"#N/A"},0,{"$error":"#N/A"},{"$error":"#N/A"}]
[null,null,null,null,null,null,null,180,0,0,0,0,null,null,null,null,null,null,null,null,null,null,180,{"$error":"#N/A"},{"$error":"#N/A"},0,{"$error":"#N/A"},{"$error":"#N/A"}]
[null,null,null,null,null,null,null,181,0,0,0,0,null,null,null,null,null,null,null,null,null,null,181,{"$error":"#N/A"},{"$error":"#N/A"},0,{"$error":"#N/A"},{"$error":"#N/A"}]
[null,null,null,null,null,null,null,182,0,0,0,0,null,null,null,null,null,null,null,null,null,null,182,{"$error":"#N/A"},{"$error":"#N/A"},0,{"$error":"#N/A"},{"$error":"#N/A"}]
[null,null,null,null,null,null,null,183,0,0,0,0,null,null,null,null,null,null,null,null,null,null,183,{"$error":"#N/A"},{"$error":"#N/A"},0,{"$error":"#N/A"},{"$error":"#N/A"}]
[null,null,null,null,null,null,null,184,0,0,0,0,null,null,null,null,null,null,null,null,null,null,184,{"$error":"#N/A"},{"$error":"#N/A"},0,{"$error":"#N/A"},{"$error":"#N/A"}]
[null,null,null,null,null,null,null,185,0,0,0,0,null,null,null,null,null,null,null,null,null,null,185,{"$error":"#N/A"},{"$error":"#N/A"},0,{"$error":"#N/A"},{"$error":"#N/A"}]
[null,null,null,null,null,null,null,186,0,0,0,0,null,null,null,null,null,null,null,null,null,null,186,{"$error":"#N/A"},{"$error":"#N/A"},0,{"$error":"#N/A"},{"$error":"#N/A"}]
[null,null,null,null,null,null,null,187,0,0,0,0,null,null,null,null,null,null,null,null,null,null,187,{"$error":"#N/A"},{"$error":"#N/A"},0,{"$error":"#N/A"},{"$error":"#N/A"}]
[null,null,null,null,null,null,null,188,0,0,0,0,null,null,null,null,null,null,null,null,null,null,188,{"$error":"#N/A"},{"$error":"#N/A"},0,{"$error":"#N/A"},{"$error":"#N/A"}]
[null,null,null,null,null,null,null,189,0,0,0,0,null,null,null,null,null,null,null,null,null,null,189,{"$error":"#N/A"},{"$error":"#N/A"},0,{"$error":"#N/A"},{"$error":"#N/A"}]
[null,null,null,null,null,null,null,190,0,0,0,0,null,null,null,null,null,null,null,null,null,null,190,{"$error":"#N/A"},{"$error":"#N/A"},0,{"$error":"#N/A"},{"$error":"#N/A"}]
[null,null,null,null,null,null,null,191,0,0,0,0,null,null,null,null,null,null,null,null,null,null,191,{"$error":"#N/A"},{"$error":"#N/A"},0,{"$error":"#N/A"},{"$error":"#N/A"}]
[null,null,null,null,null,null,null,192,0,0,0,0,null,null,null,null,null,null,null,null,null,null,192,{"$error":"#N/A"},{"$error":"#N/A"},0,{"$error":"#N/A"},{"$error":"#N/A"}]
[null,null,null,null,null,null,null,193,0,0,0,0,null,null,null,null,null,null,null,null,null,null,193,{"$error":"#N/A"},{"$error":"#N/A"},0,{"$error":"#N/A"},{"$error":"#N/A"}]
[null,null,null,null,null,null,null,194,0,0,{"$f":"IF(H196>$B$6,0,$B$5)","v":0},0,null,null,null,null,null,null,null,null,null,null,194,{"$error":"#N/A"},{"$error":"#N/A"},0,{"$error":"#N/A"},{"$f":"AA196*$X$1","v":{"$error":"#N/A"}}]
[null,null,null,null,null,null,null,{"$f":"+H196+1","v":195},{"$f":"+L196","v":0},{"$f":"I197*$J$2/12","v":0},0,{"$f":"I197+J197-K197","v":0},null,null,null,null,null,null,null,null,null,null,{"$f":"+W196+1","v":195},{"$f":"+AA196","v":{"$error":"#N/A"}},{"$f":"X197*$Y$2/12","v":{"$error":"#N/A"}},{"$f":"IF(H197>$B$18,0,$B$17/$X$1)","v":0},{"$f":"X197+Y197-Z197","v":{"$error":"#N/A"}},{"$error":"#N/A"}]
[null,null,null,null,null,null,null,196,0,0,0,0,null,null,null,null,null,null,null,null,null,null,196,{"$error":"#N/A"},{"$error":"#N/A"},0,{"$error":"#N/A"},{"$error":"#N/A"}]
[null,null,null,null,null,null,null,197,0,0,0,0,null,null,null,null,null,null,null,null,null,null,197,{"$error":"#N/A"},{"$error":"#N/A"},0,{"$error":"#N/A"},{"$error":"#N/A"}]
[null,null,null,null,null,null,null,198,0,0,0,0,null,null,null,null,null,null,null,null,null,null,198,{"$error":"#N/A"},{"$error":"#N/A"},0,{"$error":"#N/A"},{"$error":"#N/A"}]
[null,null,null,null,null,null,null,199,0,0,0,0,null,null,null,null,null,null,null,null,null,null,199,{"$error":"#N/A"},{"$error":"#N/A"},0,{"$error":"#N/A"},{"$error":"#N/A"}]
[null,null,null,null,null,null,null,200,0,0,0,0,null,null,null,null,null,null,null,null,null,null,200,{"$error":"#N/A"},{"$error":"#N/A"},0,{"$error":"#N/A"},{"$error":"#N/A"}]
[null,null,null,null,null,null,null,201,0,0,0,0,null,null,null,null,null,null,null,null,null,null,201,{"$error":"#N/A"},{"$error":"#N/A"},0,{"$error":"#N/A"},{"$error":"#N/A"}]
[null,null,null,null,null,null,null,202,0,0,0,0,null,null,null,null,null,null,null,null,null,null,202,{"$error":"#N/A"},{"$error":"#N/A"},0,{"$error":"#N/A"},{"$error":"#N/A"}]
[null,null,null,null,null,null,null,203,0,0,0,0,null,null,null,null,null,null,null,null,null,null,203,{"$error":"#N/A"},{"$error":"#N/A"},0,{"$error":"#N/A"},{"$error":"#N/A"}]
[null,null,null,null,null,null,null,204,0,0,0,0,null,null,null,null,null,null,null,null,null,null,204,{"$error":"#N/A"},{"$error":"#N/A"},0,{"$error":"#N/A"},{"$error":"#N/A"}]
[null,null,null,null,null,null,null,205,0,0,0,0,null,null,null,null,null,null,null,null,null,null,205,{"$error":"#N/A"},{"$error":"#N/A"},0,{"$error":"#N/A"},{"$error":"#N/A"}]
[null,null,null,null,null,null,null,206,0,0,0,0,null,null,null,null,null,null,null,null,null,null,206,{"$error":"#N/A"},{"$error":"#N/A"},0,{"$error":"#N/A"},{"$error":"#N/A"}]
[null,null,null,null,null,null,null,207,0,0,0,0,null,null,null,null,null,null,null,null,null,null,207,{"$error":"#N/A"},{"$error":"#N/A"},0,{"$error":"#N/A"},{"$error":"#N/A"}]
[null,null,null,null,null,null,null,208,0,0,0,0,null,null,null,null,null,null,null,null,null,null,208,{"$error":"#N/A"},{"$error":"#N/A"},0,{"$error":"#N/A"},{"$error":"#N/A"}]
[null,null,null,null,null,null,null,209,0,0,0,0,null,null,null,null,null,null,null,null,null,null,209,{"$error":"#N/A"},{"$error":"#N/A"},0,{"$error":"#N/A"},{"$error":"#N/A"}]
[null,null,null,null,null,null,null,210,0,0,0,0,null,null,null,null,null,null,null,null,null,null,210,{"$error":"#N/A"},{"$error":"#N/A"},0,{"$error":"#N/A"},{"$error":"#N/A"}]
[null,null,null,null,null,null,null,211,0,0,0,0,null,null,null,null,null,null,null,null,null,null,211,{"$error":"#N/A"},{"$error":"#N/A"},0,{"$error":"#N/A"},{"$error":"#N/A"}]
[null,null,null,null,null,null,null,212,0,0,0,0,null,null,null,null,null,null,null,null,null,null,212,{"$error":"#N/A"},{"$error":"#N/A"},0,{"$error":"#N/A"},{"$error":"#N/A"}]
[null,null,null,null,null,null,null,213,0,0,0,0,null,null,null,null,null,null,null,null,null,null,213,{"$error":"#N/A"},{"$error":"#N/A"},0,{"$error":"#N/A"},{"$error":"#N/A"}]
[null,null,null,null,null,null,null,214,0,0,0,0,null,null,null,null,null,null,null,null,null,null,214,{"$error":"#N/A"},{"$error":"#N/A"},0,{"$error":"#N/A"},{"$error":"#N/A"}]
[null,null,null,null,null,null,null,215,0,0,0,0,null,null,null,null,null,null,null,null,null,null,215,{"$error":"#N/A"},{"$error":"#N/A"},0,{"$error":"#N/A"},{"$error":"#N/A"}]
[null,null,null,null,null,null,null,216,0,0,0,0,null,null,null,null,null,null,null,null,null,null,216,{"$error":"#N/A"},{"$error":"#N/A"},0,{"$error":"#N/A"},{"$error":"#N/A"}]
[null,null,null,null,null,null,null,217,0,0,0,0,null,null,null,null,null,null,null,null,null,null,217,{"$error":"#N/A"},{"$error":"#N/A"},0,{"$error":"#N/A"},{"$error":"#N/A"}]
[null,null,null,null,null,null,null,218,0,0,0,0,null,null,null,null,null,null,null,null,null,null,218,{"$error":"#N/A"},{"$error":"#N/A"},0,{"$error":"#N/A"},{"$error":"#N/A"}]
[null,null,null,null,null,null,null,219,0,0,0,0,null,null,null,null,null,null,null,null,null,null,219,{"$error":"#N/A"},{"$error":"#N/A"},0,{"$error":"#N/A"},{"$error":"#N/A"}]
[null,null,null,null,null,null,null,220,0,0,0,0,null,null,null,null,null,null,null,null,null,null,220,{"$error":"#N/A"},{"$error":"#N/A"},0,{"$error":"#N/A"},{"$error":"#N/A"}]
[null,null,null,null,null,null,null,221,0,0,0,0,null,null,null,null,null,null,null,null,null,null,221,{"$error":"#N/A"},{"$error":"#N/A"},0,{"$error":"#N/A"},{"$error":"#N/A"}]
[null,null,null,null,null,null,null,222,0,0,0,0,null,null,null,null,null,null,null,null,null,null,222,{"$error":"#N/A"},{"$error":"#N/A"},0,{"$error":"#N/A"},{"$error":"#N/A"}]
[null,null,null,null,null,null,null,223,0,0,0,0,null,null,null,null,null,null,null,null,null,null,223,{"$error":"#N/A"},{"$error":"#N/A"},0,{"$error":"#N/A"},{"$error":"#N/A"}]
[null,null,null,null,null,null,null,224,0,0,0,0,null,null,null,null,null,null,null,null,null,null,224,{"$error":"#N/A"},{"$error":"#N/A"},0,{"$error":"#N/A"},{"$error":"#N/A"}]
[null,null,null,null,null,null,null,225,0,0,0,0,null,null,null,null,null,null,null,null,null,null,225,{"$error":"#N/A"},{"$error":"#N/A"},0,{"$error":"#N/A"},{"$error":"#N/A"}]
[null,null,null,null,null,null,null,226,0,0,0,0,null,null,null,null,null,null,null,null,null,null,226,{"$error":"#N/A"},{"$error":"#N/A"},0,{"$error":"#N/A"},{"$error":"#N/A"}]
[null,null,null,null,null,null,null,227,0,0,0,0,null,null,null,null,null,null,null,null,null,null,227,{"$error":"#N/A"},{"$error":"#N/A"},0,{"$error":"#N/A"},{"$error":"#N/A"}]
[null,null,null,null,null,null,null,228,0,0,0,0,null,null,null,null,null,null,null,null,null,null,228,{"$error":"#N/A"},{"$error":"#N/A"},0,{"$error":"#N/A"},{"$error":"#N/A"}]
[null,null,null,null,null,null,null,229,0,0,0,0,null,null,null,null,null,null,null,null,null,null,229,{"$error":"#N/A"},{"$error":"#N/A"},0,{"$error":"#N/A"},{"$error":"#N/A"}]
[null,null,null,null,null,null,null,230,0,0,0,0,null,null,null,null,null,null,null,null,null,null,230,{"$error":"#N/A"},{"$error":"#N/A"},0,{"$error":"#N/A"},{"$error":"#N/A"}]
[null,null,null,null,null,null,null,231,0,0,0,0,null,null,null,null,null,null,null,null,null,null,231,{"$error":"#N/A"},{"$error":"#N/A"},0,{"$error":"#N/A"},{"$error":"#N/A"}]
[null,null,null,null,null,null,null,232,0,0,0,0,null,null,null,null,null,null,null,null,null,null,232,{"$error":"#N/A"},{"$error":"#N/A"},0,{"$error":"#N/A"},{"$error":"#N/A"}]
[null,null,null,null,null,null,null,233,0,0,0,0,null,null,null,null,null,null,null,null,null,null,233,{"$error":"#N/A"},{"$error":"#N/A"},0,{"$error":"#N/A"},{"$error":"#N/A"}]
[null,null,null,null,null,null,null,234,0,0,0,0,null,null,null,null,null,null,null,null,null,null,234,{"$error":"#N/A"},{"$error":"#N/A"},0,{"$error":"#N/A"},{"$error":"#N/A"}]
[null,null,null,null,null,null,null,235,0,0,0,0,null,null,null,null,null,null,null,null,null,null,235,{"$error":"#N/A"},{"$error":"#N/A"},0,{"$error":"#N/A"},{"$error":"#N/A"}]
[null,null,null,null,null,null,null,236,0,0,0,0,null,null,null,null,null,null,null,null,null,null,236,{"$error":"#N/A"},{"$error":"#N/A"},0,{"$error":"#N/A"},{"$error":"#N/A"}]
[null,null,null,null,null,null,null,237,0,0,0,0,null,null,null,null,null,null,null,null,null,null,237,{"$error":"#N/A"},{"$error":"#N/A"},0,{"$error":"#N/A"},{"$error":"#N/A"}]
[null,null,null,null,null,null,null,238,0,0,0,0,null,null,null,null,null,null,null,null,null,null,238,{"$error":"#N/A"},{"$error":"#N/A"},0,{"$error":"#N/A"},{"$error":"#N/A"}]
[null,null,null,null,null,null,null,239,0,0,0,0,null,null,null,null,null,null,null,null,null,null,239,{"$error":"#N/A"},{"$error":"#N/A"},0,{"$error":"#N/A"},{"$error":"#N/A"}]
[null,null,null,null,null,null,null,240,0,0,0,0,null,null,null,null,null,null,null,null,null,null,240,{"$error":"#N/A"},{"$error":"#N/A"},0,{"$error":"#N/A"},{"$error":"#N/A"}]
[null,null,null,null,null,null,null,241,0,0,0,0,null,null,null,null,null,null,null,null,null,null,241,{"$error":"#N/A"},{"$error":"#N/A"},0,{"$error":"#N/A"},{"$error":"#N/A"}]
[null,null,null,null,null,null,null,242,0,0,0,0,null,null,null,null,null,null,null,null,null,null,242,{"$error":"#N/A"},{"$error":"#N/A"},0,{"$error":"#N/A"},{"$error":"#N/A"}]
[null,null,null,null,null,null,null,243,0,0,0,0,null,null,null,null,null,null,null,null,null,null,243,{"$error":"#N/A"},{"$error":"#N/A"},0,{"$error":"#N/A"},{"$error":"#N/A"}]
[null,null,null,null,null,null,null,244,0,0,0,0,null,null,null,null,null,null,null,null,null,null,244,{"$error":"#N/A"},{"$error":"#N/A"},0,{"$error":"#N/A"},{"$error":"#N/A"}]
[null,null,null,null,null,null,null,245,0,0,0,0,null,null,null,null,null,null,null,null,null,null,245,{"$error":"#N/A"},{"$error":"#N/A"},0,{"$error":"#N/A"},{"$error":"#N/A"}]
[null,null,null,null,null,null,null,246,0,0,0,0,null,null,null,null,null,null,null,null,null,null,246,{"$error":"#N/A"},{"$error":"#N/A"},0,{"$error":"#N/A"},{"$error":"#N/A"}]
[null,null,null,null,null,null,null,247,0,0,0,0,null,null,null,null,null,null,null,null,null,null,247,{"$error":"#N/A"},{"$error":"#N/A"},0,{"$error":"#N/A"},{"$error":"#N/A"}]
[null,null,null,null,null,null,null,248,0,0,0,0,null,null,null,null,null,null,null,null,null,null,248,{"$error":"#N/A"},{"$error":"#N/A"},0,{"$error":"#N/A"},{"$error":"#N/A"}]
[null,null,null,null,null,null,null,249,0,0,0,0,null,null,null,null,null,null,null,null,null,null,249,{"$error":"#N/A"},{"$error":"#N/A"},0,{"$error":"#N/A"},{"$error":"#N/A"}]
[null,null,null,null,null,null,null,250,0,0,0,0,null,null,null,null,null,null,null,null,null,null,250,{"$error":"#N/A"},{"$error":"#N/A"},0,{"$error":"#N/A"},{"$error":"#N/A"}]
[null,null,null,null,null,null,null,251,0,0,0,0,null,null,null,null,null,null,null,null,null,null,251,{"$error":"#N/A"},{"$error":"#N/A"},0,{"$error":"#N/A"},{"$error":"#N/A"}]
[null,null,null,null,null,null,null,252,0,0,0,0,null,null,null,null,null,null,null,null,null,null,252,{"$error":"#N/A"},{"$error":"#N/A"},0,{"$error":"#N/A"},{"$error":"#N/A"}]
[null,null,null,null,null,null,null,253,0,0,0,0,null,null,null,null,null,null,null,null,null,null,253,{"$error":"#N/A"},{"$error":"#N/A"},0,{"$error":"#N/A"},{"$error":"#N/A"}]
[null,null,null,null,null,null,null,254,0,0,0,0,null,null,null,null,null,null,null,null,null,null,254,{"$error":"#N/A"},{"$error":"#N/A"},0,{"$error":"#N/A"},{"$error":"#N/A"}]
[null,null,null,null,null,null,null,255,0,0,0,0,null,null,null,null,null,null,null,null,null,null,255,{"$error":"#N/A"},{"$error":"#N/A"},0,{"$error":"#N/A"},{"$error":"#N/A"}]
[null,null,null,null,null,null,null,256,0,0,0,0,null,null,null,null,null,null,null,null,null,null,256,{"$error":"#N/A"},{"$error":"#N/A"},0,{"$error":"#N/A"},{"$error":"#N/A"}]
[null,null,null,null,null,null,null,257,0,0,0,0,null,null,null,null,null,null,null,null,null,null,257,{"$error":"#N/A"},{"$error":"#N/A"},0,{"$error":"#N/A"},{"$error":"#N/A"}]
[null,null,null,null,null,null,null,258,0,0,{"$f":"IF(H260>$B$6,0,$B$5)","v":0},0,null,null,null,null,null,null,null,null,null,null,258,{"$error":"#N/A"},{"$error":"#N/A"},0,{"$error":"#N/A"},{"$f":"AA260*$X$1","v":{"$error":"#N/A"}}]
[null,null,null,null,null,null,null,{"$f":"+H260+1","v":259},{"$f":"+L260","v":0},{"$f":"I261*$J$2/12","v":0},0,{"$f":"I261+J261-K261","v":0},null,null,null,null,null,null,null,null,null,null,{"$f":"+W260+1","v":259},{"$f":"+AA260","v":{"$error":"#N/A"}},{"$f":"X261*$Y$2/12","v":{"$error":"#N/A"}},{"$f":"IF(H261>$B$18,0,$B$17/$X$1)","v":0},{"$f":"X261+Y261-Z261","v":{"$error":"#N/A"}},{"$error":"#N/A"}]
[null,null,null,null,null,null,null,260,0,0,0,0,null,null,null,null,null,null,null,null,null,null,260,{"$error":"#N/A"},{"$error":"#N/A"},0,{"$error":"#N/A"},{"$error":"#N/A"}]
[null,null,null,null,null,null,null,261,0,0,0,0,null,null,null,null,null,null,null,null,null,null,261,{"$error":"#N/A"},{"$error":"#N/A"},0,{"$error":"#N/A"},{"$error":"#N/A"}]
[null,null,null,null,null,null,null,262,0,0,0,0,null,null,null,null,null,null,null,null,null,null,262,{"$error":"#N/A"},{"$error":"#N/A"},0,{"$error":"#N/A"},{"$error":"#N/A"}]
[null,null,null,null,null,null,null,263,0,0,0,0,null,null,null,null,null,null,null,null,null,null,263,{"$error":"#N/A"},{"$error":"#N/A"},0,{"$error":"#N/A"},{"$error":"#N/A"}]
[null,null,null,null,null,null,null,264,0,0,0,0,null,null,null,null,null,null,null,null,null,null,264,{"$error":"#N/A"},{"$error":"#N/A"},0,{"$error":"#N/A"},{"$error":"#N/A"}]
[null,null,null,null,null,null,null,265,0,0,0,0,null,null,null,null,null,null,null,null,null,null,265,{"$error":"#N/A"},{"$error":"#N/A"},0,{"$error":"#N/A"},{"$error":"#N/A"}]
[null,null,null,null,null,null,null,266,0,0,0,0,null,null,null,null,null,null,null,null,null,null,266,{"$error":"#N/A"},{"$error":"#N/A"},0,{"$error":"#N/A"},{"$error":"#N/A"}]
[null,null,null,null,null,null,null,267,0,0,0,0,null,null,null,null,null,null,null,null,null,null,267,{"$error":"#N/A"},{"$error":"#N/A"},0,{"$error":"#N/A"},{"$error":"#N/A"}]
[null,null,null,null,null,null,null,268,0,0,0,0,null,null,null,null,null,null,null,null,null,null,268,{"$error":"#N/A"},{"$error":"#N/A"},0,{"$error":"#N/A"},{"$error":"#N/A"}]
[null,null,null,null,null,null,null,269,0,0,0,0,null,null,null,null,null,null,null,null,null,null,269,{"$error":"#N/A"},{"$error":"#N/A"},0,{"$error":"#N/A"},{"$error":"#N/A"}]
[null,null,null,null,null,null,null,270,0,0,0,0,null,null,null,null,null,null,null,null,null,null,270,{"$error":"#N/A"},{"$error":"#N/A"},0,{"$error":"#N/A"},{"$error":"#N/A"}]
[null,null,null,null,null,null,null,271,0,0,0,0,null,null,null,null,null,null,null,null,null,null,271,{"$error":"#N/A"},{"$error":"#N/A"},0,{"$error":"#N/A"},{"$error":"#N/A"}]
[null,null,null,null,null,null,null,272,0,0,0,0,null,null,null,null,null,null,null,null,null,null,272,{"$error":"#N/A"},{"$error":"#N/A"},0,{"$error":"#N/A"},{"$error":"#N/A"}]
[null,null,null,null,null,null,null,273,0,0,0,0,null,null,null,null,null,null,null,null,null,null,273,{"$error":"#N/A"},{"$error":"#N/A"},0,{"$error":"#N/A"},{"$error":"#N/A"}]
[null,null,null,null,null,null,null,274,0,0,0,0,null,null,null,null,null,null,null,null,null,null,274,{"$error":"#N/A"},{"$error":"#N/A"},0,{"$error":"#N/A"},{"$error":"#N/A"}]
[null,null,null,null,null,null,null,275,0,0,0,0,null,null,null,null,null,null,null,null,null,null,275,{"$error":"#N/A"},{"$error":"#N/A"},0,{"$error":"#N/A"},{"$error":"#N/A"}]
[null,null,null,null,null,null,null,276,0,0,0,0,null,null,null,null,null,null,null,null,null,null,276,{"$error":"#N/A"},{"$error":"#N/A"},0,{"$error":"#N/A"},{"$error":"#N/A"}]
[null,null,null,null,null,null,null,277,0,0,0,0,null,null,null,null,null,null,null,null,null,null,277,{"$error":"#N/A"},{"$error":"#N/A"},0,{"$error":"#N/A"},{"$error":"#N/A"}]
[null,null,null,null,null,null,null,278,0,0,0,0,null,null,null,null,null,null,null,null,null,null,278,{"$error":"#N/A"},{"$error":"#N/A"},0,{"$error":"#N/A"},{"$error":"#N/A"}]
[null,null,null,null,null,null,null,279,0,0,0,0,null,null,null,null,null,null,null,null,null,null,279,{"$error":"#N/A"},{"$error":"#N/A"},0,{"$error":"#N/A"},{"$error":"#N/A"}]
[null,null,null,null,null,null,null,280,0,0,0,0,null,null,null,null,null,null,null,null,null,null,280,{"$error":"#N/A"},{"$error":"#N/A"},0,{"$error":"#N/A"},{"$error":"#N/A"}]
[null,null,null,null,null,null,null,281,0,0,0,0,null,null,null,null,null,null,null,null,null,null,281,{"$error":"#N/A"},{"$error":"#N/A"},0,{"$error":"#N/A"},{"$error":"#N/A"}]
[null,null,null,null,null,null,null,282,0,0,0,0,null,null,null,null,null,null,null,null,null,null,282,{"$error":"#N/A"},{"$error":"#N/A"},0,{"$error":"#N/A"},{"$error":"#N/A"}]
[null,null,null,null,null,null,null,283,0,0,0,0,null,null,null,null,null,null,null,null,null,null,283,{"$error":"#N/A"},{"$error":"#N/A"},0,{"$error":"#N/A"},{"$error":"#N/A"}]
[null,null,null,null,null,null,null,284,0,0,0,0,null,null,null,null,null,null,null,null,null,null,284,{"$error":"#N/A"},{"$error":"#N/A"},0,{"$error":"#N/A"},{"$error":"#N/A"}]
[null,null,null,null,null,null,null,285,0,0,0,0,null,null,null,null,null,null,null,null,null,null,285,{"$error":"#N/A"},{"$error":"#N/A"},0,{"$error":"#N/A"},{"$error":"#N/A"}]
[null,null,null,null,null,null,null,286,0,0,0,0,null,null,null,null,null,null,null,null,null,null,286,{"$error":"#N/A"},{"$error":"#N/A"},0,{"$error":"#N/A"},{"$error":"#N/A"}]
[null,null,null,null,null,null,null,287,0,0,0,0,null,null,null,null,null,null,null,null,null,null,287,{"$error":"#N/A"},{"$error":"#N/A"},0,{"$error":"#N/A"},{"$error":"#N/A"}]
[null,null,null,null,null,null,null,288,0,0,0,0,null,null,null,null,null,null,null,null,null,null,288,{"$error":"#N/A"},{"$error":"#N/A"},0,{"$error":"#N/A"},{"$error":"#N/A"}]
[null,null,null,null,null,null,null,289,0,0,0,0,null,null,null,null,null,null,null,null,null,null,289,{"$error":"#N/A"},{"$error":"#N/A"},0,{"$error":"#N/A"},{"$error":"#N/A"}]
[null,null,null,null,null,null,null,290,0,0,0,0,null,null,null,null,null,null,null,null,null,null,290,{"$error":"#N/A"},{"$error":"#N/A"},0,{"$error":"#N/A"},{"$error":"#N/A"}]
[null,null,null,null,null,null,null,291,0,0,0,0,null,null,null,null,null,null,null,null,null,null,291,{"$error":"#N/A"},{"$error":"#N/A"},0,{"$error":"#N/A"},{"$error":"#N/A"}]
[null,null,null,null,null,null,null,292,0,0,0,0,null,null,null,null,null,null,null,null,null,null,292,{"$error":"#N/A"},{"$error":"#N/A"},0,{"$error":"#N/A"},{"$error":"#N/A"}]
[null,null,null,null,null,null,null,293,0,0,0,0,null,null,null,null,null,null,null,null,null,null,293,{"$error":"#N/A"},{"$error":"#N/A"},0,{"$error":"#N/A"},{"$error":"#N/A"}]
[null,null,null,null,null,null,null,294,0,0,0,0,null,null,null,null,null,null,null,null,null,null,294,{"$error":"#N/A"},{"$error":"#N/A"},0,{"$error":"#N/A"},{"$error":"#N/A"}]
[null,null,null,null,null,null,null,295,0,0,0,0,null,null,null,null,null,null,null,null,null,null,295,{"$error":"#N/A"},{"$error":"#N/A"},0,{"$error":"#N/A"},{"$error":"#N/A"}]
[null,null,null,null,null,null,null,296,0,0,0,0,null,null,null,null,null,null,null,null,null,null,296,{"$error":"#N/A"},{"$error":"#N/A"},0,{"$error":"#N/A"},{"$error":"#N/A"}]
[null,null,null,null,null,null,null,297,0,0,0,0,null,null,null,null,null,null,null,null,null,null,297,{"$error":"#N/A"},{"$error":"#N/A"},0,{"$error":"#N/A"},{"$error":"#N/A"}]
[null,null,null,null,null,null,null,298,0,0,0,0,null,null,null,null,null,null,null,null,null,null,298,{"$error":"#N/A"},{"$error":"#N/A"},0,{"$error":"#N/A"},{"$error":"#N/A"}]
[null,null,null,null,null,null,null,299,0,0,0,0,null,null,null,null,null,null,null,null,null,null,299,{"$error":"#N/A"},{"$error":"#N/A"},0,{"$error":"#N/A"},{"$error":"#N/A"}]
[null,null,null,null,null,null,null,300,0,0,0,0,null,null,null,null,null,null,null,null,null,null,300,{"$error":"#N/A"},{"$error":"#N/A"},0,{"$error":"#N/A"},{"$error":"#N/A"}]
[null,null,null,null,null,null,null,301,0,0,0,0,null,null,null,null,null,null,null,null,null,null,301,{"$error":"#N/A"},{"$error":"#N/A"},0,{"$error":"#N/A"},{"$error":"#N/A"}]
[null,null,null,null,null,null,null,302,0,0,0,0,null,null,null,null,null,null,null,null,null,null,302,{"$error":"#N/A"},{"$error":"#N/A"},0,{"$error":"#N/A"},{"$error":"#N/A"}]
[null,null,null,null,null,null,null,303,0,0,0,0,null,null,null,null,null,null,null,null,null,null,303,{"$error":"#N/A"},{"$error":"#N/A"},0,{"$error":"#N/A"},{"$error":"#N/A"}]
[null,null,null,null,null,null,null,304,0,0,0,0,null,null,null,null,null,null,null,null,null,null,304,{"$error":"#N/A"},{"$error":"#N/A"},0,{"$error":"#N/A"},{"$error":"#N/A"}]
[null,null,null,null,null,null,null,305,0,0,0,0,null,null,null,null,null,null,null,null,null,null,305,{"$error":"#N/A"},{"$error":"#N/A"},0,{"$error":"#N/A"},{"$error":"#N/A"}]
[null,null,null,null,null,null,null,306,0,0,0,0,null,null,null,null,null,null,null,null,null,null,306,{"$error":"#N/A"},{"$error":"#N/A"},0,{"$error":"#N/A"},{"$error":"#N/A"}]
[null,null,null,null,null,null,null,307,0,0,0,0,null,null,null,null,null,null,null,null,null,null,307,{"$error":"#N/A"},{"$error":"#N/A"},0,{"$error":"#N/A"},{"$error":"#N/A"}]
[null,null,null,null,null,null,null,308,0,0,0,0,null,null,null,null,null,null,null,null,null,null,308,{"$error":"#N/A"},{"$error":"#N/A"},0,{"$error":"#N/A"},{"$error":"#N/A"}]
[null,null,null,null,null,null,null,309,0,0,0,0,null,null,null,null,null,null,null,null,null,null,309,{"$error":"#N/A"},{"$error":"#N/A"},0,{"$error":"#N/A"},{"$error":"#N/A"}]
[null,null,null,null,null,null,null,310,0,0,0,0,null,null,null,null,null,null,null,null,null,null,310,{"$error":"#N/A"},{"$error":"#N/A"},0,{"$error":"#N/A"},{"$error":"#N/A"}]
[null,null,null,null,null,null,null,311,0,0,0,0,null,null,null,null,null,null,null,null,null,null,311,{"$error":"#N/A"},{"$error":"#N/A"},0,{"$error":"#N/A"},{"$error":"#N/A"}]
[null,null,null,null,null,null,null,312,0,0,0,0,null,null,null,null,null,null,null,null,null,null,312,{"$error":"#N/A"},{"$error":"#N/A"},0,{"$error":"#N/A"},{"$error":"#N/A"}]
[null,null,null,null,null,null,null,313,0,0,0,0,null,null,null,null,null,null,null,null,null,null,313,{"$error":"#N/A"},{"$error":"#N/A"},0,{"$error":"#N/A"},{"$error":"#N/A"}]
[null,null,null,null,null,null,null,314,0,0,0,0,null,null,null,null,null,null,null,null,null,null,314,{"$error":"#N/A"},{"$error":"#N/A"},0,{"$error":"#N/A"},{"$error":"#N/A"}]
[null,null,null,null,null,null,null,315,0,0,0,0,null,null,null,null,null,null,null,null,null,null,315,{"$error":"#N/A"},{"$error":"#N/A"},0,{"$error":"#N/A"},{"$error":"#N/A"}]
[null,null,null,null,null,null,null,316,0,0,0,0,null,null,null,null,null,null,null,null,null,null,316,{"$error":"#N/A"},{"$error":"#N/A"},0,{"$error":"#N/A"},{"$error":"#N/A"}]
[null,null,null,null,null,null,null,317,0,0,0,0,null,null,null,null,null,null,null,null,null,null,317,{"$error":"#N/A"},{"$error":"#N/A"},0,{"$error":"#N/A"},{"$error":"#N/A"}]
[null,null,null,null,null,null,null,318,0,0,0,0,null,null,null,null,null,null,null,null,null,null,318,{"$error":"#N/A"},{"$error":"#N/A"},0,{"$error":"#N/A"},{"$error":"#N/A"}]
[null,null,null,null,null,null,null,319,0,0,0,0,null,null,null,null,null,null,null,null,null,null,319,{"$error":"#N/A"},{"$error":"#N/A"},0,{"$error":"#N/A"},{"$error":"#N/A"}]
[null,null,null,null,null,null,null,320,0,0,0,0,null,null,null,null,null,null,null,null,null,null,320,{"$error":"#N/A"},{"$error":"#N/A"},0,{"$error":"#N/A"},{"$error":"#N/A"}]
[null,null,null,null,null,null,null,321,0,0,0,0,null,null,null,null,null,null,null,null,null,null,321,{"$error":"#N/A"},{"$error":"#N/A"},0,{"$error":"#N/A"},{"$error":"#N/A"}]
[null,null,null,null,null,null,null,322,0,0,{"$f":"IF(H324>$B$6,0,$B$5)","v":0},0,null,null,null,null,null,null,null,null,null,null,322,{"$error":"#N/A"},{"$error":"#N/A"},0,{"$error":"#N/A"},{"$f":"AA324*$X$1","v":{"$error":"#N/A"}}]
[null,null,null,null,null,null,null,{"$f":"+H324+1","v":323},{"$f":"+L324","v":0},{"$f":"I325*$J$2/12","v":0},0,{"$f":"I325+J325-K325","v":0},null,null,null,null,null,null,null,null,null,null,{"$f":"+W324+1","v":323},{"$f":"+AA324","v":{"$error":"#N/A"}},{"$f":"X325*$Y$2/12","v":{"$error":"#N/A"}},{"$f":"IF(H325>$B$18,0,$B$17/$X$1)","v":0},{"$f":"X325+Y325-Z325","v":{"$error":"#N/A"}},{"$error":"#N/A"}]
[null,null,null,null,null,null,null,324,0,0,0,0,null,null,null,null,null,null,null,null,null,null,324,{"$error":"#N/A"},{"$error":"#N/A"},0,{"$error":"#N/A"},{"$error":"#N/A"}]
[null,null,null,null,null,null,null,325,0,0,0,0,null,null,null,null,null,null,null,null,null,null,325,{"$error":"#N/A"},{"$error":"#N/A"},0,{"$error":"#N/A"},{"$error":"#N/A"}]
[null,null,null,null,null,null,null,326,0,0,0,0,null,null,null,null,null,null,null,null,null,null,326,{"$error":"#N/A"},{"$error":"#N/A"},0,{"$error":"#N/A"},{"$error":"#N/A"}]
[null,null,null,null,null,null,null,327,0,0,0,0,null,null,null,null,null,null,null,null,null,null,327,{"$error":"#N/A"},{"$error":"#N/A"},0,{"$error":"#N/A"},{"$error":"#N/A"}]
[null,null,null,null,null,null,null,328,0,0,0,0,null,null,null,null,null,null,null,null,null,null,328,{"$error":"#N/A"},{"$error":"#N/A"},0,{"$error":"#N/A"},{"$error":"#N/A"}]
[null,null,null,null,null,null,null,329,0,0,0,0,null,null,null,null,null,null,null,null,null,null,329,{"$error":"#N/A"},{"$error":"#N/A"},0,{"$error":"#N/A"},{"$error":"#N/A"}]
[null,null,null,null,null,null,null,330,0,0,0,0,null,null,null,null,null,null,null,null,null,null,330,{"$error":"#N/A"},{"$error":"#N/A"},0,{"$error":"#N/A"},{"$error":"#N/A"}]
[null,null,null,null,null,null,null,331,0,0,0,0,null,null,null,null,null,null,null,null,null,null,331,{"$error":"#N/A"},{"$error":"#N/A"},0,{"$error":"#N/A"},{"$error":"#N/A"}]
[null,null,null,null,null,null,null,332,0,0,0,0,null,null,null,null,null,null,null,null,null,null,332,{"$error":"#N/A"},{"$error":"#N/A"},0,{"$error":"#N/A"},{"$error":"#N/A"}]
[null,null,null,null,null,null,null,333,0,0,0,0,null,null,null,null,null,null,null,null,null,null,333,{"$error":"#N/A"},{"$error":"#N/A"},0,{"$error":"#N/A"},{"$error":"#N/A"}]
[null,null,null,null,null,null,null,334,0,0,0,0,null,null,null,null,null,null,null,null,null,null,334,{"$error":"#N/A"},{"$error":"#N/A"},0,{"$error":"#N/A"},{"$error":"#N/A"}]
[null,null,null,null,null,null,null,335,0,0,0,0,null,null,null,null,null,null,null,null,null,null,335,{"$error":"#N/A"},{"$error":"#N/A"},0,{"$error":"#N/A"},{"$error":"#N/A"}]
[null,null,null,null,null,null,null,336,0,0,0,0,null,null,null,null,null,null,null,null,null,null,336,{"$error":"#N/A"},{"$error":"#N/A"},0,{"$error":"#N/A"},{"$error":"#N/A"}]
[null,null,null,null,null,null,null,337,0,0,0,0,null,null,null,null,null,null,null,null,null,null,337,{"$error":"#N/A"},{"$error":"#N/A"},0,{"$error":"#N/A"},{"$error":"#N/A"}]
[null,null,null,null,null,null,null,338,0,0,0,0,null,null,null,null,null,null,null,null,null,null,338,{"$error":"#N/A"},{"$error":"#N/A"},0,{"$error":"#N/A"},{"$error":"#N/A"}]
[null,null,null,null,null,null,null,339,0,0,0,0,null,null,null,null,null,null,null,null,null,null,339,{"$error":"#N/A"},{"$error":"#N/A"},0,{"$error":"#N/A"},{"$error":"#N/A"}]
[null,null,null,null,null,null,null,340,0,0,0,0,null,null,null,null,null,null,null,null,null,null,340,{"$error":"#N/A"},{"$error":"#N/A"},0,{"$error":"#N/A"},{"$error":"#N/A"}]
[null,null,null,null,null,null,null,341,0,0,0,0,null,null,null,null,null,null,null,null,null,null,341,{"$error":"#N/A"},{"$error":"#N/A"},0,{"$error":"#N/A"},{"$error":"#N/A"}]
[null,null,null,null,null,null,null,342,0,0,0,0,null,null,null,null,null,null,null,null,null,null,342,{"$error":"#N/A"},{"$error":"#N/A"},0,{"$error":"#N/A"},{"$error":"#N/A"}]
[null,null,null,null,null,null,null,343,0,0,0,0,null,null,null,null,null,null,null,null,null,null,343,{"$error":"#N/A"},{"$error":"#N/A"},0,{"$error":"#N/A"},{"$error":"#N/A"}]
[null,null,null,null,null,null,null,344,0,0,0,0,null,null,null,null,null,null,null,null,null,null,344,{"$error":"#N/A"},{"$error":"#N/A"},0,{"$error":"#N/A"},{"$error":"#N/A"}]
[null,null,null,null,null,null,null,345,0,0,0,0,null,null,null,null,null,null,null,null,null,null,345,{"$error":"#N/A"},{"$error":"#N/A"},0,{"$error":"#N/A"},{"$error":"#N/A"}]
[null,null,null,null,null,null,null,346,0,0,0,0,null,null,null,null,null,null,null,null,null,null,346,{"$error":"#N/A"},{"$error":"#N/A"},0,{"$error":"#N/A"},{"$error":"#N/A"}]
[null,null,null,null,null,null,null,347,0,0,0,0,null,null,null,null,null,null,null,null,null,null,347,{"$error":"#N/A"},{"$error":"#N/A"},0,{"$error":"#N/A"},{"$error":"#N/A"}]
[null,null,null,null,null,null,null,348,0,0,0,0,null,null,null,null,null,null,null,null,null,null,348,{"$error":"#N/A"},{"$error":"#N/A"},0,{"$error":"#N/A"},{"$error":"#N/A"}]
[null,null,null,null,null,null,null,349,0,0,0,0,null,null,null,null,null,null,null,null,null,null,349,{"$error":"#N/A"},{"$error":"#N/A"},0,{"$error":"#N/A"},{"$error":"#N/A"}]
[null,null,null,null,null,null,null,350,0,0,0,0,null,null,null,null,null,null,null,null,null,null,350,{"$error":"#N/A"},{"$error":"#N/A"},0,{"$error":"#N/A"},{"$error":"#N/A"}]
[null,null,null,null,null,null,null,351,0,0,0,0,null,null,null,null,null,null,null,null,null,null,351,{"$error":"#N/A"},{"$error":"#N/A"},0,{"$error":"#N/A"},{"$error":"#N/A"}]
[null,null,null,null,null,null,null,352,0,0,0,0,null,null,null,null,null,null,null,null,null,null,352,{"$error":"#N/A"},{"$error":"#N/A"},0,{"$error":"#N/A"},{"$error":"#N/A"}]
[null,null,null,null,null,null,null,353,0,0,0,0,null,null,null,null,null,null,null,null,null,null,353,{"$error":"#N/A"},{"$error":"#N/A"},0,{"$error":"#N/A"},{"$error":"#N/A"}]
[null,null,null,null,null,null,null,354,0,0,0,0,null,null,null,null,null,null,null,null,null,null,354,{"$error":"#N/A"},{"$error":"#N/A"},0,{"$error":"#N/A"},{"$error":"#N/A"}]
[null,null,null,null,null,null,null,355,0,0,0,0,null,null,null,null,null,null,null,null,null,null,355,{"$error":"#N/A"},{"$error":"#N/A"},0,{"$error":"#N/A"},{"$error":"#N/A"}]
[null,null,null,null,null,null,null,356,0,0,0,0,null,null,null,null,null,null,null,null,null,null,356,{"$error":"#N/A"},{"$error":"#N/A"},0,{"$error":"#N/A"},{"$error":"#N/A"}]
[null,null,null,null,null,null,null,357,0,0,0,0,null,null,null,null,null,null,null,null,null,null,357,{"$error":"#N/A"},{"$error":"#N/A"},0,{"$error":"#N/A"},{"$error":"#N/A"}]
[null,null,null,null,null,null,null,358,0,0,0,0,null,null,null,null,null,null,null,null,null,null,358,{"$error":"#N/A"},{"$error":"#N/A"},0,{"$error":"#N/A"},{"$error":"#N/A"}]
[null,null,null,null,null,null,null,359,0,0,0,0,null,null,null,null,null,null,null,null,null,null,359,{"$error":"#N/A"},{"$error":"#N/A"},0,{"$error":"#N/A"},{"$error":"#N/A"}]
[null,null,null,null,null,null,null,360,0,0,0,0,null,null,null,null,null,null,null,null,null,null,360,{"$error":"#N/A"},{"$error":"#N/A"},0,{"$error":"#N/A"},{"$error":"#N/A"}]
[null,null,null,null,null,null,null,361,0,0,0,0,null,null,null,null,null,null,null,null,null,null,361,{"$error":"#N/A"},{"$error":"#N/A"},0,{"$error":"#N/A"},{"$error":"#N/A"}]
[null,null,null,null,null,null,null,362,0,0,0,0,null,null,null,null,null,null,null,null,null,null,362,{"$error":"#N/A"},{"$error":"#N/A"},0,{"$error":"#N/A"},{"$error":"#N/A"}]
[null,null,null,null,null,null,null,363,0,0,0,0,null,null,null,null,null,null,null,null,null,null,363,{"$error":"#N/A"},{"$error":"#N/A"},0,{"$error":"#N/A"},{"$error":"#N/A"}]
[null,null,null,null,null,null,null,364,0,0,0,0,null,null,null,null,null,null,null,null,null,null,364,{"$error":"#N/A"},{"$error":"#N/A"},0,{"$error":"#N/A"},{"$error":"#N/A"}]
[null,null,null,null,null,null,null,365,0,0,0,0,null,null,null,null,null,null,null,null,null,null,365,{"$error":"#N/A"},{"$error":"#N/A"},0,{"$error":"#N/A"},{"$error":"#N/A"}]
[null,null,null,null,null,null,null,366,0,0,0,0,null,null,null,null,null,null,null,null,null,null,366,{"$error":"#N/A"},{"$error":"#N/A"},0,{"$error":"#N/A"},{"$error":"#N/A"}]
[null,null,null,null,null,null,null,367,0,0,0,0,null,null,null,null,null,null,null,null,null,null,367,{"$error":"#N/A"},{"$error":"#N/A"},0,{"$error":"#N/A"},{"$error":"#N/A"}]
[null,null,null,null,null,null,null,368,0,0,0,0,null,null,null,null,null,null,null,null,null,null,368,{"$error":"#N/A"},{"$error":"#N/A"},0,{"$error":"#N/A"},{"$error":"#N/A"}]
[null,null,null,null,null,null,null,369,0,0,0,0,null,null,null,null,null,null,null,null,null,null,369,{"$error":"#N/A"},{"$error":"#N/A"},0,{"$error":"#N/A"},{"$error":"#N/A"}]
[null,null,null,null,null,null,null,370,0,0,0,0,null,null,null,null,null,null,null,null,null,null,370,{"$error":"#N/A"},{"$error":"#N/A"},0,{"$error":"#N/A"},{"$error":"#N/A"}]
[null,null,null,null,null,null,null,371,0,0,0,0,null,null,null,null,null,null,null,null,null,null,371,{"$error":"#N/A"},{"$error":"#N/A"},0,{"$error":"#N/A"},{"$error":"#N/A"}]
[null,null,null,null,null,null,null,372,0,0,0,0,null,null,null,null,null,null,null,null,null,null,372,{"$error":"#N/A"},{"$error":"#N/A"},0,{"$error":"#N/A"},{"$error":"#N/A"}]
[null,null,null,null,null,null,null,373,0,0,0,0,null,null,null,null,null,null,null,null,null,null,373,{"$error":"#N/A"},{"$error":"#N/A"},0,{"$error":"#N/A"},{"$error":"#N/A"}]
[null,null,null,null,null,null,null,374,0,0,0,0,null,null,null,null,null,null,null,null,null,null,374,{"$error":"#N/A"},{"$error":"#N/A"},0,{"$error":"#N/A"},{"$error":"#N/A"}]
[null,null,null,null,null,null,null,375,0,0,0,0,null,null,null,null,null,null,null,null,null,null,375,{"$error":"#N/A"},{"$error":"#N/A"},0,{"$error":"#N/A"},{"$error":"#N/A"}]
[null,null,null,null,null,null,null,376,0,0,0,0,null,null,null,null,null,null,null,null,null,null,376,{"$error":"#N/A"},{"$error":"#N/A"},0,{"$error":"#N/A"},{"$error":"#N/A"}]
[null,null,null,null,null,null,null,377,0,0,0,0,null,null,null,null,null,null,null,null,null,null,377,{"$error":"#N/A"},{"$error":"#N/A"},0,{"$error":"#N/A"},{"$error":"#N/A"}]
[null,null,null,null,null,null,null,378,0,0,0,0,null,null,null,null,null,null,null,null,null,null,378,{"$error":"#N/A"},{"$error":"#N/A"},0,{"$error":"#N/A"},{"$error":"#N/A"}]
[null,null,null,null,null,null,null,379,0,0,0,0,null,null,null,null,null,null,null,null,null,null,379,{"$error":"#N/A"},{"$error":"#N/A"},0,{"$error":"#N/A"},{"$error":"#N/A"}]
[null,null,null,null,null,null,null,380,0,0,0,0,null,null,null,null,null,null,null,null,null,null,380,{"$error":"#N/A"},{"$error":"#N/A"},0,{"$error":"#N/A"},{"$error":"#N/A"}]
[null,null,null,null,null,null,null,381,0,0,0,0,null,null,null,null,null,null,null,null,null,null,381,{"$error":"#N/A"},{"$error":"#N/A"},0,{"$error":"#N/A"},{"$error":"#N/A"}]
[null,null,null,null,null,null,null,382,0,0,0,0,null,null,null,null,null,null,null,null,null,null,382,{"$error":"#N/A"},{"$error":"#N/A"},0,{"$error":"#N/A"},{"$error":"#N/A"}]
[null,null,null,null,null,null,null,383,0,0,0,0,null,null,null,null,null,null,null,null,null,null,383,{"$error":"#N/A"},{"$error":"#N/A"},0,{"$error":"#N/A"},{"$error":"#N/A"}]
[null,null,null,null,null,null,null,384,0,0,0,0,null,null,null,null,null,null,null,null,null,null,384,{"$error":"#N/A"},{"$error":"#N/A"},0,{"$error":"#N/A"},{"$error":"#N/A"}]
[null,null,null,null,null,null,null,385,0,0,0,0,null,null,null,null,null,null,null,null,null,null,385,{"$error":"#N/A"},{"$error":"#N/A"},0,{"$error":"#N/A"},{"$error":"#N/A"}]
[null,null,null,null,null,null,null,386,0,0,{"$f":"IF(H388>$B$6,0,$B$5)","v":0},0,null,null,null,null,null,null,null,null,null,null,386,{"$error":"#N/A"},{"$error":"#N/A"},0,{"$error":"#N/A"},{"$f":"AA388*$X$1","v":{"$error":"#N/A"}}]
[null,null,null,null,null,null,null,{"$f":"+H388+1","v":387},{"$f":"+L388","v":0},{"$f":"I389*$J$2/12","v":0},0,{"$f":"I389+J389-K389","v":0},null,null,null,null,null,null,null,null,null,null,{"$f":"+W388+1","v":387},{"$f":"+AA388","v":{"$error":"#N/A"}},{"$f":"X389*$Y$2/12","v":{"$error":"#N/A"}},{"$f":"IF(H389>$B$18,0,$B$17/$X$1)","v":0},{"$f":"X389+Y389-Z389","v":{"$error":"#N/A"}},{"$error":"#N/A"}]
[null,null,null,null,null,null,null,388,0,0,0,0,null,null,null,null,null,null,null,null,null,null,388,{"$error":"#N/A"},{"$error":"#N/A"},0,{"$error":"#N/A"},{"$error":"#N/A"}]
[null,null,null,null,null,null,null,389,0,0,0,0,null,null,null,null,null,null,null,null,null,null,389,{"$error":"#N/A"},{"$error":"#N/A"},0,{"$error":"#N/A"},{"$error":"#N/A"}]
[null,null,null,null,null,null,null,390,0,0,0,0,null,null,null,null,null,null,null,null,null,null,390,{"$error":"#N/A"},{"$error":"#N/A"},0,{"$error":"#N/A"},{"$error":"#N/A"}]
[null,null,null,null,null,null,null,391,0,0,0,0,null,null,null,null,null,null,null,null,null,null,391,{"$error":"#N/A"},{"$error":"#N/A"},0,{"$error":"#N/A"},{"$error":"#N/A"}]
[null,null,null,null,null,null,null,392,0,0,0,0,null,null,null,null,null,null,null,null,null,null,392,{"$error":"#N/A"},{"$error":"#N/A"},0,{"$error":"#N/A"},{"$error":"#N/A"}]
[null,null,null,null,null,null,null,393,0,0,0,0,null,null,null,null,null,null,null,null,null,null,393,{"$error":"#N/A"},{"$error":"#N/A"},0,{"$error":"#N/A"},{"$error":"#N/A"}]
[null,null,null,null,null,null,null,394,0,0,0,0,null,null,null,null,null,null,null,null,null,null,394,{"$error":"#N/A"},{"$error":"#N/A"},0,{"$error":"#N/A"},{"$error":"#N/A"}]
[null,null,null,null,null,null,null,395,0,0,0,0,null,null,null,null,null,null,null,null,null,null,395,{"$error":"#N/A"},{"$error":"#N/A"},0,{"$error":"#N/A"},{"$error":"#N/A"}]
[null,null,null,null,null,null,null,396,0,0,0,0,null,null,null,null,null,null,null,null,null,null,396,{"$error":"#N/A"},{"$error":"#N/A"},0,{"$error":"#N/A"},{"$error":"#N/A"}]
[null,null,null,null,null,null,null,397,0,0,0,0,null,null,null,null,null,null,null,null,null,null,397,{"$error":"#N/A"},{"$error":"#N/A"},0,{"$error":"#N/A"},{"$error":"#N/A"}]
[null,null,null,null,null,null,null,398,0,0,0,0,null,null,null,null,null,null,null,null,null,null,398,{"$error":"#N/A"},{"$error":"#N/A"},0,{"$error":"#N/A"},{"$error":"#N/A"}]
[null,null,null,null,null,null,null,399,0,0,0,0,null,null,null,null,null,null,null,null,null,null,399,{"$error":"#N/A"},{"$error":"#N/A"},0,{"$error":"#N/A"},{"$error":"#N/A"}]
[null,null,null,null,null,null,null,400,0,0,0,0,null,null,null,null,null,null,null,null,null,null,400,{"$error":"#N/A"},{"$error":"#N/A"},0,{"$error":"#N/A"},{"$error":"#N/A"}]
[null,null,null,null,null,null,null,401,0,0,0,0,null,null,null,null,null,null,null,null,null,null,401,{"$error":"#N/A"},{"$error":"#N/A"},0,{"$error":"#N/A"},{"$error":"#N/A"}]
[null,null,null,null,null,null,null,402,0,0,0,0,null,null,null,null,null,null,null,null,null,null,402,{"$error":"#N/A"},{"$error":"#N/A"},0,{"$error":"#N/A"},{"$error":"#N/A"}]
[null,null,null,null,null,null,null,403,0,0,0,0,null,null,null,null,null,null,null,null,null,null,403,{"$error":"#N/A"},{"$error":"#N/A"},0,{"$error":"#N/A"},{"$error":"#N/A"}]
[null,null,null,null,null,null,null,404,0,0,0,0,null,null,null,null,null,null,null,null,null,null,404,{"$error":"#N/A"},{"$error":"#N/A"},0,{"$error":"#N/A"},{"$error":"#N/A"}]
[null,null,null,null,null,null,null,405,0,0,0,0,null,null,null,null,null,null,null,null,null,null,405,{"$error":"#N/A"},{"$error":"#N/A"},0,{"$error":"#N/A"},{"$error":"#N/A"}]
[null,null,null,null,null,null,null,406,0,0,0,0,null,null,null,null,null,null,null,null,null,null,406,{"$error":"#N/A"},{"$error":"#N/A"},0,{"$error":"#N/A"},{"$error":"#N/A"}]
[null,null,null,null,null,null,null,407,0,0,0,0,null,null,null,null,null,null,null,null,null,null,407,{"$error":"#N/A"},{"$error":"#N/A"},0,{"$error":"#N/A"},{"$error":"#N/A"}]
[null,null,null,null,null,null,null,408,0,0,0,0,null,null,null,null,null,null,null,null,null,null,408,{"$error":"#N/A"},{"$error":"#N/A"},0,{"$error":"#N/A"},{"$error":"#N/A"}]
[null,null,null,null,null,null,null,409,0,0,0,0,null,null,null,null,null,null,null,null,null,null,409,{"$error":"#N/A"},{"$error":"#N/A"},0,{"$error":"#N/A"},{"$error":"#N/A"}]
[null,null,null,null,null,null,null,410,0,0,0,0,null,null,null,null,null,null,null,null,null,null,410,{"$error":"#N/A"},{"$error":"#N/A"},0,{"$error":"#N/A"},{"$error":"#N/A"}]
[null,null,null,null,null,null,null,411,0,0,0,0,null,null,null,null,null,null,null,null,null,null,411,{"$error":"#N/A"},{"$error":"#N/A"},0,{"$error":"#N/A"},{"$error":"#N/A"}]
[null,null,null,null,null,null,null,412,0,0,0,0,null,null,null,null,null,null,null,null,null,null,412,{"$error":"#N/A"},{"$error":"#N/A"},0,{"$error":"#N/A"},{"$error":"#N/A"}]
[null,null,null,null,null,null,null,413,0,0,0,0,null,null,null,null,null,null,null,null,null,null,413,{"$error":"#N/A"},{"$error":"#N/A"},0,{"$error":"#N/A"},{"$error":"#N/A"}]
[null,null,null,null,null,null,null,414,0,0,0,0,null,null,null,null,null,null,null,null,null,null,414,{"$error":"#N/A"},{"$error":"#N/A"},0,{"$error":"#N/A"},{"$error":"#N/A"}]
[null,null,null,null,null,null,null,415,0,0,0,0,null,null,null,null,null,null,null,null,null,null,415,{"$error":"#N/A"},{"$error":"#N/A"},0,{"$error":"#N/A"},{"$error":"#N/A"}]
[null,null,null,null,null,null,null,416,0,0,0,0,null,null,null,null,null,null,null,null,null,null,416,{"$error":"#N/A"},{"$error":"#N/A"},0,{"$error":"#N/A"},{"$error":"#N/A"}]
[null,null,null,null,null,null,null,417,0,0,0,0,null,null,null,null,null,null,null,null,null,null,417,{"$error":"#N/A"},{"$error":"#N/A"},0,{"$error":"#N/A"},{"$error":"#N/A"}]
[null,null,null,null,null,null,null,418,0,0,0,0,null,null,null,null,null,null,null,null,null,null,418,{"$error":"#N/A"},{"$error":"#N/A"},0,{"$error":"#N/A"},{"$error":"#N/A"}]
[null,null,null,null,null,null,null,419,0,0,0,0,null,null,null,null,null,null,null,null,null,null,419,{"$error":"#N/A"},{"$error":"#N/A"},0,{"$error":"#N/A"},{"$error":"#N/A"}]
[null,null,null,null,null,null,null,420,0,0,0,0,null,null,null,null,null,null,null,null,null,null,420,{"$error":"#N/A"},{"$error":"#N/A"},0,{"$error":"#N/A"},{"$error":"#N/A"}]

{"sheet":"THM fiók","index":3,"n_rows":422,"n_cols":13,"rows_kept":422,"cut":false,"hidden":true,"merged":[]}
[null,null,null,null,null,null,null,5.5412550458742202E-2,null,null,{"$f":"IRR(K2:K422)","v":{"$error":"#VALUE!"}},{"$f":"((1+K1)^12)-1","v":{"$error":"#VALUE!"}},10]
[null,"nyitó","kamat","törlesztés","záró","számla","életbizt",{"$f":"+'Lakás Törlesztéscsökkentő fiók'!B16-'Lakás Törlesztéscsökkentő fiók'!J14-'Lakás Törlesztéscsökkentő fiók'!B20","v":{"$error":"#VALUE!"}},{"$f":"+H2-H422","v":{"$error":"#VALUE!"}},null,{"$f":"-H2","v":{"$error":"#VALUE!"}}]
[1,{"$f":"+'Lakás Törlesztéscsökkentő fiók'!B16","v":""},{"$f":"B3*'Lakás Törlesztéscsökkentő fiók'!$B$27/12","v":{"$error":"#VALUE!"}},{"$f":"IF(A3>'Lakás Törlesztéscsökkentő fiók'!$J$10,0,'Lakás Törlesztéscsökkentő fiók'!$B$28)","v":0},{"$f":"+B3+C3-D3","v":{"$error":"#VALUE!"}},{"$f":"IF(A3>'Lakás Törlesztéscsökkentő fiók'!$J$10,0,'Lakás Törlesztéscsökkentő fiók'!$J$11)","v":0},{"$f":"IF(OR(A3>'Lakás Törlesztéscsökkentő fiók'!$J$10,'Lakás Törlesztéscsökkentő fiók'!$B$24='Lakás Törlesztéscsökkentő fiók'!$T$5),0,'Lakás Törlesztéscsökkentő fiók'!$J$12+'Lakás Törlesztéscsökkentő fiók'!$J$13)","v":0},{"$f":"(D3+F3+G3)/(1+$H$1)^(A3/12)","v":0},null,null,{"$f":"D3+F3+G3","v":0},{"$f":"IRR($K$2:K3,0.05)","v":{"$error":"#VALUE!"}}]
[{"$f":"+A3+1","v":2},{"$f":"+E3","v":{"$error":"#VALUE!"}},{"$f":"B4*'Lakás Törlesztéscsökkentő fiók'!$B$27/12","v":{"$error":"#VALUE!"}},{"$f":"IF(A4>'Lakás Törlesztéscsökkentő fiók'!$J$10,0,'Lakás Törlesztéscsökkentő fiók'!$B$28)","v":0},{"$f":"+B4+C4-D4","v":{"$error":"#VALUE!"}},{"$f":"IF(A4>'Lakás Törlesztéscsökkentő fiók'!$J$10,0,'Lakás Törlesztéscsökkentő fiók'!$J$11)","v":0},{"$f":"IF(OR(A4>'Lakás Törlesztéscsökkentő fiók'!$J$10,'Lakás Törlesztéscsökkentő fiók'!$B$24='Lakás Törlesztéscsökkentő fiók'!$T$5),0,'Lakás Törlesztéscsökkentő fiók'!$J$12+'Lakás Törlesztéscsökkentő fiók'!$J$13)","v":0},{"$f":"H3+(D4+F4+G4)/(1+$H$1)^(A4/12)","v":0},null,null,{"$f":"D4+F4+G4","v":0},{"$f":"IRR($K$2:K4,0.05)","v":{"$error":"#VALUE!"}}]
[{"$f":"+A4+1","v":3},{"$f":"+E4","v":{"$error":"#VALUE!"}},{"$f":"B5*'Lakás Törlesztéscsökkentő fiók'!$B$27/12","v":{"$error":"#VALUE!"}},{"$f":"IF(A5>'Lakás Törlesztéscsökkentő fiók'!$J$10,0,'Lakás Törlesztéscsökkentő fiók'!$B$28)","v":0},{"$error":"#VALUE!"},{"$f":"IF(A5>'Lakás Törlesztéscsökkentő fiók'!$J$10,0,'Lakás Törlesztéscsökkentő fiók'!$J$11)","v":0},{"$f":"IF(OR(A5>'Lakás Törlesztéscsökkentő fiók'!$J$10,'Lakás Törlesztéscsökkentő fiók'!$B$24='Lakás Törlesztéscsökkentő fiók'!$T$5),0,'Lakás Törlesztéscsökkentő fiók'!$J$12+'Lakás Törlesztéscsökkentő fiók'!$J$13)","v":0},{"$f":"H4+(D5+F5+G5)/(1+$H$1)^(A5/12)","v":0},null,null,0,{"$f":"IRR($K$2:K5,0.05)","v":{"$error":"#VALUE!"}}]
[4,{"$error":"#VALUE!"},{"$f":"B6*'Lakás Törlesztéscsökkentő fiók'!$B$27/12","v":{"$error":"#VALUE!"}},{"$f":"IF(A6>'Lakás Törlesztéscsökkentő fiók'!$J$10,0,'Lakás Törlesztéscsökkentő fiók'!$B$28)","v":0},{"$error":"#VALUE!"},{"$f":"IF(A6>'Lakás Törlesztéscsökkentő fiók'!$J$10,0,'Lakás Törlesztéscsökkentő fiók'!$J$11)","v":0},{"$f":"IF(OR(A6>'Lakás Törlesztéscsökkentő fiók'!$J$10,'Lakás Törlesztéscsökkentő fiók'!$B$24='Lakás Törlesztéscsökkentő fiók'!$T$5),0,'Lakás Törlesztéscsökkentő fiók'!$J$12+'Lakás Törlesztéscsökkentő fiók'!$J$13)","v":0},0,null,null,0,{"$f":"IRR($K$2:K6,0.05)","v":{"$error":"#VALUE!"}}]
[5,{"$error":"#VALUE!"},{"$f":"B7*'Lakás Törlesztéscsökkentő fiók'!$B$27/12","v":{"$error":"#VALUE!"}},{"$f":"IF(A7>'Lakás Törlesztéscsökkentő fiók'!$J$10,0,'Lakás Törlesztéscsökkentő fiók'!$B$28)","v":0},{"$error":"#VALUE!"},{"$f":"IF(A7>'Lakás Törlesztéscsökkentő fiók'!$J$10,0,'Lakás Törlesztéscsökkentő fiók'!$J$11)","v":0},{"$f":"IF(OR(A7>'Lakás Törlesztéscsökkentő fiók'!$J$10,'Lakás Törlesztéscsökkentő fiók'!$B$24='Lakás Törlesztéscsökkentő fiók'!$T$5),0,'Lakás Törlesztéscsökkentő fiók'!$J$12+'Lakás Törlesztéscsökkentő fiók'!$J$13)","v":0},0,null,null,0,{"$f":"IRR($K$2:K7,0.05)","v":{"$error":"#VALUE!"}}]
[6,{"$error":"#VALUE!"},{"$f":"B8*'Lakás Törlesztéscsökkentő fiók'!$B$27/12","v":{"$error":"#VALUE!"}},{"$f":"IF(A8>'Lakás Törlesztéscsökkentő fiók'!$J$10,0,'Lakás Törlesztéscsökkentő fiók'!$B$28)","v":0},{"$error":"#VALUE!"},{"$f":"IF(A8>'Lakás Törlesztéscsökkentő fiók'!$J$10,0,'Lakás Törlesztéscsökkentő fiók'!$J$11)","v":0},{"$f":"IF(OR(A8>'Lakás Törlesztéscsökkentő fiók'!$J$10,'Lakás Törlesztéscsökkentő fiók'!$B$24='Lakás Törlesztéscsökkentő fiók'!$T$5),0,'Lakás Törlesztéscsökkentő fiók'!$J$12+'Lakás Törlesztéscsökkentő fiók'!$J$13)","v":0},0,null,null,0,{"$f":"IRR($K$2:K8,0.05)","v":{"$error":"#VALUE!"}}]
[7,{"$error":"#VALUE!"},{"$f":"B9*'Lakás Törlesztéscsökkentő fiók'!$B$27/12","v":{"$error":"#VALUE!"}},{"$f":"IF(A9>'Lakás Törlesztéscsökkentő fiók'!$J$10,0,'Lakás Törlesztéscsökkentő fiók'!$B$28)","v":0},{"$error":"#VALUE!"},{"$f":"IF(A9>'Lakás Törlesztéscsökkentő fiók'!$J$10,0,'Lakás Törlesztéscsökkentő fiók'!$J$11)","v":0},{"$f":"IF(OR(A9>'Lakás Törlesztéscsökkentő fiók'!$J$10,'Lakás Törlesztéscsökkentő fiók'!$B$24='Lakás Törlesztéscsökkentő fiók'!$T$5),0,'Lakás Törlesztéscsökkentő fiók'!$J$12+'Lakás Törlesztéscsökkentő fiók'!$J$13)","v":0},0,null,null,0,{"$f":"IRR($K$2:K9,0.05)","v":{"$error":"#VALUE!"}}]
[8,{"$error":"#VALUE!"},{"$f":"B10*'Lakás Törlesztéscsökkentő fiók'!$B$27/12","v":{"$error":"#VALUE!"}},{"$f":"IF(A10>'Lakás Törlesztéscsökkentő fiók'!$J$10,0,'Lakás Törlesztéscsökkentő fiók'!$B$28)","v":0},{"$error":"#VALUE!"},{"$f":"IF(A10>'Lakás Törlesztéscsökkentő fiók'!$J$10,0,'Lakás Törlesztéscsökkentő fiók'!$J$11)","v":0},{"$f":"IF(OR(A10>'Lakás Törlesztéscsökkentő fiók'!$J$10,'Lakás Törlesztéscsökkentő fiók'!$B$24='Lakás Törlesztéscsökkentő fiók'!$T$5),0,'Lakás Törlesztéscsökkentő fiók'!$J$12+'Lakás Törlesztéscsökkentő fiók'!$J$13)","v":0},0,null,null,0,{"$f":"IRR($K$2:K10,0.05)","v":{"$error":"#VALUE!"}}]
[9,{"$error":"#VALUE!"},{"$f":"B11*'Lakás Törlesztéscsökkentő fiók'!$B$27/12","v":{"$error":"#VALUE!"}},{"$f":"IF(A11>'Lakás Törlesztéscsökkentő fiók'!$J$10,0,'Lakás Törlesztéscsökkentő fiók'!$B$28)","v":0},{"$error":"#VALUE!"},{"$f":"IF(A11>'Lakás Törlesztéscsökkentő fiók'!$J$10,0,'Lakás Törlesztéscsökkentő fiók'!$J$11)","v":0},{"$f":"IF(OR(A11>'Lakás Törlesztéscsökkentő fiók'!$J$10,'Lakás Törlesztéscsökkentő fiók'!$B$24='Lakás Törlesztéscsökkentő fiók'!$T$5),0,'Lakás Törlesztéscsökkentő fiók'!$J$12+'Lakás Törlesztéscsökkentő fiók'!$J$13)","v":0},0,null,null,0,{"$f":"IRR($K$2:K11,0.05)","v":{"$error":"#VALUE!"}}]
[10,{"$error":"#VALUE!"},{"$f":"B12*'Lakás Törlesztéscsökkentő fiók'!$B$27/12","v":{"$error":"#VALUE!"}},{"$f":"IF(A12>'Lakás Törlesztéscsökkentő fiók'!$J$10,0,'Lakás Törlesztéscsökkentő fiók'!$B$28)","v":0},{"$error":"#VALUE!"},{"$f":"IF(A12>'Lakás Törlesztéscsökkentő fiók'!$J$10,0,'Lakás Törlesztéscsökkentő fiók'!$J$11)","v":0},{"$f":"IF(OR(A12>'Lakás Törlesztéscsökkentő fiók'!$J$10,'Lakás Törlesztéscsökkentő fiók'!$B$24='Lakás Törlesztéscsökkentő fiók'!$T$5),0,'Lakás Törlesztéscsökkentő fiók'!$J$12+'Lakás Törlesztéscsökkentő fiók'!$J$13)","v":0},0,null,null,0,{"$f":"IRR($K$2:K12,0.05)","v":{"$error":"#VALUE!"}}]
[11,{"$error":"#VALUE!"},{"$f":"B13*'Lakás Törlesztéscsökkentő fiók'!$B$27/12","v":{"$error":"#VALUE!"}},{"$f":"IF(A13>'Lakás Törlesztéscsökkentő fiók'!$J$10,0,'Lakás Törlesztéscsökkentő fiók'!$B$28)","v":0},{"$error":"#VALUE!"},{"$f":"IF(A13>'Lakás Törlesztéscsökkentő fiók'!$J$10,0,'Lakás Törlesztéscsökkentő fiók'!$J$11)","v":0},{"$f":"IF(OR(A13>'Lakás Törlesztéscsökkentő fiók'!$J$10,'Lakás Törlesztéscsökkentő fiók'!$B$24='Lakás Törlesztéscsökkentő fiók'!$T$5),0,'Lakás Törlesztéscsökkentő fiók'!$J$12+'Lakás Törlesztéscsökkentő fiók'!$J$13)","v":0},0,null,null,0,{"$f":"IRR($K$2:K13,0.05)","v":{"$error":"#VALUE!"}}]
[12,{"$error":"#VALUE!"},{"$f":"B14*'Lakás Törlesztéscsökkentő fiók'!$B$27/12","v":{"$error":"#VALUE!"}},{"$f":"IF(A14>'Lakás Törlesztéscsökkentő fiók'!$J$10,0,'Lakás Törlesztéscsökkentő fiók'!$B$28)","v":0},{"$error":"#VALUE!"},{"$f":"IF(A14>'Lakás Törlesztéscsökkentő fiók'!$J$10,0,'Lakás Törlesztéscsökkentő fiók'!$J$11)","v":0},{"$f":"IF(OR(A14>'Lakás Törlesztéscsökkentő fiók'!$J$10,'Lakás Törlesztéscsökkentő fiók'!$B$24='Lakás Törlesztéscsökkentő fiók'!$T$5),0,'Lakás Törlesztéscsökkentő fiók'!$J$12+'Lakás Törlesztéscsökkentő fiók'!$J$13)","v":0},0,null,null,0,{"$f":"IRR($K$2:K14,0.05)","v":{"$error":"#VALUE!"}}]
[13,{"$error":"#VALUE!"},{"$f":"B15*'Lakás Törlesztéscsökkentő fiók'!$B$27/12","v":{"$error":"#VALUE!"}},{"$f":"IF(A15>'Lakás Törlesztéscsökkentő fiók'!$J$10,0,'Lakás Törlesztéscsökkentő fiók'!$B$28)","v":0},{"$error":"#VALUE!"},{"$f":"IF(A15>'Lakás Törlesztéscsökkentő fiók'!$J$10,0,'Lakás Törlesztéscsökkentő fiók'!$J$11)","v":0},{"$f":"IF(OR(A15>'Lakás Törlesztéscsökkentő fiók'!$J$10,'Lakás Törlesztéscsökkentő fiók'!$B$24='Lakás Törlesztéscsökkentő fiók'!$T$5),0,'Lakás Törlesztéscsökkentő fiók'!$J$12+'Lakás Törlesztéscsökkentő fiók'!$J$13)","v":0},0,null,null,0,{"$f":"IRR($K$2:K15,0.05)","v":{"$error":"#VALUE!"}}]
[14,{"$error":"#VALUE!"},{"$f":"B16*'Lakás Törlesztéscsökkentő fiók'!$B$27/12","v":{"$error":"#VALUE!"}},{"$f":"IF(A16>'Lakás Törlesztéscsökkentő fiók'!$J$10,0,'Lakás Törlesztéscsökkentő fiók'!$B$28)","v":0},{"$error":"#VALUE!"},{"$f":"IF(A16>'Lakás Törlesztéscsökkentő fiók'!$J$10,0,'Lakás Törlesztéscsökkentő fiók'!$J$11)","v":0},{"$f":"IF(OR(A16>'Lakás Törlesztéscsökkentő fiók'!$J$10,'Lakás Törlesztéscsökkentő fiók'!$B$24='Lakás Törlesztéscsökkentő fiók'!$T$5),0,'Lakás Törlesztéscsökkentő fiók'!$J$12+'Lakás Törlesztéscsökkentő fiók'!$J$13)","v":0},0,null,null,0,{"$f":"IRR($K$2:K16,0.05)","v":{"$error":"#VALUE!"}}]
[15,{"$error":"#VALUE!"},{"$f":"B17*'Lakás Törlesztéscsökkentő fiók'!$B$27/12","v":{"$error":"#VALUE!"}},{"$f":"IF(A17>'Lakás Törlesztéscsökkentő fiók'!$J$10,0,'Lakás Törlesztéscsökkentő fiók'!$B$28)","v":0},{"$error":"#VALUE!"},{"$f":"IF(A17>'Lakás Törlesztéscsökkentő fiók'!$J$10,0,'Lakás Törlesztéscsökkentő fiók'!$J$11)","v":0},{"$f":"IF(OR(A17>'Lakás Törlesztéscsökkentő fiók'!$J$10,'Lakás Törlesztéscsökkentő fiók'!$B$24='Lakás Törlesztéscsökkentő fiók'!$T$5),0,'Lakás Törlesztéscsökkentő fiók'!$J$12+'Lakás Törlesztéscsökkentő fiók'!$J$13)","v":0},0,null,null,0,{"$f":"IRR($K$2:K17,0.05)","v":{"$error":"#VALUE!"}}]
[16,{"$error":"#VALUE!"},{"$f":"B18*'Lakás Törlesztéscsökkentő fiók'!$B$27/12","v":{"$error":"#VALUE!"}},{"$f":"IF(A18>'Lakás Törlesztéscsökkentő fiók'!$J$10,0,'Lakás Törlesztéscsökkentő fiók'!$B$28)","v":0},{"$error":"#VALUE!"},{"$f":"IF(A18>'Lakás Törlesztéscsökkentő fiók'!$J$10,0,'Lakás Törlesztéscsökkentő fiók'!$J$11)","v":0},{"$f":"IF(OR(A18>'Lakás Törlesztéscsökkentő fiók'!$J$10,'Lakás Törlesztéscsökkentő fiók'!$B$24='Lakás Törlesztéscsökkentő fiók'!$T$5),0,'Lakás Törlesztéscsökkentő fiók'!$J$12+'Lakás Törlesztéscsökkentő fiók'!$J$13)","v":0},0,null,null,0,{"$f":"IRR($K$2:K18,0.05)","v":{"$error":"#VALUE!"}}]
[17,{"$error":"#VALUE!"},{"$f":"B19*'Lakás Törlesztéscsökkentő fiók'!$B$27/12","v":{"$error":"#VALUE!"}},{"$f":"IF(A19>'Lakás Törlesztéscsökkentő fiók'!$J$10,0,'Lakás Törlesztéscsökkentő fiók'!$B$28)","v":0},{"$error":"#VALUE!"},{"$f":"IF(A19>'Lakás Törlesztéscsökkentő fiók'!$J$10,0,'Lakás Törlesztéscsökkentő fiók'!$J$11)","v":0},{"$f":"IF(OR(A19>'Lakás Törlesztéscsökkentő fiók'!$J$10,'Lakás Törlesztéscsökkentő fiók'!$B$24='Lakás Törlesztéscsökkentő fiók'!$T$5),0,'Lakás Törlesztéscsökkentő fiók'!$J$12+'Lakás Törlesztéscsökkentő fiók'!$J$13)","v":0},0,null,null,0,{"$f":"IRR($K$2:K19,0.05)","v":{"$error":"#VALUE!"}}]
[18,{"$error":"#VALUE!"},{"$f":"B20*'Lakás Törlesztéscsökkentő fiók'!$B$27/12","v":{"$error":"#VALUE!"}},{"$f":"IF(A20>'Lakás Törlesztéscsökkentő fiók'!$J$10,0,'Lakás Törlesztéscsökkentő fiók'!$B$28)","v":0},{"$error":"#VALUE!"},{"$f":"IF(A20>'Lakás Törlesztéscsökkentő fiók'!$J$10,0,'Lakás Törlesztéscsökkentő fiók'!$J$11)","v":0},{"$f":"IF(OR(A20>'Lakás Törlesztéscsökkentő fiók'!$J$10,'Lakás Törlesztéscsökkentő fiók'!$B$24='Lakás Törlesztéscsökkentő fiók'!$T$5),0,'Lakás Törlesztéscsökkentő fiók'!$J$12+'Lakás Törlesztéscsökkentő fiók'!$J$13)","v":0},0,null,null,0,{"$f":"IRR($K$2:K20,0.05)","v":{"$error":"#VALUE!"}}]
[19,{"$error":"#VALUE!"},{"$f":"B21*'Lakás Törlesztéscsökkentő fiók'!$B$27/12","v":{"$error":"#VALUE!"}},{"$f":"IF(A21>'Lakás Törlesztéscsökkentő fiók'!$J$10,0,'Lakás Törlesztéscsökkentő fiók'!$B$28)","v":0},{"$error":"#VALUE!"},{"$f":"IF(A21>'Lakás Törlesztéscsökkentő fiók'!$J$10,0,'Lakás Törlesztéscsökkentő fiók'!$J$11)","v":0},{"$f":"IF(OR(A21>'Lakás Törlesztéscsökkentő fiók'!$J$10,'Lakás Törlesztéscsökkentő fiók'!$B$24='Lakás Törlesztéscsökkentő fiók'!$T$5),0,'Lakás Törlesztéscsökkentő fiók'!$J$12+'Lakás Törlesztéscsökkentő fiók'!$J$13)","v":0},0,null,null,0,{"$f":"IRR($K$2:K21,0.05)","v":{"$error":"#VALUE!"}}]
[20,{"$error":"#VALUE!"},{"$f":"B22*'Lakás Törlesztéscsökkentő fiók'!$B$27/12","v":{"$error":"#VALUE!"}},{"$f":"IF(A22>'Lakás Törlesztéscsökkentő fiók'!$J$10,0,'Lakás Törlesztéscsökkentő fiók'!$B$28)","v":0},{"$error":"#VALUE!"},{"$f":"IF(A22>'Lakás Törlesztéscsökkentő fiók'!$J$10,0,'Lakás Törlesztéscsökkentő fiók'!$J$11)","v":0},{"$f":"IF(OR(A22>'Lakás Törlesztéscsökkentő fiók'!$J$10,'Lakás Törlesztéscsökkentő fiók'!$B$24='Lakás Törlesztéscsökkentő fiók'!$T$5),0,'Lakás Törlesztéscsökkentő fiók'!$J$12+'Lakás Törlesztéscsökkentő fiók'!$J$13)","v":0},0,null,null,0,{"$f":"IRR($K$2:K22,0.05)","v":{"$error":"#VALUE!"}}]
[21,{"$error":"#VALUE!"},{"$f":"B23*'Lakás Törlesztéscsökkentő fiók'!$B$27/12","v":{"$error":"#VALUE!"}},{"$f":"IF(A23>'Lakás Törlesztéscsökkentő fiók'!$J$10,0,'Lakás Törlesztéscsökkentő fiók'!$B$28)","v":0},{"$error":"#VALUE!"},{"$f":"IF(A23>'Lakás Törlesztéscsökkentő fiók'!$J$10,0,'Lakás Törlesztéscsökkentő fiók'!$J$11)","v":0},{"$f":"IF(OR(A23>'Lakás Törlesztéscsökkentő fiók'!$J$10,'Lakás Törlesztéscsökkentő fiók'!$B$24='Lakás Törlesztéscsökkentő fiók'!$T$5),0,'Lakás Törlesztéscsökkentő fiók'!$J$12+'Lakás Törlesztéscsökkentő fiók'!$J$13)","v":0},0,null,null,0,{"$f":"IRR($K$2:K23,0.05)","v":{"$error":"#VALUE!"}}]
[22,{"$error":"#VALUE!"},{"$f":"B24*'Lakás Törlesztéscsökkentő fiók'!$B$27/12","v":{"$error":"#VALUE!"}},{"$f":"IF(A24>'Lakás Törlesztéscsökkentő fiók'!$J$10,0,'Lakás Törlesztéscsökkentő fiók'!$B$28)","v":0},{"$error":"#VALUE!"},{"$f":"IF(A24>'Lakás Törlesztéscsökkentő fiók'!$J$10,0,'Lakás Törlesztéscsökkentő fiók'!$J$11)","v":0},{"$f":"IF(OR(A24>'Lakás Törlesztéscsökkentő fiók'!$J$10,'Lakás Törlesztéscsökkentő fiók'!$B$24='Lakás Törlesztéscsökkentő fiók'!$T$5),0,'Lakás Törlesztéscsökkentő fiók'!$J$12+'Lakás Törlesztéscsökkentő fiók'!$J$13)","v":0},0,null,null,0,{"$f":"IRR($K$2:K24,0.05)","v":{"$error":"#VALUE!"}}]
[23,{"$error":"#VALUE!"},{"$f":"B25*'Lakás Törlesztéscsökkentő fiók'!$B$27/12","v":{"$error":"#VALUE!"}},{"$f":"IF(A25>'Lakás Törlesztéscsökkentő fiók'!$J$10,0,'Lakás Törlesztéscsökkentő fiók'!$B$28)","v":0},{"$error":"#VALUE!"},{"$f":"IF(A25>'Lakás Törlesztéscsökkentő fiók'!$J$10,0,'Lakás Törlesztéscsökkentő fiók'!$J$11)","v":0},{"$f":"IF(OR(A25>'Lakás Törlesztéscsökkentő fiók'!$J$10,'Lakás Törlesztéscsökkentő fiók'!$B$24='Lakás Törlesztéscsökkentő fiók'!$T$5),0,'Lakás Törlesztéscsökkentő fiók'!$J$12+'Lakás Törlesztéscsökkentő fiók'!$J$13)","v":0},0,null,null,0,{"$f":"IRR($K$2:K25,0.05)","v":{"$error":"#VALUE!"}}]
[24,{"$error":"#VALUE!"},{"$f":"B26*'Lakás Törlesztéscsökkentő fiók'!$B$27/12","v":{"$error":"#VALUE!"}},{"$f":"IF(A26>'Lakás Törlesztéscsökkentő fiók'!$J$10,0,'Lakás Törlesztéscsökkentő fiók'!$B$28)","v":0},{"$error":"#VALUE!"},{"$f":"IF(A26>'Lakás Törlesztéscsökkentő fiók'!$J$10,0,'Lakás Törlesztéscsökkentő fiók'!$J$11)","v":0},{"$f":"IF(OR(A26>'Lakás Törlesztéscsökkentő fiók'!$J$10,'Lakás Törlesztéscsökkentő fiók'!$B$24='Lakás Törlesztéscsökkentő fiók'!$T$5),0,'Lakás Törlesztéscsökkentő fiók'!$J$12+'Lakás Törlesztéscsökkentő fiók'!$J$13)","v":0},0,null,null,0,{"$f":"IRR($K$2:K26,0.05)","v":{"$error":"#VALUE!"}}]
[25,{"$error":"#VALUE!"},{"$f":"B27*'Lakás Törlesztéscsökkentő fiók'!$B$27/12","v":{"$error":"#VALUE!"}},{"$f":"IF(A27>'Lakás Törlesztéscsökkentő fiók'!$J$10,0,'Lakás Törlesztéscsökkentő fiók'!$B$28)","v":0},{"$error":"#VALUE!"},{"$f":"IF(A27>'Lakás Törlesztéscsökkentő fiók'!$J$10,0,'Lakás Törlesztéscsökkentő fiók'!$J$11)","v":0},{"$f":"IF(OR(A27>'Lakás Törlesztéscsökkentő fiók'!$J$10,'Lakás Törlesztéscsökkentő fiók'!$B$24='Lakás Törlesztéscsökkentő fiók'!$T$5),0,'Lakás Törlesztéscsökkentő fiók'!$J$12+'Lakás Törlesztéscsökkentő fiók'!$J$13)","v":0},0,null,null,0,{"$f":"IRR($K$2:K27,0.05)","v":{"$error":"#VALUE!"}}]
[26,{"$error":"#VALUE!"},{"$f":"B28*'Lakás Törlesztéscsökkentő fiók'!$B$27/12","v":{"$error":"#VALUE!"}},{"$f":"IF(A28>'Lakás Törlesztéscsökkentő fiók'!$J$10,0,'Lakás Törlesztéscsökkentő fiók'!$B$28)","v":0},{"$error":"#VALUE!"},{"$f":"IF(A28>'Lakás Törlesztéscsökkentő fiók'!$J$10,0,'Lakás Törlesztéscsökkentő fiók'!$J$11)","v":0},{"$f":"IF(OR(A28>'Lakás Törlesztéscsökkentő fiók'!$J$10,'Lakás Törlesztéscsökkentő fiók'!$B$24='Lakás Törlesztéscsökkentő fiók'!$T$5),0,'Lakás Törlesztéscsökkentő fiók'!$J$12+'Lakás Törlesztéscsökkentő fiók'!$J$13)","v":0},0,null,null,0,{"$f":"IRR($K$2:K28,0.05)","v":{"$error":"#VALUE!"}}]
[27,{"$error":"#VALUE!"},{"$f":"B29*'Lakás Törlesztéscsökkentő fiók'!$B$27/12","v":{"$error":"#VALUE!"}},{"$f":"IF(A29>'Lakás Törlesztéscsökkentő fiók'!$J$10,0,'Lakás Törlesztéscsökkentő fiók'!$B$28)","v":0},{"$error":"#VALUE!"},{"$f":"IF(A29>'Lakás Törlesztéscsökkentő fiók'!$J$10,0,'Lakás Törlesztéscsökkentő fiók'!$J$11)","v":0},{"$f":"IF(OR(A29>'Lakás Törlesztéscsökkentő fiók'!$J$10,'Lakás Törlesztéscsökkentő fiók'!$B$24='Lakás Törlesztéscsökkentő fiók'!$T$5),0,'Lakás Törlesztéscsökkentő fiók'!$J$12+'Lakás Törlesztéscsökkentő fiók'!$J$13)","v":0},0,null,null,0,{"$f":"IRR($K$2:K29,0.05)","v":{"$error":"#VALUE!"}}]
[28,{"$error":"#VALUE!"},{"$f":"B30*'Lakás Törlesztéscsökkentő fiók'!$B$27/12","v":{"$error":"#VALUE!"}},{"$f":"IF(A30>'Lakás Törlesztéscsökkentő fiók'!$J$10,0,'Lakás Törlesztéscsökkentő fiók'!$B$28)","v":0},{"$error":"#VALUE!"},{"$f":"IF(A30>'Lakás Törlesztéscsökkentő fiók'!$J$10,0,'Lakás Törlesztéscsökkentő fiók'!$J$11)","v":0},{"$f":"IF(OR(A30>'Lakás Törlesztéscsökkentő fiók'!$J$10,'Lakás Törlesztéscsökkentő fiók'!$B$24='Lakás Törlesztéscsökkentő fiók'!$T$5),0,'Lakás Törlesztéscsökkentő fiók'!$J$12+'Lakás Törlesztéscsökkentő fiók'!$J$13)","v":0},0,null,null,0,{"$f":"IRR($K$2:K30,0.05)","v":{"$error":"#VALUE!"}}]
[29,{"$error":"#VALUE!"},{"$f":"B31*'Lakás Törlesztéscsökkentő fiók'!$B$27/12","v":{"$error":"#VALUE!"}},{"$f":"IF(A31>'Lakás Törlesztéscsökkentő fiók'!$J$10,0,'Lakás Törlesztéscsökkentő fiók'!$B$28)","v":0},{"$error":"#VALUE!"},{"$f":"IF(A31>'Lakás Törlesztéscsökkentő fiók'!$J$10,0,'Lakás Törlesztéscsökkentő fiók'!$J$11)","v":0},{"$f":"IF(OR(A31>'Lakás Törlesztéscsökkentő fiók'!$J$10,'Lakás Törlesztéscsökkentő fiók'!$B$24='Lakás Törlesztéscsökkentő fiók'!$T$5),0,'Lakás Törlesztéscsökkentő fiók'!$J$12+'Lakás Törlesztéscsökkentő fiók'!$J$13)","v":0},0,null,null,0,{"$f":"IRR($K$2:K31,0.05)","v":{"$error":"#VALUE!"}}]
[30,{"$error":"#VALUE!"},{"$f":"B32*'Lakás Törlesztéscsökkentő fiók'!$B$27/12","v":{"$error":"#VALUE!"}},{"$f":"IF(A32>'Lakás Törlesztéscsökkentő fiók'!$J$10,0,'Lakás Törlesztéscsökkentő fiók'!$B$28)","v":0},{"$error":"#VALUE!"},{"$f":"IF(A32>'Lakás Törlesztéscsökkentő fiók'!$J$10,0,'Lakás Törlesztéscsökkentő fiók'!$J$11)","v":0},{"$f":"IF(OR(A32>'Lakás Törlesztéscsökkentő fiók'!$J$10,'Lakás Törlesztéscsökkentő fiók'!$B$24='Lakás Törlesztéscsökkentő fiók'!$T$5),0,'Lakás Törlesztéscsökkentő fiók'!$J$12+'Lakás Törlesztéscsökkentő fiók'!$J$13)","v":0},0,null,null,0,{"$f":"IRR($K$2:K32,0.05)","v":{"$error":"#VALUE!"}}]
[31,{"$error":"#VALUE!"},{"$f":"B33*'Lakás Törlesztéscsökkentő fiók'!$B$27/12","v":{"$error":"#VALUE!"}},{"$f":"IF(A33>'Lakás Törlesztéscsökkentő fiók'!$J$10,0,'Lakás Törlesztéscsökkentő fiók'!$B$28)","v":0},{"$error":"#VALUE!"},{"$f":"IF(A33>'Lakás Törlesztéscsökkentő fiók'!$J$10,0,'Lakás Törlesztéscsökkentő fiók'!$J$11)","v":0},{"$f":"IF(OR(A33>'Lakás Törlesztéscsökkentő fiók'!$J$10,'Lakás Törlesztéscsökkentő fiók'!$B$24='Lakás Törlesztéscsökkentő fiók'!$T$5),0,'Lakás Törlesztéscsökkentő fiók'!$J$12+'Lakás Törlesztéscsökkentő fiók'!$J$13)","v":0},0,null,null,0,{"$f":"IRR($K$2:K33,0.05)","v":{"$error":"#VALUE!"}}]
[32,{"$error":"#VALUE!"},{"$f":"B34*'Lakás Törlesztéscsökkentő fiók'!$B$27/12","v":{"$error":"#VALUE!"}},{"$f":"IF(A34>'Lakás Törlesztéscsökkentő fiók'!$J$10,0,'Lakás Törlesztéscsökkentő fiók'!$B$28)","v":0},{"$error":"#VALUE!"},{"$f":"IF(A34>'Lakás Törlesztéscsökkentő fiók'!$J$10,0,'Lakás Törlesztéscsökkentő fiók'!$J$11)","v":0},{"$f":"IF(OR(A34>'Lakás Törlesztéscsökkentő fiók'!$J$10,'Lakás Törlesztéscsökkentő fiók'!$B$24='Lakás Törlesztéscsökkentő fiók'!$T$5),0,'Lakás Törlesztéscsökkentő fiók'!$J$12+'Lakás Törlesztéscsökkentő fiók'!$J$13)","v":0},0,null,null,0,{"$f":"IRR($K$2:K34,0.05)","v":{"$error":"#VALUE!"}}]
[33,{"$error":"#VALUE!"},{"$f":"B35*'Lakás Törlesztéscsökkentő fiók'!$B$27/12","v":{"$error":"#VALUE!"}},{"$f":"IF(A35>'Lakás Törlesztéscsökkentő fiók'!$J$10,0,'Lakás Törlesztéscsökkentő fiók'!$B$28)","v":0},{"$error":"#VALUE!"},{"$f":"IF(A35>'Lakás Törlesztéscsökkentő fiók'!$J$10,0,'Lakás Törlesztéscsökkentő fiók'!$J$11)","v":0},{"$f":"IF(OR(A35>'Lakás Törlesztéscsökkentő fiók'!$J$10,'Lakás Törlesztéscsökkentő fiók'!$B$24='Lakás Törlesztéscsökkentő fiók'!$T$5),0,'Lakás Törlesztéscsökkentő fiók'!$J$12+'Lakás Törlesztéscsökkentő fiók'!$J$13)","v":0},0,null,null,0,{"$f":"IRR($K$2:K35,0.05)","v":{"$error":"#VALUE!"}}]
[34,{"$error":"#VALUE!"},{"$f":"B36*'Lakás Törlesztéscsökkentő fiók'!$B$27/12","v":{"$error":"#VALUE!"}},{"$f":"IF(A36>'Lakás Törlesztéscsökkentő fiók'!$J$10,0,'Lakás Törlesztéscsökkentő fiók'!$B$28)","v":0},{"$error":"#VALUE!"},{"$f":"IF(A36>'Lakás Törlesztéscsökkentő fiók'!$J$10,0,'Lakás Törlesztéscsökkentő fiók'!$J$11)","v":0},{"$f":"IF(OR(A36>'Lakás Törlesztéscsökkentő fiók'!$J$10,'Lakás Törlesztéscsökkentő fiók'!$B$24='Lakás Törlesztéscsökkentő fiók'!$T$5),0,'Lakás Törlesztéscsökkentő fiók'!$J$12+'Lakás Törlesztéscsökkentő fiók'!$J$13)","v":0},0,null,null,0,{"$f":"IRR($K$2:K36,0.05)","v":{"$error":"#VALUE!"}}]
[35,{"$error":"#VALUE!"},{"$f":"B37*'Lakás Törlesztéscsökkentő fiók'!$B$27/12","v":{"$error":"#VALUE!"}},{"$f":"IF(A37>'Lakás Törlesztéscsökkentő fiók'!$J$10,0,'Lakás Törlesztéscsökkentő fiók'!$B$28)","v":0},{"$error":"#VALUE!"},{"$f":"IF(A37>'Lakás Törlesztéscsökkentő fiók'!$J$10,0,'Lakás Törlesztéscsökkentő fiók'!$J$11)","v":0},{"$f":"IF(OR(A37>'Lakás Törlesztéscsökkentő fiók'!$J$10,'Lakás Törlesztéscsökkentő fiók'!$B$24='Lakás Törlesztéscsökkentő fiók'!$T$5),0,'Lakás Törlesztéscsökkentő fiók'!$J$12+'Lakás Törlesztéscsökkentő fiók'!$J$13)","v":0},0,null,null,0,{"$f":"IRR($K$2:K37,0.05)","v":{"$error":"#VALUE!"}}]
[36,{"$error":"#VALUE!"},{"$f":"B38*'Lakás Törlesztéscsökkentő fiók'!$B$27/12","v":{"$error":"#VALUE!"}},{"$f":"IF(A38>'Lakás Törlesztéscsökkentő fiók'!$J$10,0,'Lakás Törlesztéscsökkentő fiók'!$B$28)","v":0},{"$error":"#VALUE!"},{"$f":"IF(A38>'Lakás Törlesztéscsökkentő fiók'!$J$10,0,'Lakás Törlesztéscsökkentő fiók'!$J$11)","v":0},{"$f":"IF(OR(A38>'Lakás Törlesztéscsökkentő fiók'!$J$10,'Lakás Törlesztéscsökkentő fiók'!$B$24='Lakás Törlesztéscsökkentő fiók'!$T$5),0,'Lakás Törlesztéscsökkentő fiók'!$J$12+'Lakás Törlesztéscsökkentő fiók'!$J$13)","v":0},0,null,null,0,{"$f":"IRR($K$2:K38,0.05)","v":{"$error":"#VALUE!"}}]
[37,{"$error":"#VALUE!"},{"$f":"B39*'Lakás Törlesztéscsökkentő fiók'!$B$27/12","v":{"$error":"#VALUE!"}},{"$f":"IF(A39>'Lakás Törlesztéscsökkentő fiók'!$J$10,0,'Lakás Törlesztéscsökkentő fiók'!$B$28)","v":0},{"$error":"#VALUE!"},{"$f":"IF(A39>'Lakás Törlesztéscsökkentő fiók'!$J$10,0,'Lakás Törlesztéscsökkentő fiók'!$J$11)","v":0},{"$f":"IF(OR(A39>'Lakás Törlesztéscsökkentő fiók'!$J$10,'Lakás Törlesztéscsökkentő fiók'!$B$24='Lakás Törlesztéscsökkentő fiók'!$T$5),0,'Lakás Törlesztéscsökkentő fiók'!$J$12+'Lakás Törlesztéscsökkentő fiók'!$J$13)","v":0},0,null,null,0,{"$f":"IRR($K$2:K39,0.05)","v":{"$error":"#VALUE!"}}]
[38,{"$error":"#VALUE!"},{"$f":"B40*'Lakás Törlesztéscsökkentő fiók'!$B$27/12","v":{"$error":"#VALUE!"}},{"$f":"IF(A40>'Lakás Törlesztéscsökkentő fiók'!$J$10,0,'Lakás Törlesztéscsökkentő fiók'!$B$28)","v":0},{"$error":"#VALUE!"},{"$f":"IF(A40>'Lakás Törlesztéscsökkentő fiók'!$J$10,0,'Lakás Törlesztéscsökkentő fiók'!$J$11)","v":0},{"$f":"IF(OR(A40>'Lakás Törlesztéscsökkentő fiók'!$J$10,'Lakás Törlesztéscsökkentő fiók'!$B$24='Lakás Törlesztéscsökkentő fiók'!$T$5),0,'Lakás Törlesztéscsökkentő fiók'!$J$12+'Lakás Törlesztéscsökkentő fiók'!$J$13)","v":0},0,null,null,0,{"$f":"IRR($K$2:K40,0.05)","v":{"$error":"#VALUE!"}}]
[39,{"$error":"#VALUE!"},{"$f":"B41*'Lakás Törlesztéscsökkentő fiók'!$B$27/12","v":{"$error":"#VALUE!"}},{"$f":"IF(A41>'Lakás Törlesztéscsökkentő fiók'!$J$10,0,'Lakás Törlesztéscsökkentő fiók'!$B$28)","v":0},{"$error":"#VALUE!"},{"$f":"IF(A41>'Lakás Törlesztéscsökkentő fiók'!$J$10,0,'Lakás Törlesztéscsökkentő fiók'!$J$11)","v":0},{"$f":"IF(OR(A41>'Lakás Törlesztéscsökkentő fiók'!$J$10,'Lakás Törlesztéscsökkentő fiók'!$B$24='Lakás Törlesztéscsökkentő fiók'!$T$5),0,'Lakás Törlesztéscsökkentő fiók'!$J$12+'Lakás Törlesztéscsökkentő fiók'!$J$13)","v":0},0,null,null,0,{"$f":"IRR($K$2:K41,0.05)","v":{"$error":"#VALUE!"}}]
[40,{"$error":"#VALUE!"},{"$f":"B42*'Lakás Törlesztéscsökkentő fiók'!$B$27/12","v":{"$error":"#VALUE!"}},{"$f":"IF(A42>'Lakás Törlesztéscsökkentő fiók'!$J$10,0,'Lakás Törlesztéscsökkentő fiók'!$B$28)","v":0},{"$error":"#VALUE!"},{"$f":"IF(A42>'Lakás Törlesztéscsökkentő fiók'!$J$10,0,'Lakás Törlesztéscsökkentő fiók'!$J$11)","v":0},{"$f":"IF(OR(A42>'Lakás Törlesztéscsökkentő fiók'!$J$10,'Lakás Törlesztéscsökkentő fiók'!$B$24='Lakás Törlesztéscsökkentő fiók'!$T$5),0,'Lakás Törlesztéscsökkentő fiók'!$J$12+'Lakás Törlesztéscsökkentő fiók'!$J$13)","v":0},0,null,null,0,{"$f":"IRR($K$2:K42,0.05)","v":{"$error":"#VALUE!"}}]
[41,{"$error":"#VALUE!"},{"$f":"B43*'Lakás Törlesztéscsökkentő fiók'!$B$27/12","v":{"$error":"#VALUE!"}},{"$f":"IF(A43>'Lakás Törlesztéscsökkentő fiók'!$J$10,0,'Lakás Törlesztéscsökkentő fiók'!$B$28)","v":0},{"$error":"#VALUE!"},{"$f":"IF(A43>'Lakás Törlesztéscsökkentő fiók'!$J$10,0,'Lakás Törlesztéscsökkentő fiók'!$J$11)","v":0},{"$f":"IF(OR(A43>'Lakás Törlesztéscsökkentő fiók'!$J$10,'Lakás Törlesztéscsökkentő fiók'!$B$24='Lakás Törlesztéscsökkentő fiók'!$T$5),0,'Lakás Törlesztéscsökkentő fiók'!$J$12+'Lakás Törlesztéscsökkentő fiók'!$J$13)","v":0},0,null,null,0,{"$f":"IRR($K$2:K43,0.05)","v":{"$error":"#VALUE!"}}]
[42,{"$error":"#VALUE!"},{"$f":"B44*'Lakás Törlesztéscsökkentő fiók'!$B$27/12","v":{"$error":"#VALUE!"}},{"$f":"IF(A44>'Lakás Törlesztéscsökkentő fiók'!$J$10,0,'Lakás Törlesztéscsökkentő fiók'!$B$28)","v":0},{"$error":"#VALUE!"},{"$f":"IF(A44>'Lakás Törlesztéscsökkentő fiók'!$J$10,0,'Lakás Törlesztéscsökkentő fiók'!$J$11)","v":0},{"$f":"IF(OR(A44>'Lakás Törlesztéscsökkentő fiók'!$J$10,'Lakás Törlesztéscsökkentő fiók'!$B$24='Lakás Törlesztéscsökkentő fiók'!$T$5),0,'Lakás Törlesztéscsökkentő fiók'!$J$12+'Lakás Törlesztéscsökkentő fiók'!$J$13)","v":0},0,null,null,0,{"$f":"IRR($K$2:K44,0.05)","v":{"$error":"#VALUE!"}}]
[43,{"$error":"#VALUE!"},{"$f":"B45*'Lakás Törlesztéscsökkentő fiók'!$B$27/12","v":{"$error":"#VALUE!"}},{"$f":"IF(A45>'Lakás Törlesztéscsökkentő fiók'!$J$10,0,'Lakás Törlesztéscsökkentő fiók'!$B$28)","v":0},{"$error":"#VALUE!"},{"$f":"IF(A45>'Lakás Törlesztéscsökkentő fiók'!$J$10,0,'Lakás Törlesztéscsökkentő fiók'!$J$11)","v":0},{"$f":"IF(OR(A45>'Lakás Törlesztéscsökkentő fiók'!$J$10,'Lakás Törlesztéscsökkentő fiók'!$B$24='Lakás Törlesztéscsökkentő fiók'!$T$5),0,'Lakás Törlesztéscsökkentő fiók'!$J$12+'Lakás Törlesztéscsökkentő fiók'!$J$13)","v":0},0,null,null,0,{"$f":"IRR($K$2:K45,0.05)","v":{"$error":"#VALUE!"}}]
[44,{"$error":"#VALUE!"},{"$f":"B46*'Lakás Törlesztéscsökkentő fiók'!$B$27/12","v":{"$error":"#VALUE!"}},{"$f":"IF(A46>'Lakás Törlesztéscsökkentő fiók'!$J$10,0,'Lakás Törlesztéscsökkentő fiók'!$B$28)","v":0},{"$error":"#VALUE!"},{"$f":"IF(A46>'Lakás Törlesztéscsökkentő fiók'!$J$10,0,'Lakás Törlesztéscsökkentő fiók'!$J$11)","v":0},{"$f":"IF(OR(A46>'Lakás Törlesztéscsökkentő fiók'!$J$10,'Lakás Törlesztéscsökkentő fiók'!$B$24='Lakás Törlesztéscsökkentő fiók'!$T$5),0,'Lakás Törlesztéscsökkentő fiók'!$J$12+'Lakás Törlesztéscsökkentő fiók'!$J$13)","v":0},0,null,null,0,{"$f":"IRR($K$2:K46,0.05)","v":{"$error":"#VALUE!"}}]
[45,{"$error":"#VALUE!"},{"$f":"B47*'Lakás Törlesztéscsökkentő fiók'!$B$27/12","v":{"$error":"#VALUE!"}},{"$f":"IF(A47>'Lakás Törlesztéscsökkentő fiók'!$J$10,0,'Lakás Törlesztéscsökkentő fiók'!$B$28)","v":0},{"$error":"#VALUE!"},{"$f":"IF(A47>'Lakás Törlesztéscsökkentő fiók'!$J$10,0,'Lakás Törlesztéscsökkentő fiók'!$J$11)","v":0},{"$f":"IF(OR(A47>'Lakás Törlesztéscsökkentő fiók'!$J$10,'Lakás Törlesztéscsökkentő fiók'!$B$24='Lakás Törlesztéscsökkentő fiók'!$T$5),0,'Lakás Törlesztéscsökkentő fiók'!$J$12+'Lakás Törlesztéscsökkentő fiók'!$J$13)","v":0},0,null,null,0,{"$f":"IRR($K$2:K47,0.05)","v":{"$error":"#VALUE!"}}]
[46,{"$error":"#VALUE!"},{"$f":"B48*'Lakás Törlesztéscsökkentő fiók'!$B$27/12","v":{"$error":"#VALUE!"}},{"$f":"IF(A48>'Lakás Törlesztéscsökkentő fiók'!$J$10,0,'Lakás Törlesztéscsökkentő fiók'!$B$28)","v":0},{"$error":"#VALUE!"},{"$f":"IF(A48>'Lakás Törlesztéscsökkentő fiók'!$J$10,0,'Lakás Törlesztéscsökkentő fiók'!$J$11)","v":0},{"$f":"IF(OR(A48>'Lakás Törlesztéscsökkentő fiók'!$J$10,'Lakás Törlesztéscsökkentő fiók'!$B$24='Lakás Törlesztéscsökkentő fiók'!$T$5),0,'Lakás Törlesztéscsökkentő fiók'!$J$12+'Lakás Törlesztéscsökkentő fiók'!$J$13)","v":0},0,null,null,0,{"$f":"IRR($K$2:K48,0.05)","v":{"$error":"#VALUE!"}}]
[47,{"$error":"#VALUE!"},{"$f":"B49*'Lakás Törlesztéscsökkentő fiók'!$B$27/12","v":{"$error":"#VALUE!"}},{"$f":"IF(A49>'Lakás Törlesztéscsökkentő fiók'!$J$10,0,'Lakás Törlesztéscsökkentő fiók'!$B$28)","v":0},{"$error":"#VALUE!"},{"$f":"IF(A49>'Lakás Törlesztéscsökkentő fiók'!$J$10,0,'Lakás Törlesztéscsökkentő fiók'!$J$11)","v":0},{"$f":"IF(OR(A49>'Lakás Törlesztéscsökkentő fiók'!$J$10,'Lakás Törlesztéscsökkentő fiók'!$B$24='Lakás Törlesztéscsökkentő fiók'!$T$5),0,'Lakás Törlesztéscsökkentő fiók'!$J$12+'Lakás Törlesztéscsökkentő fiók'!$J$13)","v":0},0,null,null,0,{"$f":"IRR($K$2:K49,0.05)","v":{"$error":"#VALUE!"}}]
[48,{"$error":"#VALUE!"},{"$f":"B50*'Lakás Törlesztéscsökkentő fiók'!$B$27/12","v":{"$error":"#VALUE!"}},{"$f":"IF(A50>'Lakás Törlesztéscsökkentő fiók'!$J$10,0,'Lakás Törlesztéscsökkentő fiók'!$B$28)","v":0},{"$error":"#VALUE!"},{"$f":"IF(A50>'Lakás Törlesztéscsökkentő fiók'!$J$10,0,'Lakás Törlesztéscsökkentő fiók'!$J$11)","v":0},{"$f":"IF(OR(A50>'Lakás Törlesztéscsökkentő fiók'!$J$10,'Lakás Törlesztéscsökkentő fiók'!$B$24='Lakás Törlesztéscsökkentő fiók'!$T$5),0,'Lakás Törlesztéscsökkentő fiók'!$J$12+'Lakás Törlesztéscsökkentő fiók'!$J$13)","v":0},0,null,null,0,{"$f":"IRR($K$2:K50,0.05)","v":{"$error":"#VALUE!"}}]
[49,{"$error":"#VALUE!"},{"$f":"B51*'Lakás Törlesztéscsökkentő fiók'!$B$27/12","v":{"$error":"#VALUE!"}},{"$f":"IF(A51>'Lakás Törlesztéscsökkentő fiók'!$J$10,0,'Lakás Törlesztéscsökkentő fiók'!$B$28)","v":0},{"$error":"#VALUE!"},{"$f":"IF(A51>'Lakás Törlesztéscsökkentő fiók'!$J$10,0,'Lakás Törlesztéscsökkentő fiók'!$J$11)","v":0},{"$f":"IF(OR(A51>'Lakás Törlesztéscsökkentő fiók'!$J$10,'Lakás Törlesztéscsökkentő fiók'!$B$24='Lakás Törlesztéscsökkentő fiók'!$T$5),0,'Lakás Törlesztéscsökkentő fiók'!$J$12+'Lakás Törlesztéscsökkentő fiók'!$J$13)","v":0},0,null,null,0,{"$f":"IRR($K$2:K51,0.05)","v":{"$error":"#VALUE!"}}]
[50,{"$error":"#VALUE!"},{"$f":"B52*'Lakás Törlesztéscsökkentő fiók'!$B$27/12","v":{"$error":"#VALUE!"}},{"$f":"IF(A52>'Lakás Törlesztéscsökkentő fiók'!$J$10,0,'Lakás Törlesztéscsökkentő fiók'!$B$28)","v":0},{"$error":"#VALUE!"},{"$f":"IF(A52>'Lakás Törlesztéscsökkentő fiók'!$J$10,0,'Lakás Törlesztéscsökkentő fiók'!$J$11)","v":0},{"$f":"IF(OR(A52>'Lakás Törlesztéscsökkentő fiók'!$J$10,'Lakás Törlesztéscsökkentő fiók'!$B$24='Lakás Törlesztéscsökkentő fiók'!$T$5),0,'Lakás Törlesztéscsökkentő fiók'!$J$12+'Lakás Törlesztéscsökkentő fiók'!$J$13)","v":0},0,null,null,0,{"$f":"IRR($K$2:K52,0.05)","v":{"$error":"#VALUE!"}}]
[51,{"$error":"#VALUE!"},{"$f":"B53*'Lakás Törlesztéscsökkentő fiók'!$B$27/12","v":{"$error":"#VALUE!"}},{"$f":"IF(A53>'Lakás Törlesztéscsökkentő fiók'!$J$10,0,'Lakás Törlesztéscsökkentő fiók'!$B$28)","v":0},{"$error":"#VALUE!"},{"$f":"IF(A53>'Lakás Törlesztéscsökkentő fiók'!$J$10,0,'Lakás Törlesztéscsökkentő fiók'!$J$11)","v":0},{"$f":"IF(OR(A53>'Lakás Törlesztéscsökkentő fiók'!$J$10,'Lakás Törlesztéscsökkentő fiók'!$B$24='Lakás Törlesztéscsökkentő fiók'!$T$5),0,'Lakás Törlesztéscsökkentő fiók'!$J$12+'Lakás Törlesztéscsökkentő fiók'!$J$13)","v":0},0,null,null,0,{"$f":"IRR($K$2:K53,0.05)","v":{"$error":"#VALUE!"}}]
[52,{"$error":"#VALUE!"},{"$f":"B54*'Lakás Törlesztéscsökkentő fiók'!$B$27/12","v":{"$error":"#VALUE!"}},{"$f":"IF(A54>'Lakás Törlesztéscsökkentő fiók'!$J$10,0,'Lakás Törlesztéscsökkentő fiók'!$B$28)","v":0},{"$error":"#VALUE!"},{"$f":"IF(A54>'Lakás Törlesztéscsökkentő fiók'!$J$10,0,'Lakás Törlesztéscsökkentő fiók'!$J$11)","v":0},{"$f":"IF(OR(A54>'Lakás Törlesztéscsökkentő fiók'!$J$10,'Lakás Törlesztéscsökkentő fiók'!$B$24='Lakás Törlesztéscsökkentő fiók'!$T$5),0,'Lakás Törlesztéscsökkentő fiók'!$J$12+'Lakás Törlesztéscsökkentő fiók'!$J$13)","v":0},0,null,null,0,{"$f":"IRR($K$2:K54,0.05)","v":{"$error":"#VALUE!"}}]
[53,{"$error":"#VALUE!"},{"$f":"B55*'Lakás Törlesztéscsökkentő fiók'!$B$27/12","v":{"$error":"#VALUE!"}},{"$f":"IF(A55>'Lakás Törlesztéscsökkentő fiók'!$J$10,0,'Lakás Törlesztéscsökkentő fiók'!$B$28)","v":0},{"$error":"#VALUE!"},{"$f":"IF(A55>'Lakás Törlesztéscsökkentő fiók'!$J$10,0,'Lakás Törlesztéscsökkentő fiók'!$J$11)","v":0},{"$f":"IF(OR(A55>'Lakás Törlesztéscsökkentő fiók'!$J$10,'Lakás Törlesztéscsökkentő fiók'!$B$24='Lakás Törlesztéscsökkentő fiók'!$T$5),0,'Lakás Törlesztéscsökkentő fiók'!$J$12+'Lakás Törlesztéscsökkentő fiók'!$J$13)","v":0},0,null,null,0,{"$f":"IRR($K$2:K55,0.05)","v":{"$error":"#VALUE!"}}]
[54,{"$error":"#VALUE!"},{"$f":"B56*'Lakás Törlesztéscsökkentő fiók'!$B$27/12","v":{"$error":"#VALUE!"}},{"$f":"IF(A56>'Lakás Törlesztéscsökkentő fiók'!$J$10,0,'Lakás Törlesztéscsökkentő fiók'!$B$28)","v":0},{"$error":"#VALUE!"},{"$f":"IF(A56>'Lakás Törlesztéscsökkentő fiók'!$J$10,0,'Lakás Törlesztéscsökkentő fiók'!$J$11)","v":0},{"$f":"IF(OR(A56>'Lakás Törlesztéscsökkentő fiók'!$J$10,'Lakás Törlesztéscsökkentő fiók'!$B$24='Lakás Törlesztéscsökkentő fiók'!$T$5),0,'Lakás Törlesztéscsökkentő fiók'!$J$12+'Lakás Törlesztéscsökkentő fiók'!$J$13)","v":0},0,null,null,0,{"$f":"IRR($K$2:K56,0.05)","v":{"$error":"#VALUE!"}}]
[55,{"$error":"#VALUE!"},{"$f":"B57*'Lakás Törlesztéscsökkentő fiók'!$B$27/12","v":{"$error":"#VALUE!"}},{"$f":"IF(A57>'Lakás Törlesztéscsökkentő fiók'!$J$10,0,'Lakás Törlesztéscsökkentő fiók'!$B$28)","v":0},{"$error":"#VALUE!"},{"$f":"IF(A57>'Lakás Törlesztéscsökkentő fiók'!$J$10,0,'Lakás Törlesztéscsökkentő fiók'!$J$11)","v":0},{"$f":"IF(OR(A57>'Lakás Törlesztéscsökkentő fiók'!$J$10,'Lakás Törlesztéscsökkentő fiók'!$B$24='Lakás Törlesztéscsökkentő fiók'!$T$5),0,'Lakás Törlesztéscsökkentő fiók'!$J$12+'Lakás Törlesztéscsökkentő fiók'!$J$13)","v":0},0,null,null,0,{"$f":"IRR($K$2:K57,0.05)","v":{"$error":"#VALUE!"}}]
[56,{"$error":"#VALUE!"},{"$f":"B58*'Lakás Törlesztéscsökkentő fiók'!$B$27/12","v":{"$error":"#VALUE!"}},{"$f":"IF(A58>'Lakás Törlesztéscsökkentő fiók'!$J$10,0,'Lakás Törlesztéscsökkentő fiók'!$B$28)","v":0},{"$error":"#VALUE!"},{"$f":"IF(A58>'Lakás Törlesztéscsökkentő fiók'!$J$10,0,'Lakás Törlesztéscsökkentő fiók'!$J$11)","v":0},{"$f":"IF(OR(A58>'Lakás Törlesztéscsökkentő fiók'!$J$10,'Lakás Törlesztéscsökkentő fiók'!$B$24='Lakás Törlesztéscsökkentő fiók'!$T$5),0,'Lakás Törlesztéscsökkentő fiók'!$J$12+'Lakás Törlesztéscsökkentő fiók'!$J$13)","v":0},0,null,null,0,{"$f":"IRR($K$2:K58,0.05)","v":{"$error":"#VALUE!"}}]
[57,{"$error":"#VALUE!"},{"$f":"B59*'Lakás Törlesztéscsökkentő fiók'!$B$27/12","v":{"$error":"#VALUE!"}},{"$f":"IF(A59>'Lakás Törlesztéscsökkentő fiók'!$J$10,0,'Lakás Törlesztéscsökkentő fiók'!$B$28)","v":0},{"$error":"#VALUE!"},{"$f":"IF(A59>'Lakás Törlesztéscsökkentő fiók'!$J$10,0,'Lakás Törlesztéscsökkentő fiók'!$J$11)","v":0},{"$f":"IF(OR(A59>'Lakás Törlesztéscsökkentő fiók'!$J$10,'Lakás Törlesztéscsökkentő fiók'!$B$24='Lakás Törlesztéscsökkentő fiók'!$T$5),0,'Lakás Törlesztéscsökkentő fiók'!$J$12+'Lakás Törlesztéscsökkentő fiók'!$J$13)","v":0},0,null,null,0,{"$f":"IRR($K$2:K59,0.05)","v":{"$error":"#VALUE!"}}]
[58,{"$error":"#VALUE!"},{"$f":"B60*'Lakás Törlesztéscsökkentő fiók'!$B$27/12","v":{"$error":"#VALUE!"}},{"$f":"IF(A60>'Lakás Törlesztéscsökkentő fiók'!$J$10,0,'Lakás Törlesztéscsökkentő fiók'!$B$28)","v":0},{"$error":"#VALUE!"},{"$f":"IF(A60>'Lakás Törlesztéscsökkentő fiók'!$J$10,0,'Lakás Törlesztéscsökkentő fiók'!$J$11)","v":0},{"$f":"IF(OR(A60>'Lakás Törlesztéscsökkentő fiók'!$J$10,'Lakás Törlesztéscsökkentő fiók'!$B$24='Lakás Törlesztéscsökkentő fiók'!$T$5),0,'Lakás Törlesztéscsökkentő fiók'!$J$12+'Lakás Törlesztéscsökkentő fiók'!$J$13)","v":0},0,null,null,0,{"$f":"IRR($K$2:K60,0.05)","v":{"$error":"#VALUE!"}}]
[59,{"$error":"#VALUE!"},{"$f":"B61*'Lakás Törlesztéscsökkentő fiók'!$B$27/12","v":{"$error":"#VALUE!"}},{"$f":"IF(A61>'Lakás Törlesztéscsökkentő fiók'!$J$10,0,'Lakás Törlesztéscsökkentő fiók'!$B$28)","v":0},{"$error":"#VALUE!"},{"$f":"IF(A61>'Lakás Törlesztéscsökkentő fiók'!$J$10,0,'Lakás Törlesztéscsökkentő fiók'!$J$11)","v":0},{"$f":"IF(OR(A61>'Lakás Törlesztéscsökkentő fiók'!$J$10,'Lakás Törlesztéscsökkentő fiók'!$B$24='Lakás Törlesztéscsökkentő fiók'!$T$5),0,'Lakás Törlesztéscsökkentő fiók'!$J$12+'Lakás Törlesztéscsökkentő fiók'!$J$13)","v":0},0,null,null,0,{"$f":"IRR($K$2:K61,0.05)","v":{"$error":"#VALUE!"}}]
[60,{"$error":"#VALUE!"},{"$f":"B62*'Lakás Törlesztéscsökkentő fiók'!$B$27/12","v":{"$error":"#VALUE!"}},{"$f":"IF(A62>'Lakás Törlesztéscsökkentő fiók'!$J$10,0,'Lakás Törlesztéscsökkentő fiók'!$B$28)","v":0},{"$error":"#VALUE!"},{"$f":"IF(A62>'Lakás Törlesztéscsökkentő fiók'!$J$10,0,'Lakás Törlesztéscsökkentő fiók'!$J$11)","v":0},{"$f":"IF(OR(A62>'Lakás Törlesztéscsökkentő fiók'!$J$10,'Lakás Törlesztéscsökkentő fiók'!$B$24='Lakás Törlesztéscsökkentő fiók'!$T$5),0,'Lakás Törlesztéscsökkentő fiók'!$J$12+'Lakás Törlesztéscsökkentő fiók'!$J$13)","v":0},0,null,null,0,{"$f":"IRR($K$2:K62,0.05)","v":{"$error":"#VALUE!"}}]
[61,{"$error":"#VALUE!"},{"$f":"B63*'Lakás Törlesztéscsökkentő fiók'!$B$27/12","v":{"$error":"#VALUE!"}},{"$f":"IF(A63>'Lakás Törlesztéscsökkentő fiók'!$J$10,0,'Lakás Törlesztéscsökkentő fiók'!$B$28)","v":0},{"$error":"#VALUE!"},{"$f":"IF(A63>'Lakás Törlesztéscsökkentő fiók'!$J$10,0,'Lakás Törlesztéscsökkentő fiók'!$J$11)","v":0},{"$f":"IF(OR(A63>'Lakás Törlesztéscsökkentő fiók'!$J$10,'Lakás Törlesztéscsökkentő fiók'!$B$24='Lakás Törlesztéscsökkentő fiók'!$T$5),0,'Lakás Törlesztéscsökkentő fiók'!$J$12+'Lakás Törlesztéscsökkentő fiók'!$J$13)","v":0},0,null,null,0,{"$f":"IRR($K$2:K63,0.05)","v":{"$error":"#VALUE!"}}]
[62,{"$error":"#VALUE!"},{"$f":"B64*'Lakás Törlesztéscsökkentő fiók'!$B$27/12","v":{"$error":"#VALUE!"}},{"$f":"IF(A64>'Lakás Törlesztéscsökkentő fiók'!$J$10,0,'Lakás Törlesztéscsökkentő fiók'!$B$28)","v":0},{"$error":"#VALUE!"},{"$f":"IF(A64>'Lakás Törlesztéscsökkentő fiók'!$J$10,0,'Lakás Törlesztéscsökkentő fiók'!$J$11)","v":0},{"$f":"IF(OR(A64>'Lakás Törlesztéscsökkentő fiók'!$J$10,'Lakás Törlesztéscsökkentő fiók'!$B$24='Lakás Törlesztéscsökkentő fiók'!$T$5),0,'Lakás Törlesztéscsökkentő fiók'!$J$12+'Lakás Törlesztéscsökkentő fiók'!$J$13)","v":0},0,null,null,0,{"$f":"IRR($K$2:K64,0.05)","v":{"$error":"#VALUE!"}}]
[63,{"$error":"#VALUE!"},{"$f":"B65*'Lakás Törlesztéscsökkentő fiók'!$B$27/12","v":{"$error":"#VALUE!"}},{"$f":"IF(A65>'Lakás Törlesztéscsökkentő fiók'!$J$10,0,'Lakás Törlesztéscsökkentő fiók'!$B$28)","v":0},{"$error":"#VALUE!"},{"$f":"IF(A65>'Lakás Törlesztéscsökkentő fiók'!$J$10,0,'Lakás Törlesztéscsökkentő fiók'!$J$11)","v":0},{"$f":"IF(OR(A65>'Lakás Törlesztéscsökkentő fiók'!$J$10,'Lakás Törlesztéscsökkentő fiók'!$B$24='Lakás Törlesztéscsökkentő fiók'!$T$5),0,'Lakás Törlesztéscsökkentő fiók'!$J$12+'Lakás Törlesztéscsökkentő fiók'!$J$13)","v":0},0,null,null,0,{"$f":"IRR($K$2:K65,0.05)","v":{"$error":"#VALUE!"}}]
[64,{"$error":"#VALUE!"},{"$f":"B66*'Lakás Törlesztéscsökkentő fiók'!$B$27/12","v":{"$error":"#VALUE!"}},{"$f":"IF(A66>'Lakás Törlesztéscsökkentő fiók'!$J$10,0,'Lakás Törlesztéscsökkentő fiók'!$B$28)","v":0},{"$error":"#VALUE!"},{"$f":"IF(A66>'Lakás Törlesztéscsökkentő fiók'!$J$10,0,'Lakás Törlesztéscsökkentő fiók'!$J$11)","v":0},{"$f":"IF(OR(A66>'Lakás Törlesztéscsökkentő fiók'!$J$10,'Lakás Törlesztéscsökkentő fiók'!$B$24='Lakás Törlesztéscsökkentő fiók'!$T$5),0,'Lakás Törlesztéscsökkentő fiók'!$J$12+'Lakás Törlesztéscsökkentő fiók'!$J$13)","v":0},0,null,null,0,{"$f":"IRR($K$2:K66,0.05)","v":{"$error":"#VALUE!"}}]
[65,{"$error":"#VALUE!"},{"$f":"B67*'Lakás Törlesztéscsökkentő fiók'!$B$27/12","v":{"$error":"#VALUE!"}},{"$f":"IF(A67>'Lakás Törlesztéscsökkentő fiók'!$J$10,0,'Lakás Törlesztéscsökkentő fiók'!$B$28)","v":0},{"$error":"#VALUE!"},{"$f":"IF(A67>'Lakás Törlesztéscsökkentő fiók'!$J$10,0,'Lakás Törlesztéscsökkentő fiók'!$J$11)","v":0},{"$f":"IF(OR(A67>'Lakás Törlesztéscsökkentő fiók'!$J$10,'Lakás Törlesztéscsökkentő fiók'!$B$24='Lakás Törlesztéscsökkentő fiók'!$T$5),0,'Lakás Törlesztéscsökkentő fiók'!$J$12+'Lakás Törlesztéscsökkentő fiók'!$J$13)","v":0},0,null,null,0,{"$f":"IRR($K$2:K67,0.05)","v":{"$error":"#VALUE!"}}]
[66,{"$error":"#VALUE!"},{"$f":"B68*'Lakás Törlesztéscsökkentő fiók'!$B$27/12","v":{"$error":"#VALUE!"}},{"$f":"IF(A68>'Lakás Törlesztéscsökkentő fiók'!$J$10,0,'Lakás Törlesztéscsökkentő fiók'!$B$28)","v":0},{"$f":"+B68+C68-D68","v":{"$error":"#VALUE!"}},{"$f":"IF(A68>'Lakás Törlesztéscsökkentő fiók'!$J$10,0,'Lakás Törlesztéscsökkentő fiók'!$J$11)","v":0},{"$f":"IF(OR(A68>'Lakás Törlesztéscsökkentő fiók'!$J$10,'Lakás Törlesztéscsökkentő fiók'!$B$24='Lakás Törlesztéscsökkentő fiók'!$T$5),0,'Lakás Törlesztéscsökkentő fiók'!$J$12+'Lakás Törlesztéscsökkentő fiók'!$J$13)","v":0},0,null,null,{"$f":"D68+F68+G68","v":0},{"$f":"IRR($K$2:K68,0.05)","v":{"$error":"#VALUE!"}}]
[{"$f":"+A68+1","v":67},{"$f":"+E68","v":{"$error":"#VALUE!"}},{"$f":"B69*'Lakás Törlesztéscsökkentő fiók'!$B$27/12","v":{"$error":"#VALUE!"}},{"$f":"IF(A69>'Lakás Törlesztéscsökkentő fiók'!$J$10,0,'Lakás Törlesztéscsökkentő fiók'!$B$28)","v":0},{"$error":"#VALUE!"},{"$f":"IF(A69>'Lakás Törlesztéscsökkentő fiók'!$J$10,0,'Lakás Törlesztéscsökkentő fiók'!$J$11)","v":0},{"$f":"IF(OR(A69>'Lakás Törlesztéscsökkentő fiók'!$J$10,'Lakás Törlesztéscsökkentő fiók'!$B$24='Lakás Törlesztéscsökkentő fiók'!$T$5),0,'Lakás Törlesztéscsökkentő fiók'!$J$12+'Lakás Törlesztéscsökkentő fiók'!$J$13)","v":0},{"$f":"H68+(D69+F69+G69)/(1+$H$1)^(A69/12)","v":0},null,null,0,{"$f":"IRR($K$2:K69,0.05)","v":{"$error":"#VALUE!"}}]
[68,{"$error":"#VALUE!"},{"$f":"B70*'Lakás Törlesztéscsökkentő fiók'!$B$27/12","v":{"$error":"#VALUE!"}},{"$f":"IF(A70>'Lakás Törlesztéscsökkentő fiók'!$J$10,0,'Lakás Törlesztéscsökkentő fiók'!$B$28)","v":0},{"$error":"#VALUE!"},{"$f":"IF(A70>'Lakás Törlesztéscsökkentő fiók'!$J$10,0,'Lakás Törlesztéscsökkentő fiók'!$J$11)","v":0},{"$f":"IF(OR(A70>'Lakás Törlesztéscsökkentő fiók'!$J$10,'Lakás Törlesztéscsökkentő fiók'!$B$24='Lakás Törlesztéscsökkentő fiók'!$T$5),0,'Lakás Törlesztéscsökkentő fiók'!$J$12+'Lakás Törlesztéscsökkentő fiók'!$J$13)","v":0},0,null,null,0,{"$f":"IRR($K$2:K70,0.05)","v":{"$error":"#VALUE!"}}]
[69,{"$error":"#VALUE!"},{"$f":"B71*'Lakás Törlesztéscsökkentő fiók'!$B$27/12","v":{"$error":"#VALUE!"}},{"$f":"IF(A71>'Lakás Törlesztéscsökkentő fiók'!$J$10,0,'Lakás Törlesztéscsökkentő fiók'!$B$28)","v":0},{"$error":"#VALUE!"},{"$f":"IF(A71>'Lakás Törlesztéscsökkentő fiók'!$J$10,0,'Lakás Törlesztéscsökkentő fiók'!$J$11)","v":0},{"$f":"IF(OR(A71>'Lakás Törlesztéscsökkentő fiók'!$J$10,'Lakás Törlesztéscsökkentő fiók'!$B$24='Lakás Törlesztéscsökkentő fiók'!$T$5),0,'Lakás Törlesztéscsökkentő fiók'!$J$12+'Lakás Törlesztéscsökkentő fiók'!$J$13)","v":0},0,null,null,0,{"$f":"IRR($K$2:K71,0.05)","v":{"$error":"#VALUE!"}}]
[70,{"$error":"#VALUE!"},{"$f":"B72*'Lakás Törlesztéscsökkentő fiók'!$B$27/12","v":{"$error":"#VALUE!"}},{"$f":"IF(A72>'Lakás Törlesztéscsökkentő fiók'!$J$10,0,'Lakás Törlesztéscsökkentő fiók'!$B$28)","v":0},{"$error":"#VALUE!"},{"$f":"IF(A72>'Lakás Törlesztéscsökkentő fiók'!$J$10,0,'Lakás Törlesztéscsökkentő fiók'!$J$11)","v":0},{"$f":"IF(OR(A72>'Lakás Törlesztéscsökkentő fiók'!$J$10,'Lakás Törlesztéscsökkentő fiók'!$B$24='Lakás Törlesztéscsökkentő fiók'!$T$5),0,'Lakás Törlesztéscsökkentő fiók'!$J$12+'Lakás Törlesztéscsökkentő fiók'!$J$13)","v":0},0,null,null,0,{"$f":"IRR($K$2:K72,0.05)","v":{"$error":"#VALUE!"}}]
[71,{"$error":"#VALUE!"},{"$f":"B73*'Lakás Törlesztéscsökkentő fiók'!$B$27/12","v":{"$error":"#VALUE!"}},{"$f":"IF(A73>'Lakás Törlesztéscsökkentő fiók'!$J$10,0,'Lakás Törlesztéscsökkentő fiók'!$B$28)","v":0},{"$error":"#VALUE!"},{"$f":"IF(A73>'Lakás Törlesztéscsökkentő fiók'!$J$10,0,'Lakás Törlesztéscsökkentő fiók'!$J$11)","v":0},{"$f":"IF(OR(A73>'Lakás Törlesztéscsökkentő fiók'!$J$10,'Lakás Törlesztéscsökkentő fiók'!$B$24='Lakás Törlesztéscsökkentő fiók'!$T$5),0,'Lakás Törlesztéscsökkentő fiók'!$J$12+'Lakás Törlesztéscsökkentő fiók'!$J$13)","v":0},0,null,null,0,{"$f":"IRR($K$2:K73,0.05)","v":{"$error":"#VALUE!"}}]
[72,{"$error":"#VALUE!"},{"$f":"B74*'Lakás Törlesztéscsökkentő fiók'!$B$27/12","v":{"$error":"#VALUE!"}},{"$f":"IF(A74>'Lakás Törlesztéscsökkentő fiók'!$J$10,0,'Lakás Törlesztéscsökkentő fiók'!$B$28)","v":0},{"$error":"#VALUE!"},{"$f":"IF(A74>'Lakás Törlesztéscsökkentő fiók'!$J$10,0,'Lakás Törlesztéscsökkentő fiók'!$J$11)","v":0},{"$f":"IF(OR(A74>'Lakás Törlesztéscsökkentő fiók'!$J$10,'Lakás Törlesztéscsökkentő fiók'!$B$24='Lakás Törlesztéscsökkentő fiók'!$T$5),0,'Lakás Törlesztéscsökkentő fiók'!$J$12+'Lakás Törlesztéscsökkentő fiók'!$J$13)","v":0},0,null,null,0,{"$f":"IRR($K$2:K74,0.05)","v":{"$error":"#VALUE!"}}]
[73,{"$error":"#VALUE!"},{"$f":"B75*'Lakás Törlesztéscsökkentő fiók'!$B$27/12","v":{"$error":"#VALUE!"}},{"$f":"IF(A75>'Lakás Törlesztéscsökkentő fiók'!$J$10,0,'Lakás Törlesztéscsökkentő fiók'!$B$28)","v":0},{"$error":"#VALUE!"},{"$f":"IF(A75>'Lakás Törlesztéscsökkentő fiók'!$J$10,0,'Lakás Törlesztéscsökkentő fiók'!$J$11)","v":0},{"$f":"IF(OR(A75>'Lakás Törlesztéscsökkentő fiók'!$J$10,'Lakás Törlesztéscsökkentő fiók'!$B$24='Lakás Törlesztéscsökkentő fiók'!$T$5),0,'Lakás Törlesztéscsökkentő fiók'!$J$12+'Lakás Törlesztéscsökkentő fiók'!$J$13)","v":0},0,null,null,0,{"$f":"IRR($K$2:K75,0.05)","v":{"$error":"#VALUE!"}}]
[74,{"$error":"#VALUE!"},{"$f":"B76*'Lakás Törlesztéscsökkentő fiók'!$B$27/12","v":{"$error":"#VALUE!"}},{"$f":"IF(A76>'Lakás Törlesztéscsökkentő fiók'!$J$10,0,'Lakás Törlesztéscsökkentő fiók'!$B$28)","v":0},{"$error":"#VALUE!"},{"$f":"IF(A76>'Lakás Törlesztéscsökkentő fiók'!$J$10,0,'Lakás Törlesztéscsökkentő fiók'!$J$11)","v":0},{"$f":"IF(OR(A76>'Lakás Törlesztéscsökkentő fiók'!$J$10,'Lakás Törlesztéscsökkentő fiók'!$B$24='Lakás Törlesztéscsökkentő fiók'!$T$5),0,'Lakás Törlesztéscsökkentő fiók'!$J$12+'Lakás Törlesztéscsökkentő fiók'!$J$13)","v":0},0,null,null,0,{"$f":"IRR($K$2:K76,0.05)","v":{"$error":"#VALUE!"}}]
[75,{"$error":"#VALUE!"},{"$f":"B77*'Lakás Törlesztéscsökkentő fiók'!$B$27/12","v":{"$error":"#VALUE!"}},{"$f":"IF(A77>'Lakás Törlesztéscsökkentő fiók'!$J$10,0,'Lakás Törlesztéscsökkentő fiók'!$B$28)","v":0},{"$error":"#VALUE!"},{"$f":"IF(A77>'Lakás Törlesztéscsökkentő fiók'!$J$10,0,'Lakás Törlesztéscsökkentő fiók'!$J$11)","v":0},{"$f":"IF(OR(A77>'Lakás Törlesztéscsökkentő fiók'!$J$10,'Lakás Törlesztéscsökkentő fiók'!$B$24='Lakás Törlesztéscsökkentő fiók'!$T$5),0,'Lakás Törlesztéscsökkentő fiók'!$J$12+'Lakás Törlesztéscsökkentő fiók'!$J$13)","v":0},0,null,null,0,{"$f":"IRR($K$2:K77,0.05)","v":{"$error":"#VALUE!"}}]
[76,{"$error":"#VALUE!"},{"$f":"B78*'Lakás Törlesztéscsökkentő fiók'!$B$27/12","v":{"$error":"#VALUE!"}},{"$f":"IF(A78>'Lakás Törlesztéscsökkentő fiók'!$J$10,0,'Lakás Törlesztéscsökkentő fiók'!$B$28)","v":0},{"$error":"#VALUE!"},{"$f":"IF(A78>'Lakás Törlesztéscsökkentő fiók'!$J$10,0,'Lakás Törlesztéscsökkentő fiók'!$J$11)","v":0},{"$f":"IF(OR(A78>'Lakás Törlesztéscsökkentő fiók'!$J$10,'Lakás Törlesztéscsökkentő fiók'!$B$24='Lakás Törlesztéscsökkentő fiók'!$T$5),0,'Lakás Törlesztéscsökkentő fiók'!$J$12+'Lakás Törlesztéscsökkentő fiók'!$J$13)","v":0},0,null,null,0,{"$f":"IRR($K$2:K78,0.05)","v":{"$error":"#VALUE!"}}]
[77,{"$error":"#VALUE!"},{"$f":"B79*'Lakás Törlesztéscsökkentő fiók'!$B$27/12","v":{"$error":"#VALUE!"}},{"$f":"IF(A79>'Lakás Törlesztéscsökkentő fiók'!$J$10,0,'Lakás Törlesztéscsökkentő fiók'!$B$28)","v":0},{"$error":"#VALUE!"},{"$f":"IF(A79>'Lakás Törlesztéscsökkentő fiók'!$J$10,0,'Lakás Törlesztéscsökkentő fiók'!$J$11)","v":0},{"$f":"IF(OR(A79>'Lakás Törlesztéscsökkentő fiók'!$J$10,'Lakás Törlesztéscsökkentő fiók'!$B$24='Lakás Törlesztéscsökkentő fiók'!$T$5),0,'Lakás Törlesztéscsökkentő fiók'!$J$12+'Lakás Törlesztéscsökkentő fiók'!$J$13)","v":0},0,null,null,0,{"$f":"IRR($K$2:K79,0.05)","v":{"$error":"#VALUE!"}}]
[78,{"$error":"#VALUE!"},{"$f":"B80*'Lakás Törlesztéscsökkentő fiók'!$B$27/12","v":{"$error":"#VALUE!"}},{"$f":"IF(A80>'Lakás Törlesztéscsökkentő fiók'!$J$10,0,'Lakás Törlesztéscsökkentő fiók'!$B$28)","v":0},{"$error":"#VALUE!"},{"$f":"IF(A80>'Lakás Törlesztéscsökkentő fiók'!$J$10,0,'Lakás Törlesztéscsökkentő fiók'!$J$11)","v":0},{"$f":"IF(OR(A80>'Lakás Törlesztéscsökkentő fiók'!$J$10,'Lakás Törlesztéscsökkentő fiók'!$B$24='Lakás Törlesztéscsökkentő fiók'!$T$5),0,'Lakás Törlesztéscsökkentő fiók'!$J$12+'Lakás Törlesztéscsökkentő fiók'!$J$13)","v":0},0,null,null,0,{"$f":"IRR($K$2:K80,0.05)","v":{"$error":"#VALUE!"}}]
[79,{"$error":"#VALUE!"},{"$f":"B81*'Lakás Törlesztéscsökkentő fiók'!$B$27/12","v":{"$error":"#VALUE!"}},{"$f":"IF(A81>'Lakás Törlesztéscsökkentő fiók'!$J$10,0,'Lakás Törlesztéscsökkentő fiók'!$B$28)","v":0},{"$error":"#VALUE!"},{"$f":"IF(A81>'Lakás Törlesztéscsökkentő fiók'!$J$10,0,'Lakás Törlesztéscsökkentő fiók'!$J$11)","v":0},{"$f":"IF(OR(A81>'Lakás Törlesztéscsökkentő fiók'!$J$10,'Lakás Törlesztéscsökkentő fiók'!$B$24='Lakás Törlesztéscsökkentő fiók'!$T$5),0,'Lakás Törlesztéscsökkentő fiók'!$J$12+'Lakás Törlesztéscsökkentő fiók'!$J$13)","v":0},0,null,null,0,{"$f":"IRR($K$2:K81,0.05)","v":{"$error":"#VALUE!"}}]
[80,{"$error":"#VALUE!"},{"$f":"B82*'Lakás Törlesztéscsökkentő fiók'!$B$27/12","v":{"$error":"#VALUE!"}},{"$f":"IF(A82>'Lakás Törlesztéscsökkentő fiók'!$J$10,0,'Lakás Törlesztéscsökkentő fiók'!$B$28)","v":0},{"$error":"#VALUE!"},{"$f":"IF(A82>'Lakás Törlesztéscsökkentő fiók'!$J$10,0,'Lakás Törlesztéscsökkentő fiók'!$J$11)","v":0},{"$f":"IF(OR(A82>'Lakás Törlesztéscsökkentő fiók'!$J$10,'Lakás Törlesztéscsökkentő fiók'!$B$24='Lakás Törlesztéscsökkentő fiók'!$T$5),0,'Lakás Törlesztéscsökkentő fiók'!$J$12+'Lakás Törlesztéscsökkentő fiók'!$J$13)","v":0},0,null,null,0,{"$f":"IRR($K$2:K82,0.05)","v":{"$error":"#VALUE!"}}]
[81,{"$error":"#VALUE!"},{"$f":"B83*'Lakás Törlesztéscsökkentő fiók'!$B$27/12","v":{"$error":"#VALUE!"}},{"$f":"IF(A83>'Lakás Törlesztéscsökkentő fiók'!$J$10,0,'Lakás Törlesztéscsökkentő fiók'!$B$28)","v":0},{"$error":"#VALUE!"},{"$f":"IF(A83>'Lakás Törlesztéscsökkentő fiók'!$J$10,0,'Lakás Törlesztéscsökkentő fiók'!$J$11)","v":0},{"$f":"IF(OR(A83>'Lakás Törlesztéscsökkentő fiók'!$J$10,'Lakás Törlesztéscsökkentő fiók'!$B$24='Lakás Törlesztéscsökkentő fiók'!$T$5),0,'Lakás Törlesztéscsökkentő fiók'!$J$12+'Lakás Törlesztéscsökkentő fiók'!$J$13)","v":0},0,null,null,0,{"$f":"IRR($K$2:K83,0.05)","v":{"$error":"#VALUE!"}}]
[82,{"$error":"#VALUE!"},{"$f":"B84*'Lakás Törlesztéscsökkentő fiók'!$B$27/12","v":{"$error":"#VALUE!"}},{"$f":"IF(A84>'Lakás Törlesztéscsökkentő fiók'!$J$10,0,'Lakás Törlesztéscsökkentő fiók'!$B$28)","v":0},{"$error":"#VALUE!"},{"$f":"IF(A84>'Lakás Törlesztéscsökkentő fiók'!$J$10,0,'Lakás Törlesztéscsökkentő fiók'!$J$11)","v":0},{"$f":"IF(OR(A84>'Lakás Törlesztéscsökkentő fiók'!$J$10,'Lakás Törlesztéscsökkentő fiók'!$B$24='Lakás Törlesztéscsökkentő fiók'!$T$5),0,'Lakás Törlesztéscsökkentő fiók'!$J$12+'Lakás Törlesztéscsökkentő fiók'!$J$13)","v":0},0,null,null,0,{"$f":"IRR($K$2:K84,0.05)","v":{"$error":"#VALUE!"}}]
[83,{"$error":"#VALUE!"},{"$f":"B85*'Lakás Törlesztéscsökkentő fiók'!$B$27/12","v":{"$error":"#VALUE!"}},{"$f":"IF(A85>'Lakás Törlesztéscsökkentő fiók'!$J$10,0,'Lakás Törlesztéscsökkentő fiók'!$B$28)","v":0},{"$error":"#VALUE!"},{"$f":"IF(A85>'Lakás Törlesztéscsökkentő fiók'!$J$10,0,'Lakás Törlesztéscsökkentő fiók'!$J$11)","v":0},{"$f":"IF(OR(A85>'Lakás Törlesztéscsökkentő fiók'!$J$10,'Lakás Törlesztéscsökkentő fiók'!$B$24='Lakás Törlesztéscsökkentő fiók'!$T$5),0,'Lakás Törlesztéscsökkentő fiók'!$J$12+'Lakás Törlesztéscsökkentő fiók'!$J$13)","v":0},0,null,null,0,{"$f":"IRR($K$2:K85,0.05)","v":{"$error":"#VALUE!"}}]
[84,{"$error":"#VALUE!"},{"$f":"B86*'Lakás Törlesztéscsökkentő fiók'!$B$27/12","v":{"$error":"#VALUE!"}},{"$f":"IF(A86>'Lakás Törlesztéscsökkentő fiók'!$J$10,0,'Lakás Törlesztéscsökkentő fiók'!$B$28)","v":0},{"$error":"#VALUE!"},{"$f":"IF(A86>'Lakás Törlesztéscsökkentő fiók'!$J$10,0,'Lakás Törlesztéscsökkentő fiók'!$J$11)","v":0},{"$f":"IF(OR(A86>'Lakás Törlesztéscsökkentő fiók'!$J$10,'Lakás Törlesztéscsökkentő fiók'!$B$24='Lakás Törlesztéscsökkentő fiók'!$T$5),0,'Lakás Törlesztéscsökkentő fiók'!$J$12+'Lakás Törlesztéscsökkentő fiók'!$J$13)","v":0},0,null,null,0,{"$f":"IRR($K$2:K86,0.05)","v":{"$error":"#VALUE!"}}]
[85,{"$error":"#VALUE!"},{"$f":"B87*'Lakás Törlesztéscsökkentő fiók'!$B$27/12","v":{"$error":"#VALUE!"}},{"$f":"IF(A87>'Lakás Törlesztéscsökkentő fiók'!$J$10,0,'Lakás Törlesztéscsökkentő fiók'!$B$28)","v":0},{"$error":"#VALUE!"},{"$f":"IF(A87>'Lakás Törlesztéscsökkentő fiók'!$J$10,0,'Lakás Törlesztéscsökkentő fiók'!$J$11)","v":0},{"$f":"IF(OR(A87>'Lakás Törlesztéscsökkentő fiók'!$J$10,'Lakás Törlesztéscsökkentő fiók'!$B$24='Lakás Törlesztéscsökkentő fiók'!$T$5),0,'Lakás Törlesztéscsökkentő fiók'!$J$12+'Lakás Törlesztéscsökkentő fiók'!$J$13)","v":0},0,null,null,0,{"$f":"IRR($K$2:K87,0.05)","v":{"$error":"#VALUE!"}}]
[86,{"$error":"#VALUE!"},{"$f":"B88*'Lakás Törlesztéscsökkentő fiók'!$B$27/12","v":{"$error":"#VALUE!"}},{"$f":"IF(A88>'Lakás Törlesztéscsökkentő fiók'!$J$10,0,'Lakás Törlesztéscsökkentő fiók'!$B$28)","v":0},{"$error":"#VALUE!"},{"$f":"IF(A88>'Lakás Törlesztéscsökkentő fiók'!$J$10,0,'Lakás Törlesztéscsökkentő fiók'!$J$11)","v":0},{"$f":"IF(OR(A88>'Lakás Törlesztéscsökkentő fiók'!$J$10,'Lakás Törlesztéscsökkentő fiók'!$B$24='Lakás Törlesztéscsökkentő fiók'!$T$5),0,'Lakás Törlesztéscsökkentő fiók'!$J$12+'Lakás Törlesztéscsökkentő fiók'!$J$13)","v":0},0,null,null,0,{"$f":"IRR($K$2:K88,0.05)","v":{"$error":"#VALUE!"}}]
[87,{"$error":"#VALUE!"},{"$f":"B89*'Lakás Törlesztéscsökkentő fiók'!$B$27/12","v":{"$error":"#VALUE!"}},{"$f":"IF(A89>'Lakás Törlesztéscsökkentő fiók'!$J$10,0,'Lakás Törlesztéscsökkentő fiók'!$B$28)","v":0},{"$error":"#VALUE!"},{"$f":"IF(A89>'Lakás Törlesztéscsökkentő fiók'!$J$10,0,'Lakás Törlesztéscsökkentő fiók'!$J$11)","v":0},{"$f":"IF(OR(A89>'Lakás Törlesztéscsökkentő fiók'!$J$10,'Lakás Törlesztéscsökkentő fiók'!$B$24='Lakás Törlesztéscsökkentő fiók'!$T$5),0,'Lakás Törlesztéscsökkentő fiók'!$J$12+'Lakás Törlesztéscsökkentő fiók'!$J$13)","v":0},0,null,null,0,{"$f":"IRR($K$2:K89,0.05)","v":{"$error":"#VALUE!"}}]
[88,{"$error":"#VALUE!"},{"$f":"B90*'Lakás Törlesztéscsökkentő fiók'!$B$27/12","v":{"$error":"#VALUE!"}},{"$f":"IF(A90>'Lakás Törlesztéscsökkentő fiók'!$J$10,0,'Lakás Törlesztéscsökkentő fiók'!$B$28)","v":0},{"$error":"#VALUE!"},{"$f":"IF(A90>'Lakás Törlesztéscsökkentő fiók'!$J$10,0,'Lakás Törlesztéscsökkentő fiók'!$J$11)","v":0},{"$f":"IF(OR(A90>'Lakás Törlesztéscsökkentő fiók'!$J$10,'Lakás Törlesztéscsökkentő fiók'!$B$24='Lakás Törlesztéscsökkentő fiók'!$T$5),0,'Lakás Törlesztéscsökkentő fiók'!$J$12+'Lakás Törlesztéscsökkentő fiók'!$J$13)","v":0},0,null,null,0,{"$f":"IRR($K$2:K90,0.05)","v":{"$error":"#VALUE!"}}]
[89,{"$error":"#VALUE!"},{"$f":"B91*'Lakás Törlesztéscsökkentő fiók'!$B$27/12","v":{"$error":"#VALUE!"}},{"$f":"IF(A91>'Lakás Törlesztéscsökkentő fiók'!$J$10,0,'Lakás Törlesztéscsökkentő fiók'!$B$28)","v":0},{"$error":"#VALUE!"},{"$f":"IF(A91>'Lakás Törlesztéscsökkentő fiók'!$J$10,0,'Lakás Törlesztéscsökkentő fiók'!$J$11)","v":0},{"$f":"IF(OR(A91>'Lakás Törlesztéscsökkentő fiók'!$J$10,'Lakás Törlesztéscsökkentő fiók'!$B$24='Lakás Törlesztéscsökkentő fiók'!$T$5),0,'Lakás Törlesztéscsökkentő fiók'!$J$12+'Lakás Törlesztéscsökkentő fiók'!$J$13)","v":0},0,null,null,0,{"$f":"IRR($K$2:K91,0.05)","v":{"$error":"#VALUE!"}}]
[90,{"$error":"#VALUE!"},{"$f":"B92*'Lakás Törlesztéscsökkentő fiók'!$B$27/12","v":{"$error":"#VALUE!"}},{"$f":"IF(A92>'Lakás Törlesztéscsökkentő fiók'!$J$10,0,'Lakás Törlesztéscsökkentő fiók'!$B$28)","v":0},{"$error":"#VALUE!"},{"$f":"IF(A92>'Lakás Törlesztéscsökkentő fiók'!$J$10,0,'Lakás Törlesztéscsökkentő fiók'!$J$11)","v":0},{"$f":"IF(OR(A92>'Lakás Törlesztéscsökkentő fiók'!$J$10,'Lakás Törlesztéscsökkentő fiók'!$B$24='Lakás Törlesztéscsökkentő fiók'!$T$5),0,'Lakás Törlesztéscsökkentő fiók'!$J$12+'Lakás Törlesztéscsökkentő fiók'!$J$13)","v":0},0,null,null,0,{"$f":"IRR($K$2:K92,0.05)","v":{"$error":"#VALUE!"}}]
[91,{"$error":"#VALUE!"},{"$f":"B93*'Lakás Törlesztéscsökkentő fiók'!$B$27/12","v":{"$error":"#VALUE!"}},{"$f":"IF(A93>'Lakás Törlesztéscsökkentő fiók'!$J$10,0,'Lakás Törlesztéscsökkentő fiók'!$B$28)","v":0},{"$error":"#VALUE!"},{"$f":"IF(A93>'Lakás Törlesztéscsökkentő fiók'!$J$10,0,'Lakás Törlesztéscsökkentő fiók'!$J$11)","v":0},{"$f":"IF(OR(A93>'Lakás Törlesztéscsökkentő fiók'!$J$10,'Lakás Törlesztéscsökkentő fiók'!$B$24='Lakás Törlesztéscsökkentő fiók'!$T$5),0,'Lakás Törlesztéscsökkentő fiók'!$J$12+'Lakás Törlesztéscsökkentő fiók'!$J$13)","v":0},0,null,null,0,{"$f":"IRR($K$2:K93,0.05)","v":{"$error":"#VALUE!"}}]
[92,{"$error":"#VALUE!"},{"$f":"B94*'Lakás Törlesztéscsökkentő fiók'!$B$27/12","v":{"$error":"#VALUE!"}},{"$f":"IF(A94>'Lakás Törlesztéscsökkentő fiók'!$J$10,0,'Lakás Törlesztéscsökkentő fiók'!$B$28)","v":0},{"$error":"#VALUE!"},{"$f":"IF(A94>'Lakás Törlesztéscsökkentő fiók'!$J$10,0,'Lakás Törlesztéscsökkentő fiók'!$J$11)","v":0},{"$f":"IF(OR(A94>'Lakás Törlesztéscsökkentő fiók'!$J$10,'Lakás Törlesztéscsökkentő fiók'!$B$24='Lakás Törlesztéscsökkentő fiók'!$T$5),0,'Lakás Törlesztéscsökkentő fiók'!$J$12+'Lakás Törlesztéscsökkentő fiók'!$J$13)","v":0},0,null,null,0,{"$f":"IRR($K$2:K94,0.05)","v":{"$error":"#VALUE!"}}]
[93,{"$error":"#VALUE!"},{"$f":"B95*'Lakás Törlesztéscsökkentő fiók'!$B$27/12","v":{"$error":"#VALUE!"}},{"$f":"IF(A95>'Lakás Törlesztéscsökkentő fiók'!$J$10,0,'Lakás Törlesztéscsökkentő fiók'!$B$28)","v":0},{"$error":"#VALUE!"},{"$f":"IF(A95>'Lakás Törlesztéscsökkentő fiók'!$J$10,0,'Lakás Törlesztéscsökkentő fiók'!$J$11)","v":0},{"$f":"IF(OR(A95>'Lakás Törlesztéscsökkentő fiók'!$J$10,'Lakás Törlesztéscsökkentő fiók'!$B$24='Lakás Törlesztéscsökkentő fiók'!$T$5),0,'Lakás Törlesztéscsökkentő fiók'!$J$12+'Lakás Törlesztéscsökkentő fiók'!$J$13)","v":0},0,null,null,0,{"$f":"IRR($K$2:K95,0.05)","v":{"$error":"#VALUE!"}}]
[94,{"$error":"#VALUE!"},{"$f":"B96*'Lakás Törlesztéscsökkentő fiók'!$B$27/12","v":{"$error":"#VALUE!"}},{"$f":"IF(A96>'Lakás Törlesztéscsökkentő fiók'!$J$10,0,'Lakás Törlesztéscsökkentő fiók'!$B$28)","v":0},{"$error":"#VALUE!"},{"$f":"IF(A96>'Lakás Törlesztéscsökkentő fiók'!$J$10,0,'Lakás Törlesztéscsökkentő fiók'!$J$11)","v":0},{"$f":"IF(OR(A96>'Lakás Törlesztéscsökkentő fiók'!$J$10,'Lakás Törlesztéscsökkentő fiók'!$B$24='Lakás Törlesztéscsökkentő fiók'!$T$5),0,'Lakás Törlesztéscsökkentő fiók'!$J$12+'Lakás Törlesztéscsökkentő fiók'!$J$13)","v":0},0,null,null,0,{"$f":"IRR($K$2:K96,0.05)","v":{"$error":"#VALUE!"}}]
[95,{"$error":"#VALUE!"},{"$f":"B97*'Lakás Törlesztéscsökkentő fiók'!$B$27/12","v":{"$error":"#VALUE!"}},{"$f":"IF(A97>'Lakás Törlesztéscsökkentő fiók'!$J$10,0,'Lakás Törlesztéscsökkentő fiók'!$B$28)","v":0},{"$error":"#VALUE!"},{"$f":"IF(A97>'Lakás Törlesztéscsökkentő fiók'!$J$10,0,'Lakás Törlesztéscsökkentő fiók'!$J$11)","v":0},{"$f":"IF(OR(A97>'Lakás Törlesztéscsökkentő fiók'!$J$10,'Lakás Törlesztéscsökkentő fiók'!$B$24='Lakás Törlesztéscsökkentő fiók'!$T$5),0,'Lakás Törlesztéscsökkentő fiók'!$J$12+'Lakás Törlesztéscsökkentő fiók'!$J$13)","v":0},0,null,null,0,{"$f":"IRR($K$2:K97,0.05)","v":{"$error":"#VALUE!"}}]
[96,{"$error":"#VALUE!"},{"$f":"B98*'Lakás Törlesztéscsökkentő fiók'!$B$27/12","v":{"$error":"#VALUE!"}},{"$f":"IF(A98>'Lakás Törlesztéscsökkentő fiók'!$J$10,0,'Lakás Törlesztéscsökkentő fiók'!$B$28)","v":0},{"$error":"#VALUE!"},{"$f":"IF(A98>'Lakás Törlesztéscsökkentő fiók'!$J$10,0,'Lakás Törlesztéscsökkentő fiók'!$J$11)","v":0},{"$f":"IF(OR(A98>'Lakás Törlesztéscsökkentő fiók'!$J$10,'Lakás Törlesztéscsökkentő fiók'!$B$24='Lakás Törlesztéscsökkentő fiók'!$T$5),0,'Lakás Törlesztéscsökkentő fiók'!$J$12+'Lakás Törlesztéscsökkentő fiók'!$J$13)","v":0},0,null,null,0,{"$f":"IRR($K$2:K98,0.05)","v":{"$error":"#VALUE!"}}]
[97,{"$error":"#VALUE!"},{"$f":"B99*'Lakás Törlesztéscsökkentő fiók'!$B$27/12","v":{"$error":"#VALUE!"}},{"$f":"IF(A99>'Lakás Törlesztéscsökkentő fiók'!$J$10,0,'Lakás Törlesztéscsökkentő fiók'!$B$28)","v":0},{"$error":"#VALUE!"},{"$f":"IF(A99>'Lakás Törlesztéscsökkentő fiók'!$J$10,0,'Lakás Törlesztéscsökkentő fiók'!$J$11)","v":0},{"$f":"IF(OR(A99>'Lakás Törlesztéscsökkentő fiók'!$J$10,'Lakás Törlesztéscsökkentő fiók'!$B$24='Lakás Törlesztéscsökkentő fiók'!$T$5),0,'Lakás Törlesztéscsökkentő fiók'!$J$12+'Lakás Törlesztéscsökkentő fiók'!$J$13)","v":0},0,null,null,0,{"$f":"IRR($K$2:K99,0.05)","v":{"$error":"#VALUE!"}}]
[98,{"$error":"#VALUE!"},{"$f":"B100*'Lakás Törlesztéscsökkentő fiók'!$B$27/12","v":{"$error":"#VALUE!"}},{"$f":"IF(A100>'Lakás Törlesztéscsökkentő fiók'!$J$10,0,'Lakás Törlesztéscsökkentő fiók'!$B$28)","v":0},{"$error":"#VALUE!"},{"$f":"IF(A100>'Lakás Törlesztéscsökkentő fiók'!$J$10,0,'Lakás Törlesztéscsökkentő fiók'!$J$11)","v":0},{"$f":"IF(OR(A100>'Lakás Törlesztéscsökkentő fiók'!$J$10,'Lakás Törlesztéscsökkentő fiók'!$B$24='Lakás Törlesztéscsökkentő fiók'!$T$5),0,'Lakás Törlesztéscsökkentő fiók'!$J$12+'Lakás Törlesztéscsökkentő fiók'!$J$13)","v":0},0,null,null,0,{"$f":"IRR($K$2:K100,0.05)","v":{"$error":"#VALUE!"}}]
[99,{"$error":"#VALUE!"},{"$f":"B101*'Lakás Törlesztéscsökkentő fiók'!$B$27/12","v":{"$error":"#VALUE!"}},{"$f":"IF(A101>'Lakás Törlesztéscsökkentő fiók'!$J$10,0,'Lakás Törlesztéscsökkentő fiók'!$B$28)","v":0},{"$error":"#VALUE!"},{"$f":"IF(A101>'Lakás Törlesztéscsökkentő fiók'!$J$10,0,'Lakás Törlesztéscsökkentő fiók'!$J$11)","v":0},{"$f":"IF(OR(A101>'Lakás Törlesztéscsökkentő fiók'!$J$10,'Lakás Törlesztéscsökkentő fiók'!$B$24='Lakás Törlesztéscsökkentő fiók'!$T$5),0,'Lakás Törlesztéscsökkentő fiók'!$J$12+'Lakás Törlesztéscsökkentő fiók'!$J$13)","v":0},0,null,null,0,{"$f":"IRR($K$2:K101,0.05)","v":{"$error":"#VALUE!"}}]
[100,{"$error":"#VALUE!"},{"$f":"B102*'Lakás Törlesztéscsökkentő fiók'!$B$27/12","v":{"$error":"#VALUE!"}},{"$f":"IF(A102>'Lakás Törlesztéscsökkentő fiók'!$J$10,0,'Lakás Törlesztéscsökkentő fiók'!$B$28)","v":0},{"$error":"#VALUE!"},{"$f":"IF(A102>'Lakás Törlesztéscsökkentő fiók'!$J$10,0,'Lakás Törlesztéscsökkentő fiók'!$J$11)","v":0},{"$f":"IF(OR(A102>'Lakás Törlesztéscsökkentő fiók'!$J$10,'Lakás Törlesztéscsökkentő fiók'!$B$24='Lakás Törlesztéscsökkentő fiók'!$T$5),0,'Lakás Törlesztéscsökkentő fiók'!$J$12+'Lakás Törlesztéscsökkentő fiók'!$J$13)","v":0},0,null,null,0,{"$f":"IRR($K$2:K102,0.05)","v":{"$error":"#VALUE!"}}]
[101,{"$error":"#VALUE!"},{"$f":"B103*'Lakás Törlesztéscsökkentő fiók'!$B$27/12","v":{"$error":"#VALUE!"}},{"$f":"IF(A103>'Lakás Törlesztéscsökkentő fiók'!$J$10,0,'Lakás Törlesztéscsökkentő fiók'!$B$28)","v":0},{"$error":"#VALUE!"},{"$f":"IF(A103>'Lakás Törlesztéscsökkentő fiók'!$J$10,0,'Lakás Törlesztéscsökkentő fiók'!$J$11)","v":0},{"$f":"IF(OR(A103>'Lakás Törlesztéscsökkentő fiók'!$J$10,'Lakás Törlesztéscsökkentő fiók'!$B$24='Lakás Törlesztéscsökkentő fiók'!$T$5),0,'Lakás Törlesztéscsökkentő fiók'!$J$12+'Lakás Törlesztéscsökkentő fiók'!$J$13)","v":0},0,null,null,0,{"$f":"IRR($K$2:K103,0.05)","v":{"$error":"#VALUE!"}}]
[102,{"$error":"#VALUE!"},{"$f":"B104*'Lakás Törlesztéscsökkentő fiók'!$B$27/12","v":{"$error":"#VALUE!"}},{"$f":"IF(A104>'Lakás Törlesztéscsökkentő fiók'!$J$10,0,'Lakás Törlesztéscsökkentő fiók'!$B$28)","v":0},{"$error":"#VALUE!"},{"$f":"IF(A104>'Lakás Törlesztéscsökkentő fiók'!$J$10,0,'Lakás Törlesztéscsökkentő fiók'!$J$11)","v":0},{"$f":"IF(OR(A104>'Lakás Törlesztéscsökkentő fiók'!$J$10,'Lakás Törlesztéscsökkentő fiók'!$B$24='Lakás Törlesztéscsökkentő fiók'!$T$5),0,'Lakás Törlesztéscsökkentő fiók'!$J$12+'Lakás Törlesztéscsökkentő fiók'!$J$13)","v":0},0,null,null,0,{"$f":"IRR($K$2:K104,0.05)","v":{"$error":"#VALUE!"}}]
[103,{"$error":"#VALUE!"},{"$f":"B105*'Lakás Törlesztéscsökkentő fiók'!$B$27/12","v":{"$error":"#VALUE!"}},{"$f":"IF(A105>'Lakás Törlesztéscsökkentő fiók'!$J$10,0,'Lakás Törlesztéscsökkentő fiók'!$B$28)","v":0},{"$error":"#VALUE!"},{"$f":"IF(A105>'Lakás Törlesztéscsökkentő fiók'!$J$10,0,'Lakás Törlesztéscsökkentő fiók'!$J$11)","v":0},{"$f":"IF(OR(A105>'Lakás Törlesztéscsökkentő fiók'!$J$10,'Lakás Törlesztéscsökkentő fiók'!$B$24='Lakás Törlesztéscsökkentő fiók'!$T$5),0,'Lakás Törlesztéscsökkentő fiók'!$J$12+'Lakás Törlesztéscsökkentő fiók'!$J$13)","v":0},0,null,null,0,{"$f":"IRR($K$2:K105,0.05)","v":{"$error":"#VALUE!"}}]
[104,{"$error":"#VALUE!"},{"$f":"B106*'Lakás Törlesztéscsökkentő fiók'!$B$27/12","v":{"$error":"#VALUE!"}},{"$f":"IF(A106>'Lakás Törlesztéscsökkentő fiók'!$J$10,0,'Lakás Törlesztéscsökkentő fiók'!$B$28)","v":0},{"$error":"#VALUE!"},{"$f":"IF(A106>'Lakás Törlesztéscsökkentő fiók'!$J$10,0,'Lakás Törlesztéscsökkentő fiók'!$J$11)","v":0},{"$f":"IF(OR(A106>'Lakás Törlesztéscsökkentő fiók'!$J$10,'Lakás Törlesztéscsökkentő fiók'!$B$24='Lakás Törlesztéscsökkentő fiók'!$T$5),0,'Lakás Törlesztéscsökkentő fiók'!$J$12+'Lakás Törlesztéscsökkentő fiók'!$J$13)","v":0},0,null,null,0,{"$f":"IRR($K$2:K106,0.05)","v":{"$error":"#VALUE!"}}]
[105,{"$error":"#VALUE!"},{"$f":"B107*'Lakás Törlesztéscsökkentő fiók'!$B$27/12","v":{"$error":"#VALUE!"}},{"$f":"IF(A107>'Lakás Törlesztéscsökkentő fiók'!$J$10,0,'Lakás Törlesztéscsökkentő fiók'!$B$28)","v":0},{"$error":"#VALUE!"},{"$f":"IF(A107>'Lakás Törlesztéscsökkentő fiók'!$J$10,0,'Lakás Törlesztéscsökkentő fiók'!$J$11)","v":0},{"$f":"IF(OR(A107>'Lakás Törlesztéscsökkentő fiók'!$J$10,'Lakás Törlesztéscsökkentő fiók'!$B$24='Lakás Törlesztéscsökkentő fiók'!$T$5),0,'Lakás Törlesztéscsökkentő fiók'!$J$12+'Lakás Törlesztéscsökkentő fiók'!$J$13)","v":0},0,null,null,0,{"$f":"IRR($K$2:K107,0.05)","v":{"$error":"#VALUE!"}}]
[106,{"$error":"#VALUE!"},{"$f":"B108*'Lakás Törlesztéscsökkentő fiók'!$B$27/12","v":{"$error":"#VALUE!"}},{"$f":"IF(A108>'Lakás Törlesztéscsökkentő fiók'!$J$10,0,'Lakás Törlesztéscsökkentő fiók'!$B$28)","v":0},{"$error":"#VALUE!"},{"$f":"IF(A108>'Lakás Törlesztéscsökkentő fiók'!$J$10,0,'Lakás Törlesztéscsökkentő fiók'!$J$11)","v":0},{"$f":"IF(OR(A108>'Lakás Törlesztéscsökkentő fiók'!$J$10,'Lakás Törlesztéscsökkentő fiók'!$B$24='Lakás Törlesztéscsökkentő fiók'!$T$5),0,'Lakás Törlesztéscsökkentő fiók'!$J$12+'Lakás Törlesztéscsökkentő fiók'!$J$13)","v":0},0,null,null,0,{"$f":"IRR($K$2:K108,0.05)","v":{"$error":"#VALUE!"}}]
[107,{"$error":"#VALUE!"},{"$f":"B109*'Lakás Törlesztéscsökkentő fiók'!$B$27/12","v":{"$error":"#VALUE!"}},{"$f":"IF(A109>'Lakás Törlesztéscsökkentő fiók'!$J$10,0,'Lakás Törlesztéscsökkentő fiók'!$B$28)","v":0},{"$error":"#VALUE!"},{"$f":"IF(A109>'Lakás Törlesztéscsökkentő fiók'!$J$10,0,'Lakás Törlesztéscsökkentő fiók'!$J$11)","v":0},{"$f":"IF(OR(A109>'Lakás Törlesztéscsökkentő fiók'!$J$10,'Lakás Törlesztéscsökkentő fiók'!$B$24='Lakás Törlesztéscsökkentő fiók'!$T$5),0,'Lakás Törlesztéscsökkentő fiók'!$J$12+'Lakás Törlesztéscsökkentő fiók'!$J$13)","v":0},0,null,null,0,{"$f":"IRR($K$2:K109,0.05)","v":{"$error":"#VALUE!"}}]
[108,{"$error":"#VALUE!"},{"$f":"B110*'Lakás Törlesztéscsökkentő fiók'!$B$27/12","v":{"$error":"#VALUE!"}},{"$f":"IF(A110>'Lakás Törlesztéscsökkentő fiók'!$J$10,0,'Lakás Törlesztéscsökkentő fiók'!$B$28)","v":0},{"$error":"#VALUE!"},{"$f":"IF(A110>'Lakás Törlesztéscsökkentő fiók'!$J$10,0,'Lakás Törlesztéscsökkentő fiók'!$J$11)","v":0},{"$f":"IF(OR(A110>'Lakás Törlesztéscsökkentő fiók'!$J$10,'Lakás Törlesztéscsökkentő fiók'!$B$24='Lakás Törlesztéscsökkentő fiók'!$T$5),0,'Lakás Törlesztéscsökkentő fiók'!$J$12+'Lakás Törlesztéscsökkentő fiók'!$J$13)","v":0},0,null,null,0,{"$f":"IRR($K$2:K110,0.05)","v":{"$error":"#VALUE!"}}]
[109,{"$error":"#VALUE!"},{"$f":"B111*'Lakás Törlesztéscsökkentő fiók'!$B$27/12","v":{"$error":"#VALUE!"}},{"$f":"IF(A111>'Lakás Törlesztéscsökkentő fiók'!$J$10,0,'Lakás Törlesztéscsökkentő fiók'!$B$28)","v":0},{"$error":"#VALUE!"},{"$f":"IF(A111>'Lakás Törlesztéscsökkentő fiók'!$J$10,0,'Lakás Törlesztéscsökkentő fiók'!$J$11)","v":0},{"$f":"IF(OR(A111>'Lakás Törlesztéscsökkentő fiók'!$J$10,'Lakás Törlesztéscsökkentő fiók'!$B$24='Lakás Törlesztéscsökkentő fiók'!$T$5),0,'Lakás Törlesztéscsökkentő fiók'!$J$12+'Lakás Törlesztéscsökkentő fiók'!$J$13)","v":0},0,null,null,0,{"$f":"IRR($K$2:K111,0.05)","v":{"$error":"#VALUE!"}}]
[110,{"$error":"#VALUE!"},{"$f":"B112*'Lakás Törlesztéscsökkentő fiók'!$B$27/12","v":{"$error":"#VALUE!"}},{"$f":"IF(A112>'Lakás Törlesztéscsökkentő fiók'!$J$10,0,'Lakás Törlesztéscsökkentő fiók'!$B$28)","v":0},{"$error":"#VALUE!"},{"$f":"IF(A112>'Lakás Törlesztéscsökkentő fiók'!$J$10,0,'Lakás Törlesztéscsökkentő fiók'!$J$11)","v":0},{"$f":"IF(OR(A112>'Lakás Törlesztéscsökkentő fiók'!$J$10,'Lakás Törlesztéscsökkentő fiók'!$B$24='Lakás Törlesztéscsökkentő fiók'!$T$5),0,'Lakás Törlesztéscsökkentő fiók'!$J$12+'Lakás Törlesztéscsökkentő fiók'!$J$13)","v":0},0,null,null,0,{"$f":"IRR($K$2:K112,0.05)","v":{"$error":"#VALUE!"}}]
[111,{"$error":"#VALUE!"},{"$f":"B113*'Lakás Törlesztéscsökkentő fiók'!$B$27/12","v":{"$error":"#VALUE!"}},{"$f":"IF(A113>'Lakás Törlesztéscsökkentő fiók'!$J$10,0,'Lakás Törlesztéscsökkentő fiók'!$B$28)","v":0},{"$error":"#VALUE!"},{"$f":"IF(A113>'Lakás Törlesztéscsökkentő fiók'!$J$10,0,'Lakás Törlesztéscsökkentő fiók'!$J$11)","v":0},{"$f":"IF(OR(A113>'Lakás Törlesztéscsökkentő fiók'!$J$10,'Lakás Törlesztéscsökkentő fiók'!$B$24='Lakás Törlesztéscsökkentő fiók'!$T$5),0,'Lakás Törlesztéscsökkentő fiók'!$J$12+'Lakás Törlesztéscsökkentő fiók'!$J$13)","v":0},0,null,null,0,{"$f":"IRR($K$2:K113,0.05)","v":{"$error":"#VALUE!"}}]
[112,{"$error":"#VALUE!"},{"$f":"B114*'Lakás Törlesztéscsökkentő fiók'!$B$27/12","v":{"$error":"#VALUE!"}},{"$f":"IF(A114>'Lakás Törlesztéscsökkentő fiók'!$J$10,0,'Lakás Törlesztéscsökkentő fiók'!$B$28)","v":0},{"$error":"#VALUE!"},{"$f":"IF(A114>'Lakás Törlesztéscsökkentő fiók'!$J$10,0,'Lakás Törlesztéscsökkentő fiók'!$J$11)","v":0},{"$f":"IF(OR(A114>'Lakás Törlesztéscsökkentő fiók'!$J$10,'Lakás Törlesztéscsökkentő fiók'!$B$24='Lakás Törlesztéscsökkentő fiók'!$T$5),0,'Lakás Törlesztéscsökkentő fiók'!$J$12+'Lakás Törlesztéscsökkentő fiók'!$J$13)","v":0},0,null,null,0,{"$f":"IRR($K$2:K114,0.05)","v":{"$error":"#VALUE!"}}]
[113,{"$error":"#VALUE!"},{"$f":"B115*'Lakás Törlesztéscsökkentő fiók'!$B$27/12","v":{"$error":"#VALUE!"}},{"$f":"IF(A115>'Lakás Törlesztéscsökkentő fiók'!$J$10,0,'Lakás Törlesztéscsökkentő fiók'!$B$28)","v":0},{"$error":"#VALUE!"},{"$f":"IF(A115>'Lakás Törlesztéscsökkentő fiók'!$J$10,0,'Lakás Törlesztéscsökkentő fiók'!$J$11)","v":0},{"$f":"IF(OR(A115>'Lakás Törlesztéscsökkentő fiók'!$J$10,'Lakás Törlesztéscsökkentő fiók'!$B$24='Lakás Törlesztéscsökkentő fiók'!$T$5),0,'Lakás Törlesztéscsökkentő fiók'!$J$12+'Lakás Törlesztéscsökkentő fiók'!$J$13)","v":0},0,null,null,0,{"$f":"IRR($K$2:K115,0.05)","v":{"$error":"#VALUE!"}}]
[114,{"$error":"#VALUE!"},{"$f":"B116*'Lakás Törlesztéscsökkentő fiók'!$B$27/12","v":{"$error":"#VALUE!"}},{"$f":"IF(A116>'Lakás Törlesztéscsökkentő fiók'!$J$10,0,'Lakás Törlesztéscsökkentő fiók'!$B$28)","v":0},{"$error":"#VALUE!"},{"$f":"IF(A116>'Lakás Törlesztéscsökkentő fiók'!$J$10,0,'Lakás Törlesztéscsökkentő fiók'!$J$11)","v":0},{"$f":"IF(OR(A116>'Lakás Törlesztéscsökkentő fiók'!$J$10,'Lakás Törlesztéscsökkentő fiók'!$B$24='Lakás Törlesztéscsökkentő fiók'!$T$5),0,'Lakás Törlesztéscsökkentő fiók'!$J$12+'Lakás Törlesztéscsökkentő fiók'!$J$13)","v":0},0,null,null,0,{"$f":"IRR($K$2:K116,0.05)","v":{"$error":"#VALUE!"}}]
[115,{"$error":"#VALUE!"},{"$f":"B117*'Lakás Törlesztéscsökkentő fiók'!$B$27/12","v":{"$error":"#VALUE!"}},{"$f":"IF(A117>'Lakás Törlesztéscsökkentő fiók'!$J$10,0,'Lakás Törlesztéscsökkentő fiók'!$B$28)","v":0},{"$error":"#VALUE!"},{"$f":"IF(A117>'Lakás Törlesztéscsökkentő fiók'!$J$10,0,'Lakás Törlesztéscsökkentő fiók'!$J$11)","v":0},{"$f":"IF(OR(A117>'Lakás Törlesztéscsökkentő fiók'!$J$10,'Lakás Törlesztéscsökkentő fiók'!$B$24='Lakás Törlesztéscsökkentő fiók'!$T$5),0,'Lakás Törlesztéscsökkentő fiók'!$J$12+'Lakás Törlesztéscsökkentő fiók'!$J$13)","v":0},0,null,null,0,{"$f":"IRR($K$2:K117,0.05)","v":{"$error":"#VALUE!"}}]
[116,{"$error":"#VALUE!"},{"$f":"B118*'Lakás Törlesztéscsökkentő fiók'!$B$27/12","v":{"$error":"#VALUE!"}},{"$f":"IF(A118>'Lakás Törlesztéscsökkentő fiók'!$J$10,0,'Lakás Törlesztéscsökkentő fiók'!$B$28)","v":0},{"$error":"#VALUE!"},{"$f":"IF(A118>'Lakás Törlesztéscsökkentő fiók'!$J$10,0,'Lakás Törlesztéscsökkentő fiók'!$J$11)","v":0},{"$f":"IF(OR(A118>'Lakás Törlesztéscsökkentő fiók'!$J$10,'Lakás Törlesztéscsökkentő fiók'!$B$24='Lakás Törlesztéscsökkentő fiók'!$T$5),0,'Lakás Törlesztéscsökkentő fiók'!$J$12+'Lakás Törlesztéscsökkentő fiók'!$J$13)","v":0},0,null,null,0,{"$f":"IRR($K$2:K118,0.05)","v":{"$error":"#VALUE!"}}]
[117,{"$error":"#VALUE!"},{"$f":"B119*'Lakás Törlesztéscsökkentő fiók'!$B$27/12","v":{"$error":"#VALUE!"}},{"$f":"IF(A119>'Lakás Törlesztéscsökkentő fiók'!$J$10,0,'Lakás Törlesztéscsökkentő fiók'!$B$28)","v":0},{"$error":"#VALUE!"},{"$f":"IF(A119>'Lakás Törlesztéscsökkentő fiók'!$J$10,0,'Lakás Törlesztéscsökkentő fiók'!$J$11)","v":0},{"$f":"IF(OR(A119>'Lakás Törlesztéscsökkentő fiók'!$J$10,'Lakás Törlesztéscsökkentő fiók'!$B$24='Lakás Törlesztéscsökkentő fiók'!$T$5),0,'Lakás Törlesztéscsökkentő fiók'!$J$12+'Lakás Törlesztéscsökkentő fiók'!$J$13)","v":0},0,null,null,0,{"$f":"IRR($K$2:K119,0.05)","v":{"$error":"#VALUE!"}}]
[118,{"$error":"#VALUE!"},{"$f":"B120*'Lakás Törlesztéscsökkentő fiók'!$B$27/12","v":{"$error":"#VALUE!"}},{"$f":"IF(A120>'Lakás Törlesztéscsökkentő fiók'!$J$10,0,'Lakás Törlesztéscsökkentő fiók'!$B$28)","v":0},{"$error":"#VALUE!"},{"$f":"IF(A120>'Lakás Törlesztéscsökkentő fiók'!$J$10,0,'Lakás Törlesztéscsökkentő fiók'!$J$11)","v":0},{"$f":"IF(OR(A120>'Lakás Törlesztéscsökkentő fiók'!$J$10,'Lakás Törlesztéscsökkentő fiók'!$B$24='Lakás Törlesztéscsökkentő fiók'!$T$5),0,'Lakás Törlesztéscsökkentő fiók'!$J$12+'Lakás Törlesztéscsökkentő fiók'!$J$13)","v":0},0,null,null,0,{"$f":"IRR($K$2:K120,0.05)","v":{"$error":"#VALUE!"}}]
[119,{"$error":"#VALUE!"},{"$f":"B121*'Lakás Törlesztéscsökkentő fiók'!$B$27/12","v":{"$error":"#VALUE!"}},{"$f":"IF(A121>'Lakás Törlesztéscsökkentő fiók'!$J$10,0,'Lakás Törlesztéscsökkentő fiók'!$B$28)","v":0},{"$error":"#VALUE!"},{"$f":"IF(A121>'Lakás Törlesztéscsökkentő fiók'!$J$10,0,'Lakás Törlesztéscsökkentő fiók'!$J$11)","v":0},{"$f":"IF(OR(A121>'Lakás Törlesztéscsökkentő fiók'!$J$10,'Lakás Törlesztéscsökkentő fiók'!$B$24='Lakás Törlesztéscsökkentő fiók'!$T$5),0,'Lakás Törlesztéscsökkentő fiók'!$J$12+'Lakás Törlesztéscsökkentő fiók'!$J$13)","v":0},0,null,null,0,{"$f":"IRR($K$2:K121,0.05)","v":{"$error":"#VALUE!"}}]
[120,{"$error":"#VALUE!"},{"$f":"B122*'Lakás Törlesztéscsökkentő fiók'!$B$27/12","v":{"$error":"#VALUE!"}},{"$f":"IF(A122>'Lakás Törlesztéscsökkentő fiók'!$J$10,0,'Lakás Törlesztéscsökkentő fiók'!$B$28)","v":0},{"$error":"#VALUE!"},{"$f":"IF(A122>'Lakás Törlesztéscsökkentő fiók'!$J$10,0,'Lakás Törlesztéscsökkentő fiók'!$J$11)","v":0},{"$f":"IF(OR(A122>'Lakás Törlesztéscsökkentő fiók'!$J$10,'Lakás Törlesztéscsökkentő fiók'!$B$24='Lakás Törlesztéscsökkentő fiók'!$T$5),0,'Lakás Törlesztéscsökkentő fiók'!$J$12+'Lakás Törlesztéscsökkentő fiók'!$J$13)","v":0},0,null,null,0,{"$f":"IRR($K$2:K122,0.05)","v":{"$error":"#VALUE!"}}]
[121,{"$error":"#VALUE!"},{"$f":"B123*'Lakás Törlesztéscsökkentő fiók'!$B$27/12","v":{"$error":"#VALUE!"}},{"$f":"IF(A123>'Lakás Törlesztéscsökkentő fiók'!$J$10,0,'Lakás Törlesztéscsökkentő fiók'!$B$28)","v":0},{"$error":"#VALUE!"},{"$f":"IF(A123>'Lakás Törlesztéscsökkentő fiók'!$J$10,0,'Lakás Törlesztéscsökkentő fiók'!$J$11)","v":0},{"$f":"IF(OR(A123>'Lakás Törlesztéscsökkentő fiók'!$J$10,'Lakás Törlesztéscsökkentő fiók'!$B$24='Lakás Törlesztéscsökkentő fiók'!$T$5),0,'Lakás Törlesztéscsökkentő fiók'!$J$12+'Lakás Törlesztéscsökkentő fiók'!$J$13)","v":0},0,null,null,0,{"$f":"IRR($K$2:K123,0.05)","v":{"$error":"#VALUE!"}}]
[122,{"$error":"#VALUE!"},{"$f":"B124*'Lakás Törlesztéscsökkentő fiók'!$B$27/12","v":{"$error":"#VALUE!"}},{"$f":"IF(A124>'Lakás Törlesztéscsökkentő fiók'!$J$10,0,'Lakás Törlesztéscsökkentő fiók'!$B$28)","v":0},{"$error":"#VALUE!"},{"$f":"IF(A124>'Lakás Törlesztéscsökkentő fiók'!$J$10,0,'Lakás Törlesztéscsökkentő fiók'!$J$11)","v":0},{"$f":"IF(OR(A124>'Lakás Törlesztéscsökkentő fiók'!$J$10,'Lakás Törlesztéscsökkentő fiók'!$B$24='Lakás Törlesztéscsökkentő fiók'!$T$5),0,'Lakás Törlesztéscsökkentő fiók'!$J$12+'Lakás Törlesztéscsökkentő fiók'!$J$13)","v":0},0,null,null,0,{"$f":"IRR($K$2:K124,0.05)","v":{"$error":"#VALUE!"}}]
[123,{"$error":"#VALUE!"},{"$f":"B125*'Lakás Törlesztéscsökkentő fiók'!$B$27/12","v":{"$error":"#VALUE!"}},{"$f":"IF(A125>'Lakás Törlesztéscsökkentő fiók'!$J$10,0,'Lakás Törlesztéscsökkentő fiók'!$B$28)","v":0},{"$error":"#VALUE!"},{"$f":"IF(A125>'Lakás Törlesztéscsökkentő fiók'!$J$10,0,'Lakás Törlesztéscsökkentő fiók'!$J$11)","v":0},{"$f":"IF(OR(A125>'Lakás Törlesztéscsökkentő fiók'!$J$10,'Lakás Törlesztéscsökkentő fiók'!$B$24='Lakás Törlesztéscsökkentő fiók'!$T$5),0,'Lakás Törlesztéscsökkentő fiók'!$J$12+'Lakás Törlesztéscsökkentő fiók'!$J$13)","v":0},0,null,null,0,{"$f":"IRR($K$2:K125,0.05)","v":{"$error":"#VALUE!"}}]
[124,{"$error":"#VALUE!"},{"$f":"B126*'Lakás Törlesztéscsökkentő fiók'!$B$27/12","v":{"$error":"#VALUE!"}},{"$f":"IF(A126>'Lakás Törlesztéscsökkentő fiók'!$J$10,0,'Lakás Törlesztéscsökkentő fiók'!$B$28)","v":0},{"$error":"#VALUE!"},{"$f":"IF(A126>'Lakás Törlesztéscsökkentő fiók'!$J$10,0,'Lakás Törlesztéscsökkentő fiók'!$J$11)","v":0},{"$f":"IF(OR(A126>'Lakás Törlesztéscsökkentő fiók'!$J$10,'Lakás Törlesztéscsökkentő fiók'!$B$24='Lakás Törlesztéscsökkentő fiók'!$T$5),0,'Lakás Törlesztéscsökkentő fiók'!$J$12+'Lakás Törlesztéscsökkentő fiók'!$J$13)","v":0},0,null,null,0,{"$f":"IRR($K$2:K126,0.05)","v":{"$error":"#VALUE!"}}]
[125,{"$error":"#VALUE!"},{"$f":"B127*'Lakás Törlesztéscsökkentő fiók'!$B$27/12","v":{"$error":"#VALUE!"}},{"$f":"IF(A127>'Lakás Törlesztéscsökkentő fiók'!$J$10,0,'Lakás Törlesztéscsökkentő fiók'!$B$28)","v":0},{"$error":"#VALUE!"},{"$f":"IF(A127>'Lakás Törlesztéscsökkentő fiók'!$J$10,0,'Lakás Törlesztéscsökkentő fiók'!$J$11)","v":0},{"$f":"IF(OR(A127>'Lakás Törlesztéscsökkentő fiók'!$J$10,'Lakás Törlesztéscsökkentő fiók'!$B$24='Lakás Törlesztéscsökkentő fiók'!$T$5),0,'Lakás Törlesztéscsökkentő fiók'!$J$12+'Lakás Törlesztéscsökkentő fiók'!$J$13)","v":0},0,null,null,0,{"$f":"IRR($K$2:K127,0.05)","v":{"$error":"#VALUE!"}}]
[126,{"$error":"#VALUE!"},{"$f":"B128*'Lakás Törlesztéscsökkentő fiók'!$B$27/12","v":{"$error":"#VALUE!"}},{"$f":"IF(A128>'Lakás Törlesztéscsökkentő fiók'!$J$10,0,'Lakás Törlesztéscsökkentő fiók'!$B$28)","v":0},{"$error":"#VALUE!"},{"$f":"IF(A128>'Lakás Törlesztéscsökkentő fiók'!$J$10,0,'Lakás Törlesztéscsökkentő fiók'!$J$11)","v":0},{"$f":"IF(OR(A128>'Lakás Törlesztéscsökkentő fiók'!$J$10,'Lakás Törlesztéscsökkentő fiók'!$B$24='Lakás Törlesztéscsökkentő fiók'!$T$5),0,'Lakás Törlesztéscsökkentő fiók'!$J$12+'Lakás Törlesztéscsökkentő fiók'!$J$13)","v":0},0,null,null,0,{"$f":"IRR($K$2:K128,0.05)","v":{"$error":"#VALUE!"}}]
[127,{"$error":"#VALUE!"},{"$f":"B129*'Lakás Törlesztéscsökkentő fiók'!$B$27/12","v":{"$error":"#VALUE!"}},{"$f":"IF(A129>'Lakás Törlesztéscsökkentő fiók'!$J$10,0,'Lakás Törlesztéscsökkentő fiók'!$B$28)","v":0},{"$error":"#VALUE!"},{"$f":"IF(A129>'Lakás Törlesztéscsökkentő fiók'!$J$10,0,'Lakás Törlesztéscsökkentő fiók'!$J$11)","v":0},{"$f":"IF(OR(A129>'Lakás Törlesztéscsökkentő fiók'!$J$10,'Lakás Törlesztéscsökkentő fiók'!$B$24='Lakás Törlesztéscsökkentő fiók'!$T$5),0,'Lakás Törlesztéscsökkentő fiók'!$J$12+'Lakás Törlesztéscsökkentő fiók'!$J$13)","v":0},0,null,null,0,{"$f":"IRR($K$2:K129,0.05)","v":{"$error":"#VALUE!"}}]
[128,{"$error":"#VALUE!"},{"$f":"B130*'Lakás Törlesztéscsökkentő fiók'!$B$27/12","v":{"$error":"#VALUE!"}},{"$f":"IF(A130>'Lakás Törlesztéscsökkentő fiók'!$J$10,0,'Lakás Törlesztéscsökkentő fiók'!$B$28)","v":0},{"$error":"#VALUE!"},{"$f":"IF(A130>'Lakás Törlesztéscsökkentő fiók'!$J$10,0,'Lakás Törlesztéscsökkentő fiók'!$J$11)","v":0},{"$f":"IF(OR(A130>'Lakás Törlesztéscsökkentő fiók'!$J$10,'Lakás Törlesztéscsökkentő fiók'!$B$24='Lakás Törlesztéscsökkentő fiók'!$T$5),0,'Lakás Törlesztéscsökkentő fiók'!$J$12+'Lakás Törlesztéscsökkentő fiók'!$J$13)","v":0},0,null,null,0,{"$f":"IRR($K$2:K130,0.05)","v":{"$error":"#VALUE!"}}]
[129,{"$error":"#VALUE!"},{"$f":"B131*'Lakás Törlesztéscsökkentő fiók'!$B$27/12","v":{"$error":"#VALUE!"}},{"$f":"IF(A131>'Lakás Törlesztéscsökkentő fiók'!$J$10,0,'Lakás Törlesztéscsökkentő fiók'!$B$28)","v":0},{"$error":"#VALUE!"},{"$f":"IF(A131>'Lakás Törlesztéscsökkentő fiók'!$J$10,0,'Lakás Törlesztéscsökkentő fiók'!$J$11)","v":0},{"$f":"IF(OR(A131>'Lakás Törlesztéscsökkentő fiók'!$J$10,'Lakás Törlesztéscsökkentő fiók'!$B$24='Lakás Törlesztéscsökkentő fiók'!$T$5),0,'Lakás Törlesztéscsökkentő fiók'!$J$12+'Lakás Törlesztéscsökkentő fiók'!$J$13)","v":0},0,null,null,0,{"$f":"IRR($K$2:K131,0.05)","v":{"$error":"#VALUE!"}}]
[130,{"$error":"#VALUE!"},{"$f":"B132*'Lakás Törlesztéscsökkentő fiók'!$B$27/12","v":{"$error":"#VALUE!"}},{"$f":"IF(A132>'Lakás Törlesztéscsökkentő fiók'!$J$10,0,'Lakás Törlesztéscsökkentő fiók'!$B$28)","v":0},{"$f":"+B132+C132-D132","v":{"$error":"#VALUE!"}},{"$f":"IF(A132>'Lakás Törlesztéscsökkentő fiók'!$J$10,0,'Lakás Törlesztéscsökkentő fiók'!$J$11)","v":0},{"$f":"IF(OR(A132>'Lakás Törlesztéscsökkentő fiók'!$J$10,'Lakás Törlesztéscsökkentő fiók'!$B$24='Lakás Törlesztéscsökkentő fiók'!$T$5),0,'Lakás Törlesztéscsökkentő fiók'!$J$12+'Lakás Törlesztéscsökkentő fiók'!$J$13)","v":0},0,null,null,{"$f":"D132+F132+G132","v":0},{"$f":"IRR($K$2:K132,0.05)","v":{"$error":"#VALUE!"}}]
[{"$f":"+A132+1","v":131},{"$f":"+E132","v":{"$error":"#VALUE!"}},{"$f":"B133*'Lakás Törlesztéscsökkentő fiók'!$B$27/12","v":{"$error":"#VALUE!"}},{"$f":"IF(A133>'Lakás Törlesztéscsökkentő fiók'!$J$10,0,'Lakás Törlesztéscsökkentő fiók'!$B$28)","v":0},{"$error":"#VALUE!"},{"$f":"IF(A133>'Lakás Törlesztéscsökkentő fiók'!$J$10,0,'Lakás Törlesztéscsökkentő fiók'!$J$11)","v":0},{"$f":"IF(OR(A133>'Lakás Törlesztéscsökkentő fiók'!$J$10,'Lakás Törlesztéscsökkentő fiók'!$B$24='Lakás Törlesztéscsökkentő fiók'!$T$5),0,'Lakás Törlesztéscsökkentő fiók'!$J$12+'Lakás Törlesztéscsökkentő fiók'!$J$13)","v":0},{"$f":"H132+(D133+F133+G133)/(1+$H$1)^(A133/12)","v":0},null,null,0,{"$f":"IRR($K$2:K133,0.05)","v":{"$error":"#VALUE!"}}]
[132,{"$error":"#VALUE!"},{"$f":"B134*'Lakás Törlesztéscsökkentő fiók'!$B$27/12","v":{"$error":"#VALUE!"}},{"$f":"IF(A134>'Lakás Törlesztéscsökkentő fiók'!$J$10,0,'Lakás Törlesztéscsökkentő fiók'!$B$28)","v":0},{"$error":"#VALUE!"},{"$f":"IF(A134>'Lakás Törlesztéscsökkentő fiók'!$J$10,0,'Lakás Törlesztéscsökkentő fiók'!$J$11)","v":0},{"$f":"IF(OR(A134>'Lakás Törlesztéscsökkentő fiók'!$J$10,'Lakás Törlesztéscsökkentő fiók'!$B$24='Lakás Törlesztéscsökkentő fiók'!$T$5),0,'Lakás Törlesztéscsökkentő fiók'!$J$12+'Lakás Törlesztéscsökkentő fiók'!$J$13)","v":0},0,null,null,0,{"$f":"IRR($K$2:K134,0.05)","v":{"$error":"#VALUE!"}}]
[133,{"$error":"#VALUE!"},{"$f":"B135*'Lakás Törlesztéscsökkentő fiók'!$B$27/12","v":{"$error":"#VALUE!"}},{"$f":"IF(A135>'Lakás Törlesztéscsökkentő fiók'!$J$10,0,'Lakás Törlesztéscsökkentő fiók'!$B$28)","v":0},{"$error":"#VALUE!"},{"$f":"IF(A135>'Lakás Törlesztéscsökkentő fiók'!$J$10,0,'Lakás Törlesztéscsökkentő fiók'!$J$11)","v":0},{"$f":"IF(OR(A135>'Lakás Törlesztéscsökkentő fiók'!$J$10,'Lakás Törlesztéscsökkentő fiók'!$B$24='Lakás Törlesztéscsökkentő fiók'!$T$5),0,'Lakás Törlesztéscsökkentő fiók'!$J$12+'Lakás Törlesztéscsökkentő fiók'!$J$13)","v":0},0,null,null,0,{"$f":"IRR($K$2:K135,0.05)","v":{"$error":"#VALUE!"}}]
[134,{"$error":"#VALUE!"},{"$f":"B136*'Lakás Törlesztéscsökkentő fiók'!$B$27/12","v":{"$error":"#VALUE!"}},{"$f":"IF(A136>'Lakás Törlesztéscsökkentő fiók'!$J$10,0,'Lakás Törlesztéscsökkentő fiók'!$B$28)","v":0},{"$error":"#VALUE!"},{"$f":"IF(A136>'Lakás Törlesztéscsökkentő fiók'!$J$10,0,'Lakás Törlesztéscsökkentő fiók'!$J$11)","v":0},{"$f":"IF(OR(A136>'Lakás Törlesztéscsökkentő fiók'!$J$10,'Lakás Törlesztéscsökkentő fiók'!$B$24='Lakás Törlesztéscsökkentő fiók'!$T$5),0,'Lakás Törlesztéscsökkentő fiók'!$J$12+'Lakás Törlesztéscsökkentő fiók'!$J$13)","v":0},0,null,null,0,{"$f":"IRR($K$2:K136,0.05)","v":{"$error":"#VALUE!"}}]
[135,{"$error":"#VALUE!"},{"$f":"B137*'Lakás Törlesztéscsökkentő fiók'!$B$27/12","v":{"$error":"#VALUE!"}},{"$f":"IF(A137>'Lakás Törlesztéscsökkentő fiók'!$J$10,0,'Lakás Törlesztéscsökkentő fiók'!$B$28)","v":0},{"$error":"#VALUE!"},{"$f":"IF(A137>'Lakás Törlesztéscsökkentő fiók'!$J$10,0,'Lakás Törlesztéscsökkentő fiók'!$J$11)","v":0},{"$f":"IF(OR(A137>'Lakás Törlesztéscsökkentő fiók'!$J$10,'Lakás Törlesztéscsökkentő fiók'!$B$24='Lakás Törlesztéscsökkentő fiók'!$T$5),0,'Lakás Törlesztéscsökkentő fiók'!$J$12+'Lakás Törlesztéscsökkentő fiók'!$J$13)","v":0},0,null,null,0,{"$f":"IRR($K$2:K137,0.05)","v":{"$error":"#VALUE!"}}]
[136,{"$error":"#VALUE!"},{"$f":"B138*'Lakás Törlesztéscsökkentő fiók'!$B$27/12","v":{"$error":"#VALUE!"}},{"$f":"IF(A138>'Lakás Törlesztéscsökkentő fiók'!$J$10,0,'Lakás Törlesztéscsökkentő fiók'!$B$28)","v":0},{"$error":"#VALUE!"},{"$f":"IF(A138>'Lakás Törlesztéscsökkentő fiók'!$J$10,0,'Lakás Törlesztéscsökkentő fiók'!$J$11)","v":0},{"$f":"IF(OR(A138>'Lakás Törlesztéscsökkentő fiók'!$J$10,'Lakás Törlesztéscsökkentő fiók'!$B$24='Lakás Törlesztéscsökkentő fiók'!$T$5),0,'Lakás Törlesztéscsökkentő fiók'!$J$12+'Lakás Törlesztéscsökkentő fiók'!$J$13)","v":0},0,null,null,0,{"$f":"IRR($K$2:K138,0.05)","v":{"$error":"#VALUE!"}}]
[137,{"$error":"#VALUE!"},{"$f":"B139*'Lakás Törlesztéscsökkentő fiók'!$B$27/12","v":{"$error":"#VALUE!"}},{"$f":"IF(A139>'Lakás Törlesztéscsökkentő fiók'!$J$10,0,'Lakás Törlesztéscsökkentő fiók'!$B$28)","v":0},{"$error":"#VALUE!"},{"$f":"IF(A139>'Lakás Törlesztéscsökkentő fiók'!$J$10,0,'Lakás Törlesztéscsökkentő fiók'!$J$11)","v":0},{"$f":"IF(OR(A139>'Lakás Törlesztéscsökkentő fiók'!$J$10,'Lakás Törlesztéscsökkentő fiók'!$B$24='Lakás Törlesztéscsökkentő fiók'!$T$5),0,'Lakás Törlesztéscsökkentő fiók'!$J$12+'Lakás Törlesztéscsökkentő fiók'!$J$13)","v":0},0,null,null,0,{"$f":"IRR($K$2:K139,0.05)","v":{"$error":"#VALUE!"}}]
[138,{"$error":"#VALUE!"},{"$f":"B140*'Lakás Törlesztéscsökkentő fiók'!$B$27/12","v":{"$error":"#VALUE!"}},{"$f":"IF(A140>'Lakás Törlesztéscsökkentő fiók'!$J$10,0,'Lakás Törlesztéscsökkentő fiók'!$B$28)","v":0},{"$error":"#VALUE!"},{"$f":"IF(A140>'Lakás Törlesztéscsökkentő fiók'!$J$10,0,'Lakás Törlesztéscsökkentő fiók'!$J$11)","v":0},{"$f":"IF(OR(A140>'Lakás Törlesztéscsökkentő fiók'!$J$10,'Lakás Törlesztéscsökkentő fiók'!$B$24='Lakás Törlesztéscsökkentő fiók'!$T$5),0,'Lakás Törlesztéscsökkentő fiók'!$J$12+'Lakás Törlesztéscsökkentő fiók'!$J$13)","v":0},0,null,null,0,{"$f":"IRR($K$2:K140,0.05)","v":{"$error":"#VALUE!"}}]
[139,{"$error":"#VALUE!"},{"$f":"B141*'Lakás Törlesztéscsökkentő fiók'!$B$27/12","v":{"$error":"#VALUE!"}},{"$f":"IF(A141>'Lakás Törlesztéscsökkentő fiók'!$J$10,0,'Lakás Törlesztéscsökkentő fiók'!$B$28)","v":0},{"$error":"#VALUE!"},{"$f":"IF(A141>'Lakás Törlesztéscsökkentő fiók'!$J$10,0,'Lakás Törlesztéscsökkentő fiók'!$J$11)","v":0},{"$f":"IF(OR(A141>'Lakás Törlesztéscsökkentő fiók'!$J$10,'Lakás Törlesztéscsökkentő fiók'!$B$24='Lakás Törlesztéscsökkentő fiók'!$T$5),0,'Lakás Törlesztéscsökkentő fiók'!$J$12+'Lakás Törlesztéscsökkentő fiók'!$J$13)","v":0},0,null,null,0,{"$f":"IRR($K$2:K141,0.05)","v":{"$error":"#VALUE!"}}]
[140,{"$error":"#VALUE!"},{"$f":"B142*'Lakás Törlesztéscsökkentő fiók'!$B$27/12","v":{"$error":"#VALUE!"}},{"$f":"IF(A142>'Lakás Törlesztéscsökkentő fiók'!$J$10,0,'Lakás Törlesztéscsökkentő fiók'!$B$28)","v":0},{"$error":"#VALUE!"},{"$f":"IF(A142>'Lakás Törlesztéscsökkentő fiók'!$J$10,0,'Lakás Törlesztéscsökkentő fiók'!$J$11)","v":0},{"$f":"IF(OR(A142>'Lakás Törlesztéscsökkentő fiók'!$J$10,'Lakás Törlesztéscsökkentő fiók'!$B$24='Lakás Törlesztéscsökkentő fiók'!$T$5),0,'Lakás Törlesztéscsökkentő fiók'!$J$12+'Lakás Törlesztéscsökkentő fiók'!$J$13)","v":0},0,null,null,0,{"$f":"IRR($K$2:K142,0.05)","v":{"$error":"#VALUE!"}}]
[141,{"$error":"#VALUE!"},{"$f":"B143*'Lakás Törlesztéscsökkentő fiók'!$B$27/12","v":{"$error":"#VALUE!"}},{"$f":"IF(A143>'Lakás Törlesztéscsökkentő fiók'!$J$10,0,'Lakás Törlesztéscsökkentő fiók'!$B$28)","v":0},{"$error":"#VALUE!"},{"$f":"IF(A143>'Lakás Törlesztéscsökkentő fiók'!$J$10,0,'Lakás Törlesztéscsökkentő fiók'!$J$11)","v":0},{"$f":"IF(OR(A143>'Lakás Törlesztéscsökkentő fiók'!$J$10,'Lakás Törlesztéscsökkentő fiók'!$B$24='Lakás Törlesztéscsökkentő fiók'!$T$5),0,'Lakás Törlesztéscsökkentő fiók'!$J$12+'Lakás Törlesztéscsökkentő fiók'!$J$13)","v":0},0,null,null,0,{"$f":"IRR($K$2:K143,0.05)","v":{"$error":"#VALUE!"}}]
[142,{"$error":"#VALUE!"},{"$f":"B144*'Lakás Törlesztéscsökkentő fiók'!$B$27/12","v":{"$error":"#VALUE!"}},{"$f":"IF(A144>'Lakás Törlesztéscsökkentő fiók'!$J$10,0,'Lakás Törlesztéscsökkentő fiók'!$B$28)","v":0},{"$error":"#VALUE!"},{"$f":"IF(A144>'Lakás Törlesztéscsökkentő fiók'!$J$10,0,'Lakás Törlesztéscsökkentő fiók'!$J$11)","v":0},{"$f":"IF(OR(A144>'Lakás Törlesztéscsökkentő fiók'!$J$10,'Lakás Törlesztéscsökkentő fiók'!$B$24='Lakás Törlesztéscsökkentő fiók'!$T$5),0,'Lakás Törlesztéscsökkentő fiók'!$J$12+'Lakás Törlesztéscsökkentő fiók'!$J$13)","v":0},0,null,null,0,{"$f":"IRR($K$2:K144,0.05)","v":{"$error":"#VALUE!"}}]
[143,{"$error":"#VALUE!"},{"$f":"B145*'Lakás Törlesztéscsökkentő fiók'!$B$27/12","v":{"$error":"#VALUE!"}},{"$f":"IF(A145>'Lakás Törlesztéscsökkentő fiók'!$J$10,0,'Lakás Törlesztéscsökkentő fiók'!$B$28)","v":0},{"$error":"#VALUE!"},{"$f":"IF(A145>'Lakás Törlesztéscsökkentő fiók'!$J$10,0,'Lakás Törlesztéscsökkentő fiók'!$J$11)","v":0},{"$f":"IF(OR(A145>'Lakás Törlesztéscsökkentő fiók'!$J$10,'Lakás Törlesztéscsökkentő fiók'!$B$24='Lakás Törlesztéscsökkentő fiók'!$T$5),0,'Lakás Törlesztéscsökkentő fiók'!$J$12+'Lakás Törlesztéscsökkentő fiók'!$J$13)","v":0},0,null,null,0,{"$f":"IRR($K$2:K145,0.05)","v":{"$error":"#VALUE!"}}]
[144,{"$error":"#VALUE!"},{"$f":"B146*'Lakás Törlesztéscsökkentő fiók'!$B$27/12","v":{"$error":"#VALUE!"}},{"$f":"IF(A146>'Lakás Törlesztéscsökkentő fiók'!$J$10,0,'Lakás Törlesztéscsökkentő fiók'!$B$28)","v":0},{"$error":"#VALUE!"},{"$f":"IF(A146>'Lakás Törlesztéscsökkentő fiók'!$J$10,0,'Lakás Törlesztéscsökkentő fiók'!$J$11)","v":0},{"$f":"IF(OR(A146>'Lakás Törlesztéscsökkentő fiók'!$J$10,'Lakás Törlesztéscsökkentő fiók'!$B$24='Lakás Törlesztéscsökkentő fiók'!$T$5),0,'Lakás Törlesztéscsökkentő fiók'!$J$12+'Lakás Törlesztéscsökkentő fiók'!$J$13)","v":0},0,null,null,0,{"$f":"IRR($K$2:K146,0.05)","v":{"$error":"#VALUE!"}}]
[145,{"$error":"#VALUE!"},{"$f":"B147*'Lakás Törlesztéscsökkentő fiók'!$B$27/12","v":{"$error":"#VALUE!"}},{"$f":"IF(A147>'Lakás Törlesztéscsökkentő fiók'!$J$10,0,'Lakás Törlesztéscsökkentő fiók'!$B$28)","v":0},{"$error":"#VALUE!"},{"$f":"IF(A147>'Lakás Törlesztéscsökkentő fiók'!$J$10,0,'Lakás Törlesztéscsökkentő fiók'!$J$11)","v":0},{"$f":"IF(OR(A147>'Lakás Törlesztéscsökkentő fiók'!$J$10,'Lakás Törlesztéscsökkentő fiók'!$B$24='Lakás Törlesztéscsökkentő fiók'!$T$5),0,'Lakás Törlesztéscsökkentő fiók'!$J$12+'Lakás Törlesztéscsökkentő fiók'!$J$13)","v":0},0,null,null,0,{"$f":"IRR($K$2:K147,0.05)","v":{"$error":"#VALUE!"}}]
[146,{"$error":"#VALUE!"},{"$f":"B148*'Lakás Törlesztéscsökkentő fiók'!$B$27/12","v":{"$error":"#VALUE!"}},{"$f":"IF(A148>'Lakás Törlesztéscsökkentő fiók'!$J$10,0,'Lakás Törlesztéscsökkentő fiók'!$B$28)","v":0},{"$error":"#VALUE!"},{"$f":"IF(A148>'Lakás Törlesztéscsökkentő fiók'!$J$10,0,'Lakás Törlesztéscsökkentő fiók'!$J$11)","v":0},{"$f":"IF(OR(A148>'Lakás Törlesztéscsökkentő fiók'!$J$10,'Lakás Törlesztéscsökkentő fiók'!$B$24='Lakás Törlesztéscsökkentő fiók'!$T$5),0,'Lakás Törlesztéscsökkentő fiók'!$J$12+'Lakás Törlesztéscsökkentő fiók'!$J$13)","v":0},0,null,null,0,{"$f":"IRR($K$2:K148,0.05)","v":{"$error":"#VALUE!"}}]
[147,{"$error":"#VALUE!"},{"$f":"B149*'Lakás Törlesztéscsökkentő fiók'!$B$27/12","v":{"$error":"#VALUE!"}},{"$f":"IF(A149>'Lakás Törlesztéscsökkentő fiók'!$J$10,0,'Lakás Törlesztéscsökkentő fiók'!$B$28)","v":0},{"$error":"#VALUE!"},{"$f":"IF(A149>'Lakás Törlesztéscsökkentő fiók'!$J$10,0,'Lakás Törlesztéscsökkentő fiók'!$J$11)","v":0},{"$f":"IF(OR(A149>'Lakás Törlesztéscsökkentő fiók'!$J$10,'Lakás Törlesztéscsökkentő fiók'!$B$24='Lakás Törlesztéscsökkentő fiók'!$T$5),0,'Lakás Törlesztéscsökkentő fiók'!$J$12+'Lakás Törlesztéscsökkentő fiók'!$J$13)","v":0},0,null,null,0,{"$f":"IRR($K$2:K149,0.05)","v":{"$error":"#VALUE!"}}]
[148,{"$error":"#VALUE!"},{"$f":"B150*'Lakás Törlesztéscsökkentő fiók'!$B$27/12","v":{"$error":"#VALUE!"}},{"$f":"IF(A150>'Lakás Törlesztéscsökkentő fiók'!$J$10,0,'Lakás Törlesztéscsökkentő fiók'!$B$28)","v":0},{"$error":"#VALUE!"},{"$f":"IF(A150>'Lakás Törlesztéscsökkentő fiók'!$J$10,0,'Lakás Törlesztéscsökkentő fiók'!$J$11)","v":0},{"$f":"IF(OR(A150>'Lakás Törlesztéscsökkentő fiók'!$J$10,'Lakás Törlesztéscsökkentő fiók'!$B$24='Lakás Törlesztéscsökkentő fiók'!$T$5),0,'Lakás Törlesztéscsökkentő fiók'!$J$12+'Lakás Törlesztéscsökkentő fiók'!$J$13)","v":0},0,null,null,0,{"$f":"IRR($K$2:K150,0.05)","v":{"$error":"#VALUE!"}}]
[149,{"$error":"#VALUE!"},{"$f":"B151*'Lakás Törlesztéscsökkentő fiók'!$B$27/12","v":{"$error":"#VALUE!"}},{"$f":"IF(A151>'Lakás Törlesztéscsökkentő fiók'!$J$10,0,'Lakás Törlesztéscsökkentő fiók'!$B$28)","v":0},{"$error":"#VALUE!"},{"$f":"IF(A151>'Lakás Törlesztéscsökkentő fiók'!$J$10,0,'Lakás Törlesztéscsökkentő fiók'!$J$11)","v":0},{"$f":"IF(OR(A151>'Lakás Törlesztéscsökkentő fiók'!$J$10,'Lakás Törlesztéscsökkentő fiók'!$B$24='Lakás Törlesztéscsökkentő fiók'!$T$5),0,'Lakás Törlesztéscsökkentő fiók'!$J$12+'Lakás Törlesztéscsökkentő fiók'!$J$13)","v":0},0,null,null,0,{"$f":"IRR($K$2:K151,0.05)","v":{"$error":"#VALUE!"}}]
[150,{"$error":"#VALUE!"},{"$f":"B152*'Lakás Törlesztéscsökkentő fiók'!$B$27/12","v":{"$error":"#VALUE!"}},{"$f":"IF(A152>'Lakás Törlesztéscsökkentő fiók'!$J$10,0,'Lakás Törlesztéscsökkentő fiók'!$B$28)","v":0},{"$error":"#VALUE!"},{"$f":"IF(A152>'Lakás Törlesztéscsökkentő fiók'!$J$10,0,'Lakás Törlesztéscsökkentő fiók'!$J$11)","v":0},{"$f":"IF(OR(A152>'Lakás Törlesztéscsökkentő fiók'!$J$10,'Lakás Törlesztéscsökkentő fiók'!$B$24='Lakás Törlesztéscsökkentő fiók'!$T$5),0,'Lakás Törlesztéscsökkentő fiók'!$J$12+'Lakás Törlesztéscsökkentő fiók'!$J$13)","v":0},0,null,null,0,{"$f":"IRR($K$2:K152,0.05)","v":{"$error":"#VALUE!"}}]
[151,{"$error":"#VALUE!"},{"$f":"B153*'Lakás Törlesztéscsökkentő fiók'!$B$27/12","v":{"$error":"#VALUE!"}},{"$f":"IF(A153>'Lakás Törlesztéscsökkentő fiók'!$J$10,0,'Lakás Törlesztéscsökkentő fiók'!$B$28)","v":0},{"$error":"#VALUE!"},{"$f":"IF(A153>'Lakás Törlesztéscsökkentő fiók'!$J$10,0,'Lakás Törlesztéscsökkentő fiók'!$J$11)","v":0},{"$f":"IF(OR(A153>'Lakás Törlesztéscsökkentő fiók'!$J$10,'Lakás Törlesztéscsökkentő fiók'!$B$24='Lakás Törlesztéscsökkentő fiók'!$T$5),0,'Lakás Törlesztéscsökkentő fiók'!$J$12+'Lakás Törlesztéscsökkentő fiók'!$J$13)","v":0},0,null,null,0,{"$f":"IRR($K$2:K153,0.05)","v":{"$error":"#VALUE!"}}]
[152,{"$error":"#VALUE!"},{"$f":"B154*'Lakás Törlesztéscsökkentő fiók'!$B$27/12","v":{"$error":"#VALUE!"}},{"$f":"IF(A154>'Lakás Törlesztéscsökkentő fiók'!$J$10,0,'Lakás Törlesztéscsökkentő fiók'!$B$28)","v":0},{"$error":"#VALUE!"},{"$f":"IF(A154>'Lakás Törlesztéscsökkentő fiók'!$J$10,0,'Lakás Törlesztéscsökkentő fiók'!$J$11)","v":0},{"$f":"IF(OR(A154>'Lakás Törlesztéscsökkentő fiók'!$J$10,'Lakás Törlesztéscsökkentő fiók'!$B$24='Lakás Törlesztéscsökkentő fiók'!$T$5),0,'Lakás Törlesztéscsökkentő fiók'!$J$12+'Lakás Törlesztéscsökkentő fiók'!$J$13)","v":0},0,null,null,0,{"$f":"IRR($K$2:K154,0.05)","v":{"$error":"#VALUE!"}}]
[153,{"$error":"#VALUE!"},{"$f":"B155*'Lakás Törlesztéscsökkentő fiók'!$B$27/12","v":{"$error":"#VALUE!"}},{"$f":"IF(A155>'Lakás Törlesztéscsökkentő fiók'!$J$10,0,'Lakás Törlesztéscsökkentő fiók'!$B$28)","v":0},{"$error":"#VALUE!"},{"$f":"IF(A155>'Lakás Törlesztéscsökkentő fiók'!$J$10,0,'Lakás Törlesztéscsökkentő fiók'!$J$11)","v":0},{"$f":"IF(OR(A155>'Lakás Törlesztéscsökkentő fiók'!$J$10,'Lakás Törlesztéscsökkentő fiók'!$B$24='Lakás Törlesztéscsökkentő fiók'!$T$5),0,'Lakás Törlesztéscsökkentő fiók'!$J$12+'Lakás Törlesztéscsökkentő fiók'!$J$13)","v":0},0,null,null,0,{"$f":"IRR($K$2:K155,0.05)","v":{"$error":"#VALUE!"}}]
[154,{"$error":"#VALUE!"},{"$f":"B156*'Lakás Törlesztéscsökkentő fiók'!$B$27/12","v":{"$error":"#VALUE!"}},{"$f":"IF(A156>'Lakás Törlesztéscsökkentő fiók'!$J$10,0,'Lakás Törlesztéscsökkentő fiók'!$B$28)","v":0},{"$error":"#VALUE!"},{"$f":"IF(A156>'Lakás Törlesztéscsökkentő fiók'!$J$10,0,'Lakás Törlesztéscsökkentő fiók'!$J$11)","v":0},{"$f":"IF(OR(A156>'Lakás Törlesztéscsökkentő fiók'!$J$10,'Lakás Törlesztéscsökkentő fiók'!$B$24='Lakás Törlesztéscsökkentő fiók'!$T$5),0,'Lakás Törlesztéscsökkentő fiók'!$J$12+'Lakás Törlesztéscsökkentő fiók'!$J$13)","v":0},0,null,null,0,{"$f":"IRR($K$2:K156,0.05)","v":{"$error":"#VALUE!"}}]
[155,{"$error":"#VALUE!"},{"$f":"B157*'Lakás Törlesztéscsökkentő fiók'!$B$27/12","v":{"$error":"#VALUE!"}},{"$f":"IF(A157>'Lakás Törlesztéscsökkentő fiók'!$J$10,0,'Lakás Törlesztéscsökkentő fiók'!$B$28)","v":0},{"$error":"#VALUE!"},{"$f":"IF(A157>'Lakás Törlesztéscsökkentő fiók'!$J$10,0,'Lakás Törlesztéscsökkentő fiók'!$J$11)","v":0},{"$f":"IF(OR(A157>'Lakás Törlesztéscsökkentő fiók'!$J$10,'Lakás Törlesztéscsökkentő fiók'!$B$24='Lakás Törlesztéscsökkentő fiók'!$T$5),0,'Lakás Törlesztéscsökkentő fiók'!$J$12+'Lakás Törlesztéscsökkentő fiók'!$J$13)","v":0},0,null,null,0,{"$f":"IRR($K$2:K157,0.05)","v":{"$error":"#VALUE!"}}]
[156,{"$error":"#VALUE!"},{"$f":"B158*'Lakás Törlesztéscsökkentő fiók'!$B$27/12","v":{"$error":"#VALUE!"}},{"$f":"IF(A158>'Lakás Törlesztéscsökkentő fiók'!$J$10,0,'Lakás Törlesztéscsökkentő fiók'!$B$28)","v":0},{"$error":"#VALUE!"},{"$f":"IF(A158>'Lakás Törlesztéscsökkentő fiók'!$J$10,0,'Lakás Törlesztéscsökkentő fiók'!$J$11)","v":0},{"$f":"IF(OR(A158>'Lakás Törlesztéscsökkentő fiók'!$J$10,'Lakás Törlesztéscsökkentő fiók'!$B$24='Lakás Törlesztéscsökkentő fiók'!$T$5),0,'Lakás Törlesztéscsökkentő fiók'!$J$12+'Lakás Törlesztéscsökkentő fiók'!$J$13)","v":0},0,null,null,0,{"$f":"IRR($K$2:K158,0.05)","v":{"$error":"#VALUE!"}}]
[157,{"$error":"#VALUE!"},{"$f":"B159*'Lakás Törlesztéscsökkentő fiók'!$B$27/12","v":{"$error":"#VALUE!"}},{"$f":"IF(A159>'Lakás Törlesztéscsökkentő fiók'!$J$10,0,'Lakás Törlesztéscsökkentő fiók'!$B$28)","v":0},{"$error":"#VALUE!"},{"$f":"IF(A159>'Lakás Törlesztéscsökkentő fiók'!$J$10,0,'Lakás Törlesztéscsökkentő fiók'!$J$11)","v":0},{"$f":"IF(OR(A159>'Lakás Törlesztéscsökkentő fiók'!$J$10,'Lakás Törlesztéscsökkentő fiók'!$B$24='Lakás Törlesztéscsökkentő fiók'!$T$5),0,'Lakás Törlesztéscsökkentő fiók'!$J$12+'Lakás Törlesztéscsökkentő fiók'!$J$13)","v":0},0,null,null,0,{"$f":"IRR($K$2:K159,0.05)","v":{"$error":"#VALUE!"}}]
[158,{"$error":"#VALUE!"},{"$f":"B160*'Lakás Törlesztéscsökkentő fiók'!$B$27/12","v":{"$error":"#VALUE!"}},{"$f":"IF(A160>'Lakás Törlesztéscsökkentő fiók'!$J$10,0,'Lakás Törlesztéscsökkentő fiók'!$B$28)","v":0},{"$error":"#VALUE!"},{"$f":"IF(A160>'Lakás Törlesztéscsökkentő fiók'!$J$10,0,'Lakás Törlesztéscsökkentő fiók'!$J$11)","v":0},{"$f":"IF(OR(A160>'Lakás Törlesztéscsökkentő fiók'!$J$10,'Lakás Törlesztéscsökkentő fiók'!$B$24='Lakás Törlesztéscsökkentő fiók'!$T$5),0,'Lakás Törlesztéscsökkentő fiók'!$J$12+'Lakás Törlesztéscsökkentő fiók'!$J$13)","v":0},0,null,null,0,{"$f":"IRR($K$2:K160,0.05)","v":{"$error":"#VALUE!"}}]
[159,{"$error":"#VALUE!"},{"$f":"B161*'Lakás Törlesztéscsökkentő fiók'!$B$27/12","v":{"$error":"#VALUE!"}},{"$f":"IF(A161>'Lakás Törlesztéscsökkentő fiók'!$J$10,0,'Lakás Törlesztéscsökkentő fiók'!$B$28)","v":0},{"$error":"#VALUE!"},{"$f":"IF(A161>'Lakás Törlesztéscsökkentő fiók'!$J$10,0,'Lakás Törlesztéscsökkentő fiók'!$J$11)","v":0},{"$f":"IF(OR(A161>'Lakás Törlesztéscsökkentő fiók'!$J$10,'Lakás Törlesztéscsökkentő fiók'!$B$24='Lakás Törlesztéscsökkentő fiók'!$T$5),0,'Lakás Törlesztéscsökkentő fiók'!$J$12+'Lakás Törlesztéscsökkentő fiók'!$J$13)","v":0},0,null,null,0,{"$f":"IRR($K$2:K161,0.05)","v":{"$error":"#VALUE!"}}]
[160,{"$error":"#VALUE!"},{"$f":"B162*'Lakás Törlesztéscsökkentő fiók'!$B$27/12","v":{"$error":"#VALUE!"}},{"$f":"IF(A162>'Lakás Törlesztéscsökkentő fiók'!$J$10,0,'Lakás Törlesztéscsökkentő fiók'!$B$28)","v":0},{"$error":"#VALUE!"},{"$f":"IF(A162>'Lakás Törlesztéscsökkentő fiók'!$J$10,0,'Lakás Törlesztéscsökkentő fiók'!$J$11)","v":0},{"$f":"IF(OR(A162>'Lakás Törlesztéscsökkentő fiók'!$J$10,'Lakás Törlesztéscsökkentő fiók'!$B$24='Lakás Törlesztéscsökkentő fiók'!$T$5),0,'Lakás Törlesztéscsökkentő fiók'!$J$12+'Lakás Törlesztéscsökkentő fiók'!$J$13)","v":0},0,null,null,0,{"$f":"IRR($K$2:K162,0.05)","v":{"$error":"#VALUE!"}}]
[161,{"$error":"#VALUE!"},{"$f":"B163*'Lakás Törlesztéscsökkentő fiók'!$B$27/12","v":{"$error":"#VALUE!"}},{"$f":"IF(A163>'Lakás Törlesztéscsökkentő fiók'!$J$10,0,'Lakás Törlesztéscsökkentő fiók'!$B$28)","v":0},{"$error":"#VALUE!"},{"$f":"IF(A163>'Lakás Törlesztéscsökkentő fiók'!$J$10,0,'Lakás Törlesztéscsökkentő fiók'!$J$11)","v":0},{"$f":"IF(OR(A163>'Lakás Törlesztéscsökkentő fiók'!$J$10,'Lakás Törlesztéscsökkentő fiók'!$B$24='Lakás Törlesztéscsökkentő fiók'!$T$5),0,'Lakás Törlesztéscsökkentő fiók'!$J$12+'Lakás Törlesztéscsökkentő fiók'!$J$13)","v":0},0,null,null,0,{"$f":"IRR($K$2:K163,0.05)","v":{"$error":"#VALUE!"}}]
[162,{"$error":"#VALUE!"},{"$f":"B164*'Lakás Törlesztéscsökkentő fiók'!$B$27/12","v":{"$error":"#VALUE!"}},{"$f":"IF(A164>'Lakás Törlesztéscsökkentő fiók'!$J$10,0,'Lakás Törlesztéscsökkentő fiók'!$B$28)","v":0},{"$error":"#VALUE!"},{"$f":"IF(A164>'Lakás Törlesztéscsökkentő fiók'!$J$10,0,'Lakás Törlesztéscsökkentő fiók'!$J$11)","v":0},{"$f":"IF(OR(A164>'Lakás Törlesztéscsökkentő fiók'!$J$10,'Lakás Törlesztéscsökkentő fiók'!$B$24='Lakás Törlesztéscsökkentő fiók'!$T$5),0,'Lakás Törlesztéscsökkentő fiók'!$J$12+'Lakás Törlesztéscsökkentő fiók'!$J$13)","v":0},0,null,null,0,{"$f":"IRR($K$2:K164,0.05)","v":{"$error":"#VALUE!"}}]
[163,{"$error":"#VALUE!"},{"$f":"B165*'Lakás Törlesztéscsökkentő fiók'!$B$27/12","v":{"$error":"#VALUE!"}},{"$f":"IF(A165>'Lakás Törlesztéscsökkentő fiók'!$J$10,0,'Lakás Törlesztéscsökkentő fiók'!$B$28)","v":0},{"$error":"#VALUE!"},{"$f":"IF(A165>'Lakás Törlesztéscsökkentő fiók'!$J$10,0,'Lakás Törlesztéscsökkentő fiók'!$J$11)","v":0},{"$f":"IF(OR(A165>'Lakás Törlesztéscsökkentő fiók'!$J$10,'Lakás Törlesztéscsökkentő fiók'!$B$24='Lakás Törlesztéscsökkentő fiók'!$T$5),0,'Lakás Törlesztéscsökkentő fiók'!$J$12+'Lakás Törlesztéscsökkentő fiók'!$J$13)","v":0},0,null,null,0,{"$f":"IRR($K$2:K165,0.05)","v":{"$error":"#VALUE!"}}]
[164,{"$error":"#VALUE!"},{"$f":"B166*'Lakás Törlesztéscsökkentő fiók'!$B$27/12","v":{"$error":"#VALUE!"}},{"$f":"IF(A166>'Lakás Törlesztéscsökkentő fiók'!$J$10,0,'Lakás Törlesztéscsökkentő fiók'!$B$28)","v":0},{"$error":"#VALUE!"},{"$f":"IF(A166>'Lakás Törlesztéscsökkentő fiók'!$J$10,0,'Lakás Törlesztéscsökkentő fiók'!$J$11)","v":0},{"$f":"IF(OR(A166>'Lakás Törlesztéscsökkentő fiók'!$J$10,'Lakás Törlesztéscsökkentő fiók'!$B$24='Lakás Törlesztéscsökkentő fiók'!$T$5),0,'Lakás Törlesztéscsökkentő fiók'!$J$12+'Lakás Törlesztéscsökkentő fiók'!$J$13)","v":0},0,null,null,0,{"$f":"IRR($K$2:K166,0.05)","v":{"$error":"#VALUE!"}}]
[165,{"$error":"#VALUE!"},{"$f":"B167*'Lakás Törlesztéscsökkentő fiók'!$B$27/12","v":{"$error":"#VALUE!"}},{"$f":"IF(A167>'Lakás Törlesztéscsökkentő fiók'!$J$10,0,'Lakás Törlesztéscsökkentő fiók'!$B$28)","v":0},{"$error":"#VALUE!"},{"$f":"IF(A167>'Lakás Törlesztéscsökkentő fiók'!$J$10,0,'Lakás Törlesztéscsökkentő fiók'!$J$11)","v":0},{"$f":"IF(OR(A167>'Lakás Törlesztéscsökkentő fiók'!$J$10,'Lakás Törlesztéscsökkentő fiók'!$B$24='Lakás Törlesztéscsökkentő fiók'!$T$5),0,'Lakás Törlesztéscsökkentő fiók'!$J$12+'Lakás Törlesztéscsökkentő fiók'!$J$13)","v":0},0,null,null,0,{"$f":"IRR($K$2:K167,0.05)","v":{"$error":"#VALUE!"}}]
[166,{"$error":"#VALUE!"},{"$f":"B168*'Lakás Törlesztéscsökkentő fiók'!$B$27/12","v":{"$error":"#VALUE!"}},{"$f":"IF(A168>'Lakás Törlesztéscsökkentő fiók'!$J$10,0,'Lakás Törlesztéscsökkentő fiók'!$B$28)","v":0},{"$error":"#VALUE!"},{"$f":"IF(A168>'Lakás Törlesztéscsökkentő fiók'!$J$10,0,'Lakás Törlesztéscsökkentő fiók'!$J$11)","v":0},{"$f":"IF(OR(A168>'Lakás Törlesztéscsökkentő fiók'!$J$10,'Lakás Törlesztéscsökkentő fiók'!$B$24='Lakás Törlesztéscsökkentő fiók'!$T$5),0,'Lakás Törlesztéscsökkentő fiók'!$J$12+'Lakás Törlesztéscsökkentő fiók'!$J$13)","v":0},0,null,null,0,{"$f":"IRR($K$2:K168,0.05)","v":{"$error":"#VALUE!"}}]
[167,{"$error":"#VALUE!"},{"$f":"B169*'Lakás Törlesztéscsökkentő fiók'!$B$27/12","v":{"$error":"#VALUE!"}},{"$f":"IF(A169>'Lakás Törlesztéscsökkentő fiók'!$J$10,0,'Lakás Törlesztéscsökkentő fiók'!$B$28)","v":0},{"$error":"#VALUE!"},{"$f":"IF(A169>'Lakás Törlesztéscsökkentő fiók'!$J$10,0,'Lakás Törlesztéscsökkentő fiók'!$J$11)","v":0},{"$f":"IF(OR(A169>'Lakás Törlesztéscsökkentő fiók'!$J$10,'Lakás Törlesztéscsökkentő fiók'!$B$24='Lakás Törlesztéscsökkentő fiók'!$T$5),0,'Lakás Törlesztéscsökkentő fiók'!$J$12+'Lakás Törlesztéscsökkentő fiók'!$J$13)","v":0},0,null,null,0,{"$f":"IRR($K$2:K169,0.05)","v":{"$error":"#VALUE!"}}]
[168,{"$error":"#VALUE!"},{"$f":"B170*'Lakás Törlesztéscsökkentő fiók'!$B$27/12","v":{"$error":"#VALUE!"}},{"$f":"IF(A170>'Lakás Törlesztéscsökkentő fiók'!$J$10,0,'Lakás Törlesztéscsökkentő fiók'!$B$28)","v":0},{"$error":"#VALUE!"},{"$f":"IF(A170>'Lakás Törlesztéscsökkentő fiók'!$J$10,0,'Lakás Törlesztéscsökkentő fiók'!$J$11)","v":0},{"$f":"IF(OR(A170>'Lakás Törlesztéscsökkentő fiók'!$J$10,'Lakás Törlesztéscsökkentő fiók'!$B$24='Lakás Törlesztéscsökkentő fiók'!$T$5),0,'Lakás Törlesztéscsökkentő fiók'!$J$12+'Lakás Törlesztéscsökkentő fiók'!$J$13)","v":0},0,null,null,0,{"$f":"IRR($K$2:K170,0.05)","v":{"$error":"#VALUE!"}}]
[169,{"$error":"#VALUE!"},{"$f":"B171*'Lakás Törlesztéscsökkentő fiók'!$B$27/12","v":{"$error":"#VALUE!"}},{"$f":"IF(A171>'Lakás Törlesztéscsökkentő fiók'!$J$10,0,'Lakás Törlesztéscsökkentő fiók'!$B$28)","v":0},{"$error":"#VALUE!"},{"$f":"IF(A171>'Lakás Törlesztéscsökkentő fiók'!$J$10,0,'Lakás Törlesztéscsökkentő fiók'!$J$11)","v":0},{"$f":"IF(OR(A171>'Lakás Törlesztéscsökkentő fiók'!$J$10,'Lakás Törlesztéscsökkentő fiók'!$B$24='Lakás Törlesztéscsökkentő fiók'!$T$5),0,'Lakás Törlesztéscsökkentő fiók'!$J$12+'Lakás Törlesztéscsökkentő fiók'!$J$13)","v":0},0,null,null,0,{"$f":"IRR($K$2:K171,0.05)","v":{"$error":"#VALUE!"}}]
[170,{"$error":"#VALUE!"},{"$f":"B172*'Lakás Törlesztéscsökkentő fiók'!$B$27/12","v":{"$error":"#VALUE!"}},{"$f":"IF(A172>'Lakás Törlesztéscsökkentő fiók'!$J$10,0,'Lakás Törlesztéscsökkentő fiók'!$B$28)","v":0},{"$error":"#VALUE!"},{"$f":"IF(A172>'Lakás Törlesztéscsökkentő fiók'!$J$10,0,'Lakás Törlesztéscsökkentő fiók'!$J$11)","v":0},{"$f":"IF(OR(A172>'Lakás Törlesztéscsökkentő fiók'!$J$10,'Lakás Törlesztéscsökkentő fiók'!$B$24='Lakás Törlesztéscsökkentő fiók'!$T$5),0,'Lakás Törlesztéscsökkentő fiók'!$J$12+'Lakás Törlesztéscsökkentő fiók'!$J$13)","v":0},0,null,null,0,{"$f":"IRR($K$2:K172,0.05)","v":{"$error":"#VALUE!"}}]
[171,{"$error":"#VALUE!"},{"$f":"B173*'Lakás Törlesztéscsökkentő fiók'!$B$27/12","v":{"$error":"#VALUE!"}},{"$f":"IF(A173>'Lakás Törlesztéscsökkentő fiók'!$J$10,0,'Lakás Törlesztéscsökkentő fiók'!$B$28)","v":0},{"$error":"#VALUE!"},{"$f":"IF(A173>'Lakás Törlesztéscsökkentő fiók'!$J$10,0,'Lakás Törlesztéscsökkentő fiók'!$J$11)","v":0},{"$f":"IF(OR(A173>'Lakás Törlesztéscsökkentő fiók'!$J$10,'Lakás Törlesztéscsökkentő fiók'!$B$24='Lakás Törlesztéscsökkentő fiók'!$T$5),0,'Lakás Törlesztéscsökkentő fiók'!$J$12+'Lakás Törlesztéscsökkentő fiók'!$J$13)","v":0},0,null,null,0,{"$f":"IRR($K$2:K173,0.05)","v":{"$error":"#VALUE!"}}]
[172,{"$error":"#VALUE!"},{"$f":"B174*'Lakás Törlesztéscsökkentő fiók'!$B$27/12","v":{"$error":"#VALUE!"}},{"$f":"IF(A174>'Lakás Törlesztéscsökkentő fiók'!$J$10,0,'Lakás Törlesztéscsökkentő fiók'!$B$28)","v":0},{"$error":"#VALUE!"},{"$f":"IF(A174>'Lakás Törlesztéscsökkentő fiók'!$J$10,0,'Lakás Törlesztéscsökkentő fiók'!$J$11)","v":0},{"$f":"IF(OR(A174>'Lakás Törlesztéscsökkentő fiók'!$J$10,'Lakás Törlesztéscsökkentő fiók'!$B$24='Lakás Törlesztéscsökkentő fiók'!$T$5),0,'Lakás Törlesztéscsökkentő fiók'!$J$12+'Lakás Törlesztéscsökkentő fiók'!$J$13)","v":0},0,null,null,0,{"$f":"IRR($K$2:K174,0.05)","v":{"$error":"#VALUE!"}}]
[173,{"$error":"#VALUE!"},{"$f":"B175*'Lakás Törlesztéscsökkentő fiók'!$B$27/12","v":{"$error":"#VALUE!"}},{"$f":"IF(A175>'Lakás Törlesztéscsökkentő fiók'!$J$10,0,'Lakás Törlesztéscsökkentő fiók'!$B$28)","v":0},{"$error":"#VALUE!"},{"$f":"IF(A175>'Lakás Törlesztéscsökkentő fiók'!$J$10,0,'Lakás Törlesztéscsökkentő fiók'!$J$11)","v":0},{"$f":"IF(OR(A175>'Lakás Törlesztéscsökkentő fiók'!$J$10,'Lakás Törlesztéscsökkentő fiók'!$B$24='Lakás Törlesztéscsökkentő fiók'!$T$5),0,'Lakás Törlesztéscsökkentő fiók'!$J$12+'Lakás Törlesztéscsökkentő fiók'!$J$13)","v":0},0,null,null,0,{"$f":"IRR($K$2:K175,0.05)","v":{"$error":"#VALUE!"}}]
[174,{"$error":"#VALUE!"},{"$f":"B176*'Lakás Törlesztéscsökkentő fiók'!$B$27/12","v":{"$error":"#VALUE!"}},{"$f":"IF(A176>'Lakás Törlesztéscsökkentő fiók'!$J$10,0,'Lakás Törlesztéscsökkentő fiók'!$B$28)","v":0},{"$error":"#VALUE!"},{"$f":"IF(A176>'Lakás Törlesztéscsökkentő fiók'!$J$10,0,'Lakás Törlesztéscsökkentő fiók'!$J$11)","v":0},{"$f":"IF(OR(A176>'Lakás Törlesztéscsökkentő fiók'!$J$10,'Lakás Törlesztéscsökkentő fiók'!$B$24='Lakás Törlesztéscsökkentő fiók'!$T$5),0,'Lakás Törlesztéscsökkentő fiók'!$J$12+'Lakás Törlesztéscsökkentő fiók'!$J$13)","v":0},0,null,null,0,{"$f":"IRR($K$2:K176,0.05)","v":{"$error":"#VALUE!"}}]
[175,{"$error":"#VALUE!"},{"$f":"B177*'Lakás Törlesztéscsökkentő fiók'!$B$27/12","v":{"$error":"#VALUE!"}},{"$f":"IF(A177>'Lakás Törlesztéscsökkentő fiók'!$J$10,0,'Lakás Törlesztéscsökkentő fiók'!$B$28)","v":0},{"$error":"#VALUE!"},{"$f":"IF(A177>'Lakás Törlesztéscsökkentő fiók'!$J$10,0,'Lakás Törlesztéscsökkentő fiók'!$J$11)","v":0},{"$f":"IF(OR(A177>'Lakás Törlesztéscsökkentő fiók'!$J$10,'Lakás Törlesztéscsökkentő fiók'!$B$24='Lakás Törlesztéscsökkentő fiók'!$T$5),0,'Lakás Törlesztéscsökkentő fiók'!$J$12+'Lakás Törlesztéscsökkentő fiók'!$J$13)","v":0},0,null,null,0,{"$f":"IRR($K$2:K177,0.05)","v":{"$error":"#VALUE!"}}]
[176,{"$error":"#VALUE!"},{"$f":"B178*'Lakás Törlesztéscsökkentő fiók'!$B$27/12","v":{"$error":"#VALUE!"}},{"$f":"IF(A178>'Lakás Törlesztéscsökkentő fiók'!$J$10,0,'Lakás Törlesztéscsökkentő fiók'!$B$28)","v":0},{"$error":"#VALUE!"},{"$f":"IF(A178>'Lakás Törlesztéscsökkentő fiók'!$J$10,0,'Lakás Törlesztéscsökkentő fiók'!$J$11)","v":0},{"$f":"IF(OR(A178>'Lakás Törlesztéscsökkentő fiók'!$J$10,'Lakás Törlesztéscsökkentő fiók'!$B$24='Lakás Törlesztéscsökkentő fiók'!$T$5),0,'Lakás Törlesztéscsökkentő fiók'!$J$12+'Lakás Törlesztéscsökkentő fiók'!$J$13)","v":0},0,null,null,0,{"$f":"IRR($K$2:K178,0.05)","v":{"$error":"#VALUE!"}}]
[177,{"$error":"#VALUE!"},{"$f":"B179*'Lakás Törlesztéscsökkentő fiók'!$B$27/12","v":{"$error":"#VALUE!"}},{"$f":"IF(A179>'Lakás Törlesztéscsökkentő fiók'!$J$10,0,'Lakás Törlesztéscsökkentő fiók'!$B$28)","v":0},{"$error":"#VALUE!"},{"$f":"IF(A179>'Lakás Törlesztéscsökkentő fiók'!$J$10,0,'Lakás Törlesztéscsökkentő fiók'!$J$11)","v":0},{"$f":"IF(OR(A179>'Lakás Törlesztéscsökkentő fiók'!$J$10,'Lakás Törlesztéscsökkentő fiók'!$B$24='Lakás Törlesztéscsökkentő fiók'!$T$5),0,'Lakás Törlesztéscsökkentő fiók'!$J$12+'Lakás Törlesztéscsökkentő fiók'!$J$13)","v":0},0,null,null,0,{"$f":"IRR($K$2:K179,0.05)","v":{"$error":"#VALUE!"}}]
[178,{"$error":"#VALUE!"},{"$f":"B180*'Lakás Törlesztéscsökkentő fiók'!$B$27/12","v":{"$error":"#VALUE!"}},{"$f":"IF(A180>'Lakás Törlesztéscsökkentő fiók'!$J$10,0,'Lakás Törlesztéscsökkentő fiók'!$B$28)","v":0},{"$error":"#VALUE!"},{"$f":"IF(A180>'Lakás Törlesztéscsökkentő fiók'!$J$10,0,'Lakás Törlesztéscsökkentő fiók'!$J$11)","v":0},{"$f":"IF(OR(A180>'Lakás Törlesztéscsökkentő fiók'!$J$10,'Lakás Törlesztéscsökkentő fiók'!$B$24='Lakás Törlesztéscsökkentő fiók'!$T$5),0,'Lakás Törlesztéscsökkentő fiók'!$J$12+'Lakás Törlesztéscsökkentő fiók'!$J$13)","v":0},0,null,null,0,{"$f":"IRR($K$2:K180,0.05)","v":{"$error":"#VALUE!"}}]
[179,{"$error":"#VALUE!"},{"$f":"B181*'Lakás Törlesztéscsökkentő fiók'!$B$27/12","v":{"$error":"#VALUE!"}},{"$f":"IF(A181>'Lakás Törlesztéscsökkentő fiók'!$J$10,0,'Lakás Törlesztéscsökkentő fiók'!$B$28)","v":0},{"$error":"#VALUE!"},{"$f":"IF(A181>'Lakás Törlesztéscsökkentő fiók'!$J$10,0,'Lakás Törlesztéscsökkentő fiók'!$J$11)","v":0},{"$f":"IF(OR(A181>'Lakás Törlesztéscsökkentő fiók'!$J$10,'Lakás Törlesztéscsökkentő fiók'!$B$24='Lakás Törlesztéscsökkentő fiók'!$T$5),0,'Lakás Törlesztéscsökkentő fiók'!$J$12+'Lakás Törlesztéscsökkentő fiók'!$J$13)","v":0},0,null,null,0,{"$f":"IRR($K$2:K181,0.05)","v":{"$error":"#VALUE!"}}]
[180,{"$error":"#VALUE!"},{"$f":"B182*'Lakás Törlesztéscsökkentő fiók'!$B$27/12","v":{"$error":"#VALUE!"}},{"$f":"IF(A182>'Lakás Törlesztéscsökkentő fiók'!$J$10,0,'Lakás Törlesztéscsökkentő fiók'!$B$28)","v":0},{"$error":"#VALUE!"},{"$f":"IF(A182>'Lakás Törlesztéscsökkentő fiók'!$J$10,0,'Lakás Törlesztéscsökkentő fiók'!$J$11)","v":0},{"$f":"IF(OR(A182>'Lakás Törlesztéscsökkentő fiók'!$J$10,'Lakás Törlesztéscsökkentő fiók'!$B$24='Lakás Törlesztéscsökkentő fiók'!$T$5),0,'Lakás Törlesztéscsökkentő fiók'!$J$12+'Lakás Törlesztéscsökkentő fiók'!$J$13)","v":0},0,null,null,0,{"$f":"IRR($K$2:K182,0.05)","v":{"$error":"#VALUE!"}}]
[181,{"$error":"#VALUE!"},{"$f":"B183*'Lakás Törlesztéscsökkentő fiók'!$B$27/12","v":{"$error":"#VALUE!"}},{"$f":"IF(A183>'Lakás Törlesztéscsökkentő fiók'!$J$10,0,'Lakás Törlesztéscsökkentő fiók'!$B$28)","v":0},{"$error":"#VALUE!"},{"$f":"IF(A183>'Lakás Törlesztéscsökkentő fiók'!$J$10,0,'Lakás Törlesztéscsökkentő fiók'!$J$11)","v":0},{"$f":"IF(OR(A183>'Lakás Törlesztéscsökkentő fiók'!$J$10,'Lakás Törlesztéscsökkentő fiók'!$B$24='Lakás Törlesztéscsökkentő fiók'!$T$5),0,'Lakás Törlesztéscsökkentő fiók'!$J$12+'Lakás Törlesztéscsökkentő fiók'!$J$13)","v":0},0,null,null,0,{"$f":"IRR($K$2:K183,0.05)","v":{"$error":"#VALUE!"}}]
[182,{"$error":"#VALUE!"},{"$f":"B184*'Lakás Törlesztéscsökkentő fiók'!$B$27/12","v":{"$error":"#VALUE!"}},{"$f":"IF(A184>'Lakás Törlesztéscsökkentő fiók'!$J$10,0,'Lakás Törlesztéscsökkentő fiók'!$B$28)","v":0},{"$error":"#VALUE!"},{"$f":"IF(A184>'Lakás Törlesztéscsökkentő fiók'!$J$10,0,'Lakás Törlesztéscsökkentő fiók'!$J$11)","v":0},{"$f":"IF(OR(A184>'Lakás Törlesztéscsökkentő fiók'!$J$10,'Lakás Törlesztéscsökkentő fiók'!$B$24='Lakás Törlesztéscsökkentő fiók'!$T$5),0,'Lakás Törlesztéscsökkentő fiók'!$J$12+'Lakás Törlesztéscsökkentő fiók'!$J$13)","v":0},0,null,null,0,{"$f":"IRR($K$2:K184,0.05)","v":{"$error":"#VALUE!"}}]
[183,{"$error":"#VALUE!"},{"$f":"B185*'Lakás Törlesztéscsökkentő fiók'!$B$27/12","v":{"$error":"#VALUE!"}},{"$f":"IF(A185>'Lakás Törlesztéscsökkentő fiók'!$J$10,0,'Lakás Törlesztéscsökkentő fiók'!$B$28)","v":0},{"$error":"#VALUE!"},{"$f":"IF(A185>'Lakás Törlesztéscsökkentő fiók'!$J$10,0,'Lakás Törlesztéscsökkentő fiók'!$J$11)","v":0},{"$f":"IF(OR(A185>'Lakás Törlesztéscsökkentő fiók'!$J$10,'Lakás Törlesztéscsökkentő fiók'!$B$24='Lakás Törlesztéscsökkentő fiók'!$T$5),0,'Lakás Törlesztéscsökkentő fiók'!$J$12+'Lakás Törlesztéscsökkentő fiók'!$J$13)","v":0},0,null,null,0,{"$f":"IRR($K$2:K185,0.05)","v":{"$error":"#VALUE!"}}]
[184,{"$error":"#VALUE!"},{"$f":"B186*'Lakás Törlesztéscsökkentő fiók'!$B$27/12","v":{"$error":"#VALUE!"}},{"$f":"IF(A186>'Lakás Törlesztéscsökkentő fiók'!$J$10,0,'Lakás Törlesztéscsökkentő fiók'!$B$28)","v":0},{"$error":"#VALUE!"},{"$f":"IF(A186>'Lakás Törlesztéscsökkentő fiók'!$J$10,0,'Lakás Törlesztéscsökkentő fiók'!$J$11)","v":0},{"$f":"IF(OR(A186>'Lakás Törlesztéscsökkentő fiók'!$J$10,'Lakás Törlesztéscsökkentő fiók'!$B$24='Lakás Törlesztéscsökkentő fiók'!$T$5),0,'Lakás Törlesztéscsökkentő fiók'!$J$12+'Lakás Törlesztéscsökkentő fiók'!$J$13)","v":0},0,null,null,0,{"$f":"IRR($K$2:K186,0.05)","v":{"$error":"#VALUE!"}}]
[185,{"$error":"#VALUE!"},{"$f":"B187*'Lakás Törlesztéscsökkentő fiók'!$B$27/12","v":{"$error":"#VALUE!"}},{"$f":"IF(A187>'Lakás Törlesztéscsökkentő fiók'!$J$10,0,'Lakás Törlesztéscsökkentő fiók'!$B$28)","v":0},{"$error":"#VALUE!"},{"$f":"IF(A187>'Lakás Törlesztéscsökkentő fiók'!$J$10,0,'Lakás Törlesztéscsökkentő fiók'!$J$11)","v":0},{"$f":"IF(OR(A187>'Lakás Törlesztéscsökkentő fiók'!$J$10,'Lakás Törlesztéscsökkentő fiók'!$B$24='Lakás Törlesztéscsökkentő fiók'!$T$5),0,'Lakás Törlesztéscsökkentő fiók'!$J$12+'Lakás Törlesztéscsökkentő fiók'!$J$13)","v":0},0,null,null,0,{"$f":"IRR($K$2:K187,0.05)","v":{"$error":"#VALUE!"}}]
[186,{"$error":"#VALUE!"},{"$f":"B188*'Lakás Törlesztéscsökkentő fiók'!$B$27/12","v":{"$error":"#VALUE!"}},{"$f":"IF(A188>'Lakás Törlesztéscsökkentő fiók'!$J$10,0,'Lakás Törlesztéscsökkentő fiók'!$B$28)","v":0},{"$error":"#VALUE!"},{"$f":"IF(A188>'Lakás Törlesztéscsökkentő fiók'!$J$10,0,'Lakás Törlesztéscsökkentő fiók'!$J$11)","v":0},{"$f":"IF(OR(A188>'Lakás Törlesztéscsökkentő fiók'!$J$10,'Lakás Törlesztéscsökkentő fiók'!$B$24='Lakás Törlesztéscsökkentő fiók'!$T$5),0,'Lakás Törlesztéscsökkentő fiók'!$J$12+'Lakás Törlesztéscsökkentő fiók'!$J$13)","v":0},0,null,null,0,{"$f":"IRR($K$2:K188,0.05)","v":{"$error":"#VALUE!"}}]
[187,{"$error":"#VALUE!"},{"$f":"B189*'Lakás Törlesztéscsökkentő fiók'!$B$27/12","v":{"$error":"#VALUE!"}},{"$f":"IF(A189>'Lakás Törlesztéscsökkentő fiók'!$J$10,0,'Lakás Törlesztéscsökkentő fiók'!$B$28)","v":0},{"$error":"#VALUE!"},{"$f":"IF(A189>'Lakás Törlesztéscsökkentő fiók'!$J$10,0,'Lakás Törlesztéscsökkentő fiók'!$J$11)","v":0},{"$f":"IF(OR(A189>'Lakás Törlesztéscsökkentő fiók'!$J$10,'Lakás Törlesztéscsökkentő fiók'!$B$24='Lakás Törlesztéscsökkentő fiók'!$T$5),0,'Lakás Törlesztéscsökkentő fiók'!$J$12+'Lakás Törlesztéscsökkentő fiók'!$J$13)","v":0},0,null,null,0,{"$f":"IRR($K$2:K189,0.05)","v":{"$error":"#VALUE!"}}]
[188,{"$error":"#VALUE!"},{"$f":"B190*'Lakás Törlesztéscsökkentő fiók'!$B$27/12","v":{"$error":"#VALUE!"}},{"$f":"IF(A190>'Lakás Törlesztéscsökkentő fiók'!$J$10,0,'Lakás Törlesztéscsökkentő fiók'!$B$28)","v":0},{"$error":"#VALUE!"},{"$f":"IF(A190>'Lakás Törlesztéscsökkentő fiók'!$J$10,0,'Lakás Törlesztéscsökkentő fiók'!$J$11)","v":0},{"$f":"IF(OR(A190>'Lakás Törlesztéscsökkentő fiók'!$J$10,'Lakás Törlesztéscsökkentő fiók'!$B$24='Lakás Törlesztéscsökkentő fiók'!$T$5),0,'Lakás Törlesztéscsökkentő fiók'!$J$12+'Lakás Törlesztéscsökkentő fiók'!$J$13)","v":0},0,null,null,0,{"$f":"IRR($K$2:K190,0.05)","v":{"$error":"#VALUE!"}}]
[189,{"$error":"#VALUE!"},{"$f":"B191*'Lakás Törlesztéscsökkentő fiók'!$B$27/12","v":{"$error":"#VALUE!"}},{"$f":"IF(A191>'Lakás Törlesztéscsökkentő fiók'!$J$10,0,'Lakás Törlesztéscsökkentő fiók'!$B$28)","v":0},{"$error":"#VALUE!"},{"$f":"IF(A191>'Lakás Törlesztéscsökkentő fiók'!$J$10,0,'Lakás Törlesztéscsökkentő fiók'!$J$11)","v":0},{"$f":"IF(OR(A191>'Lakás Törlesztéscsökkentő fiók'!$J$10,'Lakás Törlesztéscsökkentő fiók'!$B$24='Lakás Törlesztéscsökkentő fiók'!$T$5),0,'Lakás Törlesztéscsökkentő fiók'!$J$12+'Lakás Törlesztéscsökkentő fiók'!$J$13)","v":0},0,null,null,0,{"$f":"IRR($K$2:K191,0.05)","v":{"$error":"#VALUE!"}}]
[190,{"$error":"#VALUE!"},{"$f":"B192*'Lakás Törlesztéscsökkentő fiók'!$B$27/12","v":{"$error":"#VALUE!"}},{"$f":"IF(A192>'Lakás Törlesztéscsökkentő fiók'!$J$10,0,'Lakás Törlesztéscsökkentő fiók'!$B$28)","v":0},{"$error":"#VALUE!"},{"$f":"IF(A192>'Lakás Törlesztéscsökkentő fiók'!$J$10,0,'Lakás Törlesztéscsökkentő fiók'!$J$11)","v":0},{"$f":"IF(OR(A192>'Lakás Törlesztéscsökkentő fiók'!$J$10,'Lakás Törlesztéscsökkentő fiók'!$B$24='Lakás Törlesztéscsökkentő fiók'!$T$5),0,'Lakás Törlesztéscsökkentő fiók'!$J$12+'Lakás Törlesztéscsökkentő fiók'!$J$13)","v":0},0,null,null,0,{"$f":"IRR($K$2:K192,0.05)","v":{"$error":"#VALUE!"}}]
[191,{"$error":"#VALUE!"},{"$f":"B193*'Lakás Törlesztéscsökkentő fiók'!$B$27/12","v":{"$error":"#VALUE!"}},{"$f":"IF(A193>'Lakás Törlesztéscsökkentő fiók'!$J$10,0,'Lakás Törlesztéscsökkentő fiók'!$B$28)","v":0},{"$error":"#VALUE!"},{"$f":"IF(A193>'Lakás Törlesztéscsökkentő fiók'!$J$10,0,'Lakás Törlesztéscsökkentő fiók'!$J$11)","v":0},{"$f":"IF(OR(A193>'Lakás Törlesztéscsökkentő fiók'!$J$10,'Lakás Törlesztéscsökkentő fiók'!$B$24='Lakás Törlesztéscsökkentő fiók'!$T$5),0,'Lakás Törlesztéscsökkentő fiók'!$J$12+'Lakás Törlesztéscsökkentő fiók'!$J$13)","v":0},0,null,null,0,{"$f":"IRR($K$2:K193,0.05)","v":{"$error":"#VALUE!"}}]
[192,{"$error":"#VALUE!"},{"$f":"B194*'Lakás Törlesztéscsökkentő fiók'!$B$27/12","v":{"$error":"#VALUE!"}},{"$f":"IF(A194>'Lakás Törlesztéscsökkentő fiók'!$J$10,0,'Lakás Törlesztéscsökkentő fiók'!$B$28)","v":0},{"$error":"#VALUE!"},{"$f":"IF(A194>'Lakás Törlesztéscsökkentő fiók'!$J$10,0,'Lakás Törlesztéscsökkentő fiók'!$J$11)","v":0},{"$f":"IF(OR(A194>'Lakás Törlesztéscsökkentő fiók'!$J$10,'Lakás Törlesztéscsökkentő fiók'!$B$24='Lakás Törlesztéscsökkentő fiók'!$T$5),0,'Lakás Törlesztéscsökkentő fiók'!$J$12+'Lakás Törlesztéscsökkentő fiók'!$J$13)","v":0},0,null,null,0,{"$f":"IRR($K$2:K194,0.05)","v":{"$error":"#VALUE!"}}]
[193,{"$error":"#VALUE!"},{"$f":"B195*'Lakás Törlesztéscsökkentő fiók'!$B$27/12","v":{"$error":"#VALUE!"}},{"$f":"IF(A195>'Lakás Törlesztéscsökkentő fiók'!$J$10,0,'Lakás Törlesztéscsökkentő fiók'!$B$28)","v":0},{"$error":"#VALUE!"},{"$f":"IF(A195>'Lakás Törlesztéscsökkentő fiók'!$J$10,0,'Lakás Törlesztéscsökkentő fiók'!$J$11)","v":0},{"$f":"IF(OR(A195>'Lakás Törlesztéscsökkentő fiók'!$J$10,'Lakás Törlesztéscsökkentő fiók'!$B$24='Lakás Törlesztéscsökkentő fiók'!$T$5),0,'Lakás Törlesztéscsökkentő fiók'!$J$12+'Lakás Törlesztéscsökkentő fiók'!$J$13)","v":0},0,null,null,0,{"$f":"IRR($K$2:K195,0.05)","v":{"$error":"#VALUE!"}}]
[194,{"$error":"#VALUE!"},{"$f":"B196*'Lakás Törlesztéscsökkentő fiók'!$B$27/12","v":{"$error":"#VALUE!"}},{"$f":"IF(A196>'Lakás Törlesztéscsökkentő fiók'!$J$10,0,'Lakás Törlesztéscsökkentő fiók'!$B$28)","v":0},{"$f":"+B196+C196-D196","v":{"$error":"#VALUE!"}},{"$f":"IF(A196>'Lakás Törlesztéscsökkentő fiók'!$J$10,0,'Lakás Törlesztéscsökkentő fiók'!$J$11)","v":0},{"$f":"IF(OR(A196>'Lakás Törlesztéscsökkentő fiók'!$J$10,'Lakás Törlesztéscsökkentő fiók'!$B$24='Lakás Törlesztéscsökkentő fiók'!$T$5),0,'Lakás Törlesztéscsökkentő fiók'!$J$12+'Lakás Törlesztéscsökkentő fiók'!$J$13)","v":0},0,null,null,{"$f":"D196+F196+G196","v":0},{"$f":"IRR($K$2:K196,0.05)","v":{"$error":"#VALUE!"}}]
[{"$f":"+A196+1","v":195},{"$f":"+E196","v":{"$error":"#VALUE!"}},{"$f":"B197*'Lakás Törlesztéscsökkentő fiók'!$B$27/12","v":{"$error":"#VALUE!"}},{"$f":"IF(A197>'Lakás Törlesztéscsökkentő fiók'!$J$10,0,'Lakás Törlesztéscsökkentő fiók'!$B$28)","v":0},{"$error":"#VALUE!"},{"$f":"IF(A197>'Lakás Törlesztéscsökkentő fiók'!$J$10,0,'Lakás Törlesztéscsökkentő fiók'!$J$11)","v":0},{"$f":"IF(OR(A197>'Lakás Törlesztéscsökkentő fiók'!$J$10,'Lakás Törlesztéscsökkentő fiók'!$B$24='Lakás Törlesztéscsökkentő fiók'!$T$5),0,'Lakás Törlesztéscsökkentő fiók'!$J$12+'Lakás Törlesztéscsökkentő fiók'!$J$13)","v":0},{"$f":"H196+(D197+F197+G197)/(1+$H$1)^(A197/12)","v":0},null,null,0,{"$f":"IRR($K$2:K197,0.05)","v":{"$error":"#VALUE!"}}]
[196,{"$error":"#VALUE!"},{"$f":"B198*'Lakás Törlesztéscsökkentő fiók'!$B$27/12","v":{"$error":"#VALUE!"}},{"$f":"IF(A198>'Lakás Törlesztéscsökkentő fiók'!$J$10,0,'Lakás Törlesztéscsökkentő fiók'!$B$28)","v":0},{"$error":"#VALUE!"},{"$f":"IF(A198>'Lakás Törlesztéscsökkentő fiók'!$J$10,0,'Lakás Törlesztéscsökkentő fiók'!$J$11)","v":0},{"$f":"IF(OR(A198>'Lakás Törlesztéscsökkentő fiók'!$J$10,'Lakás Törlesztéscsökkentő fiók'!$B$24='Lakás Törlesztéscsökkentő fiók'!$T$5),0,'Lakás Törlesztéscsökkentő fiók'!$J$12+'Lakás Törlesztéscsökkentő fiók'!$J$13)","v":0},0,null,null,0,{"$f":"IRR($K$2:K198,0.05)","v":{"$error":"#VALUE!"}}]
[197,{"$error":"#VALUE!"},{"$f":"B199*'Lakás Törlesztéscsökkentő fiók'!$B$27/12","v":{"$error":"#VALUE!"}},{"$f":"IF(A199>'Lakás Törlesztéscsökkentő fiók'!$J$10,0,'Lakás Törlesztéscsökkentő fiók'!$B$28)","v":0},{"$error":"#VALUE!"},{"$f":"IF(A199>'Lakás Törlesztéscsökkentő fiók'!$J$10,0,'Lakás Törlesztéscsökkentő fiók'!$J$11)","v":0},{"$f":"IF(OR(A199>'Lakás Törlesztéscsökkentő fiók'!$J$10,'Lakás Törlesztéscsökkentő fiók'!$B$24='Lakás Törlesztéscsökkentő fiók'!$T$5),0,'Lakás Törlesztéscsökkentő fiók'!$J$12+'Lakás Törlesztéscsökkentő fiók'!$J$13)","v":0},0,null,null,0,{"$f":"IRR($K$2:K199,0.05)","v":{"$error":"#VALUE!"}}]
[198,{"$error":"#VALUE!"},{"$f":"B200*'Lakás Törlesztéscsökkentő fiók'!$B$27/12","v":{"$error":"#VALUE!"}},{"$f":"IF(A200>'Lakás Törlesztéscsökkentő fiók'!$J$10,0,'Lakás Törlesztéscsökkentő fiók'!$B$28)","v":0},{"$error":"#VALUE!"},{"$f":"IF(A200>'Lakás Törlesztéscsökkentő fiók'!$J$10,0,'Lakás Törlesztéscsökkentő fiók'!$J$11)","v":0},{"$f":"IF(OR(A200>'Lakás Törlesztéscsökkentő fiók'!$J$10,'Lakás Törlesztéscsökkentő fiók'!$B$24='Lakás Törlesztéscsökkentő fiók'!$T$5),0,'Lakás Törlesztéscsökkentő fiók'!$J$12+'Lakás Törlesztéscsökkentő fiók'!$J$13)","v":0},0,null,null,0,{"$f":"IRR($K$2:K200,0.05)","v":{"$error":"#VALUE!"}}]
[199,{"$error":"#VALUE!"},{"$f":"B201*'Lakás Törlesztéscsökkentő fiók'!$B$27/12","v":{"$error":"#VALUE!"}},{"$f":"IF(A201>'Lakás Törlesztéscsökkentő fiók'!$J$10,0,'Lakás Törlesztéscsökkentő fiók'!$B$28)","v":0},{"$error":"#VALUE!"},{"$f":"IF(A201>'Lakás Törlesztéscsökkentő fiók'!$J$10,0,'Lakás Törlesztéscsökkentő fiók'!$J$11)","v":0},{"$f":"IF(OR(A201>'Lakás Törlesztéscsökkentő fiók'!$J$10,'Lakás Törlesztéscsökkentő fiók'!$B$24='Lakás Törlesztéscsökkentő fiók'!$T$5),0,'Lakás Törlesztéscsökkentő fiók'!$J$12+'Lakás Törlesztéscsökkentő fiók'!$J$13)","v":0},0,null,null,0,{"$f":"IRR($K$2:K201,0.05)","v":{"$error":"#VALUE!"}}]
[200,{"$error":"#VALUE!"},{"$f":"B202*'Lakás Törlesztéscsökkentő fiók'!$B$27/12","v":{"$error":"#VALUE!"}},{"$f":"IF(A202>'Lakás Törlesztéscsökkentő fiók'!$J$10,0,'Lakás Törlesztéscsökkentő fiók'!$B$28)","v":0},{"$error":"#VALUE!"},{"$f":"IF(A202>'Lakás Törlesztéscsökkentő fiók'!$J$10,0,'Lakás Törlesztéscsökkentő fiók'!$J$11)","v":0},{"$f":"IF(OR(A202>'Lakás Törlesztéscsökkentő fiók'!$J$10,'Lakás Törlesztéscsökkentő fiók'!$B$24='Lakás Törlesztéscsökkentő fiók'!$T$5),0,'Lakás Törlesztéscsökkentő fiók'!$J$12+'Lakás Törlesztéscsökkentő fiók'!$J$13)","v":0},0,null,null,0,{"$f":"IRR($K$2:K202,0.05)","v":{"$error":"#VALUE!"}}]
[201,{"$error":"#VALUE!"},{"$f":"B203*'Lakás Törlesztéscsökkentő fiók'!$B$27/12","v":{"$error":"#VALUE!"}},{"$f":"IF(A203>'Lakás Törlesztéscsökkentő fiók'!$J$10,0,'Lakás Törlesztéscsökkentő fiók'!$B$28)","v":0},{"$error":"#VALUE!"},{"$f":"IF(A203>'Lakás Törlesztéscsökkentő fiók'!$J$10,0,'Lakás Törlesztéscsökkentő fiók'!$J$11)","v":0},{"$f":"IF(OR(A203>'Lakás Törlesztéscsökkentő fiók'!$J$10,'Lakás Törlesztéscsökkentő fiók'!$B$24='Lakás Törlesztéscsökkentő fiók'!$T$5),0,'Lakás Törlesztéscsökkentő fiók'!$J$12+'Lakás Törlesztéscsökkentő fiók'!$J$13)","v":0},0,null,null,0,{"$f":"IRR($K$2:K203,0.05)","v":{"$error":"#VALUE!"}}]
[202,{"$error":"#VALUE!"},{"$f":"B204*'Lakás Törlesztéscsökkentő fiók'!$B$27/12","v":{"$error":"#VALUE!"}},{"$f":"IF(A204>'Lakás Törlesztéscsökkentő fiók'!$J$10,0,'Lakás Törlesztéscsökkentő fiók'!$B$28)","v":0},{"$error":"#VALUE!"},{"$f":"IF(A204>'Lakás Törlesztéscsökkentő fiók'!$J$10,0,'Lakás Törlesztéscsökkentő fiók'!$J$11)","v":0},{"$f":"IF(OR(A204>'Lakás Törlesztéscsökkentő fiók'!$J$10,'Lakás Törlesztéscsökkentő fiók'!$B$24='Lakás Törlesztéscsökkentő fiók'!$T$5),0,'Lakás Törlesztéscsökkentő fiók'!$J$12+'Lakás Törlesztéscsökkentő fiók'!$J$13)","v":0},0,null,null,0,{"$f":"IRR($K$2:K204,0.05)","v":{"$error":"#VALUE!"}}]
[203,{"$error":"#VALUE!"},{"$f":"B205*'Lakás Törlesztéscsökkentő fiók'!$B$27/12","v":{"$error":"#VALUE!"}},{"$f":"IF(A205>'Lakás Törlesztéscsökkentő fiók'!$J$10,0,'Lakás Törlesztéscsökkentő fiók'!$B$28)","v":0},{"$error":"#VALUE!"},{"$f":"IF(A205>'Lakás Törlesztéscsökkentő fiók'!$J$10,0,'Lakás Törlesztéscsökkentő fiók'!$J$11)","v":0},{"$f":"IF(OR(A205>'Lakás Törlesztéscsökkentő fiók'!$J$10,'Lakás Törlesztéscsökkentő fiók'!$B$24='Lakás Törlesztéscsökkentő fiók'!$T$5),0,'Lakás Törlesztéscsökkentő fiók'!$J$12+'Lakás Törlesztéscsökkentő fiók'!$J$13)","v":0},0,null,null,0,{"$f":"IRR($K$2:K205,0.05)","v":{"$error":"#VALUE!"}}]
[204,{"$error":"#VALUE!"},{"$f":"B206*'Lakás Törlesztéscsökkentő fiók'!$B$27/12","v":{"$error":"#VALUE!"}},{"$f":"IF(A206>'Lakás Törlesztéscsökkentő fiók'!$J$10,0,'Lakás Törlesztéscsökkentő fiók'!$B$28)","v":0},{"$error":"#VALUE!"},{"$f":"IF(A206>'Lakás Törlesztéscsökkentő fiók'!$J$10,0,'Lakás Törlesztéscsökkentő fiók'!$J$11)","v":0},{"$f":"IF(OR(A206>'Lakás Törlesztéscsökkentő fiók'!$J$10,'Lakás Törlesztéscsökkentő fiók'!$B$24='Lakás Törlesztéscsökkentő fiók'!$T$5),0,'Lakás Törlesztéscsökkentő fiók'!$J$12+'Lakás Törlesztéscsökkentő fiók'!$J$13)","v":0},0,null,null,0,{"$f":"IRR($K$2:K206,0.05)","v":{"$error":"#VALUE!"}}]
[205,{"$error":"#VALUE!"},{"$f":"B207*'Lakás Törlesztéscsökkentő fiók'!$B$27/12","v":{"$error":"#VALUE!"}},{"$f":"IF(A207>'Lakás Törlesztéscsökkentő fiók'!$J$10,0,'Lakás Törlesztéscsökkentő fiók'!$B$28)","v":0},{"$error":"#VALUE!"},{"$f":"IF(A207>'Lakás Törlesztéscsökkentő fiók'!$J$10,0,'Lakás Törlesztéscsökkentő fiók'!$J$11)","v":0},{"$f":"IF(OR(A207>'Lakás Törlesztéscsökkentő fiók'!$J$10,'Lakás Törlesztéscsökkentő fiók'!$B$24='Lakás Törlesztéscsökkentő fiók'!$T$5),0,'Lakás Törlesztéscsökkentő fiók'!$J$12+'Lakás Törlesztéscsökkentő fiók'!$J$13)","v":0},0,null,null,0,{"$f":"IRR($K$2:K207,0.05)","v":{"$error":"#VALUE!"}}]
[206,{"$error":"#VALUE!"},{"$f":"B208*'Lakás Törlesztéscsökkentő fiók'!$B$27/12","v":{"$error":"#VALUE!"}},{"$f":"IF(A208>'Lakás Törlesztéscsökkentő fiók'!$J$10,0,'Lakás Törlesztéscsökkentő fiók'!$B$28)","v":0},{"$error":"#VALUE!"},{"$f":"IF(A208>'Lakás Törlesztéscsökkentő fiók'!$J$10,0,'Lakás Törlesztéscsökkentő fiók'!$J$11)","v":0},{"$f":"IF(OR(A208>'Lakás Törlesztéscsökkentő fiók'!$J$10,'Lakás Törlesztéscsökkentő fiók'!$B$24='Lakás Törlesztéscsökkentő fiók'!$T$5),0,'Lakás Törlesztéscsökkentő fiók'!$J$12+'Lakás Törlesztéscsökkentő fiók'!$J$13)","v":0},0,null,null,0,{"$f":"IRR($K$2:K208,0.05)","v":{"$error":"#VALUE!"}}]
[207,{"$error":"#VALUE!"},{"$f":"B209*'Lakás Törlesztéscsökkentő fiók'!$B$27/12","v":{"$error":"#VALUE!"}},{"$f":"IF(A209>'Lakás Törlesztéscsökkentő fiók'!$J$10,0,'Lakás Törlesztéscsökkentő fiók'!$B$28)","v":0},{"$error":"#VALUE!"},{"$f":"IF(A209>'Lakás Törlesztéscsökkentő fiók'!$J$10,0,'Lakás Törlesztéscsökkentő fiók'!$J$11)","v":0},{"$f":"IF(OR(A209>'Lakás Törlesztéscsökkentő fiók'!$J$10,'Lakás Törlesztéscsökkentő fiók'!$B$24='Lakás Törlesztéscsökkentő fiók'!$T$5),0,'Lakás Törlesztéscsökkentő fiók'!$J$12+'Lakás Törlesztéscsökkentő fiók'!$J$13)","v":0},0,null,null,0,{"$f":"IRR($K$2:K209,0.05)","v":{"$error":"#VALUE!"}}]
[208,{"$error":"#VALUE!"},{"$f":"B210*'Lakás Törlesztéscsökkentő fiók'!$B$27/12","v":{"$error":"#VALUE!"}},{"$f":"IF(A210>'Lakás Törlesztéscsökkentő fiók'!$J$10,0,'Lakás Törlesztéscsökkentő fiók'!$B$28)","v":0},{"$error":"#VALUE!"},{"$f":"IF(A210>'Lakás Törlesztéscsökkentő fiók'!$J$10,0,'Lakás Törlesztéscsökkentő fiók'!$J$11)","v":0},{"$f":"IF(OR(A210>'Lakás Törlesztéscsökkentő fiók'!$J$10,'Lakás Törlesztéscsökkentő fiók'!$B$24='Lakás Törlesztéscsökkentő fiók'!$T$5),0,'Lakás Törlesztéscsökkentő fiók'!$J$12+'Lakás Törlesztéscsökkentő fiók'!$J$13)","v":0},0,null,null,0,{"$f":"IRR($K$2:K210,0.05)","v":{"$error":"#VALUE!"}}]
[209,{"$error":"#VALUE!"},{"$f":"B211*'Lakás Törlesztéscsökkentő fiók'!$B$27/12","v":{"$error":"#VALUE!"}},{"$f":"IF(A211>'Lakás Törlesztéscsökkentő fiók'!$J$10,0,'Lakás Törlesztéscsökkentő fiók'!$B$28)","v":0},{"$error":"#VALUE!"},{"$f":"IF(A211>'Lakás Törlesztéscsökkentő fiók'!$J$10,0,'Lakás Törlesztéscsökkentő fiók'!$J$11)","v":0},{"$f":"IF(OR(A211>'Lakás Törlesztéscsökkentő fiók'!$J$10,'Lakás Törlesztéscsökkentő fiók'!$B$24='Lakás Törlesztéscsökkentő fiók'!$T$5),0,'Lakás Törlesztéscsökkentő fiók'!$J$12+'Lakás Törlesztéscsökkentő fiók'!$J$13)","v":0},0,null,null,0,{"$f":"IRR($K$2:K211,0.05)","v":{"$error":"#VALUE!"}}]
[210,{"$error":"#VALUE!"},{"$f":"B212*'Lakás Törlesztéscsökkentő fiók'!$B$27/12","v":{"$error":"#VALUE!"}},{"$f":"IF(A212>'Lakás Törlesztéscsökkentő fiók'!$J$10,0,'Lakás Törlesztéscsökkentő fiók'!$B$28)","v":0},{"$error":"#VALUE!"},{"$f":"IF(A212>'Lakás Törlesztéscsökkentő fiók'!$J$10,0,'Lakás Törlesztéscsökkentő fiók'!$J$11)","v":0},{"$f":"IF(OR(A212>'Lakás Törlesztéscsökkentő fiók'!$J$10,'Lakás Törlesztéscsökkentő fiók'!$B$24='Lakás Törlesztéscsökkentő fiók'!$T$5),0,'Lakás Törlesztéscsökkentő fiók'!$J$12+'Lakás Törlesztéscsökkentő fiók'!$J$13)","v":0},0,null,null,0,{"$f":"IRR($K$2:K212,0.05)","v":{"$error":"#VALUE!"}}]
[211,{"$error":"#VALUE!"},{"$f":"B213*'Lakás Törlesztéscsökkentő fiók'!$B$27/12","v":{"$error":"#VALUE!"}},{"$f":"IF(A213>'Lakás Törlesztéscsökkentő fiók'!$J$10,0,'Lakás Törlesztéscsökkentő fiók'!$B$28)","v":0},{"$error":"#VALUE!"},{"$f":"IF(A213>'Lakás Törlesztéscsökkentő fiók'!$J$10,0,'Lakás Törlesztéscsökkentő fiók'!$J$11)","v":0},{"$f":"IF(OR(A213>'Lakás Törlesztéscsökkentő fiók'!$J$10,'Lakás Törlesztéscsökkentő fiók'!$B$24='Lakás Törlesztéscsökkentő fiók'!$T$5),0,'Lakás Törlesztéscsökkentő fiók'!$J$12+'Lakás Törlesztéscsökkentő fiók'!$J$13)","v":0},0,null,null,0,{"$f":"IRR($K$2:K213,0.05)","v":{"$error":"#VALUE!"}}]
[212,{"$error":"#VALUE!"},{"$f":"B214*'Lakás Törlesztéscsökkentő fiók'!$B$27/12","v":{"$error":"#VALUE!"}},{"$f":"IF(A214>'Lakás Törlesztéscsökkentő fiók'!$J$10,0,'Lakás Törlesztéscsökkentő fiók'!$B$28)","v":0},{"$error":"#VALUE!"},{"$f":"IF(A214>'Lakás Törlesztéscsökkentő fiók'!$J$10,0,'Lakás Törlesztéscsökkentő fiók'!$J$11)","v":0},{"$f":"IF(OR(A214>'Lakás Törlesztéscsökkentő fiók'!$J$10,'Lakás Törlesztéscsökkentő fiók'!$B$24='Lakás Törlesztéscsökkentő fiók'!$T$5),0,'Lakás Törlesztéscsökkentő fiók'!$J$12+'Lakás Törlesztéscsökkentő fiók'!$J$13)","v":0},0,null,null,0,{"$f":"IRR($K$2:K214,0.05)","v":{"$error":"#VALUE!"}}]
[213,{"$error":"#VALUE!"},{"$f":"B215*'Lakás Törlesztéscsökkentő fiók'!$B$27/12","v":{"$error":"#VALUE!"}},{"$f":"IF(A215>'Lakás Törlesztéscsökkentő fiók'!$J$10,0,'Lakás Törlesztéscsökkentő fiók'!$B$28)","v":0},{"$error":"#VALUE!"},{"$f":"IF(A215>'Lakás Törlesztéscsökkentő fiók'!$J$10,0,'Lakás Törlesztéscsökkentő fiók'!$J$11)","v":0},{"$f":"IF(OR(A215>'Lakás Törlesztéscsökkentő fiók'!$J$10,'Lakás Törlesztéscsökkentő fiók'!$B$24='Lakás Törlesztéscsökkentő fiók'!$T$5),0,'Lakás Törlesztéscsökkentő fiók'!$J$12+'Lakás Törlesztéscsökkentő fiók'!$J$13)","v":0},0,null,null,0,{"$f":"IRR($K$2:K215,0.05)","v":{"$error":"#VALUE!"}}]
[214,{"$error":"#VALUE!"},{"$f":"B216*'Lakás Törlesztéscsökkentő fiók'!$B$27/12","v":{"$error":"#VALUE!"}},{"$f":"IF(A216>'Lakás Törlesztéscsökkentő fiók'!$J$10,0,'Lakás Törlesztéscsökkentő fiók'!$B$28)","v":0},{"$error":"#VALUE!"},{"$f":"IF(A216>'Lakás Törlesztéscsökkentő fiók'!$J$10,0,'Lakás Törlesztéscsökkentő fiók'!$J$11)","v":0},{"$f":"IF(OR(A216>'Lakás Törlesztéscsökkentő fiók'!$J$10,'Lakás Törlesztéscsökkentő fiók'!$B$24='Lakás Törlesztéscsökkentő fiók'!$T$5),0,'Lakás Törlesztéscsökkentő fiók'!$J$12+'Lakás Törlesztéscsökkentő fiók'!$J$13)","v":0},0,null,null,0,{"$f":"IRR($K$2:K216,0.05)","v":{"$error":"#VALUE!"}}]
[215,{"$error":"#VALUE!"},{"$f":"B217*'Lakás Törlesztéscsökkentő fiók'!$B$27/12","v":{"$error":"#VALUE!"}},{"$f":"IF(A217>'Lakás Törlesztéscsökkentő fiók'!$J$10,0,'Lakás Törlesztéscsökkentő fiók'!$B$28)","v":0},{"$error":"#VALUE!"},{"$f":"IF(A217>'Lakás Törlesztéscsökkentő fiók'!$J$10,0,'Lakás Törlesztéscsökkentő fiók'!$J$11)","v":0},{"$f":"IF(OR(A217>'Lakás Törlesztéscsökkentő fiók'!$J$10,'Lakás Törlesztéscsökkentő fiók'!$B$24='Lakás Törlesztéscsökkentő fiók'!$T$5),0,'Lakás Törlesztéscsökkentő fiók'!$J$12+'Lakás Törlesztéscsökkentő fiók'!$J$13)","v":0},0,null,null,0,{"$f":"IRR($K$2:K217,0.05)","v":{"$error":"#VALUE!"}}]
[216,{"$error":"#VALUE!"},{"$f":"B218*'Lakás Törlesztéscsökkentő fiók'!$B$27/12","v":{"$error":"#VALUE!"}},{"$f":"IF(A218>'Lakás Törlesztéscsökkentő fiók'!$J$10,0,'Lakás Törlesztéscsökkentő fiók'!$B$28)","v":0},{"$error":"#VALUE!"},{"$f":"IF(A218>'Lakás Törlesztéscsökkentő fiók'!$J$10,0,'Lakás Törlesztéscsökkentő fiók'!$J$11)","v":0},{"$f":"IF(OR(A218>'Lakás Törlesztéscsökkentő fiók'!$J$10,'Lakás Törlesztéscsökkentő fiók'!$B$24='Lakás Törlesztéscsökkentő fiók'!$T$5),0,'Lakás Törlesztéscsökkentő fiók'!$J$12+'Lakás Törlesztéscsökkentő fiók'!$J$13)","v":0},0,null,null,0,{"$f":"IRR($K$2:K218,0.05)","v":{"$error":"#VALUE!"}}]
[217,{"$error":"#VALUE!"},{"$f":"B219*'Lakás Törlesztéscsökkentő fiók'!$B$27/12","v":{"$error":"#VALUE!"}},{"$f":"IF(A219>'Lakás Törlesztéscsökkentő fiók'!$J$10,0,'Lakás Törlesztéscsökkentő fiók'!$B$28)","v":0},{"$error":"#VALUE!"},{"$f":"IF(A219>'Lakás Törlesztéscsökkentő fiók'!$J$10,0,'Lakás Törlesztéscsökkentő fiók'!$J$11)","v":0},{"$f":"IF(OR(A219>'Lakás Törlesztéscsökkentő fiók'!$J$10,'Lakás Törlesztéscsökkentő fiók'!$B$24='Lakás Törlesztéscsökkentő fiók'!$T$5),0,'Lakás Törlesztéscsökkentő fiók'!$J$12+'Lakás Törlesztéscsökkentő fiók'!$J$13)","v":0},0,null,null,0,{"$f":"IRR($K$2:K219,0.05)","v":{"$error":"#VALUE!"}}]
[218,{"$error":"#VALUE!"},{"$f":"B220*'Lakás Törlesztéscsökkentő fiók'!$B$27/12","v":{"$error":"#VALUE!"}},{"$f":"IF(A220>'Lakás Törlesztéscsökkentő fiók'!$J$10,0,'Lakás Törlesztéscsökkentő fiók'!$B$28)","v":0},{"$error":"#VALUE!"},{"$f":"IF(A220>'Lakás Törlesztéscsökkentő fiók'!$J$10,0,'Lakás Törlesztéscsökkentő fiók'!$J$11)","v":0},{"$f":"IF(OR(A220>'Lakás Törlesztéscsökkentő fiók'!$J$10,'Lakás Törlesztéscsökkentő fiók'!$B$24='Lakás Törlesztéscsökkentő fiók'!$T$5),0,'Lakás Törlesztéscsökkentő fiók'!$J$12+'Lakás Törlesztéscsökkentő fiók'!$J$13)","v":0},0,null,null,0,{"$f":"IRR($K$2:K220,0.05)","v":{"$error":"#VALUE!"}}]
[219,{"$error":"#VALUE!"},{"$f":"B221*'Lakás Törlesztéscsökkentő fiók'!$B$27/12","v":{"$error":"#VALUE!"}},{"$f":"IF(A221>'Lakás Törlesztéscsökkentő fiók'!$J$10,0,'Lakás Törlesztéscsökkentő fiók'!$B$28)","v":0},{"$error":"#VALUE!"},{"$f":"IF(A221>'Lakás Törlesztéscsökkentő fiók'!$J$10,0,'Lakás Törlesztéscsökkentő fiók'!$J$11)","v":0},{"$f":"IF(OR(A221>'Lakás Törlesztéscsökkentő fiók'!$J$10,'Lakás Törlesztéscsökkentő fiók'!$B$24='Lakás Törlesztéscsökkentő fiók'!$T$5),0,'Lakás Törlesztéscsökkentő fiók'!$J$12+'Lakás Törlesztéscsökkentő fiók'!$J$13)","v":0},0,null,null,0,{"$f":"IRR($K$2:K221,0.05)","v":{"$error":"#VALUE!"}}]
[220,{"$error":"#VALUE!"},{"$f":"B222*'Lakás Törlesztéscsökkentő fiók'!$B$27/12","v":{"$error":"#VALUE!"}},{"$f":"IF(A222>'Lakás Törlesztéscsökkentő fiók'!$J$10,0,'Lakás Törlesztéscsökkentő fiók'!$B$28)","v":0},{"$error":"#VALUE!"},{"$f":"IF(A222>'Lakás Törlesztéscsökkentő fiók'!$J$10,0,'Lakás Törlesztéscsökkentő fiók'!$J$11)","v":0},{"$f":"IF(OR(A222>'Lakás Törlesztéscsökkentő fiók'!$J$10,'Lakás Törlesztéscsökkentő fiók'!$B$24='Lakás Törlesztéscsökkentő fiók'!$T$5),0,'Lakás Törlesztéscsökkentő fiók'!$J$12+'Lakás Törlesztéscsökkentő fiók'!$J$13)","v":0},0,null,null,0,{"$f":"IRR($K$2:K222,0.05)","v":{"$error":"#VALUE!"}}]
[221,{"$error":"#VALUE!"},{"$f":"B223*'Lakás Törlesztéscsökkentő fiók'!$B$27/12","v":{"$error":"#VALUE!"}},{"$f":"IF(A223>'Lakás Törlesztéscsökkentő fiók'!$J$10,0,'Lakás Törlesztéscsökkentő fiók'!$B$28)","v":0},{"$error":"#VALUE!"},{"$f":"IF(A223>'Lakás Törlesztéscsökkentő fiók'!$J$10,0,'Lakás Törlesztéscsökkentő fiók'!$J$11)","v":0},{"$f":"IF(OR(A223>'Lakás Törlesztéscsökkentő fiók'!$J$10,'Lakás Törlesztéscsökkentő fiók'!$B$24='Lakás Törlesztéscsökkentő fiók'!$T$5),0,'Lakás Törlesztéscsökkentő fiók'!$J$12+'Lakás Törlesztéscsökkentő fiók'!$J$13)","v":0},0,null,null,0,{"$f":"IRR($K$2:K223,0.05)","v":{"$error":"#VALUE!"}}]
[222,{"$error":"#VALUE!"},{"$f":"B224*'Lakás Törlesztéscsökkentő fiók'!$B$27/12","v":{"$error":"#VALUE!"}},{"$f":"IF(A224>'Lakás Törlesztéscsökkentő fiók'!$J$10,0,'Lakás Törlesztéscsökkentő fiók'!$B$28)","v":0},{"$error":"#VALUE!"},{"$f":"IF(A224>'Lakás Törlesztéscsökkentő fiók'!$J$10,0,'Lakás Törlesztéscsökkentő fiók'!$J$11)","v":0},{"$f":"IF(OR(A224>'Lakás Törlesztéscsökkentő fiók'!$J$10,'Lakás Törlesztéscsökkentő fiók'!$B$24='Lakás Törlesztéscsökkentő fiók'!$T$5),0,'Lakás Törlesztéscsökkentő fiók'!$J$12+'Lakás Törlesztéscsökkentő fiók'!$J$13)","v":0},0,null,null,0,{"$f":"IRR($K$2:K224,0.05)","v":{"$error":"#VALUE!"}}]
[223,{"$error":"#VALUE!"},{"$f":"B225*'Lakás Törlesztéscsökkentő fiók'!$B$27/12","v":{"$error":"#VALUE!"}},{"$f":"IF(A225>'Lakás Törlesztéscsökkentő fiók'!$J$10,0,'Lakás Törlesztéscsökkentő fiók'!$B$28)","v":0},{"$error":"#VALUE!"},{"$f":"IF(A225>'Lakás Törlesztéscsökkentő fiók'!$J$10,0,'Lakás Törlesztéscsökkentő fiók'!$J$11)","v":0},{"$f":"IF(OR(A225>'Lakás Törlesztéscsökkentő fiók'!$J$10,'Lakás Törlesztéscsökkentő fiók'!$B$24='Lakás Törlesztéscsökkentő fiók'!$T$5),0,'Lakás Törlesztéscsökkentő fiók'!$J$12+'Lakás Törlesztéscsökkentő fiók'!$J$13)","v":0},0,null,null,0,{"$f":"IRR($K$2:K225,0.05)","v":{"$error":"#VALUE!"}}]
[224,{"$error":"#VALUE!"},{"$f":"B226*'Lakás Törlesztéscsökkentő fiók'!$B$27/12","v":{"$error":"#VALUE!"}},{"$f":"IF(A226>'Lakás Törlesztéscsökkentő fiók'!$J$10,0,'Lakás Törlesztéscsökkentő fiók'!$B$28)","v":0},{"$error":"#VALUE!"},{"$f":"IF(A226>'Lakás Törlesztéscsökkentő fiók'!$J$10,0,'Lakás Törlesztéscsökkentő fiók'!$J$11)","v":0},{"$f":"IF(OR(A226>'Lakás Törlesztéscsökkentő fiók'!$J$10,'Lakás Törlesztéscsökkentő fiók'!$B$24='Lakás Törlesztéscsökkentő fiók'!$T$5),0,'Lakás Törlesztéscsökkentő fiók'!$J$12+'Lakás Törlesztéscsökkentő fiók'!$J$13)","v":0},0,null,null,0,{"$f":"IRR($K$2:K226,0.05)","v":{"$error":"#VALUE!"}}]
[225,{"$error":"#VALUE!"},{"$f":"B227*'Lakás Törlesztéscsökkentő fiók'!$B$27/12","v":{"$error":"#VALUE!"}},{"$f":"IF(A227>'Lakás Törlesztéscsökkentő fiók'!$J$10,0,'Lakás Törlesztéscsökkentő fiók'!$B$28)","v":0},{"$error":"#VALUE!"},{"$f":"IF(A227>'Lakás Törlesztéscsökkentő fiók'!$J$10,0,'Lakás Törlesztéscsökkentő fiók'!$J$11)","v":0},{"$f":"IF(OR(A227>'Lakás Törlesztéscsökkentő fiók'!$J$10,'Lakás Törlesztéscsökkentő fiók'!$B$24='Lakás Törlesztéscsökkentő fiók'!$T$5),0,'Lakás Törlesztéscsökkentő fiók'!$J$12+'Lakás Törlesztéscsökkentő fiók'!$J$13)","v":0},0,null,null,0,{"$f":"IRR($K$2:K227,0.05)","v":{"$error":"#VALUE!"}}]
[226,{"$error":"#VALUE!"},{"$f":"B228*'Lakás Törlesztéscsökkentő fiók'!$B$27/12","v":{"$error":"#VALUE!"}},{"$f":"IF(A228>'Lakás Törlesztéscsökkentő fiók'!$J$10,0,'Lakás Törlesztéscsökkentő fiók'!$B$28)","v":0},{"$error":"#VALUE!"},{"$f":"IF(A228>'Lakás Törlesztéscsökkentő fiók'!$J$10,0,'Lakás Törlesztéscsökkentő fiók'!$J$11)","v":0},{"$f":"IF(OR(A228>'Lakás Törlesztéscsökkentő fiók'!$J$10,'Lakás Törlesztéscsökkentő fiók'!$B$24='Lakás Törlesztéscsökkentő fiók'!$T$5),0,'Lakás Törlesztéscsökkentő fiók'!$J$12+'Lakás Törlesztéscsökkentő fiók'!$J$13)","v":0},0,null,null,0,{"$f":"IRR($K$2:K228,0.05)","v":{"$error":"#VALUE!"}}]
[227,{"$error":"#VALUE!"},{"$f":"B229*'Lakás Törlesztéscsökkentő fiók'!$B$27/12","v":{"$error":"#VALUE!"}},{"$f":"IF(A229>'Lakás Törlesztéscsökkentő fiók'!$J$10,0,'Lakás Törlesztéscsökkentő fiók'!$B$28)","v":0},{"$error":"#VALUE!"},{"$f":"IF(A229>'Lakás Törlesztéscsökkentő fiók'!$J$10,0,'Lakás Törlesztéscsökkentő fiók'!$J$11)","v":0},{"$f":"IF(OR(A229>'Lakás Törlesztéscsökkentő fiók'!$J$10,'Lakás Törlesztéscsökkentő fiók'!$B$24='Lakás Törlesztéscsökkentő fiók'!$T$5),0,'Lakás Törlesztéscsökkentő fiók'!$J$12+'Lakás Törlesztéscsökkentő fiók'!$J$13)","v":0},0,null,null,0,{"$f":"IRR($K$2:K229,0.05)","v":{"$error":"#VALUE!"}}]
[228,{"$error":"#VALUE!"},{"$f":"B230*'Lakás Törlesztéscsökkentő fiók'!$B$27/12","v":{"$error":"#VALUE!"}},{"$f":"IF(A230>'Lakás Törlesztéscsökkentő fiók'!$J$10,0,'Lakás Törlesztéscsökkentő fiók'!$B$28)","v":0},{"$error":"#VALUE!"},{"$f":"IF(A230>'Lakás Törlesztéscsökkentő fiók'!$J$10,0,'Lakás Törlesztéscsökkentő fiók'!$J$11)","v":0},{"$f":"IF(OR(A230>'Lakás Törlesztéscsökkentő fiók'!$J$10,'Lakás Törlesztéscsökkentő fiók'!$B$24='Lakás Törlesztéscsökkentő fiók'!$T$5),0,'Lakás Törlesztéscsökkentő fiók'!$J$12+'Lakás Törlesztéscsökkentő fiók'!$J$13)","v":0},0,null,null,0,{"$f":"IRR($K$2:K230,0.05)","v":{"$error":"#VALUE!"}}]
[229,{"$error":"#VALUE!"},{"$f":"B231*'Lakás Törlesztéscsökkentő fiók'!$B$27/12","v":{"$error":"#VALUE!"}},{"$f":"IF(A231>'Lakás Törlesztéscsökkentő fiók'!$J$10,0,'Lakás Törlesztéscsökkentő fiók'!$B$28)","v":0},{"$error":"#VALUE!"},{"$f":"IF(A231>'Lakás Törlesztéscsökkentő fiók'!$J$10,0,'Lakás Törlesztéscsökkentő fiók'!$J$11)","v":0},{"$f":"IF(OR(A231>'Lakás Törlesztéscsökkentő fiók'!$J$10,'Lakás Törlesztéscsökkentő fiók'!$B$24='Lakás Törlesztéscsökkentő fiók'!$T$5),0,'Lakás Törlesztéscsökkentő fiók'!$J$12+'Lakás Törlesztéscsökkentő fiók'!$J$13)","v":0},0,null,null,0,{"$f":"IRR($K$2:K231,0.05)","v":{"$error":"#VALUE!"}}]
[230,{"$error":"#VALUE!"},{"$f":"B232*'Lakás Törlesztéscsökkentő fiók'!$B$27/12","v":{"$error":"#VALUE!"}},{"$f":"IF(A232>'Lakás Törlesztéscsökkentő fiók'!$J$10,0,'Lakás Törlesztéscsökkentő fiók'!$B$28)","v":0},{"$error":"#VALUE!"},{"$f":"IF(A232>'Lakás Törlesztéscsökkentő fiók'!$J$10,0,'Lakás Törlesztéscsökkentő fiók'!$J$11)","v":0},{"$f":"IF(OR(A232>'Lakás Törlesztéscsökkentő fiók'!$J$10,'Lakás Törlesztéscsökkentő fiók'!$B$24='Lakás Törlesztéscsökkentő fiók'!$T$5),0,'Lakás Törlesztéscsökkentő fiók'!$J$12+'Lakás Törlesztéscsökkentő fiók'!$J$13)","v":0},0,null,null,0,{"$f":"IRR($K$2:K232,0.05)","v":{"$error":"#VALUE!"}}]
[231,{"$error":"#VALUE!"},{"$f":"B233*'Lakás Törlesztéscsökkentő fiók'!$B$27/12","v":{"$error":"#VALUE!"}},{"$f":"IF(A233>'Lakás Törlesztéscsökkentő fiók'!$J$10,0,'Lakás Törlesztéscsökkentő fiók'!$B$28)","v":0},{"$error":"#VALUE!"},{"$f":"IF(A233>'Lakás Törlesztéscsökkentő fiók'!$J$10,0,'Lakás Törlesztéscsökkentő fiók'!$J$11)","v":0},{"$f":"IF(OR(A233>'Lakás Törlesztéscsökkentő fiók'!$J$10,'Lakás Törlesztéscsökkentő fiók'!$B$24='Lakás Törlesztéscsökkentő fiók'!$T$5),0,'Lakás Törlesztéscsökkentő fiók'!$J$12+'Lakás Törlesztéscsökkentő fiók'!$J$13)","v":0},0,null,null,0,{"$f":"IRR($K$2:K233,0.05)","v":{"$error":"#VALUE!"}}]
[232,{"$error":"#VALUE!"},{"$f":"B234*'Lakás Törlesztéscsökkentő fiók'!$B$27/12","v":{"$error":"#VALUE!"}},{"$f":"IF(A234>'Lakás Törlesztéscsökkentő fiók'!$J$10,0,'Lakás Törlesztéscsökkentő fiók'!$B$28)","v":0},{"$error":"#VALUE!"},{"$f":"IF(A234>'Lakás Törlesztéscsökkentő fiók'!$J$10,0,'Lakás Törlesztéscsökkentő fiók'!$J$11)","v":0},{"$f":"IF(OR(A234>'Lakás Törlesztéscsökkentő fiók'!$J$10,'Lakás Törlesztéscsökkentő fiók'!$B$24='Lakás Törlesztéscsökkentő fiók'!$T$5),0,'Lakás Törlesztéscsökkentő fiók'!$J$12+'Lakás Törlesztéscsökkentő fiók'!$J$13)","v":0},0,null,null,0,{"$f":"IRR($K$2:K234,0.05)","v":{"$error":"#VALUE!"}}]
[233,{"$error":"#VALUE!"},{"$f":"B235*'Lakás Törlesztéscsökkentő fiók'!$B$27/12","v":{"$error":"#VALUE!"}},{"$f":"IF(A235>'Lakás Törlesztéscsökkentő fiók'!$J$10,0,'Lakás Törlesztéscsökkentő fiók'!$B$28)","v":0},{"$error":"#VALUE!"},{"$f":"IF(A235>'Lakás Törlesztéscsökkentő fiók'!$J$10,0,'Lakás Törlesztéscsökkentő fiók'!$J$11)","v":0},{"$f":"IF(OR(A235>'Lakás Törlesztéscsökkentő fiók'!$J$10,'Lakás Törlesztéscsökkentő fiók'!$B$24='Lakás Törlesztéscsökkentő fiók'!$T$5),0,'Lakás Törlesztéscsökkentő fiók'!$J$12+'Lakás Törlesztéscsökkentő fiók'!$J$13)","v":0},0,null,null,0,{"$f":"IRR($K$2:K235,0.05)","v":{"$error":"#VALUE!"}}]
[234,{"$error":"#VALUE!"},{"$f":"B236*'Lakás Törlesztéscsökkentő fiók'!$B$27/12","v":{"$error":"#VALUE!"}},{"$f":"IF(A236>'Lakás Törlesztéscsökkentő fiók'!$J$10,0,'Lakás Törlesztéscsökkentő fiók'!$B$28)","v":0},{"$error":"#VALUE!"},{"$f":"IF(A236>'Lakás Törlesztéscsökkentő fiók'!$J$10,0,'Lakás Törlesztéscsökkentő fiók'!$J$11)","v":0},{"$f":"IF(OR(A236>'Lakás Törlesztéscsökkentő fiók'!$J$10,'Lakás Törlesztéscsökkentő fiók'!$B$24='Lakás Törlesztéscsökkentő fiók'!$T$5),0,'Lakás Törlesztéscsökkentő fiók'!$J$12+'Lakás Törlesztéscsökkentő fiók'!$J$13)","v":0},0,null,null,0,{"$f":"IRR($K$2:K236,0.05)","v":{"$error":"#VALUE!"}}]
[235,{"$error":"#VALUE!"},{"$f":"B237*'Lakás Törlesztéscsökkentő fiók'!$B$27/12","v":{"$error":"#VALUE!"}},{"$f":"IF(A237>'Lakás Törlesztéscsökkentő fiók'!$J$10,0,'Lakás Törlesztéscsökkentő fiók'!$B$28)","v":0},{"$error":"#VALUE!"},{"$f":"IF(A237>'Lakás Törlesztéscsökkentő fiók'!$J$10,0,'Lakás Törlesztéscsökkentő fiók'!$J$11)","v":0},{"$f":"IF(OR(A237>'Lakás Törlesztéscsökkentő fiók'!$J$10,'Lakás Törlesztéscsökkentő fiók'!$B$24='Lakás Törlesztéscsökkentő fiók'!$T$5),0,'Lakás Törlesztéscsökkentő fiók'!$J$12+'Lakás Törlesztéscsökkentő fiók'!$J$13)","v":0},0,null,null,0,{"$f":"IRR($K$2:K237,0.05)","v":{"$error":"#VALUE!"}}]
[236,{"$error":"#VALUE!"},{"$f":"B238*'Lakás Törlesztéscsökkentő fiók'!$B$27/12","v":{"$error":"#VALUE!"}},{"$f":"IF(A238>'Lakás Törlesztéscsökkentő fiók'!$J$10,0,'Lakás Törlesztéscsökkentő fiók'!$B$28)","v":0},{"$error":"#VALUE!"},{"$f":"IF(A238>'Lakás Törlesztéscsökkentő fiók'!$J$10,0,'Lakás Törlesztéscsökkentő fiók'!$J$11)","v":0},{"$f":"IF(OR(A238>'Lakás Törlesztéscsökkentő fiók'!$J$10,'Lakás Törlesztéscsökkentő fiók'!$B$24='Lakás Törlesztéscsökkentő fiók'!$T$5),0,'Lakás Törlesztéscsökkentő fiók'!$J$12+'Lakás Törlesztéscsökkentő fiók'!$J$13)","v":0},0,null,null,0,{"$f":"IRR($K$2:K238,0.05)","v":{"$error":"#VALUE!"}}]
[237,{"$error":"#VALUE!"},{"$f":"B239*'Lakás Törlesztéscsökkentő fiók'!$B$27/12","v":{"$error":"#VALUE!"}},{"$f":"IF(A239>'Lakás Törlesztéscsökkentő fiók'!$J$10,0,'Lakás Törlesztéscsökkentő fiók'!$B$28)","v":0},{"$error":"#VALUE!"},{"$f":"IF(A239>'Lakás Törlesztéscsökkentő fiók'!$J$10,0,'Lakás Törlesztéscsökkentő fiók'!$J$11)","v":0},{"$f":"IF(OR(A239>'Lakás Törlesztéscsökkentő fiók'!$J$10,'Lakás Törlesztéscsökkentő fiók'!$B$24='Lakás Törlesztéscsökkentő fiók'!$T$5),0,'Lakás Törlesztéscsökkentő fiók'!$J$12+'Lakás Törlesztéscsökkentő fiók'!$J$13)","v":0},0,null,null,0,{"$f":"IRR($K$2:K239,0.05)","v":{"$error":"#VALUE!"}}]
[238,{"$error":"#VALUE!"},{"$f":"B240*'Lakás Törlesztéscsökkentő fiók'!$B$27/12","v":{"$error":"#VALUE!"}},{"$f":"IF(A240>'Lakás Törlesztéscsökkentő fiók'!$J$10,0,'Lakás Törlesztéscsökkentő fiók'!$B$28)","v":0},{"$error":"#VALUE!"},{"$f":"IF(A240>'Lakás Törlesztéscsökkentő fiók'!$J$10,0,'Lakás Törlesztéscsökkentő fiók'!$J$11)","v":0},{"$f":"IF(OR(A240>'Lakás Törlesztéscsökkentő fiók'!$J$10,'Lakás Törlesztéscsökkentő fiók'!$B$24='Lakás Törlesztéscsökkentő fiók'!$T$5),0,'Lakás Törlesztéscsökkentő fiók'!$J$12+'Lakás Törlesztéscsökkentő fiók'!$J$13)","v":0},0,null,null,0,{"$f":"IRR($K$2:K240,0.05)","v":{"$error":"#VALUE!"}}]
[239,{"$error":"#VALUE!"},{"$f":"B241*'Lakás Törlesztéscsökkentő fiók'!$B$27/12","v":{"$error":"#VALUE!"}},{"$f":"IF(A241>'Lakás Törlesztéscsökkentő fiók'!$J$10,0,'Lakás Törlesztéscsökkentő fiók'!$B$28)","v":0},{"$error":"#VALUE!"},{"$f":"IF(A241>'Lakás Törlesztéscsökkentő fiók'!$J$10,0,'Lakás Törlesztéscsökkentő fiók'!$J$11)","v":0},{"$f":"IF(OR(A241>'Lakás Törlesztéscsökkentő fiók'!$J$10,'Lakás Törlesztéscsökkentő fiók'!$B$24='Lakás Törlesztéscsökkentő fiók'!$T$5),0,'Lakás Törlesztéscsökkentő fiók'!$J$12+'Lakás Törlesztéscsökkentő fiók'!$J$13)","v":0},0,null,null,0,{"$f":"IRR($K$2:K241,0.05)","v":{"$error":"#VALUE!"}}]
[240,{"$error":"#VALUE!"},{"$f":"B242*'Lakás Törlesztéscsökkentő fiók'!$B$27/12","v":{"$error":"#VALUE!"}},{"$f":"IF(A242>'Lakás Törlesztéscsökkentő fiók'!$J$10,0,'Lakás Törlesztéscsökkentő fiók'!$B$28)","v":0},{"$error":"#VALUE!"},{"$f":"IF(A242>'Lakás Törlesztéscsökkentő fiók'!$J$10,0,'Lakás Törlesztéscsökkentő fiók'!$J$11)","v":0},{"$f":"IF(OR(A242>'Lakás Törlesztéscsökkentő fiók'!$J$10,'Lakás Törlesztéscsökkentő fiók'!$B$24='Lakás Törlesztéscsökkentő fiók'!$T$5),0,'Lakás Törlesztéscsökkentő fiók'!$J$12+'Lakás Törlesztéscsökkentő fiók'!$J$13)","v":0},0,null,null,0,{"$f":"IRR($K$2:K242,0.05)","v":{"$error":"#VALUE!"}}]
[241,{"$error":"#VALUE!"},{"$f":"B243*'Lakás Törlesztéscsökkentő fiók'!$B$27/12","v":{"$error":"#VALUE!"}},{"$f":"IF(A243>'Lakás Törlesztéscsökkentő fiók'!$J$10,0,'Lakás Törlesztéscsökkentő fiók'!$B$28)","v":0},{"$error":"#VALUE!"},{"$f":"IF(A243>'Lakás Törlesztéscsökkentő fiók'!$J$10,0,'Lakás Törlesztéscsökkentő fiók'!$J$11)","v":0},{"$f":"IF(OR(A243>'Lakás Törlesztéscsökkentő fiók'!$J$10,'Lakás Törlesztéscsökkentő fiók'!$B$24='Lakás Törlesztéscsökkentő fiók'!$T$5),0,'Lakás Törlesztéscsökkentő fiók'!$J$12+'Lakás Törlesztéscsökkentő fiók'!$J$13)","v":0},0,null,null,0,{"$f":"IRR($K$2:K243,0.05)","v":{"$error":"#VALUE!"}}]
[242,{"$error":"#VALUE!"},{"$f":"B244*'Lakás Törlesztéscsökkentő fiók'!$B$27/12","v":{"$error":"#VALUE!"}},{"$f":"IF(A244>'Lakás Törlesztéscsökkentő fiók'!$J$10,0,'Lakás Törlesztéscsökkentő fiók'!$B$28)","v":0},{"$error":"#VALUE!"},{"$f":"IF(A244>'Lakás Törlesztéscsökkentő fiók'!$J$10,0,'Lakás Törlesztéscsökkentő fiók'!$J$11)","v":0},{"$f":"IF(OR(A244>'Lakás Törlesztéscsökkentő fiók'!$J$10,'Lakás Törlesztéscsökkentő fiók'!$B$24='Lakás Törlesztéscsökkentő fiók'!$T$5),0,'Lakás Törlesztéscsökkentő fiók'!$J$12+'Lakás Törlesztéscsökkentő fiók'!$J$13)","v":0},0,null,null,0,{"$f":"IRR($K$2:K244,0.05)","v":{"$error":"#VALUE!"}}]
[243,{"$error":"#VALUE!"},{"$f":"B245*'Lakás Törlesztéscsökkentő fiók'!$B$27/12","v":{"$error":"#VALUE!"}},{"$f":"IF(A245>'Lakás Törlesztéscsökkentő fiók'!$J$10,0,'Lakás Törlesztéscsökkentő fiók'!$B$28)","v":0},{"$error":"#VALUE!"},{"$f":"IF(A245>'Lakás Törlesztéscsökkentő fiók'!$J$10,0,'Lakás Törlesztéscsökkentő fiók'!$J$11)","v":0},{"$f":"IF(OR(A245>'Lakás Törlesztéscsökkentő fiók'!$J$10,'Lakás Törlesztéscsökkentő fiók'!$B$24='Lakás Törlesztéscsökkentő fiók'!$T$5),0,'Lakás Törlesztéscsökkentő fiók'!$J$12+'Lakás Törlesztéscsökkentő fiók'!$J$13)","v":0},0,null,null,0,{"$f":"IRR($K$2:K245,0.05)","v":{"$error":"#VALUE!"}}]
[244,{"$error":"#VALUE!"},{"$f":"B246*'Lakás Törlesztéscsökkentő fiók'!$B$27/12","v":{"$error":"#VALUE!"}},{"$f":"IF(A246>'Lakás Törlesztéscsökkentő fiók'!$J$10,0,'Lakás Törlesztéscsökkentő fiók'!$B$28)","v":0},{"$error":"#VALUE!"},{"$f":"IF(A246>'Lakás Törlesztéscsökkentő fiók'!$J$10,0,'Lakás Törlesztéscsökkentő fiók'!$J$11)","v":0},{"$f":"IF(OR(A246>'Lakás Törlesztéscsökkentő fiók'!$J$10,'Lakás Törlesztéscsökkentő fiók'!$B$24='Lakás Törlesztéscsökkentő fiók'!$T$5),0,'Lakás Törlesztéscsökkentő fiók'!$J$12+'Lakás Törlesztéscsökkentő fiók'!$J$13)","v":0},0,null,null,0,{"$f":"IRR($K$2:K246,0.05)","v":{"$error":"#VALUE!"}}]
[245,{"$error":"#VALUE!"},{"$f":"B247*'Lakás Törlesztéscsökkentő fiók'!$B$27/12","v":{"$error":"#VALUE!"}},{"$f":"IF(A247>'Lakás Törlesztéscsökkentő fiók'!$J$10,0,'Lakás Törlesztéscsökkentő fiók'!$B$28)","v":0},{"$error":"#VALUE!"},{"$f":"IF(A247>'Lakás Törlesztéscsökkentő fiók'!$J$10,0,'Lakás Törlesztéscsökkentő fiók'!$J$11)","v":0},{"$f":"IF(OR(A247>'Lakás Törlesztéscsökkentő fiók'!$J$10,'Lakás Törlesztéscsökkentő fiók'!$B$24='Lakás Törlesztéscsökkentő fiók'!$T$5),0,'Lakás Törlesztéscsökkentő fiók'!$J$12+'Lakás Törlesztéscsökkentő fiók'!$J$13)","v":0},0,null,null,0,{"$f":"IRR($K$2:K247,0.05)","v":{"$error":"#VALUE!"}}]
[246,{"$error":"#VALUE!"},{"$f":"B248*'Lakás Törlesztéscsökkentő fiók'!$B$27/12","v":{"$error":"#VALUE!"}},{"$f":"IF(A248>'Lakás Törlesztéscsökkentő fiók'!$J$10,0,'Lakás Törlesztéscsökkentő fiók'!$B$28)","v":0},{"$error":"#VALUE!"},{"$f":"IF(A248>'Lakás Törlesztéscsökkentő fiók'!$J$10,0,'Lakás Törlesztéscsökkentő fiók'!$J$11)","v":0},{"$f":"IF(OR(A248>'Lakás Törlesztéscsökkentő fiók'!$J$10,'Lakás Törlesztéscsökkentő fiók'!$B$24='Lakás Törlesztéscsökkentő fiók'!$T$5),0,'Lakás Törlesztéscsökkentő fiók'!$J$12+'Lakás Törlesztéscsökkentő fiók'!$J$13)","v":0},0,null,null,0,{"$f":"IRR($K$2:K248,0.05)","v":{"$error":"#VALUE!"}}]
[247,{"$error":"#VALUE!"},{"$f":"B249*'Lakás Törlesztéscsökkentő fiók'!$B$27/12","v":{"$error":"#VALUE!"}},{"$f":"IF(A249>'Lakás Törlesztéscsökkentő fiók'!$J$10,0,'Lakás Törlesztéscsökkentő fiók'!$B$28)","v":0},{"$error":"#VALUE!"},{"$f":"IF(A249>'Lakás Törlesztéscsökkentő fiók'!$J$10,0,'Lakás Törlesztéscsökkentő fiók'!$J$11)","v":0},{"$f":"IF(OR(A249>'Lakás Törlesztéscsökkentő fiók'!$J$10,'Lakás Törlesztéscsökkentő fiók'!$B$24='Lakás Törlesztéscsökkentő fiók'!$T$5),0,'Lakás Törlesztéscsökkentő fiók'!$J$12+'Lakás Törlesztéscsökkentő fiók'!$J$13)","v":0},0,null,null,0,{"$f":"IRR($K$2:K249,0.05)","v":{"$error":"#VALUE!"}}]
[248,{"$error":"#VALUE!"},{"$f":"B250*'Lakás Törlesztéscsökkentő fiók'!$B$27/12","v":{"$error":"#VALUE!"}},{"$f":"IF(A250>'Lakás Törlesztéscsökkentő fiók'!$J$10,0,'Lakás Törlesztéscsökkentő fiók'!$B$28)","v":0},{"$error":"#VALUE!"},{"$f":"IF(A250>'Lakás Törlesztéscsökkentő fiók'!$J$10,0,'Lakás Törlesztéscsökkentő fiók'!$J$11)","v":0},{"$f":"IF(OR(A250>'Lakás Törlesztéscsökkentő fiók'!$J$10,'Lakás Törlesztéscsökkentő fiók'!$B$24='Lakás Törlesztéscsökkentő fiók'!$T$5),0,'Lakás Törlesztéscsökkentő fiók'!$J$12+'Lakás Törlesztéscsökkentő fiók'!$J$13)","v":0},0,null,null,0,{"$f":"IRR($K$2:K250,0.05)","v":{"$error":"#VALUE!"}}]
[249,{"$error":"#VALUE!"},{"$f":"B251*'Lakás Törlesztéscsökkentő fiók'!$B$27/12","v":{"$error":"#VALUE!"}},{"$f":"IF(A251>'Lakás Törlesztéscsökkentő fiók'!$J$10,0,'Lakás Törlesztéscsökkentő fiók'!$B$28)","v":0},{"$error":"#VALUE!"},{"$f":"IF(A251>'Lakás Törlesztéscsökkentő fiók'!$J$10,0,'Lakás Törlesztéscsökkentő fiók'!$J$11)","v":0},{"$f":"IF(OR(A251>'Lakás Törlesztéscsökkentő fiók'!$J$10,'Lakás Törlesztéscsökkentő fiók'!$B$24='Lakás Törlesztéscsökkentő fiók'!$T$5),0,'Lakás Törlesztéscsökkentő fiók'!$J$12+'Lakás Törlesztéscsökkentő fiók'!$J$13)","v":0},0,null,null,0,{"$f":"IRR($K$2:K251,0.05)","v":{"$error":"#VALUE!"}}]
[250,{"$error":"#VALUE!"},{"$f":"B252*'Lakás Törlesztéscsökkentő fiók'!$B$27/12","v":{"$error":"#VALUE!"}},{"$f":"IF(A252>'Lakás Törlesztéscsökkentő fiók'!$J$10,0,'Lakás Törlesztéscsökkentő fiók'!$B$28)","v":0},{"$error":"#VALUE!"},{"$f":"IF(A252>'Lakás Törlesztéscsökkentő fiók'!$J$10,0,'Lakás Törlesztéscsökkentő fiók'!$J$11)","v":0},{"$f":"IF(OR(A252>'Lakás Törlesztéscsökkentő fiók'!$J$10,'Lakás Törlesztéscsökkentő fiók'!$B$24='Lakás Törlesztéscsökkentő fiók'!$T$5),0,'Lakás Törlesztéscsökkentő fiók'!$J$12+'Lakás Törlesztéscsökkentő fiók'!$J$13)","v":0},0,null,null,0,{"$f":"IRR($K$2:K252,0.05)","v":{"$error":"#VALUE!"}}]
[251,{"$error":"#VALUE!"},{"$f":"B253*'Lakás Törlesztéscsökkentő fiók'!$B$27/12","v":{"$error":"#VALUE!"}},{"$f":"IF(A253>'Lakás Törlesztéscsökkentő fiók'!$J$10,0,'Lakás Törlesztéscsökkentő fiók'!$B$28)","v":0},{"$error":"#VALUE!"},{"$f":"IF(A253>'Lakás Törlesztéscsökkentő fiók'!$J$10,0,'Lakás Törlesztéscsökkentő fiók'!$J$11)","v":0},{"$f":"IF(OR(A253>'Lakás Törlesztéscsökkentő fiók'!$J$10,'Lakás Törlesztéscsökkentő fiók'!$B$24='Lakás Törlesztéscsökkentő fiók'!$T$5),0,'Lakás Törlesztéscsökkentő fiók'!$J$12+'Lakás Törlesztéscsökkentő fiók'!$J$13)","v":0},0,null,null,0,{"$f":"IRR($K$2:K253,0.05)","v":{"$error":"#VALUE!"}}]
[252,{"$error":"#VALUE!"},{"$f":"B254*'Lakás Törlesztéscsökkentő fiók'!$B$27/12","v":{"$error":"#VALUE!"}},{"$f":"IF(A254>'Lakás Törlesztéscsökkentő fiók'!$J$10,0,'Lakás Törlesztéscsökkentő fiók'!$B$28)","v":0},{"$error":"#VALUE!"},{"$f":"IF(A254>'Lakás Törlesztéscsökkentő fiók'!$J$10,0,'Lakás Törlesztéscsökkentő fiók'!$J$11)","v":0},{"$f":"IF(OR(A254>'Lakás Törlesztéscsökkentő fiók'!$J$10,'Lakás Törlesztéscsökkentő fiók'!$B$24='Lakás Törlesztéscsökkentő fiók'!$T$5),0,'Lakás Törlesztéscsökkentő fiók'!$J$12+'Lakás Törlesztéscsökkentő fiók'!$J$13)","v":0},0,null,null,0,{"$f":"IRR($K$2:K254,0.05)","v":{"$error":"#VALUE!"}}]
[253,{"$error":"#VALUE!"},{"$f":"B255*'Lakás Törlesztéscsökkentő fiók'!$B$27/12","v":{"$error":"#VALUE!"}},{"$f":"IF(A255>'Lakás Törlesztéscsökkentő fiók'!$J$10,0,'Lakás Törlesztéscsökkentő fiók'!$B$28)","v":0},{"$error":"#VALUE!"},{"$f":"IF(A255>'Lakás Törlesztéscsökkentő fiók'!$J$10,0,'Lakás Törlesztéscsökkentő fiók'!$J$11)","v":0},{"$f":"IF(OR(A255>'Lakás Törlesztéscsökkentő fiók'!$J$10,'Lakás Törlesztéscsökkentő fiók'!$B$24='Lakás Törlesztéscsökkentő fiók'!$T$5),0,'Lakás Törlesztéscsökkentő fiók'!$J$12+'Lakás Törlesztéscsökkentő fiók'!$J$13)","v":0},0,null,null,0,{"$f":"IRR($K$2:K255,0.05)","v":{"$error":"#VALUE!"}}]
[254,{"$error":"#VALUE!"},{"$f":"B256*'Lakás Törlesztéscsökkentő fiók'!$B$27/12","v":{"$error":"#VALUE!"}},{"$f":"IF(A256>'Lakás Törlesztéscsökkentő fiók'!$J$10,0,'Lakás Törlesztéscsökkentő fiók'!$B$28)","v":0},{"$error":"#VALUE!"},{"$f":"IF(A256>'Lakás Törlesztéscsökkentő fiók'!$J$10,0,'Lakás Törlesztéscsökkentő fiók'!$J$11)","v":0},{"$f":"IF(OR(A256>'Lakás Törlesztéscsökkentő fiók'!$J$10,'Lakás Törlesztéscsökkentő fiók'!$B$24='Lakás Törlesztéscsökkentő fiók'!$T$5),0,'Lakás Törlesztéscsökkentő fiók'!$J$12+'Lakás Törlesztéscsökkentő fiók'!$J$13)","v":0},0,null,null,0,{"$f":"IRR($K$2:K256,0.05)","v":{"$error":"#VALUE!"}}]
[255,{"$error":"#VALUE!"},{"$f":"B257*'Lakás Törlesztéscsökkentő fiók'!$B$27/12","v":{"$error":"#VALUE!"}},{"$f":"IF(A257>'Lakás Törlesztéscsökkentő fiók'!$J$10,0,'Lakás Törlesztéscsökkentő fiók'!$B$28)","v":0},{"$error":"#VALUE!"},{"$f":"IF(A257>'Lakás Törlesztéscsökkentő fiók'!$J$10,0,'Lakás Törlesztéscsökkentő fiók'!$J$11)","v":0},{"$f":"IF(OR(A257>'Lakás Törlesztéscsökkentő fiók'!$J$10,'Lakás Törlesztéscsökkentő fiók'!$B$24='Lakás Törlesztéscsökkentő fiók'!$T$5),0,'Lakás Törlesztéscsökkentő fiók'!$J$12+'Lakás Törlesztéscsökkentő fiók'!$J$13)","v":0},0,null,null,0,{"$f":"IRR($K$2:K257,0.05)","v":{"$error":"#VALUE!"}}]
[256,{"$error":"#VALUE!"},{"$f":"B258*'Lakás Törlesztéscsökkentő fiók'!$B$27/12","v":{"$error":"#VALUE!"}},{"$f":"IF(A258>'Lakás Törlesztéscsökkentő fiók'!$J$10,0,'Lakás Törlesztéscsökkentő fiók'!$B$28)","v":0},{"$error":"#VALUE!"},{"$f":"IF(A258>'Lakás Törlesztéscsökkentő fiók'!$J$10,0,'Lakás Törlesztéscsökkentő fiók'!$J$11)","v":0},{"$f":"IF(OR(A258>'Lakás Törlesztéscsökkentő fiók'!$J$10,'Lakás Törlesztéscsökkentő fiók'!$B$24='Lakás Törlesztéscsökkentő fiók'!$T$5),0,'Lakás Törlesztéscsökkentő fiók'!$J$12+'Lakás Törlesztéscsökkentő fiók'!$J$13)","v":0},0,null,null,0,{"$f":"IRR($K$2:K258,0.05)","v":{"$error":"#VALUE!"}}]
[257,{"$error":"#VALUE!"},{"$f":"B259*'Lakás Törlesztéscsökkentő fiók'!$B$27/12","v":{"$error":"#VALUE!"}},{"$f":"IF(A259>'Lakás Törlesztéscsökkentő fiók'!$J$10,0,'Lakás Törlesztéscsökkentő fiók'!$B$28)","v":0},{"$error":"#VALUE!"},{"$f":"IF(A259>'Lakás Törlesztéscsökkentő fiók'!$J$10,0,'Lakás Törlesztéscsökkentő fiók'!$J$11)","v":0},{"$f":"IF(OR(A259>'Lakás Törlesztéscsökkentő fiók'!$J$10,'Lakás Törlesztéscsökkentő fiók'!$B$24='Lakás Törlesztéscsökkentő fiók'!$T$5),0,'Lakás Törlesztéscsökkentő fiók'!$J$12+'Lakás Törlesztéscsökkentő fiók'!$J$13)","v":0},0,null,null,0,{"$f":"IRR($K$2:K259,0.05)","v":{"$error":"#VALUE!"}}]
[258,{"$error":"#VALUE!"},{"$f":"B260*'Lakás Törlesztéscsökkentő fiók'!$B$27/12","v":{"$error":"#VALUE!"}},{"$f":"IF(A260>'Lakás Törlesztéscsökkentő fiók'!$J$10,0,'Lakás Törlesztéscsökkentő fiók'!$B$28)","v":0},{"$f":"+B260+C260-D260","v":{"$error":"#VALUE!"}},{"$f":"IF(A260>'Lakás Törlesztéscsökkentő fiók'!$J$10,0,'Lakás Törlesztéscsökkentő fiók'!$J$11)","v":0},{"$f":"IF(OR(A260>'Lakás Törlesztéscsökkentő fiók'!$J$10,'Lakás Törlesztéscsökkentő fiók'!$B$24='Lakás Törlesztéscsökkentő fiók'!$T$5),0,'Lakás Törlesztéscsökkentő fiók'!$J$12+'Lakás Törlesztéscsökkentő fiók'!$J$13)","v":0},0,null,null,{"$f":"D260+F260+G260","v":0},{"$f":"IRR($K$2:K260,0.05)","v":{"$error":"#VALUE!"}}]
[{"$f":"+A260+1","v":259},{"$f":"+E260","v":{"$error":"#VALUE!"}},{"$f":"B261*'Lakás Törlesztéscsökkentő fiók'!$B$27/12","v":{"$error":"#VALUE!"}},{"$f":"IF(A261>'Lakás Törlesztéscsökkentő fiók'!$J$10,0,'Lakás Törlesztéscsökkentő fiók'!$B$28)","v":0},{"$error":"#VALUE!"},{"$f":"IF(A261>'Lakás Törlesztéscsökkentő fiók'!$J$10,0,'Lakás Törlesztéscsökkentő fiók'!$J$11)","v":0},{"$f":"IF(OR(A261>'Lakás Törlesztéscsökkentő fiók'!$J$10,'Lakás Törlesztéscsökkentő fiók'!$B$24='Lakás Törlesztéscsökkentő fiók'!$T$5),0,'Lakás Törlesztéscsökkentő fiók'!$J$12+'Lakás Törlesztéscsökkentő fiók'!$J$13)","v":0},{"$f":"H260+(D261+F261+G261)/(1+$H$1)^(A261/12)","v":0},null,null,0,{"$f":"IRR($K$2:K261,0.05)","v":{"$error":"#VALUE!"}}]
[260,{"$error":"#VALUE!"},{"$f":"B262*'Lakás Törlesztéscsökkentő fiók'!$B$27/12","v":{"$error":"#VALUE!"}},{"$f":"IF(A262>'Lakás Törlesztéscsökkentő fiók'!$J$10,0,'Lakás Törlesztéscsökkentő fiók'!$B$28)","v":0},{"$error":"#VALUE!"},{"$f":"IF(A262>'Lakás Törlesztéscsökkentő fiók'!$J$10,0,'Lakás Törlesztéscsökkentő fiók'!$J$11)","v":0},{"$f":"IF(OR(A262>'Lakás Törlesztéscsökkentő fiók'!$J$10,'Lakás Törlesztéscsökkentő fiók'!$B$24='Lakás Törlesztéscsökkentő fiók'!$T$5),0,'Lakás Törlesztéscsökkentő fiók'!$J$12+'Lakás Törlesztéscsökkentő fiók'!$J$13)","v":0},0,null,null,0,{"$f":"IRR($K$2:K262,0.05)","v":{"$error":"#VALUE!"}}]
[261,{"$error":"#VALUE!"},{"$f":"B263*'Lakás Törlesztéscsökkentő fiók'!$B$27/12","v":{"$error":"#VALUE!"}},{"$f":"IF(A263>'Lakás Törlesztéscsökkentő fiók'!$J$10,0,'Lakás Törlesztéscsökkentő fiók'!$B$28)","v":0},{"$error":"#VALUE!"},{"$f":"IF(A263>'Lakás Törlesztéscsökkentő fiók'!$J$10,0,'Lakás Törlesztéscsökkentő fiók'!$J$11)","v":0},{"$f":"IF(OR(A263>'Lakás Törlesztéscsökkentő fiók'!$J$10,'Lakás Törlesztéscsökkentő fiók'!$B$24='Lakás Törlesztéscsökkentő fiók'!$T$5),0,'Lakás Törlesztéscsökkentő fiók'!$J$12+'Lakás Törlesztéscsökkentő fiók'!$J$13)","v":0},0,null,null,0,{"$f":"IRR($K$2:K263,0.05)","v":{"$error":"#VALUE!"}}]
[262,{"$error":"#VALUE!"},{"$f":"B264*'Lakás Törlesztéscsökkentő fiók'!$B$27/12","v":{"$error":"#VALUE!"}},{"$f":"IF(A264>'Lakás Törlesztéscsökkentő fiók'!$J$10,0,'Lakás Törlesztéscsökkentő fiók'!$B$28)","v":0},{"$error":"#VALUE!"},{"$f":"IF(A264>'Lakás Törlesztéscsökkentő fiók'!$J$10,0,'Lakás Törlesztéscsökkentő fiók'!$J$11)","v":0},{"$f":"IF(OR(A264>'Lakás Törlesztéscsökkentő fiók'!$J$10,'Lakás Törlesztéscsökkentő fiók'!$B$24='Lakás Törlesztéscsökkentő fiók'!$T$5),0,'Lakás Törlesztéscsökkentő fiók'!$J$12+'Lakás Törlesztéscsökkentő fiók'!$J$13)","v":0},0,null,null,0,{"$f":"IRR($K$2:K264,0.05)","v":{"$error":"#VALUE!"}}]
[263,{"$error":"#VALUE!"},{"$f":"B265*'Lakás Törlesztéscsökkentő fiók'!$B$27/12","v":{"$error":"#VALUE!"}},{"$f":"IF(A265>'Lakás Törlesztéscsökkentő fiók'!$J$10,0,'Lakás Törlesztéscsökkentő fiók'!$B$28)","v":0},{"$error":"#VALUE!"},{"$f":"IF(A265>'Lakás Törlesztéscsökkentő fiók'!$J$10,0,'Lakás Törlesztéscsökkentő fiók'!$J$11)","v":0},{"$f":"IF(OR(A265>'Lakás Törlesztéscsökkentő fiók'!$J$10,'Lakás Törlesztéscsökkentő fiók'!$B$24='Lakás Törlesztéscsökkentő fiók'!$T$5),0,'Lakás Törlesztéscsökkentő fiók'!$J$12+'Lakás Törlesztéscsökkentő fiók'!$J$13)","v":0},0,null,null,0,{"$f":"IRR($K$2:K265,0.05)","v":{"$error":"#VALUE!"}}]
[264,{"$error":"#VALUE!"},{"$f":"B266*'Lakás Törlesztéscsökkentő fiók'!$B$27/12","v":{"$error":"#VALUE!"}},{"$f":"IF(A266>'Lakás Törlesztéscsökkentő fiók'!$J$10,0,'Lakás Törlesztéscsökkentő fiók'!$B$28)","v":0},{"$error":"#VALUE!"},{"$f":"IF(A266>'Lakás Törlesztéscsökkentő fiók'!$J$10,0,'Lakás Törlesztéscsökkentő fiók'!$J$11)","v":0},{"$f":"IF(OR(A266>'Lakás Törlesztéscsökkentő fiók'!$J$10,'Lakás Törlesztéscsökkentő fiók'!$B$24='Lakás Törlesztéscsökkentő fiók'!$T$5),0,'Lakás Törlesztéscsökkentő fiók'!$J$12+'Lakás Törlesztéscsökkentő fiók'!$J$13)","v":0},0,null,null,0,{"$f":"IRR($K$2:K266,0.05)","v":{"$error":"#VALUE!"}}]
[265,{"$error":"#VALUE!"},{"$f":"B267*'Lakás Törlesztéscsökkentő fiók'!$B$27/12","v":{"$error":"#VALUE!"}},{"$f":"IF(A267>'Lakás Törlesztéscsökkentő fiók'!$J$10,0,'Lakás Törlesztéscsökkentő fiók'!$B$28)","v":0},{"$error":"#VALUE!"},{"$f":"IF(A267>'Lakás Törlesztéscsökkentő fiók'!$J$10,0,'Lakás Törlesztéscsökkentő fiók'!$J$11)","v":0},{"$f":"IF(OR(A267>'Lakás Törlesztéscsökkentő fiók'!$J$10,'Lakás Törlesztéscsökkentő fiók'!$B$24='Lakás Törlesztéscsökkentő fiók'!$T$5),0,'Lakás Törlesztéscsökkentő fiók'!$J$12+'Lakás Törlesztéscsökkentő fiók'!$J$13)","v":0},0,null,null,0,{"$f":"IRR($K$2:K267,0.05)","v":{"$error":"#VALUE!"}}]
[266,{"$error":"#VALUE!"},{"$f":"B268*'Lakás Törlesztéscsökkentő fiók'!$B$27/12","v":{"$error":"#VALUE!"}},{"$f":"IF(A268>'Lakás Törlesztéscsökkentő fiók'!$J$10,0,'Lakás Törlesztéscsökkentő fiók'!$B$28)","v":0},{"$error":"#VALUE!"},{"$f":"IF(A268>'Lakás Törlesztéscsökkentő fiók'!$J$10,0,'Lakás Törlesztéscsökkentő fiók'!$J$11)","v":0},{"$f":"IF(OR(A268>'Lakás Törlesztéscsökkentő fiók'!$J$10,'Lakás Törlesztéscsökkentő fiók'!$B$24='Lakás Törlesztéscsökkentő fiók'!$T$5),0,'Lakás Törlesztéscsökkentő fiók'!$J$12+'Lakás Törlesztéscsökkentő fiók'!$J$13)","v":0},0,null,null,0,{"$f":"IRR($K$2:K268,0.05)","v":{"$error":"#VALUE!"}}]
[267,{"$error":"#VALUE!"},{"$f":"B269*'Lakás Törlesztéscsökkentő fiók'!$B$27/12","v":{"$error":"#VALUE!"}},{"$f":"IF(A269>'Lakás Törlesztéscsökkentő fiók'!$J$10,0,'Lakás Törlesztéscsökkentő fiók'!$B$28)","v":0},{"$error":"#VALUE!"},{"$f":"IF(A269>'Lakás Törlesztéscsökkentő fiók'!$J$10,0,'Lakás Törlesztéscsökkentő fiók'!$J$11)","v":0},{"$f":"IF(OR(A269>'Lakás Törlesztéscsökkentő fiók'!$J$10,'Lakás Törlesztéscsökkentő fiók'!$B$24='Lakás Törlesztéscsökkentő fiók'!$T$5),0,'Lakás Törlesztéscsökkentő fiók'!$J$12+'Lakás Törlesztéscsökkentő fiók'!$J$13)","v":0},0,null,null,0,{"$f":"IRR($K$2:K269,0.05)","v":{"$error":"#VALUE!"}}]
[268,{"$error":"#VALUE!"},{"$f":"B270*'Lakás Törlesztéscsökkentő fiók'!$B$27/12","v":{"$error":"#VALUE!"}},{"$f":"IF(A270>'Lakás Törlesztéscsökkentő fiók'!$J$10,0,'Lakás Törlesztéscsökkentő fiók'!$B$28)","v":0},{"$error":"#VALUE!"},{"$f":"IF(A270>'Lakás Törlesztéscsökkentő fiók'!$J$10,0,'Lakás Törlesztéscsökkentő fiók'!$J$11)","v":0},{"$f":"IF(OR(A270>'Lakás Törlesztéscsökkentő fiók'!$J$10,'Lakás Törlesztéscsökkentő fiók'!$B$24='Lakás Törlesztéscsökkentő fiók'!$T$5),0,'Lakás Törlesztéscsökkentő fiók'!$J$12+'Lakás Törlesztéscsökkentő fiók'!$J$13)","v":0},0,null,null,0,{"$f":"IRR($K$2:K270,0.05)","v":{"$error":"#VALUE!"}}]
[269,{"$error":"#VALUE!"},{"$f":"B271*'Lakás Törlesztéscsökkentő fiók'!$B$27/12","v":{"$error":"#VALUE!"}},{"$f":"IF(A271>'Lakás Törlesztéscsökkentő fiók'!$J$10,0,'Lakás Törlesztéscsökkentő fiók'!$B$28)","v":0},{"$error":"#VALUE!"},{"$f":"IF(A271>'Lakás Törlesztéscsökkentő fiók'!$J$10,0,'Lakás Törlesztéscsökkentő fiók'!$J$11)","v":0},{"$f":"IF(OR(A271>'Lakás Törlesztéscsökkentő fiók'!$J$10,'Lakás Törlesztéscsökkentő fiók'!$B$24='Lakás Törlesztéscsökkentő fiók'!$T$5),0,'Lakás Törlesztéscsökkentő fiók'!$J$12+'Lakás Törlesztéscsökkentő fiók'!$J$13)","v":0},0,null,null,0,{"$f":"IRR($K$2:K271,0.05)","v":{"$error":"#VALUE!"}}]
[270,{"$error":"#VALUE!"},{"$f":"B272*'Lakás Törlesztéscsökkentő fiók'!$B$27/12","v":{"$error":"#VALUE!"}},{"$f":"IF(A272>'Lakás Törlesztéscsökkentő fiók'!$J$10,0,'Lakás Törlesztéscsökkentő fiók'!$B$28)","v":0},{"$error":"#VALUE!"},{"$f":"IF(A272>'Lakás Törlesztéscsökkentő fiók'!$J$10,0,'Lakás Törlesztéscsökkentő fiók'!$J$11)","v":0},{"$f":"IF(OR(A272>'Lakás Törlesztéscsökkentő fiók'!$J$10,'Lakás Törlesztéscsökkentő fiók'!$B$24='Lakás Törlesztéscsökkentő fiók'!$T$5),0,'Lakás Törlesztéscsökkentő fiók'!$J$12+'Lakás Törlesztéscsökkentő fiók'!$J$13)","v":0},0,null,null,0,{"$f":"IRR($K$2:K272,0.05)","v":{"$error":"#VALUE!"}}]
[271,{"$error":"#VALUE!"},{"$f":"B273*'Lakás Törlesztéscsökkentő fiók'!$B$27/12","v":{"$error":"#VALUE!"}},{"$f":"IF(A273>'Lakás Törlesztéscsökkentő fiók'!$J$10,0,'Lakás Törlesztéscsökkentő fiók'!$B$28)","v":0},{"$error":"#VALUE!"},{"$f":"IF(A273>'Lakás Törlesztéscsökkentő fiók'!$J$10,0,'Lakás Törlesztéscsökkentő fiók'!$J$11)","v":0},{"$f":"IF(OR(A273>'Lakás Törlesztéscsökkentő fiók'!$J$10,'Lakás Törlesztéscsökkentő fiók'!$B$24='Lakás Törlesztéscsökkentő fiók'!$T$5),0,'Lakás Törlesztéscsökkentő fiók'!$J$12+'Lakás Törlesztéscsökkentő fiók'!$J$13)","v":0},0,null,null,0,{"$f":"IRR($K$2:K273,0.05)","v":{"$error":"#VALUE!"}}]
[272,{"$error":"#VALUE!"},{"$f":"B274*'Lakás Törlesztéscsökkentő fiók'!$B$27/12","v":{"$error":"#VALUE!"}},{"$f":"IF(A274>'Lakás Törlesztéscsökkentő fiók'!$J$10,0,'Lakás Törlesztéscsökkentő fiók'!$B$28)","v":0},{"$error":"#VALUE!"},{"$f":"IF(A274>'Lakás Törlesztéscsökkentő fiók'!$J$10,0,'Lakás Törlesztéscsökkentő fiók'!$J$11)","v":0},{"$f":"IF(OR(A274>'Lakás Törlesztéscsökkentő fiók'!$J$10,'Lakás Törlesztéscsökkentő fiók'!$B$24='Lakás Törlesztéscsökkentő fiók'!$T$5),0,'Lakás Törlesztéscsökkentő fiók'!$J$12+'Lakás Törlesztéscsökkentő fiók'!$J$13)","v":0},0,null,null,0,{"$f":"IRR($K$2:K274,0.05)","v":{"$error":"#VALUE!"}}]
[273,{"$error":"#VALUE!"},{"$f":"B275*'Lakás Törlesztéscsökkentő fiók'!$B$27/12","v":{"$error":"#VALUE!"}},{"$f":"IF(A275>'Lakás Törlesztéscsökkentő fiók'!$J$10,0,'Lakás Törlesztéscsökkentő fiók'!$B$28)","v":0},{"$error":"#VALUE!"},{"$f":"IF(A275>'Lakás Törlesztéscsökkentő fiók'!$J$10,0,'Lakás Törlesztéscsökkentő fiók'!$J$11)","v":0},{"$f":"IF(OR(A275>'Lakás Törlesztéscsökkentő fiók'!$J$10,'Lakás Törlesztéscsökkentő fiók'!$B$24='Lakás Törlesztéscsökkentő fiók'!$T$5),0,'Lakás Törlesztéscsökkentő fiók'!$J$12+'Lakás Törlesztéscsökkentő fiók'!$J$13)","v":0},0,null,null,0,{"$f":"IRR($K$2:K275,0.05)","v":{"$error":"#VALUE!"}}]
[274,{"$error":"#VALUE!"},{"$f":"B276*'Lakás Törlesztéscsökkentő fiók'!$B$27/12","v":{"$error":"#VALUE!"}},{"$f":"IF(A276>'Lakás Törlesztéscsökkentő fiók'!$J$10,0,'Lakás Törlesztéscsökkentő fiók'!$B$28)","v":0},{"$error":"#VALUE!"},{"$f":"IF(A276>'Lakás Törlesztéscsökkentő fiók'!$J$10,0,'Lakás Törlesztéscsökkentő fiók'!$J$11)","v":0},{"$f":"IF(OR(A276>'Lakás Törlesztéscsökkentő fiók'!$J$10,'Lakás Törlesztéscsökkentő fiók'!$B$24='Lakás Törlesztéscsökkentő fiók'!$T$5),0,'Lakás Törlesztéscsökkentő fiók'!$J$12+'Lakás Törlesztéscsökkentő fiók'!$J$13)","v":0},0,null,null,0,{"$f":"IRR($K$2:K276,0.05)","v":{"$error":"#VALUE!"}}]
[275,{"$error":"#VALUE!"},{"$f":"B277*'Lakás Törlesztéscsökkentő fiók'!$B$27/12","v":{"$error":"#VALUE!"}},{"$f":"IF(A277>'Lakás Törlesztéscsökkentő fiók'!$J$10,0,'Lakás Törlesztéscsökkentő fiók'!$B$28)","v":0},{"$error":"#VALUE!"},{"$f":"IF(A277>'Lakás Törlesztéscsökkentő fiók'!$J$10,0,'Lakás Törlesztéscsökkentő fiók'!$J$11)","v":0},{"$f":"IF(OR(A277>'Lakás Törlesztéscsökkentő fiók'!$J$10,'Lakás Törlesztéscsökkentő fiók'!$B$24='Lakás Törlesztéscsökkentő fiók'!$T$5),0,'Lakás Törlesztéscsökkentő fiók'!$J$12+'Lakás Törlesztéscsökkentő fiók'!$J$13)","v":0},0,null,null,0,{"$f":"IRR($K$2:K277,0.05)","v":{"$error":"#VALUE!"}}]
[276,{"$error":"#VALUE!"},{"$f":"B278*'Lakás Törlesztéscsökkentő fiók'!$B$27/12","v":{"$error":"#VALUE!"}},{"$f":"IF(A278>'Lakás Törlesztéscsökkentő fiók'!$J$10,0,'Lakás Törlesztéscsökkentő fiók'!$B$28)","v":0},{"$error":"#VALUE!"},{"$f":"IF(A278>'Lakás Törlesztéscsökkentő fiók'!$J$10,0,'Lakás Törlesztéscsökkentő fiók'!$J$11)","v":0},{"$f":"IF(OR(A278>'Lakás Törlesztéscsökkentő fiók'!$J$10,'Lakás Törlesztéscsökkentő fiók'!$B$24='Lakás Törlesztéscsökkentő fiók'!$T$5),0,'Lakás Törlesztéscsökkentő fiók'!$J$12+'Lakás Törlesztéscsökkentő fiók'!$J$13)","v":0},0,null,null,0,{"$f":"IRR($K$2:K278,0.05)","v":{"$error":"#VALUE!"}}]
[277,{"$error":"#VALUE!"},{"$f":"B279*'Lakás Törlesztéscsökkentő fiók'!$B$27/12","v":{"$error":"#VALUE!"}},{"$f":"IF(A279>'Lakás Törlesztéscsökkentő fiók'!$J$10,0,'Lakás Törlesztéscsökkentő fiók'!$B$28)","v":0},{"$error":"#VALUE!"},{"$f":"IF(A279>'Lakás Törlesztéscsökkentő fiók'!$J$10,0,'Lakás Törlesztéscsökkentő fiók'!$J$11)","v":0},{"$f":"IF(OR(A279>'Lakás Törlesztéscsökkentő fiók'!$J$10,'Lakás Törlesztéscsökkentő fiók'!$B$24='Lakás Törlesztéscsökkentő fiók'!$T$5),0,'Lakás Törlesztéscsökkentő fiók'!$J$12+'Lakás Törlesztéscsökkentő fiók'!$J$13)","v":0},0,null,null,0,{"$f":"IRR($K$2:K279,0.05)","v":{"$error":"#VALUE!"}}]
[278,{"$error":"#VALUE!"},{"$f":"B280*'Lakás Törlesztéscsökkentő fiók'!$B$27/12","v":{"$error":"#VALUE!"}},{"$f":"IF(A280>'Lakás Törlesztéscsökkentő fiók'!$J$10,0,'Lakás Törlesztéscsökkentő fiók'!$B$28)","v":0},{"$error":"#VALUE!"},{"$f":"IF(A280>'Lakás Törlesztéscsökkentő fiók'!$J$10,0,'Lakás Törlesztéscsökkentő fiók'!$J$11)","v":0},{"$f":"IF(OR(A280>'Lakás Törlesztéscsökkentő fiók'!$J$10,'Lakás Törlesztéscsökkentő fiók'!$B$24='Lakás Törlesztéscsökkentő fiók'!$T$5),0,'Lakás Törlesztéscsökkentő fiók'!$J$12+'Lakás Törlesztéscsökkentő fiók'!$J$13)","v":0},0,null,null,0,{"$f":"IRR($K$2:K280,0.05)","v":{"$error":"#VALUE!"}}]
[279,{"$error":"#VALUE!"},{"$f":"B281*'Lakás Törlesztéscsökkentő fiók'!$B$27/12","v":{"$error":"#VALUE!"}},{"$f":"IF(A281>'Lakás Törlesztéscsökkentő fiók'!$J$10,0,'Lakás Törlesztéscsökkentő fiók'!$B$28)","v":0},{"$error":"#VALUE!"},{"$f":"IF(A281>'Lakás Törlesztéscsökkentő fiók'!$J$10,0,'Lakás Törlesztéscsökkentő fiók'!$J$11)","v":0},{"$f":"IF(OR(A281>'Lakás Törlesztéscsökkentő fiók'!$J$10,'Lakás Törlesztéscsökkentő fiók'!$B$24='Lakás Törlesztéscsökkentő fiók'!$T$5),0,'Lakás Törlesztéscsökkentő fiók'!$J$12+'Lakás Törlesztéscsökkentő fiók'!$J$13)","v":0},0,null,null,0,{"$f":"IRR($K$2:K281,0.05)","v":{"$error":"#VALUE!"}}]
[280,{"$error":"#VALUE!"},{"$f":"B282*'Lakás Törlesztéscsökkentő fiók'!$B$27/12","v":{"$error":"#VALUE!"}},{"$f":"IF(A282>'Lakás Törlesztéscsökkentő fiók'!$J$10,0,'Lakás Törlesztéscsökkentő fiók'!$B$28)","v":0},{"$error":"#VALUE!"},{"$f":"IF(A282>'Lakás Törlesztéscsökkentő fiók'!$J$10,0,'Lakás Törlesztéscsökkentő fiók'!$J$11)","v":0},{"$f":"IF(OR(A282>'Lakás Törlesztéscsökkentő fiók'!$J$10,'Lakás Törlesztéscsökkentő fiók'!$B$24='Lakás Törlesztéscsökkentő fiók'!$T$5),0,'Lakás Törlesztéscsökkentő fiók'!$J$12+'Lakás Törlesztéscsökkentő fiók'!$J$13)","v":0},0,null,null,0,{"$f":"IRR($K$2:K282,0.05)","v":{"$error":"#VALUE!"}}]
[281,{"$error":"#VALUE!"},{"$f":"B283*'Lakás Törlesztéscsökkentő fiók'!$B$27/12","v":{"$error":"#VALUE!"}},{"$f":"IF(A283>'Lakás Törlesztéscsökkentő fiók'!$J$10,0,'Lakás Törlesztéscsökkentő fiók'!$B$28)","v":0},{"$error":"#VALUE!"},{"$f":"IF(A283>'Lakás Törlesztéscsökkentő fiók'!$J$10,0,'Lakás Törlesztéscsökkentő fiók'!$J$11)","v":0},{"$f":"IF(OR(A283>'Lakás Törlesztéscsökkentő fiók'!$J$10,'Lakás Törlesztéscsökkentő fiók'!$B$24='Lakás Törlesztéscsökkentő fiók'!$T$5),0,'Lakás Törlesztéscsökkentő fiók'!$J$12+'Lakás Törlesztéscsökkentő fiók'!$J$13)","v":0},0,null,null,0,{"$f":"IRR($K$2:K283,0.05)","v":{"$error":"#VALUE!"}}]
[282,{"$error":"#VALUE!"},{"$f":"B284*'Lakás Törlesztéscsökkentő fiók'!$B$27/12","v":{"$error":"#VALUE!"}},{"$f":"IF(A284>'Lakás Törlesztéscsökkentő fiók'!$J$10,0,'Lakás Törlesztéscsökkentő fiók'!$B$28)","v":0},{"$error":"#VALUE!"},{"$f":"IF(A284>'Lakás Törlesztéscsökkentő fiók'!$J$10,0,'Lakás Törlesztéscsökkentő fiók'!$J$11)","v":0},{"$f":"IF(OR(A284>'Lakás Törlesztéscsökkentő fiók'!$J$10,'Lakás Törlesztéscsökkentő fiók'!$B$24='Lakás Törlesztéscsökkentő fiók'!$T$5),0,'Lakás Törlesztéscsökkentő fiók'!$J$12+'Lakás Törlesztéscsökkentő fiók'!$J$13)","v":0},0,null,null,0,{"$f":"IRR($K$2:K284,0.05)","v":{"$error":"#VALUE!"}}]
[283,{"$error":"#VALUE!"},{"$f":"B285*'Lakás Törlesztéscsökkentő fiók'!$B$27/12","v":{"$error":"#VALUE!"}},{"$f":"IF(A285>'Lakás Törlesztéscsökkentő fiók'!$J$10,0,'Lakás Törlesztéscsökkentő fiók'!$B$28)","v":0},{"$error":"#VALUE!"},{"$f":"IF(A285>'Lakás Törlesztéscsökkentő fiók'!$J$10,0,'Lakás Törlesztéscsökkentő fiók'!$J$11)","v":0},{"$f":"IF(OR(A285>'Lakás Törlesztéscsökkentő fiók'!$J$10,'Lakás Törlesztéscsökkentő fiók'!$B$24='Lakás Törlesztéscsökkentő fiók'!$T$5),0,'Lakás Törlesztéscsökkentő fiók'!$J$12+'Lakás Törlesztéscsökkentő fiók'!$J$13)","v":0},0,null,null,0,{"$f":"IRR($K$2:K285,0.05)","v":{"$error":"#VALUE!"}}]
[284,{"$error":"#VALUE!"},{"$f":"B286*'Lakás Törlesztéscsökkentő fiók'!$B$27/12","v":{"$error":"#VALUE!"}},{"$f":"IF(A286>'Lakás Törlesztéscsökkentő fiók'!$J$10,0,'Lakás Törlesztéscsökkentő fiók'!$B$28)","v":0},{"$error":"#VALUE!"},{"$f":"IF(A286>'Lakás Törlesztéscsökkentő fiók'!$J$10,0,'Lakás Törlesztéscsökkentő fiók'!$J$11)","v":0},{"$f":"IF(OR(A286>'Lakás Törlesztéscsökkentő fiók'!$J$10,'Lakás Törlesztéscsökkentő fiók'!$B$24='Lakás Törlesztéscsökkentő fiók'!$T$5),0,'Lakás Törlesztéscsökkentő fiók'!$J$12+'Lakás Törlesztéscsökkentő fiók'!$J$13)","v":0},0,null,null,0,{"$f":"IRR($K$2:K286,0.05)","v":{"$error":"#VALUE!"}}]
[285,{"$error":"#VALUE!"},{"$f":"B287*'Lakás Törlesztéscsökkentő fiók'!$B$27/12","v":{"$error":"#VALUE!"}},{"$f":"IF(A287>'Lakás Törlesztéscsökkentő fiók'!$J$10,0,'Lakás Törlesztéscsökkentő fiók'!$B$28)","v":0},{"$error":"#VALUE!"},{"$f":"IF(A287>'Lakás Törlesztéscsökkentő fiók'!$J$10,0,'Lakás Törlesztéscsökkentő fiók'!$J$11)","v":0},{"$f":"IF(OR(A287>'Lakás Törlesztéscsökkentő fiók'!$J$10,'Lakás Törlesztéscsökkentő fiók'!$B$24='Lakás Törlesztéscsökkentő fiók'!$T$5),0,'Lakás Törlesztéscsökkentő fiók'!$J$12+'Lakás Törlesztéscsökkentő fiók'!$J$13)","v":0},0,null,null,0,{"$f":"IRR($K$2:K287,0.05)","v":{"$error":"#VALUE!"}}]
[286,{"$error":"#VALUE!"},{"$f":"B288*'Lakás Törlesztéscsökkentő fiók'!$B$27/12","v":{"$error":"#VALUE!"}},{"$f":"IF(A288>'Lakás Törlesztéscsökkentő fiók'!$J$10,0,'Lakás Törlesztéscsökkentő fiók'!$B$28)","v":0},{"$error":"#VALUE!"},{"$f":"IF(A288>'Lakás Törlesztéscsökkentő fiók'!$J$10,0,'Lakás Törlesztéscsökkentő fiók'!$J$11)","v":0},{"$f":"IF(OR(A288>'Lakás Törlesztéscsökkentő fiók'!$J$10,'Lakás Törlesztéscsökkentő fiók'!$B$24='Lakás Törlesztéscsökkentő fiók'!$T$5),0,'Lakás Törlesztéscsökkentő fiók'!$J$12+'Lakás Törlesztéscsökkentő fiók'!$J$13)","v":0},0,null,null,0,{"$f":"IRR($K$2:K288,0.05)","v":{"$error":"#VALUE!"}}]
[287,{"$error":"#VALUE!"},{"$f":"B289*'Lakás Törlesztéscsökkentő fiók'!$B$27/12","v":{"$error":"#VALUE!"}},{"$f":"IF(A289>'Lakás Törlesztéscsökkentő fiók'!$J$10,0,'Lakás Törlesztéscsökkentő fiók'!$B$28)","v":0},{"$error":"#VALUE!"},{"$f":"IF(A289>'Lakás Törlesztéscsökkentő fiók'!$J$10,0,'Lakás Törlesztéscsökkentő fiók'!$J$11)","v":0},{"$f":"IF(OR(A289>'Lakás Törlesztéscsökkentő fiók'!$J$10,'Lakás Törlesztéscsökkentő fiók'!$B$24='Lakás Törlesztéscsökkentő fiók'!$T$5),0,'Lakás Törlesztéscsökkentő fiók'!$J$12+'Lakás Törlesztéscsökkentő fiók'!$J$13)","v":0},0,null,null,0,{"$f":"IRR($K$2:K289,0.05)","v":{"$error":"#VALUE!"}}]
[288,{"$error":"#VALUE!"},{"$f":"B290*'Lakás Törlesztéscsökkentő fiók'!$B$27/12","v":{"$error":"#VALUE!"}},{"$f":"IF(A290>'Lakás Törlesztéscsökkentő fiók'!$J$10,0,'Lakás Törlesztéscsökkentő fiók'!$B$28)","v":0},{"$error":"#VALUE!"},{"$f":"IF(A290>'Lakás Törlesztéscsökkentő fiók'!$J$10,0,'Lakás Törlesztéscsökkentő fiók'!$J$11)","v":0},{"$f":"IF(OR(A290>'Lakás Törlesztéscsökkentő fiók'!$J$10,'Lakás Törlesztéscsökkentő fiók'!$B$24='Lakás Törlesztéscsökkentő fiók'!$T$5),0,'Lakás Törlesztéscsökkentő fiók'!$J$12+'Lakás Törlesztéscsökkentő fiók'!$J$13)","v":0},0,null,null,0,{"$f":"IRR($K$2:K290,0.05)","v":{"$error":"#VALUE!"}}]
[289,{"$error":"#VALUE!"},{"$f":"B291*'Lakás Törlesztéscsökkentő fiók'!$B$27/12","v":{"$error":"#VALUE!"}},{"$f":"IF(A291>'Lakás Törlesztéscsökkentő fiók'!$J$10,0,'Lakás Törlesztéscsökkentő fiók'!$B$28)","v":0},{"$error":"#VALUE!"},{"$f":"IF(A291>'Lakás Törlesztéscsökkentő fiók'!$J$10,0,'Lakás Törlesztéscsökkentő fiók'!$J$11)","v":0},{"$f":"IF(OR(A291>'Lakás Törlesztéscsökkentő fiók'!$J$10,'Lakás Törlesztéscsökkentő fiók'!$B$24='Lakás Törlesztéscsökkentő fiók'!$T$5),0,'Lakás Törlesztéscsökkentő fiók'!$J$12+'Lakás Törlesztéscsökkentő fiók'!$J$13)","v":0},0,null,null,0,{"$f":"IRR($K$2:K291,0.05)","v":{"$error":"#VALUE!"}}]
[290,{"$error":"#VALUE!"},{"$f":"B292*'Lakás Törlesztéscsökkentő fiók'!$B$27/12","v":{"$error":"#VALUE!"}},{"$f":"IF(A292>'Lakás Törlesztéscsökkentő fiók'!$J$10,0,'Lakás Törlesztéscsökkentő fiók'!$B$28)","v":0},{"$error":"#VALUE!"},{"$f":"IF(A292>'Lakás Törlesztéscsökkentő fiók'!$J$10,0,'Lakás Törlesztéscsökkentő fiók'!$J$11)","v":0},{"$f":"IF(OR(A292>'Lakás Törlesztéscsökkentő fiók'!$J$10,'Lakás Törlesztéscsökkentő fiók'!$B$24='Lakás Törlesztéscsökkentő fiók'!$T$5),0,'Lakás Törlesztéscsökkentő fiók'!$J$12+'Lakás Törlesztéscsökkentő fiók'!$J$13)","v":0},0,null,null,0,{"$f":"IRR($K$2:K292,0.05)","v":{"$error":"#VALUE!"}}]
[291,{"$error":"#VALUE!"},{"$f":"B293*'Lakás Törlesztéscsökkentő fiók'!$B$27/12","v":{"$error":"#VALUE!"}},{"$f":"IF(A293>'Lakás Törlesztéscsökkentő fiók'!$J$10,0,'Lakás Törlesztéscsökkentő fiók'!$B$28)","v":0},{"$error":"#VALUE!"},{"$f":"IF(A293>'Lakás Törlesztéscsökkentő fiók'!$J$10,0,'Lakás Törlesztéscsökkentő fiók'!$J$11)","v":0},{"$f":"IF(OR(A293>'Lakás Törlesztéscsökkentő fiók'!$J$10,'Lakás Törlesztéscsökkentő fiók'!$B$24='Lakás Törlesztéscsökkentő fiók'!$T$5),0,'Lakás Törlesztéscsökkentő fiók'!$J$12+'Lakás Törlesztéscsökkentő fiók'!$J$13)","v":0},0,null,null,0,{"$f":"IRR($K$2:K293,0.05)","v":{"$error":"#VALUE!"}}]
[292,{"$error":"#VALUE!"},{"$f":"B294*'Lakás Törlesztéscsökkentő fiók'!$B$27/12","v":{"$error":"#VALUE!"}},{"$f":"IF(A294>'Lakás Törlesztéscsökkentő fiók'!$J$10,0,'Lakás Törlesztéscsökkentő fiók'!$B$28)","v":0},{"$error":"#VALUE!"},{"$f":"IF(A294>'Lakás Törlesztéscsökkentő fiók'!$J$10,0,'Lakás Törlesztéscsökkentő fiók'!$J$11)","v":0},{"$f":"IF(OR(A294>'Lakás Törlesztéscsökkentő fiók'!$J$10,'Lakás Törlesztéscsökkentő fiók'!$B$24='Lakás Törlesztéscsökkentő fiók'!$T$5),0,'Lakás Törlesztéscsökkentő fiók'!$J$12+'Lakás Törlesztéscsökkentő fiók'!$J$13)","v":0},0,null,null,0,{"$f":"IRR($K$2:K294,0.05)","v":{"$error":"#VALUE!"}}]
[293,{"$error":"#VALUE!"},{"$f":"B295*'Lakás Törlesztéscsökkentő fiók'!$B$27/12","v":{"$error":"#VALUE!"}},{"$f":"IF(A295>'Lakás Törlesztéscsökkentő fiók'!$J$10,0,'Lakás Törlesztéscsökkentő fiók'!$B$28)","v":0},{"$error":"#VALUE!"},{"$f":"IF(A295>'Lakás Törlesztéscsökkentő fiók'!$J$10,0,'Lakás Törlesztéscsökkentő fiók'!$J$11)","v":0},{"$f":"IF(OR(A295>'Lakás Törlesztéscsökkentő fiók'!$J$10,'Lakás Törlesztéscsökkentő fiók'!$B$24='Lakás Törlesztéscsökkentő fiók'!$T$5),0,'Lakás Törlesztéscsökkentő fiók'!$J$12+'Lakás Törlesztéscsökkentő fiók'!$J$13)","v":0},0,null,null,0,{"$f":"IRR($K$2:K295,0.05)","v":{"$error":"#VALUE!"}}]
[294,{"$error":"#VALUE!"},{"$f":"B296*'Lakás Törlesztéscsökkentő fiók'!$B$27/12","v":{"$error":"#VALUE!"}},{"$f":"IF(A296>'Lakás Törlesztéscsökkentő fiók'!$J$10,0,'Lakás Törlesztéscsökkentő fiók'!$B$28)","v":0},{"$error":"#VALUE!"},{"$f":"IF(A296>'Lakás Törlesztéscsökkentő fiók'!$J$10,0,'Lakás Törlesztéscsökkentő fiók'!$J$11)","v":0},{"$f":"IF(OR(A296>'Lakás Törlesztéscsökkentő fiók'!$J$10,'Lakás Törlesztéscsökkentő fiók'!$B$24='Lakás Törlesztéscsökkentő fiók'!$T$5),0,'Lakás Törlesztéscsökkentő fiók'!$J$12+'Lakás Törlesztéscsökkentő fiók'!$J$13)","v":0},0,null,null,0,{"$f":"IRR($K$2:K296,0.05)","v":{"$error":"#VALUE!"}}]
[295,{"$error":"#VALUE!"},{"$f":"B297*'Lakás Törlesztéscsökkentő fiók'!$B$27/12","v":{"$error":"#VALUE!"}},{"$f":"IF(A297>'Lakás Törlesztéscsökkentő fiók'!$J$10,0,'Lakás Törlesztéscsökkentő fiók'!$B$28)","v":0},{"$error":"#VALUE!"},{"$f":"IF(A297>'Lakás Törlesztéscsökkentő fiók'!$J$10,0,'Lakás Törlesztéscsökkentő fiók'!$J$11)","v":0},{"$f":"IF(OR(A297>'Lakás Törlesztéscsökkentő fiók'!$J$10,'Lakás Törlesztéscsökkentő fiók'!$B$24='Lakás Törlesztéscsökkentő fiók'!$T$5),0,'Lakás Törlesztéscsökkentő fiók'!$J$12+'Lakás Törlesztéscsökkentő fiók'!$J$13)","v":0},0,null,null,0,{"$f":"IRR($K$2:K297,0.05)","v":{"$error":"#VALUE!"}}]
[296,{"$error":"#VALUE!"},{"$f":"B298*'Lakás Törlesztéscsökkentő fiók'!$B$27/12","v":{"$error":"#VALUE!"}},{"$f":"IF(A298>'Lakás Törlesztéscsökkentő fiók'!$J$10,0,'Lakás Törlesztéscsökkentő fiók'!$B$28)","v":0},{"$error":"#VALUE!"},{"$f":"IF(A298>'Lakás Törlesztéscsökkentő fiók'!$J$10,0,'Lakás Törlesztéscsökkentő fiók'!$J$11)","v":0},{"$f":"IF(OR(A298>'Lakás Törlesztéscsökkentő fiók'!$J$10,'Lakás Törlesztéscsökkentő fiók'!$B$24='Lakás Törlesztéscsökkentő fiók'!$T$5),0,'Lakás Törlesztéscsökkentő fiók'!$J$12+'Lakás Törlesztéscsökkentő fiók'!$J$13)","v":0},0,null,null,0,{"$f":"IRR($K$2:K298,0.05)","v":{"$error":"#VALUE!"}}]
[297,{"$error":"#VALUE!"},{"$f":"B299*'Lakás Törlesztéscsökkentő fiók'!$B$27/12","v":{"$error":"#VALUE!"}},{"$f":"IF(A299>'Lakás Törlesztéscsökkentő fiók'!$J$10,0,'Lakás Törlesztéscsökkentő fiók'!$B$28)","v":0},{"$error":"#VALUE!"},{"$f":"IF(A299>'Lakás Törlesztéscsökkentő fiók'!$J$10,0,'Lakás Törlesztéscsökkentő fiók'!$J$11)","v":0},{"$f":"IF(OR(A299>'Lakás Törlesztéscsökkentő fiók'!$J$10,'Lakás Törlesztéscsökkentő fiók'!$B$24='Lakás Törlesztéscsökkentő fiók'!$T$5),0,'Lakás Törlesztéscsökkentő fiók'!$J$12+'Lakás Törlesztéscsökkentő fiók'!$J$13)","v":0},0,null,null,0,{"$f":"IRR($K$2:K299,0.05)","v":{"$error":"#VALUE!"}}]
[298,{"$error":"#VALUE!"},{"$f":"B300*'Lakás Törlesztéscsökkentő fiók'!$B$27/12","v":{"$error":"#VALUE!"}},{"$f":"IF(A300>'Lakás Törlesztéscsökkentő fiók'!$J$10,0,'Lakás Törlesztéscsökkentő fiók'!$B$28)","v":0},{"$error":"#VALUE!"},{"$f":"IF(A300>'Lakás Törlesztéscsökkentő fiók'!$J$10,0,'Lakás Törlesztéscsökkentő fiók'!$J$11)","v":0},{"$f":"IF(OR(A300>'Lakás Törlesztéscsökkentő fiók'!$J$10,'Lakás Törlesztéscsökkentő fiók'!$B$24='Lakás Törlesztéscsökkentő fiók'!$T$5),0,'Lakás Törlesztéscsökkentő fiók'!$J$12+'Lakás Törlesztéscsökkentő fiók'!$J$13)","v":0},0,null,null,0,{"$f":"IRR($K$2:K300,0.05)","v":{"$error":"#VALUE!"}}]
[299,{"$error":"#VALUE!"},{"$f":"B301*'Lakás Törlesztéscsökkentő fiók'!$B$27/12","v":{"$error":"#VALUE!"}},{"$f":"IF(A301>'Lakás Törlesztéscsökkentő fiók'!$J$10,0,'Lakás Törlesztéscsökkentő fiók'!$B$28)","v":0},{"$error":"#VALUE!"},{"$f":"IF(A301>'Lakás Törlesztéscsökkentő fiók'!$J$10,0,'Lakás Törlesztéscsökkentő fiók'!$J$11)","v":0},{"$f":"IF(OR(A301>'Lakás Törlesztéscsökkentő fiók'!$J$10,'Lakás Törlesztéscsökkentő fiók'!$B$24='Lakás Törlesztéscsökkentő fiók'!$T$5),0,'Lakás Törlesztéscsökkentő fiók'!$J$12+'Lakás Törlesztéscsökkentő fiók'!$J$13)","v":0},0,null,null,0,{"$f":"IRR($K$2:K301,0.05)","v":{"$error":"#VALUE!"}}]
[300,{"$error":"#VALUE!"},{"$f":"B302*'Lakás Törlesztéscsökkentő fiók'!$B$27/12","v":{"$error":"#VALUE!"}},{"$f":"IF(A302>'Lakás Törlesztéscsökkentő fiók'!$J$10,0,'Lakás Törlesztéscsökkentő fiók'!$B$28)","v":0},{"$error":"#VALUE!"},{"$f":"IF(A302>'Lakás Törlesztéscsökkentő fiók'!$J$10,0,'Lakás Törlesztéscsökkentő fiók'!$J$11)","v":0},{"$f":"IF(OR(A302>'Lakás Törlesztéscsökkentő fiók'!$J$10,'Lakás Törlesztéscsökkentő fiók'!$B$24='Lakás Törlesztéscsökkentő fiók'!$T$5),0,'Lakás Törlesztéscsökkentő fiók'!$J$12+'Lakás Törlesztéscsökkentő fiók'!$J$13)","v":0},0,null,null,0,{"$f":"IRR($K$2:K302,0.05)","v":{"$error":"#VALUE!"}}]
[301,{"$f":"+E302","v":{"$error":"#VALUE!"}},{"$f":"B303*'Lakás Törlesztéscsökkentő fiók'!$B$27/12","v":{"$error":"#VALUE!"}},{"$f":"IF(A303>'Lakás Törlesztéscsökkentő fiók'!$J$10,0,'Lakás Törlesztéscsökkentő fiók'!$B$28)","v":0},{"$f":"+B303+C303-D303","v":{"$error":"#VALUE!"}},{"$f":"IF(A303>'Lakás Törlesztéscsökkentő fiók'!$J$10,0,'Lakás Törlesztéscsökkentő fiók'!$J$11)","v":0},{"$f":"IF(OR(A303>'Lakás Törlesztéscsökkentő fiók'!$J$10,'Lakás Törlesztéscsökkentő fiók'!$B$24='Lakás Törlesztéscsökkentő fiók'!$T$5),0,'Lakás Törlesztéscsökkentő fiók'!$J$12+'Lakás Törlesztéscsökkentő fiók'!$J$13)","v":0},{"$f":"H302+(D303+F303+G303)/(1+$H$1)^(A303/12)","v":0},null,null,{"$f":"D303+F303+G303","v":0},{"$f":"IRR($K$2:K303,0.05)","v":{"$error":"#VALUE!"}}]
[302,{"$error":"#VALUE!"},{"$f":"B304*'Lakás Törlesztéscsökkentő fiók'!$B$27/12","v":{"$error":"#VALUE!"}},{"$f":"IF(A304>'Lakás Törlesztéscsökkentő fiók'!$J$10,0,'Lakás Törlesztéscsökkentő fiók'!$B$28)","v":0},{"$error":"#VALUE!"},{"$f":"IF(A304>'Lakás Törlesztéscsökkentő fiók'!$J$10,0,'Lakás Törlesztéscsökkentő fiók'!$J$11)","v":0},{"$f":"IF(OR(A304>'Lakás Törlesztéscsökkentő fiók'!$J$10,'Lakás Törlesztéscsökkentő fiók'!$B$24='Lakás Törlesztéscsökkentő fiók'!$T$5),0,'Lakás Törlesztéscsökkentő fiók'!$J$12+'Lakás Törlesztéscsökkentő fiók'!$J$13)","v":0},0,null,null,0,{"$f":"IRR($K$2:K304,0.05)","v":{"$error":"#VALUE!"}}]
[303,{"$error":"#VALUE!"},{"$f":"B305*'Lakás Törlesztéscsökkentő fiók'!$B$27/12","v":{"$error":"#VALUE!"}},{"$f":"IF(A305>'Lakás Törlesztéscsökkentő fiók'!$J$10,0,'Lakás Törlesztéscsökkentő fiók'!$B$28)","v":0},{"$error":"#VALUE!"},{"$f":"IF(A305>'Lakás Törlesztéscsökkentő fiók'!$J$10,0,'Lakás Törlesztéscsökkentő fiók'!$J$11)","v":0},{"$f":"IF(OR(A305>'Lakás Törlesztéscsökkentő fiók'!$J$10,'Lakás Törlesztéscsökkentő fiók'!$B$24='Lakás Törlesztéscsökkentő fiók'!$T$5),0,'Lakás Törlesztéscsökkentő fiók'!$J$12+'Lakás Törlesztéscsökkentő fiók'!$J$13)","v":0},0,null,null,0,{"$f":"IRR($K$2:K305,0.05)","v":{"$error":"#VALUE!"}}]
[304,{"$error":"#VALUE!"},{"$f":"B306*'Lakás Törlesztéscsökkentő fiók'!$B$27/12","v":{"$error":"#VALUE!"}},{"$f":"IF(A306>'Lakás Törlesztéscsökkentő fiók'!$J$10,0,'Lakás Törlesztéscsökkentő fiók'!$B$28)","v":0},{"$error":"#VALUE!"},{"$f":"IF(A306>'Lakás Törlesztéscsökkentő fiók'!$J$10,0,'Lakás Törlesztéscsökkentő fiók'!$J$11)","v":0},{"$f":"IF(OR(A306>'Lakás Törlesztéscsökkentő fiók'!$J$10,'Lakás Törlesztéscsökkentő fiók'!$B$24='Lakás Törlesztéscsökkentő fiók'!$T$5),0,'Lakás Törlesztéscsökkentő fiók'!$J$12+'Lakás Törlesztéscsökkentő fiók'!$J$13)","v":0},0,null,null,0,{"$f":"IRR($K$2:K306,0.05)","v":{"$error":"#VALUE!"}}]
[305,{"$error":"#VALUE!"},{"$f":"B307*'Lakás Törlesztéscsökkentő fiók'!$B$27/12","v":{"$error":"#VALUE!"}},{"$f":"IF(A307>'Lakás Törlesztéscsökkentő fiók'!$J$10,0,'Lakás Törlesztéscsökkentő fiók'!$B$28)","v":0},{"$error":"#VALUE!"},{"$f":"IF(A307>'Lakás Törlesztéscsökkentő fiók'!$J$10,0,'Lakás Törlesztéscsökkentő fiók'!$J$11)","v":0},{"$f":"IF(OR(A307>'Lakás Törlesztéscsökkentő fiók'!$J$10,'Lakás Törlesztéscsökkentő fiók'!$B$24='Lakás Törlesztéscsökkentő fiók'!$T$5),0,'Lakás Törlesztéscsökkentő fiók'!$J$12+'Lakás Törlesztéscsökkentő fiók'!$J$13)","v":0},0,null,null,0,{"$f":"IRR($K$2:K307,0.05)","v":{"$error":"#VALUE!"}}]
[306,{"$error":"#VALUE!"},{"$f":"B308*'Lakás Törlesztéscsökkentő fiók'!$B$27/12","v":{"$error":"#VALUE!"}},{"$f":"IF(A308>'Lakás Törlesztéscsökkentő fiók'!$J$10,0,'Lakás Törlesztéscsökkentő fiók'!$B$28)","v":0},{"$error":"#VALUE!"},{"$f":"IF(A308>'Lakás Törlesztéscsökkentő fiók'!$J$10,0,'Lakás Törlesztéscsökkentő fiók'!$J$11)","v":0},{"$f":"IF(OR(A308>'Lakás Törlesztéscsökkentő fiók'!$J$10,'Lakás Törlesztéscsökkentő fiók'!$B$24='Lakás Törlesztéscsökkentő fiók'!$T$5),0,'Lakás Törlesztéscsökkentő fiók'!$J$12+'Lakás Törlesztéscsökkentő fiók'!$J$13)","v":0},0,null,null,0,{"$f":"IRR($K$2:K308,0.05)","v":{"$error":"#VALUE!"}}]
[307,{"$error":"#VALUE!"},{"$f":"B309*'Lakás Törlesztéscsökkentő fiók'!$B$27/12","v":{"$error":"#VALUE!"}},{"$f":"IF(A309>'Lakás Törlesztéscsökkentő fiók'!$J$10,0,'Lakás Törlesztéscsökkentő fiók'!$B$28)","v":0},{"$error":"#VALUE!"},{"$f":"IF(A309>'Lakás Törlesztéscsökkentő fiók'!$J$10,0,'Lakás Törlesztéscsökkentő fiók'!$J$11)","v":0},{"$f":"IF(OR(A309>'Lakás Törlesztéscsökkentő fiók'!$J$10,'Lakás Törlesztéscsökkentő fiók'!$B$24='Lakás Törlesztéscsökkentő fiók'!$T$5),0,'Lakás Törlesztéscsökkentő fiók'!$J$12+'Lakás Törlesztéscsökkentő fiók'!$J$13)","v":0},0,null,null,0,{"$f":"IRR($K$2:K309,0.05)","v":{"$error":"#VALUE!"}}]
[308,{"$error":"#VALUE!"},{"$f":"B310*'Lakás Törlesztéscsökkentő fiók'!$B$27/12","v":{"$error":"#VALUE!"}},{"$f":"IF(A310>'Lakás Törlesztéscsökkentő fiók'!$J$10,0,'Lakás Törlesztéscsökkentő fiók'!$B$28)","v":0},{"$error":"#VALUE!"},{"$f":"IF(A310>'Lakás Törlesztéscsökkentő fiók'!$J$10,0,'Lakás Törlesztéscsökkentő fiók'!$J$11)","v":0},{"$f":"IF(OR(A310>'Lakás Törlesztéscsökkentő fiók'!$J$10,'Lakás Törlesztéscsökkentő fiók'!$B$24='Lakás Törlesztéscsökkentő fiók'!$T$5),0,'Lakás Törlesztéscsökkentő fiók'!$J$12+'Lakás Törlesztéscsökkentő fiók'!$J$13)","v":0},0,null,null,0,{"$f":"IRR($K$2:K310,0.05)","v":{"$error":"#VALUE!"}}]
[309,{"$error":"#VALUE!"},{"$f":"B311*'Lakás Törlesztéscsökkentő fiók'!$B$27/12","v":{"$error":"#VALUE!"}},{"$f":"IF(A311>'Lakás Törlesztéscsökkentő fiók'!$J$10,0,'Lakás Törlesztéscsökkentő fiók'!$B$28)","v":0},{"$error":"#VALUE!"},{"$f":"IF(A311>'Lakás Törlesztéscsökkentő fiók'!$J$10,0,'Lakás Törlesztéscsökkentő fiók'!$J$11)","v":0},{"$f":"IF(OR(A311>'Lakás Törlesztéscsökkentő fiók'!$J$10,'Lakás Törlesztéscsökkentő fiók'!$B$24='Lakás Törlesztéscsökkentő fiók'!$T$5),0,'Lakás Törlesztéscsökkentő fiók'!$J$12+'Lakás Törlesztéscsökkentő fiók'!$J$13)","v":0},0,null,null,0,{"$f":"IRR($K$2:K311,0.05)","v":{"$error":"#VALUE!"}}]
[310,{"$error":"#VALUE!"},{"$f":"B312*'Lakás Törlesztéscsökkentő fiók'!$B$27/12","v":{"$error":"#VALUE!"}},{"$f":"IF(A312>'Lakás Törlesztéscsökkentő fiók'!$J$10,0,'Lakás Törlesztéscsökkentő fiók'!$B$28)","v":0},{"$error":"#VALUE!"},{"$f":"IF(A312>'Lakás Törlesztéscsökkentő fiók'!$J$10,0,'Lakás Törlesztéscsökkentő fiók'!$J$11)","v":0},{"$f":"IF(OR(A312>'Lakás Törlesztéscsökkentő fiók'!$J$10,'Lakás Törlesztéscsökkentő fiók'!$B$24='Lakás Törlesztéscsökkentő fiók'!$T$5),0,'Lakás Törlesztéscsökkentő fiók'!$J$12+'Lakás Törlesztéscsökkentő fiók'!$J$13)","v":0},0,null,null,0,{"$f":"IRR($K$2:K312,0.05)","v":{"$error":"#VALUE!"}}]
[311,{"$error":"#VALUE!"},{"$f":"B313*'Lakás Törlesztéscsökkentő fiók'!$B$27/12","v":{"$error":"#VALUE!"}},{"$f":"IF(A313>'Lakás Törlesztéscsökkentő fiók'!$J$10,0,'Lakás Törlesztéscsökkentő fiók'!$B$28)","v":0},{"$error":"#VALUE!"},{"$f":"IF(A313>'Lakás Törlesztéscsökkentő fiók'!$J$10,0,'Lakás Törlesztéscsökkentő fiók'!$J$11)","v":0},{"$f":"IF(OR(A313>'Lakás Törlesztéscsökkentő fiók'!$J$10,'Lakás Törlesztéscsökkentő fiók'!$B$24='Lakás Törlesztéscsökkentő fiók'!$T$5),0,'Lakás Törlesztéscsökkentő fiók'!$J$12+'Lakás Törlesztéscsökkentő fiók'!$J$13)","v":0},0,null,null,0,{"$f":"IRR($K$2:K313,0.05)","v":{"$error":"#VALUE!"}}]
[312,{"$error":"#VALUE!"},{"$f":"B314*'Lakás Törlesztéscsökkentő fiók'!$B$27/12","v":{"$error":"#VALUE!"}},{"$f":"IF(A314>'Lakás Törlesztéscsökkentő fiók'!$J$10,0,'Lakás Törlesztéscsökkentő fiók'!$B$28)","v":0},{"$error":"#VALUE!"},{"$f":"IF(A314>'Lakás Törlesztéscsökkentő fiók'!$J$10,0,'Lakás Törlesztéscsökkentő fiók'!$J$11)","v":0},{"$f":"IF(OR(A314>'Lakás Törlesztéscsökkentő fiók'!$J$10,'Lakás Törlesztéscsökkentő fiók'!$B$24='Lakás Törlesztéscsökkentő fiók'!$T$5),0,'Lakás Törlesztéscsökkentő fiók'!$J$12+'Lakás Törlesztéscsökkentő fiók'!$J$13)","v":0},0,null,null,0,{"$f":"IRR($K$2:K314,0.05)","v":{"$error":"#VALUE!"}}]
[313,{"$error":"#VALUE!"},{"$f":"B315*'Lakás Törlesztéscsökkentő fiók'!$B$27/12","v":{"$error":"#VALUE!"}},{"$f":"IF(A315>'Lakás Törlesztéscsökkentő fiók'!$J$10,0,'Lakás Törlesztéscsökkentő fiók'!$B$28)","v":0},{"$error":"#VALUE!"},{"$f":"IF(A315>'Lakás Törlesztéscsökkentő fiók'!$J$10,0,'Lakás Törlesztéscsökkentő fiók'!$J$11)","v":0},{"$f":"IF(OR(A315>'Lakás Törlesztéscsökkentő fiók'!$J$10,'Lakás Törlesztéscsökkentő fiók'!$B$24='Lakás Törlesztéscsökkentő fiók'!$T$5),0,'Lakás Törlesztéscsökkentő fiók'!$J$12+'Lakás Törlesztéscsökkentő fiók'!$J$13)","v":0},0,null,null,0,{"$f":"IRR($K$2:K315,0.05)","v":{"$error":"#VALUE!"}}]
[314,{"$error":"#VALUE!"},{"$f":"B316*'Lakás Törlesztéscsökkentő fiók'!$B$27/12","v":{"$error":"#VALUE!"}},{"$f":"IF(A316>'Lakás Törlesztéscsökkentő fiók'!$J$10,0,'Lakás Törlesztéscsökkentő fiók'!$B$28)","v":0},{"$error":"#VALUE!"},{"$f":"IF(A316>'Lakás Törlesztéscsökkentő fiók'!$J$10,0,'Lakás Törlesztéscsökkentő fiók'!$J$11)","v":0},{"$f":"IF(OR(A316>'Lakás Törlesztéscsökkentő fiók'!$J$10,'Lakás Törlesztéscsökkentő fiók'!$B$24='Lakás Törlesztéscsökkentő fiók'!$T$5),0,'Lakás Törlesztéscsökkentő fiók'!$J$12+'Lakás Törlesztéscsökkentő fiók'!$J$13)","v":0},0,null,null,0,{"$f":"IRR($K$2:K316,0.05)","v":{"$error":"#VALUE!"}}]
[315,{"$error":"#VALUE!"},{"$f":"B317*'Lakás Törlesztéscsökkentő fiók'!$B$27/12","v":{"$error":"#VALUE!"}},{"$f":"IF(A317>'Lakás Törlesztéscsökkentő fiók'!$J$10,0,'Lakás Törlesztéscsökkentő fiók'!$B$28)","v":0},{"$error":"#VALUE!"},{"$f":"IF(A317>'Lakás Törlesztéscsökkentő fiók'!$J$10,0,'Lakás Törlesztéscsökkentő fiók'!$J$11)","v":0},{"$f":"IF(OR(A317>'Lakás Törlesztéscsökkentő fiók'!$J$10,'Lakás Törlesztéscsökkentő fiók'!$B$24='Lakás Törlesztéscsökkentő fiók'!$T$5),0,'Lakás Törlesztéscsökkentő fiók'!$J$12+'Lakás Törlesztéscsökkentő fiók'!$J$13)","v":0},0,null,null,0,{"$f":"IRR($K$2:K317,0.05)","v":{"$error":"#VALUE!"}}]
[316,{"$error":"#VALUE!"},{"$f":"B318*'Lakás Törlesztéscsökkentő fiók'!$B$27/12","v":{"$error":"#VALUE!"}},{"$f":"IF(A318>'Lakás Törlesztéscsökkentő fiók'!$J$10,0,'Lakás Törlesztéscsökkentő fiók'!$B$28)","v":0},{"$error":"#VALUE!"},{"$f":"IF(A318>'Lakás Törlesztéscsökkentő fiók'!$J$10,0,'Lakás Törlesztéscsökkentő fiók'!$J$11)","v":0},{"$f":"IF(OR(A318>'Lakás Törlesztéscsökkentő fiók'!$J$10,'Lakás Törlesztéscsökkentő fiók'!$B$24='Lakás Törlesztéscsökkentő fiók'!$T$5),0,'Lakás Törlesztéscsökkentő fiók'!$J$12+'Lakás Törlesztéscsökkentő fiók'!$J$13)","v":0},0,null,null,0,{"$f":"IRR($K$2:K318,0.05)","v":{"$error":"#VALUE!"}}]
[317,{"$error":"#VALUE!"},{"$f":"B319*'Lakás Törlesztéscsökkentő fiók'!$B$27/12","v":{"$error":"#VALUE!"}},{"$f":"IF(A319>'Lakás Törlesztéscsökkentő fiók'!$J$10,0,'Lakás Törlesztéscsökkentő fiók'!$B$28)","v":0},{"$error":"#VALUE!"},{"$f":"IF(A319>'Lakás Törlesztéscsökkentő fiók'!$J$10,0,'Lakás Törlesztéscsökkentő fiók'!$J$11)","v":0},{"$f":"IF(OR(A319>'Lakás Törlesztéscsökkentő fiók'!$J$10,'Lakás Törlesztéscsökkentő fiók'!$B$24='Lakás Törlesztéscsökkentő fiók'!$T$5),0,'Lakás Törlesztéscsökkentő fiók'!$J$12+'Lakás Törlesztéscsökkentő fiók'!$J$13)","v":0},0,null,null,0,{"$f":"IRR($K$2:K319,0.05)","v":{"$error":"#VALUE!"}}]
[318,{"$error":"#VALUE!"},{"$f":"B320*'Lakás Törlesztéscsökkentő fiók'!$B$27/12","v":{"$error":"#VALUE!"}},{"$f":"IF(A320>'Lakás Törlesztéscsökkentő fiók'!$J$10,0,'Lakás Törlesztéscsökkentő fiók'!$B$28)","v":0},{"$error":"#VALUE!"},{"$f":"IF(A320>'Lakás Törlesztéscsökkentő fiók'!$J$10,0,'Lakás Törlesztéscsökkentő fiók'!$J$11)","v":0},{"$f":"IF(OR(A320>'Lakás Törlesztéscsökkentő fiók'!$J$10,'Lakás Törlesztéscsökkentő fiók'!$B$24='Lakás Törlesztéscsökkentő fiók'!$T$5),0,'Lakás Törlesztéscsökkentő fiók'!$J$12+'Lakás Törlesztéscsökkentő fiók'!$J$13)","v":0},0,null,null,0,{"$f":"IRR($K$2:K320,0.05)","v":{"$error":"#VALUE!"}}]
[319,{"$error":"#VALUE!"},{"$f":"B321*'Lakás Törlesztéscsökkentő fiók'!$B$27/12","v":{"$error":"#VALUE!"}},{"$f":"IF(A321>'Lakás Törlesztéscsökkentő fiók'!$J$10,0,'Lakás Törlesztéscsökkentő fiók'!$B$28)","v":0},{"$error":"#VALUE!"},{"$f":"IF(A321>'Lakás Törlesztéscsökkentő fiók'!$J$10,0,'Lakás Törlesztéscsökkentő fiók'!$J$11)","v":0},{"$f":"IF(OR(A321>'Lakás Törlesztéscsökkentő fiók'!$J$10,'Lakás Törlesztéscsökkentő fiók'!$B$24='Lakás Törlesztéscsökkentő fiók'!$T$5),0,'Lakás Törlesztéscsökkentő fiók'!$J$12+'Lakás Törlesztéscsökkentő fiók'!$J$13)","v":0},0,null,null,0,{"$f":"IRR($K$2:K321,0.05)","v":{"$error":"#VALUE!"}}]
[320,{"$error":"#VALUE!"},{"$f":"B322*'Lakás Törlesztéscsökkentő fiók'!$B$27/12","v":{"$error":"#VALUE!"}},{"$f":"IF(A322>'Lakás Törlesztéscsökkentő fiók'!$J$10,0,'Lakás Törlesztéscsökkentő fiók'!$B$28)","v":0},{"$error":"#VALUE!"},{"$f":"IF(A322>'Lakás Törlesztéscsökkentő fiók'!$J$10,0,'Lakás Törlesztéscsökkentő fiók'!$J$11)","v":0},{"$f":"IF(OR(A322>'Lakás Törlesztéscsökkentő fiók'!$J$10,'Lakás Törlesztéscsökkentő fiók'!$B$24='Lakás Törlesztéscsökkentő fiók'!$T$5),0,'Lakás Törlesztéscsökkentő fiók'!$J$12+'Lakás Törlesztéscsökkentő fiók'!$J$13)","v":0},0,null,null,0,{"$f":"IRR($K$2:K322,0.05)","v":{"$error":"#VALUE!"}}]
[321,{"$error":"#VALUE!"},{"$f":"B323*'Lakás Törlesztéscsökkentő fiók'!$B$27/12","v":{"$error":"#VALUE!"}},{"$f":"IF(A323>'Lakás Törlesztéscsökkentő fiók'!$J$10,0,'Lakás Törlesztéscsökkentő fiók'!$B$28)","v":0},{"$error":"#VALUE!"},{"$f":"IF(A323>'Lakás Törlesztéscsökkentő fiók'!$J$10,0,'Lakás Törlesztéscsökkentő fiók'!$J$11)","v":0},{"$f":"IF(OR(A323>'Lakás Törlesztéscsökkentő fiók'!$J$10,'Lakás Törlesztéscsökkentő fiók'!$B$24='Lakás Törlesztéscsökkentő fiók'!$T$5),0,'Lakás Törlesztéscsökkentő fiók'!$J$12+'Lakás Törlesztéscsökkentő fiók'!$J$13)","v":0},0,null,null,0,{"$f":"IRR($K$2:K323,0.05)","v":{"$error":"#VALUE!"}}]
[322,{"$error":"#VALUE!"},{"$f":"B324*'Lakás Törlesztéscsökkentő fiók'!$B$27/12","v":{"$error":"#VALUE!"}},{"$f":"IF(A324>'Lakás Törlesztéscsökkentő fiók'!$J$10,0,'Lakás Törlesztéscsökkentő fiók'!$B$28)","v":0},{"$error":"#VALUE!"},{"$f":"IF(A324>'Lakás Törlesztéscsökkentő fiók'!$J$10,0,'Lakás Törlesztéscsökkentő fiók'!$J$11)","v":0},{"$f":"IF(OR(A324>'Lakás Törlesztéscsökkentő fiók'!$J$10,'Lakás Törlesztéscsökkentő fiók'!$B$24='Lakás Törlesztéscsökkentő fiók'!$T$5),0,'Lakás Törlesztéscsökkentő fiók'!$J$12+'Lakás Törlesztéscsökkentő fiók'!$J$13)","v":0},0,null,null,0,{"$f":"IRR($K$2:K324,0.05)","v":{"$error":"#VALUE!"}}]
[{"$f":"+A324+1","v":323},{"$error":"#VALUE!"},{"$f":"B325*'Lakás Törlesztéscsökkentő fiók'!$B$27/12","v":{"$error":"#VALUE!"}},{"$f":"IF(A325>'Lakás Törlesztéscsökkentő fiók'!$J$10,0,'Lakás Törlesztéscsökkentő fiók'!$B$28)","v":0},{"$error":"#VALUE!"},{"$f":"IF(A325>'Lakás Törlesztéscsökkentő fiók'!$J$10,0,'Lakás Törlesztéscsökkentő fiók'!$J$11)","v":0},{"$f":"IF(OR(A325>'Lakás Törlesztéscsökkentő fiók'!$J$10,'Lakás Törlesztéscsökkentő fiók'!$B$24='Lakás Törlesztéscsökkentő fiók'!$T$5),0,'Lakás Törlesztéscsökkentő fiók'!$J$12+'Lakás Törlesztéscsökkentő fiók'!$J$13)","v":0},0,null,null,0,{"$f":"IRR($K$2:K325,0.05)","v":{"$error":"#VALUE!"}}]
[324,{"$error":"#VALUE!"},{"$f":"B326*'Lakás Törlesztéscsökkentő fiók'!$B$27/12","v":{"$error":"#VALUE!"}},{"$f":"IF(A326>'Lakás Törlesztéscsökkentő fiók'!$J$10,0,'Lakás Törlesztéscsökkentő fiók'!$B$28)","v":0},{"$error":"#VALUE!"},{"$f":"IF(A326>'Lakás Törlesztéscsökkentő fiók'!$J$10,0,'Lakás Törlesztéscsökkentő fiók'!$J$11)","v":0},{"$f":"IF(OR(A326>'Lakás Törlesztéscsökkentő fiók'!$J$10,'Lakás Törlesztéscsökkentő fiók'!$B$24='Lakás Törlesztéscsökkentő fiók'!$T$5),0,'Lakás Törlesztéscsökkentő fiók'!$J$12+'Lakás Törlesztéscsökkentő fiók'!$J$13)","v":0},0,null,null,0,{"$f":"IRR($K$2:K326,0.05)","v":{"$error":"#VALUE!"}}]
[325,{"$error":"#VALUE!"},{"$f":"B327*'Lakás Törlesztéscsökkentő fiók'!$B$27/12","v":{"$error":"#VALUE!"}},{"$f":"IF(A327>'Lakás Törlesztéscsökkentő fiók'!$J$10,0,'Lakás Törlesztéscsökkentő fiók'!$B$28)","v":0},{"$error":"#VALUE!"},{"$f":"IF(A327>'Lakás Törlesztéscsökkentő fiók'!$J$10,0,'Lakás Törlesztéscsökkentő fiók'!$J$11)","v":0},{"$f":"IF(OR(A327>'Lakás Törlesztéscsökkentő fiók'!$J$10,'Lakás Törlesztéscsökkentő fiók'!$B$24='Lakás Törlesztéscsökkentő fiók'!$T$5),0,'Lakás Törlesztéscsökkentő fiók'!$J$12+'Lakás Törlesztéscsökkentő fiók'!$J$13)","v":0},0,null,null,0,{"$f":"IRR($K$2:K327,0.05)","v":{"$error":"#VALUE!"}}]
[326,{"$error":"#VALUE!"},{"$f":"B328*'Lakás Törlesztéscsökkentő fiók'!$B$27/12","v":{"$error":"#VALUE!"}},{"$f":"IF(A328>'Lakás Törlesztéscsökkentő fiók'!$J$10,0,'Lakás Törlesztéscsökkentő fiók'!$B$28)","v":0},{"$error":"#VALUE!"},{"$f":"IF(A328>'Lakás Törlesztéscsökkentő fiók'!$J$10,0,'Lakás Törlesztéscsökkentő fiók'!$J$11)","v":0},{"$f":"IF(OR(A328>'Lakás Törlesztéscsökkentő fiók'!$J$10,'Lakás Törlesztéscsökkentő fiók'!$B$24='Lakás Törlesztéscsökkentő fiók'!$T$5),0,'Lakás Törlesztéscsökkentő fiók'!$J$12+'Lakás Törlesztéscsökkentő fiók'!$J$13)","v":0},0,null,null,0,{"$f":"IRR($K$2:K328,0.05)","v":{"$error":"#VALUE!"}}]
[327,{"$error":"#VALUE!"},{"$f":"B329*'Lakás Törlesztéscsökkentő fiók'!$B$27/12","v":{"$error":"#VALUE!"}},{"$f":"IF(A329>'Lakás Törlesztéscsökkentő fiók'!$J$10,0,'Lakás Törlesztéscsökkentő fiók'!$B$28)","v":0},{"$error":"#VALUE!"},{"$f":"IF(A329>'Lakás Törlesztéscsökkentő fiók'!$J$10,0,'Lakás Törlesztéscsökkentő fiók'!$J$11)","v":0},{"$f":"IF(OR(A329>'Lakás Törlesztéscsökkentő fiók'!$J$10,'Lakás Törlesztéscsökkentő fiók'!$B$24='Lakás Törlesztéscsökkentő fiók'!$T$5),0,'Lakás Törlesztéscsökkentő fiók'!$J$12+'Lakás Törlesztéscsökkentő fiók'!$J$13)","v":0},0,null,null,0,{"$f":"IRR($K$2:K329,0.05)","v":{"$error":"#VALUE!"}}]
[328,{"$error":"#VALUE!"},{"$f":"B330*'Lakás Törlesztéscsökkentő fiók'!$B$27/12","v":{"$error":"#VALUE!"}},{"$f":"IF(A330>'Lakás Törlesztéscsökkentő fiók'!$J$10,0,'Lakás Törlesztéscsökkentő fiók'!$B$28)","v":0},{"$error":"#VALUE!"},{"$f":"IF(A330>'Lakás Törlesztéscsökkentő fiók'!$J$10,0,'Lakás Törlesztéscsökkentő fiók'!$J$11)","v":0},{"$f":"IF(OR(A330>'Lakás Törlesztéscsökkentő fiók'!$J$10,'Lakás Törlesztéscsökkentő fiók'!$B$24='Lakás Törlesztéscsökkentő fiók'!$T$5),0,'Lakás Törlesztéscsökkentő fiók'!$J$12+'Lakás Törlesztéscsökkentő fiók'!$J$13)","v":0},0,null,null,0,{"$f":"IRR($K$2:K330,0.05)","v":{"$error":"#VALUE!"}}]
[329,{"$error":"#VALUE!"},{"$f":"B331*'Lakás Törlesztéscsökkentő fiók'!$B$27/12","v":{"$error":"#VALUE!"}},{"$f":"IF(A331>'Lakás Törlesztéscsökkentő fiók'!$J$10,0,'Lakás Törlesztéscsökkentő fiók'!$B$28)","v":0},{"$error":"#VALUE!"},{"$f":"IF(A331>'Lakás Törlesztéscsökkentő fiók'!$J$10,0,'Lakás Törlesztéscsökkentő fiók'!$J$11)","v":0},{"$f":"IF(OR(A331>'Lakás Törlesztéscsökkentő fiók'!$J$10,'Lakás Törlesztéscsökkentő fiók'!$B$24='Lakás Törlesztéscsökkentő fiók'!$T$5),0,'Lakás Törlesztéscsökkentő fiók'!$J$12+'Lakás Törlesztéscsökkentő fiók'!$J$13)","v":0},0,null,null,0,{"$f":"IRR($K$2:K331,0.05)","v":{"$error":"#VALUE!"}}]
[330,{"$error":"#VALUE!"},{"$f":"B332*'Lakás Törlesztéscsökkentő fiók'!$B$27/12","v":{"$error":"#VALUE!"}},{"$f":"IF(A332>'Lakás Törlesztéscsökkentő fiók'!$J$10,0,'Lakás Törlesztéscsökkentő fiók'!$B$28)","v":0},{"$error":"#VALUE!"},{"$f":"IF(A332>'Lakás Törlesztéscsökkentő fiók'!$J$10,0,'Lakás Törlesztéscsökkentő fiók'!$J$11)","v":0},{"$f":"IF(OR(A332>'Lakás Törlesztéscsökkentő fiók'!$J$10,'Lakás Törlesztéscsökkentő fiók'!$B$24='Lakás Törlesztéscsökkentő fiók'!$T$5),0,'Lakás Törlesztéscsökkentő fiók'!$J$12+'Lakás Törlesztéscsökkentő fiók'!$J$13)","v":0},0,null,null,0,{"$f":"IRR($K$2:K332,0.05)","v":{"$error":"#VALUE!"}}]
[331,{"$error":"#VALUE!"},{"$f":"B333*'Lakás Törlesztéscsökkentő fiók'!$B$27/12","v":{"$error":"#VALUE!"}},{"$f":"IF(A333>'Lakás Törlesztéscsökkentő fiók'!$J$10,0,'Lakás Törlesztéscsökkentő fiók'!$B$28)","v":0},{"$error":"#VALUE!"},{"$f":"IF(A333>'Lakás Törlesztéscsökkentő fiók'!$J$10,0,'Lakás Törlesztéscsökkentő fiók'!$J$11)","v":0},{"$f":"IF(OR(A333>'Lakás Törlesztéscsökkentő fiók'!$J$10,'Lakás Törlesztéscsökkentő fiók'!$B$24='Lakás Törlesztéscsökkentő fiók'!$T$5),0,'Lakás Törlesztéscsökkentő fiók'!$J$12+'Lakás Törlesztéscsökkentő fiók'!$J$13)","v":0},0,null,null,0,{"$f":"IRR($K$2:K333,0.05)","v":{"$error":"#VALUE!"}}]
[332,{"$error":"#VALUE!"},{"$f":"B334*'Lakás Törlesztéscsökkentő fiók'!$B$27/12","v":{"$error":"#VALUE!"}},{"$f":"IF(A334>'Lakás Törlesztéscsökkentő fiók'!$J$10,0,'Lakás Törlesztéscsökkentő fiók'!$B$28)","v":0},{"$error":"#VALUE!"},{"$f":"IF(A334>'Lakás Törlesztéscsökkentő fiók'!$J$10,0,'Lakás Törlesztéscsökkentő fiók'!$J$11)","v":0},{"$f":"IF(OR(A334>'Lakás Törlesztéscsökkentő fiók'!$J$10,'Lakás Törlesztéscsökkentő fiók'!$B$24='Lakás Törlesztéscsökkentő fiók'!$T$5),0,'Lakás Törlesztéscsökkentő fiók'!$J$12+'Lakás Törlesztéscsökkentő fiók'!$J$13)","v":0},0,null,null,0,{"$f":"IRR($K$2:K334,0.05)","v":{"$error":"#VALUE!"}}]
[333,{"$error":"#VALUE!"},{"$f":"B335*'Lakás Törlesztéscsökkentő fiók'!$B$27/12","v":{"$error":"#VALUE!"}},{"$f":"IF(A335>'Lakás Törlesztéscsökkentő fiók'!$J$10,0,'Lakás Törlesztéscsökkentő fiók'!$B$28)","v":0},{"$error":"#VALUE!"},{"$f":"IF(A335>'Lakás Törlesztéscsökkentő fiók'!$J$10,0,'Lakás Törlesztéscsökkentő fiók'!$J$11)","v":0},{"$f":"IF(OR(A335>'Lakás Törlesztéscsökkentő fiók'!$J$10,'Lakás Törlesztéscsökkentő fiók'!$B$24='Lakás Törlesztéscsökkentő fiók'!$T$5),0,'Lakás Törlesztéscsökkentő fiók'!$J$12+'Lakás Törlesztéscsökkentő fiók'!$J$13)","v":0},0,null,null,0,{"$f":"IRR($K$2:K335,0.05)","v":{"$error":"#VALUE!"}}]
[334,{"$error":"#VALUE!"},{"$f":"B336*'Lakás Törlesztéscsökkentő fiók'!$B$27/12","v":{"$error":"#VALUE!"}},{"$f":"IF(A336>'Lakás Törlesztéscsökkentő fiók'!$J$10,0,'Lakás Törlesztéscsökkentő fiók'!$B$28)","v":0},{"$error":"#VALUE!"},{"$f":"IF(A336>'Lakás Törlesztéscsökkentő fiók'!$J$10,0,'Lakás Törlesztéscsökkentő fiók'!$J$11)","v":0},{"$f":"IF(OR(A336>'Lakás Törlesztéscsökkentő fiók'!$J$10,'Lakás Törlesztéscsökkentő fiók'!$B$24='Lakás Törlesztéscsökkentő fiók'!$T$5),0,'Lakás Törlesztéscsökkentő fiók'!$J$12+'Lakás Törlesztéscsökkentő fiók'!$J$13)","v":0},0,null,null,0,{"$f":"IRR($K$2:K336,0.05)","v":{"$error":"#VALUE!"}}]
[335,{"$error":"#VALUE!"},{"$f":"B337*'Lakás Törlesztéscsökkentő fiók'!$B$27/12","v":{"$error":"#VALUE!"}},{"$f":"IF(A337>'Lakás Törlesztéscsökkentő fiók'!$J$10,0,'Lakás Törlesztéscsökkentő fiók'!$B$28)","v":0},{"$error":"#VALUE!"},{"$f":"IF(A337>'Lakás Törlesztéscsökkentő fiók'!$J$10,0,'Lakás Törlesztéscsökkentő fiók'!$J$11)","v":0},{"$f":"IF(OR(A337>'Lakás Törlesztéscsökkentő fiók'!$J$10,'Lakás Törlesztéscsökkentő fiók'!$B$24='Lakás Törlesztéscsökkentő fiók'!$T$5),0,'Lakás Törlesztéscsökkentő fiók'!$J$12+'Lakás Törlesztéscsökkentő fiók'!$J$13)","v":0},0,null,null,0,{"$f":"IRR($K$2:K337,0.05)","v":{"$error":"#VALUE!"}}]
[336,{"$error":"#VALUE!"},{"$f":"B338*'Lakás Törlesztéscsökkentő fiók'!$B$27/12","v":{"$error":"#VALUE!"}},{"$f":"IF(A338>'Lakás Törlesztéscsökkentő fiók'!$J$10,0,'Lakás Törlesztéscsökkentő fiók'!$B$28)","v":0},{"$error":"#VALUE!"},{"$f":"IF(A338>'Lakás Törlesztéscsökkentő fiók'!$J$10,0,'Lakás Törlesztéscsökkentő fiók'!$J$11)","v":0},{"$f":"IF(OR(A338>'Lakás Törlesztéscsökkentő fiók'!$J$10,'Lakás Törlesztéscsökkentő fiók'!$B$24='Lakás Törlesztéscsökkentő fiók'!$T$5),0,'Lakás Törlesztéscsökkentő fiók'!$J$12+'Lakás Törlesztéscsökkentő fiók'!$J$13)","v":0},0,null,null,0,{"$f":"IRR($K$2:K338,0.05)","v":{"$error":"#VALUE!"}}]
[337,{"$error":"#VALUE!"},{"$f":"B339*'Lakás Törlesztéscsökkentő fiók'!$B$27/12","v":{"$error":"#VALUE!"}},{"$f":"IF(A339>'Lakás Törlesztéscsökkentő fiók'!$J$10,0,'Lakás Törlesztéscsökkentő fiók'!$B$28)","v":0},{"$error":"#VALUE!"},{"$f":"IF(A339>'Lakás Törlesztéscsökkentő fiók'!$J$10,0,'Lakás Törlesztéscsökkentő fiók'!$J$11)","v":0},{"$f":"IF(OR(A339>'Lakás Törlesztéscsökkentő fiók'!$J$10,'Lakás Törlesztéscsökkentő fiók'!$B$24='Lakás Törlesztéscsökkentő fiók'!$T$5),0,'Lakás Törlesztéscsökkentő fiók'!$J$12+'Lakás Törlesztéscsökkentő fiók'!$J$13)","v":0},0,null,null,0,{"$f":"IRR($K$2:K339,0.05)","v":{"$error":"#VALUE!"}}]
[338,{"$f":"+E339","v":{"$error":"#VALUE!"}},{"$f":"B340*'Lakás Törlesztéscsökkentő fiók'!$B$27/12","v":{"$error":"#VALUE!"}},{"$f":"IF(A340>'Lakás Törlesztéscsökkentő fiók'!$J$10,0,'Lakás Törlesztéscsökkentő fiók'!$B$28)","v":0},{"$f":"+B340+C340-D340","v":{"$error":"#VALUE!"}},{"$f":"IF(A340>'Lakás Törlesztéscsökkentő fiók'!$J$10,0,'Lakás Törlesztéscsökkentő fiók'!$J$11)","v":0},{"$f":"IF(OR(A340>'Lakás Törlesztéscsökkentő fiók'!$J$10,'Lakás Törlesztéscsökkentő fiók'!$B$24='Lakás Törlesztéscsökkentő fiók'!$T$5),0,'Lakás Törlesztéscsökkentő fiók'!$J$12+'Lakás Törlesztéscsökkentő fiók'!$J$13)","v":0},{"$f":"H339+(D340+F340+G340)/(1+$H$1)^(A340/12)","v":0},null,null,{"$f":"D340+F340+G340","v":0},{"$f":"IRR($K$2:K340,0.05)","v":{"$error":"#VALUE!"}}]
[339,{"$error":"#VALUE!"},{"$f":"B341*'Lakás Törlesztéscsökkentő fiók'!$B$27/12","v":{"$error":"#VALUE!"}},{"$f":"IF(A341>'Lakás Törlesztéscsökkentő fiók'!$J$10,0,'Lakás Törlesztéscsökkentő fiók'!$B$28)","v":0},{"$error":"#VALUE!"},{"$f":"IF(A341>'Lakás Törlesztéscsökkentő fiók'!$J$10,0,'Lakás Törlesztéscsökkentő fiók'!$J$11)","v":0},{"$f":"IF(OR(A341>'Lakás Törlesztéscsökkentő fiók'!$J$10,'Lakás Törlesztéscsökkentő fiók'!$B$24='Lakás Törlesztéscsökkentő fiók'!$T$5),0,'Lakás Törlesztéscsökkentő fiók'!$J$12+'Lakás Törlesztéscsökkentő fiók'!$J$13)","v":0},0,null,null,0,{"$f":"IRR($K$2:K341,0.05)","v":{"$error":"#VALUE!"}}]
[340,{"$error":"#VALUE!"},{"$f":"B342*'Lakás Törlesztéscsökkentő fiók'!$B$27/12","v":{"$error":"#VALUE!"}},{"$f":"IF(A342>'Lakás Törlesztéscsökkentő fiók'!$J$10,0,'Lakás Törlesztéscsökkentő fiók'!$B$28)","v":0},{"$error":"#VALUE!"},{"$f":"IF(A342>'Lakás Törlesztéscsökkentő fiók'!$J$10,0,'Lakás Törlesztéscsökkentő fiók'!$J$11)","v":0},{"$f":"IF(OR(A342>'Lakás Törlesztéscsökkentő fiók'!$J$10,'Lakás Törlesztéscsökkentő fiók'!$B$24='Lakás Törlesztéscsökkentő fiók'!$T$5),0,'Lakás Törlesztéscsökkentő fiók'!$J$12+'Lakás Törlesztéscsökkentő fiók'!$J$13)","v":0},0,null,null,0,{"$f":"IRR($K$2:K342,0.05)","v":{"$error":"#VALUE!"}}]
[341,{"$error":"#VALUE!"},{"$f":"B343*'Lakás Törlesztéscsökkentő fiók'!$B$27/12","v":{"$error":"#VALUE!"}},{"$f":"IF(A343>'Lakás Törlesztéscsökkentő fiók'!$J$10,0,'Lakás Törlesztéscsökkentő fiók'!$B$28)","v":0},{"$error":"#VALUE!"},{"$f":"IF(A343>'Lakás Törlesztéscsökkentő fiók'!$J$10,0,'Lakás Törlesztéscsökkentő fiók'!$J$11)","v":0},{"$f":"IF(OR(A343>'Lakás Törlesztéscsökkentő fiók'!$J$10,'Lakás Törlesztéscsökkentő fiók'!$B$24='Lakás Törlesztéscsökkentő fiók'!$T$5),0,'Lakás Törlesztéscsökkentő fiók'!$J$12+'Lakás Törlesztéscsökkentő fiók'!$J$13)","v":0},0,null,null,0,{"$f":"IRR($K$2:K343,0.05)","v":{"$error":"#VALUE!"}}]
[342,{"$error":"#VALUE!"},{"$f":"B344*'Lakás Törlesztéscsökkentő fiók'!$B$27/12","v":{"$error":"#VALUE!"}},{"$f":"IF(A344>'Lakás Törlesztéscsökkentő fiók'!$J$10,0,'Lakás Törlesztéscsökkentő fiók'!$B$28)","v":0},{"$error":"#VALUE!"},{"$f":"IF(A344>'Lakás Törlesztéscsökkentő fiók'!$J$10,0,'Lakás Törlesztéscsökkentő fiók'!$J$11)","v":0},{"$f":"IF(OR(A344>'Lakás Törlesztéscsökkentő fiók'!$J$10,'Lakás Törlesztéscsökkentő fiók'!$B$24='Lakás Törlesztéscsökkentő fiók'!$T$5),0,'Lakás Törlesztéscsökkentő fiók'!$J$12+'Lakás Törlesztéscsökkentő fiók'!$J$13)","v":0},0,null,null,0,{"$f":"IRR($K$2:K344,0.05)","v":{"$error":"#VALUE!"}}]
[343,{"$error":"#VALUE!"},{"$f":"B345*'Lakás Törlesztéscsökkentő fiók'!$B$27/12","v":{"$error":"#VALUE!"}},{"$f":"IF(A345>'Lakás Törlesztéscsökkentő fiók'!$J$10,0,'Lakás Törlesztéscsökkentő fiók'!$B$28)","v":0},{"$error":"#VALUE!"},{"$f":"IF(A345>'Lakás Törlesztéscsökkentő fiók'!$J$10,0,'Lakás Törlesztéscsökkentő fiók'!$J$11)","v":0},{"$f":"IF(OR(A345>'Lakás Törlesztéscsökkentő fiók'!$J$10,'Lakás Törlesztéscsökkentő fiók'!$B$24='Lakás Törlesztéscsökkentő fiók'!$T$5),0,'Lakás Törlesztéscsökkentő fiók'!$J$12+'Lakás Törlesztéscsökkentő fiók'!$J$13)","v":0},0,null,null,0,{"$f":"IRR($K$2:K345,0.05)","v":{"$error":"#VALUE!"}}]
[344,{"$error":"#VALUE!"},{"$f":"B346*'Lakás Törlesztéscsökkentő fiók'!$B$27/12","v":{"$error":"#VALUE!"}},{"$f":"IF(A346>'Lakás Törlesztéscsökkentő fiók'!$J$10,0,'Lakás Törlesztéscsökkentő fiók'!$B$28)","v":0},{"$error":"#VALUE!"},{"$f":"IF(A346>'Lakás Törlesztéscsökkentő fiók'!$J$10,0,'Lakás Törlesztéscsökkentő fiók'!$J$11)","v":0},{"$f":"IF(OR(A346>'Lakás Törlesztéscsökkentő fiók'!$J$10,'Lakás Törlesztéscsökkentő fiók'!$B$24='Lakás Törlesztéscsökkentő fiók'!$T$5),0,'Lakás Törlesztéscsökkentő fiók'!$J$12+'Lakás Törlesztéscsökkentő fiók'!$J$13)","v":0},0,null,null,0,{"$f":"IRR($K$2:K346,0.05)","v":{"$error":"#VALUE!"}}]
[345,{"$error":"#VALUE!"},{"$f":"B347*'Lakás Törlesztéscsökkentő fiók'!$B$27/12","v":{"$error":"#VALUE!"}},{"$f":"IF(A347>'Lakás Törlesztéscsökkentő fiók'!$J$10,0,'Lakás Törlesztéscsökkentő fiók'!$B$28)","v":0},{"$error":"#VALUE!"},{"$f":"IF(A347>'Lakás Törlesztéscsökkentő fiók'!$J$10,0,'Lakás Törlesztéscsökkentő fiók'!$J$11)","v":0},{"$f":"IF(OR(A347>'Lakás Törlesztéscsökkentő fiók'!$J$10,'Lakás Törlesztéscsökkentő fiók'!$B$24='Lakás Törlesztéscsökkentő fiók'!$T$5),0,'Lakás Törlesztéscsökkentő fiók'!$J$12+'Lakás Törlesztéscsökkentő fiók'!$J$13)","v":0},0,null,null,0,{"$f":"IRR($K$2:K347,0.05)","v":{"$error":"#VALUE!"}}]
[346,{"$error":"#VALUE!"},{"$f":"B348*'Lakás Törlesztéscsökkentő fiók'!$B$27/12","v":{"$error":"#VALUE!"}},{"$f":"IF(A348>'Lakás Törlesztéscsökkentő fiók'!$J$10,0,'Lakás Törlesztéscsökkentő fiók'!$B$28)","v":0},{"$error":"#VALUE!"},{"$f":"IF(A348>'Lakás Törlesztéscsökkentő fiók'!$J$10,0,'Lakás Törlesztéscsökkentő fiók'!$J$11)","v":0},{"$f":"IF(OR(A348>'Lakás Törlesztéscsökkentő fiók'!$J$10,'Lakás Törlesztéscsökkentő fiók'!$B$24='Lakás Törlesztéscsökkentő fiók'!$T$5),0,'Lakás Törlesztéscsökkentő fiók'!$J$12+'Lakás Törlesztéscsökkentő fiók'!$J$13)","v":0},0,null,null,0,{"$f":"IRR($K$2:K348,0.05)","v":{"$error":"#VALUE!"}}]
[347,{"$error":"#VALUE!"},{"$f":"B349*'Lakás Törlesztéscsökkentő fiók'!$B$27/12","v":{"$error":"#VALUE!"}},{"$f":"IF(A349>'Lakás Törlesztéscsökkentő fiók'!$J$10,0,'Lakás Törlesztéscsökkentő fiók'!$B$28)","v":0},{"$error":"#VALUE!"},{"$f":"IF(A349>'Lakás Törlesztéscsökkentő fiók'!$J$10,0,'Lakás Törlesztéscsökkentő fiók'!$J$11)","v":0},{"$f":"IF(OR(A349>'Lakás Törlesztéscsökkentő fiók'!$J$10,'Lakás Törlesztéscsökkentő fiók'!$B$24='Lakás Törlesztéscsökkentő fiók'!$T$5),0,'Lakás Törlesztéscsökkentő fiók'!$J$12+'Lakás Törlesztéscsökkentő fiók'!$J$13)","v":0},0,null,null,0,{"$f":"IRR($K$2:K349,0.05)","v":{"$error":"#VALUE!"}}]
[348,{"$error":"#VALUE!"},{"$f":"B350*'Lakás Törlesztéscsökkentő fiók'!$B$27/12","v":{"$error":"#VALUE!"}},{"$f":"IF(A350>'Lakás Törlesztéscsökkentő fiók'!$J$10,0,'Lakás Törlesztéscsökkentő fiók'!$B$28)","v":0},{"$error":"#VALUE!"},{"$f":"IF(A350>'Lakás Törlesztéscsökkentő fiók'!$J$10,0,'Lakás Törlesztéscsökkentő fiók'!$J$11)","v":0},{"$f":"IF(OR(A350>'Lakás Törlesztéscsökkentő fiók'!$J$10,'Lakás Törlesztéscsökkentő fiók'!$B$24='Lakás Törlesztéscsökkentő fiók'!$T$5),0,'Lakás Törlesztéscsökkentő fiók'!$J$12+'Lakás Törlesztéscsökkentő fiók'!$J$13)","v":0},0,null,null,0,{"$f":"IRR($K$2:K350,0.05)","v":{"$error":"#VALUE!"}}]
[349,{"$error":"#VALUE!"},{"$f":"B351*'Lakás Törlesztéscsökkentő fiók'!$B$27/12","v":{"$error":"#VALUE!"}},{"$f":"IF(A351>'Lakás Törlesztéscsökkentő fiók'!$J$10,0,'Lakás Törlesztéscsökkentő fiók'!$B$28)","v":0},{"$error":"#VALUE!"},{"$f":"IF(A351>'Lakás Törlesztéscsökkentő fiók'!$J$10,0,'Lakás Törlesztéscsökkentő fiók'!$J$11)","v":0},{"$f":"IF(OR(A351>'Lakás Törlesztéscsökkentő fiók'!$J$10,'Lakás Törlesztéscsökkentő fiók'!$B$24='Lakás Törlesztéscsökkentő fiók'!$T$5),0,'Lakás Törlesztéscsökkentő fiók'!$J$12+'Lakás Törlesztéscsökkentő fiók'!$J$13)","v":0},0,null,null,0,{"$f":"IRR($K$2:K351,0.05)","v":{"$error":"#VALUE!"}}]
[350,{"$error":"#VALUE!"},{"$f":"B352*'Lakás Törlesztéscsökkentő fiók'!$B$27/12","v":{"$error":"#VALUE!"}},{"$f":"IF(A352>'Lakás Törlesztéscsökkentő fiók'!$J$10,0,'Lakás Törlesztéscsökkentő fiók'!$B$28)","v":0},{"$error":"#VALUE!"},{"$f":"IF(A352>'Lakás Törlesztéscsökkentő fiók'!$J$10,0,'Lakás Törlesztéscsökkentő fiók'!$J$11)","v":0},{"$f":"IF(OR(A352>'Lakás Törlesztéscsökkentő fiók'!$J$10,'Lakás Törlesztéscsökkentő fiók'!$B$24='Lakás Törlesztéscsökkentő fiók'!$T$5),0,'Lakás Törlesztéscsökkentő fiók'!$J$12+'Lakás Törlesztéscsökkentő fiók'!$J$13)","v":0},0,null,null,0,{"$f":"IRR($K$2:K352,0.05)","v":{"$error":"#VALUE!"}}]
[351,{"$error":"#VALUE!"},{"$f":"B353*'Lakás Törlesztéscsökkentő fiók'!$B$27/12","v":{"$error":"#VALUE!"}},{"$f":"IF(A353>'Lakás Törlesztéscsökkentő fiók'!$J$10,0,'Lakás Törlesztéscsökkentő fiók'!$B$28)","v":0},{"$error":"#VALUE!"},{"$f":"IF(A353>'Lakás Törlesztéscsökkentő fiók'!$J$10,0,'Lakás Törlesztéscsökkentő fiók'!$J$11)","v":0},{"$f":"IF(OR(A353>'Lakás Törlesztéscsökkentő fiók'!$J$10,'Lakás Törlesztéscsökkentő fiók'!$B$24='Lakás Törlesztéscsökkentő fiók'!$T$5),0,'Lakás Törlesztéscsökkentő fiók'!$J$12+'Lakás Törlesztéscsökkentő fiók'!$J$13)","v":0},0,null,null,0,{"$f":"IRR($K$2:K353,0.05)","v":{"$error":"#VALUE!"}}]
[352,{"$error":"#VALUE!"},{"$f":"B354*'Lakás Törlesztéscsökkentő fiók'!$B$27/12","v":{"$error":"#VALUE!"}},{"$f":"IF(A354>'Lakás Törlesztéscsökkentő fiók'!$J$10,0,'Lakás Törlesztéscsökkentő fiók'!$B$28)","v":0},{"$error":"#VALUE!"},{"$f":"IF(A354>'Lakás Törlesztéscsökkentő fiók'!$J$10,0,'Lakás Törlesztéscsökkentő fiók'!$J$11)","v":0},{"$f":"IF(OR(A354>'Lakás Törlesztéscsökkentő fiók'!$J$10,'Lakás Törlesztéscsökkentő fiók'!$B$24='Lakás Törlesztéscsökkentő fiók'!$T$5),0,'Lakás Törlesztéscsökkentő fiók'!$J$12+'Lakás Törlesztéscsökkentő fiók'!$J$13)","v":0},0,null,null,0,{"$f":"IRR($K$2:K354,0.05)","v":{"$error":"#VALUE!"}}]
[353,{"$error":"#VALUE!"},{"$f":"B355*'Lakás Törlesztéscsökkentő fiók'!$B$27/12","v":{"$error":"#VALUE!"}},{"$f":"IF(A355>'Lakás Törlesztéscsökkentő fiók'!$J$10,0,'Lakás Törlesztéscsökkentő fiók'!$B$28)","v":0},{"$error":"#VALUE!"},{"$f":"IF(A355>'Lakás Törlesztéscsökkentő fiók'!$J$10,0,'Lakás Törlesztéscsökkentő fiók'!$J$11)","v":0},{"$f":"IF(OR(A355>'Lakás Törlesztéscsökkentő fiók'!$J$10,'Lakás Törlesztéscsökkentő fiók'!$B$24='Lakás Törlesztéscsökkentő fiók'!$T$5),0,'Lakás Törlesztéscsökkentő fiók'!$J$12+'Lakás Törlesztéscsökkentő fiók'!$J$13)","v":0},0,null,null,0,{"$f":"IRR($K$2:K355,0.05)","v":{"$error":"#VALUE!"}}]
[354,{"$error":"#VALUE!"},{"$f":"B356*'Lakás Törlesztéscsökkentő fiók'!$B$27/12","v":{"$error":"#VALUE!"}},{"$f":"IF(A356>'Lakás Törlesztéscsökkentő fiók'!$J$10,0,'Lakás Törlesztéscsökkentő fiók'!$B$28)","v":0},{"$error":"#VALUE!"},{"$f":"IF(A356>'Lakás Törlesztéscsökkentő fiók'!$J$10,0,'Lakás Törlesztéscsökkentő fiók'!$J$11)","v":0},{"$f":"IF(OR(A356>'Lakás Törlesztéscsökkentő fiók'!$J$10,'Lakás Törlesztéscsökkentő fiók'!$B$24='Lakás Törlesztéscsökkentő fiók'!$T$5),0,'Lakás Törlesztéscsökkentő fiók'!$J$12+'Lakás Törlesztéscsökkentő fiók'!$J$13)","v":0},0,null,null,0,{"$f":"IRR($K$2:K356,0.05)","v":{"$error":"#VALUE!"}}]
[355,{"$error":"#VALUE!"},{"$f":"B357*'Lakás Törlesztéscsökkentő fiók'!$B$27/12","v":{"$error":"#VALUE!"}},{"$f":"IF(A357>'Lakás Törlesztéscsökkentő fiók'!$J$10,0,'Lakás Törlesztéscsökkentő fiók'!$B$28)","v":0},{"$error":"#VALUE!"},{"$f":"IF(A357>'Lakás Törlesztéscsökkentő fiók'!$J$10,0,'Lakás Törlesztéscsökkentő fiók'!$J$11)","v":0},{"$f":"IF(OR(A357>'Lakás Törlesztéscsökkentő fiók'!$J$10,'Lakás Törlesztéscsökkentő fiók'!$B$24='Lakás Törlesztéscsökkentő fiók'!$T$5),0,'Lakás Törlesztéscsökkentő fiók'!$J$12+'Lakás Törlesztéscsökkentő fiók'!$J$13)","v":0},0,null,null,0,{"$f":"IRR($K$2:K357,0.05)","v":{"$error":"#VALUE!"}}]
[356,{"$error":"#VALUE!"},{"$f":"B358*'Lakás Törlesztéscsökkentő fiók'!$B$27/12","v":{"$error":"#VALUE!"}},{"$f":"IF(A358>'Lakás Törlesztéscsökkentő fiók'!$J$10,0,'Lakás Törlesztéscsökkentő fiók'!$B$28)","v":0},{"$error":"#VALUE!"},{"$f":"IF(A358>'Lakás Törlesztéscsökkentő fiók'!$J$10,0,'Lakás Törlesztéscsökkentő fiók'!$J$11)","v":0},{"$f":"IF(OR(A358>'Lakás Törlesztéscsökkentő fiók'!$J$10,'Lakás Törlesztéscsökkentő fiók'!$B$24='Lakás Törlesztéscsökkentő fiók'!$T$5),0,'Lakás Törlesztéscsökkentő fiók'!$J$12+'Lakás Törlesztéscsökkentő fiók'!$J$13)","v":0},0,null,null,0,{"$f":"IRR($K$2:K358,0.05)","v":{"$error":"#VALUE!"}}]
[357,{"$error":"#VALUE!"},{"$f":"B359*'Lakás Törlesztéscsökkentő fiók'!$B$27/12","v":{"$error":"#VALUE!"}},{"$f":"IF(A359>'Lakás Törlesztéscsökkentő fiók'!$J$10,0,'Lakás Törlesztéscsökkentő fiók'!$B$28)","v":0},{"$error":"#VALUE!"},{"$f":"IF(A359>'Lakás Törlesztéscsökkentő fiók'!$J$10,0,'Lakás Törlesztéscsökkentő fiók'!$J$11)","v":0},{"$f":"IF(OR(A359>'Lakás Törlesztéscsökkentő fiók'!$J$10,'Lakás Törlesztéscsökkentő fiók'!$B$24='Lakás Törlesztéscsökkentő fiók'!$T$5),0,'Lakás Törlesztéscsökkentő fiók'!$J$12+'Lakás Törlesztéscsökkentő fiók'!$J$13)","v":0},0,null,null,0,{"$f":"IRR($K$2:K359,0.05)","v":{"$error":"#VALUE!"}}]
[358,{"$error":"#VALUE!"},{"$f":"B360*'Lakás Törlesztéscsökkentő fiók'!$B$27/12","v":{"$error":"#VALUE!"}},{"$f":"IF(A360>'Lakás Törlesztéscsökkentő fiók'!$J$10,0,'Lakás Törlesztéscsökkentő fiók'!$B$28)","v":0},{"$error":"#VALUE!"},{"$f":"IF(A360>'Lakás Törlesztéscsökkentő fiók'!$J$10,0,'Lakás Törlesztéscsökkentő fiók'!$J$11)","v":0},{"$f":"IF(OR(A360>'Lakás Törlesztéscsökkentő fiók'!$J$10,'Lakás Törlesztéscsökkentő fiók'!$B$24='Lakás Törlesztéscsökkentő fiók'!$T$5),0,'Lakás Törlesztéscsökkentő fiók'!$J$12+'Lakás Törlesztéscsökkentő fiók'!$J$13)","v":0},0,null,null,0,{"$f":"IRR($K$2:K360,0.05)","v":{"$error":"#VALUE!"}}]
[359,{"$error":"#VALUE!"},{"$f":"B361*'Lakás Törlesztéscsökkentő fiók'!$B$27/12","v":{"$error":"#VALUE!"}},{"$f":"IF(A361>'Lakás Törlesztéscsökkentő fiók'!$J$10,0,'Lakás Törlesztéscsökkentő fiók'!$B$28)","v":0},{"$error":"#VALUE!"},{"$f":"IF(A361>'Lakás Törlesztéscsökkentő fiók'!$J$10,0,'Lakás Törlesztéscsökkentő fiók'!$J$11)","v":0},{"$f":"IF(OR(A361>'Lakás Törlesztéscsökkentő fiók'!$J$10,'Lakás Törlesztéscsökkentő fiók'!$B$24='Lakás Törlesztéscsökkentő fiók'!$T$5),0,'Lakás Törlesztéscsökkentő fiók'!$J$12+'Lakás Törlesztéscsökkentő fiók'!$J$13)","v":0},0,null,null,0,{"$f":"IRR($K$2:K361,0.05)","v":{"$error":"#VALUE!"}}]
[360,{"$error":"#VALUE!"},{"$f":"B362*'Lakás Törlesztéscsökkentő fiók'!$B$27/12","v":{"$error":"#VALUE!"}},{"$f":"IF(A362>'Lakás Törlesztéscsökkentő fiók'!$J$10,0,'Lakás Törlesztéscsökkentő fiók'!$B$28)","v":0},{"$error":"#VALUE!"},{"$f":"IF(A362>'Lakás Törlesztéscsökkentő fiók'!$J$10,0,'Lakás Törlesztéscsökkentő fiók'!$J$11)","v":0},{"$f":"IF(OR(A362>'Lakás Törlesztéscsökkentő fiók'!$J$10,'Lakás Törlesztéscsökkentő fiók'!$B$24='Lakás Törlesztéscsökkentő fiók'!$T$5),0,'Lakás Törlesztéscsökkentő fiók'!$J$12+'Lakás Törlesztéscsökkentő fiók'!$J$13)","v":0},0,null,null,0,{"$f":"IRR($K$2:K362,0.05)","v":{"$error":"#VALUE!"}}]
[361,{"$error":"#VALUE!"},{"$f":"B363*'Lakás Törlesztéscsökkentő fiók'!$B$27/12","v":{"$error":"#VALUE!"}},{"$f":"IF(A363>'Lakás Törlesztéscsökkentő fiók'!$J$10,0,'Lakás Törlesztéscsökkentő fiók'!$B$28)","v":0},{"$error":"#VALUE!"},{"$f":"IF(A363>'Lakás Törlesztéscsökkentő fiók'!$J$10,0,'Lakás Törlesztéscsökkentő fiók'!$J$11)","v":0},{"$f":"IF(OR(A363>'Lakás Törlesztéscsökkentő fiók'!$J$10,'Lakás Törlesztéscsökkentő fiók'!$B$24='Lakás Törlesztéscsökkentő fiók'!$T$5),0,'Lakás Törlesztéscsökkentő fiók'!$J$12+'Lakás Törlesztéscsökkentő fiók'!$J$13)","v":0},0,null,null,0,{"$f":"IRR($K$2:K363,0.05)","v":{"$error":"#VALUE!"}}]
[362,{"$error":"#VALUE!"},{"$f":"B364*'Lakás Törlesztéscsökkentő fiók'!$B$27/12","v":{"$error":"#VALUE!"}},{"$f":"IF(A364>'Lakás Törlesztéscsökkentő fiók'!$J$10,0,'Lakás Törlesztéscsökkentő fiók'!$B$28)","v":0},{"$error":"#VALUE!"},{"$f":"IF(A364>'Lakás Törlesztéscsökkentő fiók'!$J$10,0,'Lakás Törlesztéscsökkentő fiók'!$J$11)","v":0},{"$f":"IF(OR(A364>'Lakás Törlesztéscsökkentő fiók'!$J$10,'Lakás Törlesztéscsökkentő fiók'!$B$24='Lakás Törlesztéscsökkentő fiók'!$T$5),0,'Lakás Törlesztéscsökkentő fiók'!$J$12+'Lakás Törlesztéscsökkentő fiók'!$J$13)","v":0},0,null,null,0,{"$f":"IRR($K$2:K364,0.05)","v":{"$error":"#VALUE!"}}]
[363,{"$error":"#VALUE!"},{"$f":"B365*'Lakás Törlesztéscsökkentő fiók'!$B$27/12","v":{"$error":"#VALUE!"}},{"$f":"IF(A365>'Lakás Törlesztéscsökkentő fiók'!$J$10,0,'Lakás Törlesztéscsökkentő fiók'!$B$28)","v":0},{"$error":"#VALUE!"},{"$f":"IF(A365>'Lakás Törlesztéscsökkentő fiók'!$J$10,0,'Lakás Törlesztéscsökkentő fiók'!$J$11)","v":0},{"$f":"IF(OR(A365>'Lakás Törlesztéscsökkentő fiók'!$J$10,'Lakás Törlesztéscsökkentő fiók'!$B$24='Lakás Törlesztéscsökkentő fiók'!$T$5),0,'Lakás Törlesztéscsökkentő fiók'!$J$12+'Lakás Törlesztéscsökkentő fiók'!$J$13)","v":0},0,null,null,0,{"$f":"IRR($K$2:K365,0.05)","v":{"$error":"#VALUE!"}}]
[{"$f":"+A365+1","v":364},{"$f":"+E365","v":{"$error":"#VALUE!"}},{"$f":"B366*'Lakás Törlesztéscsökkentő fiók'!$B$27/12","v":{"$error":"#VALUE!"}},{"$f":"IF(A366>'Lakás Törlesztéscsökkentő fiók'!$J$10,0,'Lakás Törlesztéscsökkentő fiók'!$B$28)","v":0},{"$f":"+B366+C366-D366","v":{"$error":"#VALUE!"}},{"$f":"IF(A366>'Lakás Törlesztéscsökkentő fiók'!$J$10,0,'Lakás Törlesztéscsökkentő fiók'!$J$11)","v":0},{"$f":"IF(OR(A366>'Lakás Törlesztéscsökkentő fiók'!$J$10,'Lakás Törlesztéscsökkentő fiók'!$B$24='Lakás Törlesztéscsökkentő fiók'!$T$5),0,'Lakás Törlesztéscsökkentő fiók'!$J$12+'Lakás Törlesztéscsökkentő fiók'!$J$13)","v":0},{"$f":"H365+(D366+F366+G366)/(1+$H$1)^(A366/12)","v":0},null,null,{"$f":"D366+F366+G366","v":0},{"$f":"IRR($K$2:K366,0.05)","v":{"$error":"#VALUE!"}}]
[{"$f":"+A366+1","v":365},{"$error":"#VALUE!"},{"$f":"B367*'Lakás Törlesztéscsökkentő fiók'!$B$27/12","v":{"$error":"#VALUE!"}},{"$f":"IF(A367>'Lakás Törlesztéscsökkentő fiók'!$J$10,0,'Lakás Törlesztéscsökkentő fiók'!$B$28)","v":0},{"$error":"#VALUE!"},{"$f":"IF(A367>'Lakás Törlesztéscsökkentő fiók'!$J$10,0,'Lakás Törlesztéscsökkentő fiók'!$J$11)","v":0},{"$f":"IF(OR(A367>'Lakás Törlesztéscsökkentő fiók'!$J$10,'Lakás Törlesztéscsökkentő fiók'!$B$24='Lakás Törlesztéscsökkentő fiók'!$T$5),0,'Lakás Törlesztéscsökkentő fiók'!$J$12+'Lakás Törlesztéscsökkentő fiók'!$J$13)","v":0},0,null,null,0,{"$f":"IRR($K$2:K367,0.05)","v":{"$error":"#VALUE!"}}]
[{"$f":"+A367+1","v":366},{"$error":"#VALUE!"},{"$f":"B368*'Lakás Törlesztéscsökkentő fiók'!$B$27/12","v":{"$error":"#VALUE!"}},{"$f":"IF(A368>'Lakás Törlesztéscsökkentő fiók'!$J$10,0,'Lakás Törlesztéscsökkentő fiók'!$B$28)","v":0},{"$error":"#VALUE!"},{"$f":"IF(A368>'Lakás Törlesztéscsökkentő fiók'!$J$10,0,'Lakás Törlesztéscsökkentő fiók'!$J$11)","v":0},{"$f":"IF(OR(A368>'Lakás Törlesztéscsökkentő fiók'!$J$10,'Lakás Törlesztéscsökkentő fiók'!$B$24='Lakás Törlesztéscsökkentő fiók'!$T$5),0,'Lakás Törlesztéscsökkentő fiók'!$J$12+'Lakás Törlesztéscsökkentő fiók'!$J$13)","v":0},0,null,null,0,{"$f":"IRR($K$2:K368,0.05)","v":{"$error":"#VALUE!"}}]
[{"$f":"+A368+1","v":367},{"$error":"#VALUE!"},{"$f":"B369*'Lakás Törlesztéscsökkentő fiók'!$B$27/12","v":{"$error":"#VALUE!"}},{"$f":"IF(A369>'Lakás Törlesztéscsökkentő fiók'!$J$10,0,'Lakás Törlesztéscsökkentő fiók'!$B$28)","v":0},{"$error":"#VALUE!"},{"$f":"IF(A369>'Lakás Törlesztéscsökkentő fiók'!$J$10,0,'Lakás Törlesztéscsökkentő fiók'!$J$11)","v":0},{"$f":"IF(OR(A369>'Lakás Törlesztéscsökkentő fiók'!$J$10,'Lakás Törlesztéscsökkentő fiók'!$B$24='Lakás Törlesztéscsökkentő fiók'!$T$5),0,'Lakás Törlesztéscsökkentő fiók'!$J$12+'Lakás Törlesztéscsökkentő fiók'!$J$13)","v":0},0,null,null,0,{"$f":"IRR($K$2:K369,0.05)","v":{"$error":"#VALUE!"}}]
[{"$f":"+A369+1","v":368},{"$error":"#VALUE!"},{"$f":"B370*'Lakás Törlesztéscsökkentő fiók'!$B$27/12","v":{"$error":"#VALUE!"}},{"$f":"IF(A370>'Lakás Törlesztéscsökkentő fiók'!$J$10,0,'Lakás Törlesztéscsökkentő fiók'!$B$28)","v":0},{"$error":"#VALUE!"},{"$f":"IF(A370>'Lakás Törlesztéscsökkentő fiók'!$J$10,0,'Lakás Törlesztéscsökkentő fiók'!$J$11)","v":0},{"$f":"IF(OR(A370>'Lakás Törlesztéscsökkentő fiók'!$J$10,'Lakás Törlesztéscsökkentő fiók'!$B$24='Lakás Törlesztéscsökkentő fiók'!$T$5),0,'Lakás Törlesztéscsökkentő fiók'!$J$12+'Lakás Törlesztéscsökkentő fiók'!$J$13)","v":0},0,null,null,0,{"$f":"IRR($K$2:K370,0.05)","v":{"$error":"#VALUE!"}}]
[{"$f":"+A370+1","v":369},{"$error":"#VALUE!"},{"$f":"B371*'Lakás Törlesztéscsökkentő fiók'!$B$27/12","v":{"$error":"#VALUE!"}},{"$f":"IF(A371>'Lakás Törlesztéscsökkentő fiók'!$J$10,0,'Lakás Törlesztéscsökkentő fiók'!$B$28)","v":0},{"$error":"#VALUE!"},{"$f":"IF(A371>'Lakás Törlesztéscsökkentő fiók'!$J$10,0,'Lakás Törlesztéscsökkentő fiók'!$J$11)","v":0},{"$f":"IF(OR(A371>'Lakás Törlesztéscsökkentő fiók'!$J$10,'Lakás Törlesztéscsökkentő fiók'!$B$24='Lakás Törlesztéscsökkentő fiók'!$T$5),0,'Lakás Törlesztéscsökkentő fiók'!$J$12+'Lakás Törlesztéscsökkentő fiók'!$J$13)","v":0},0,null,null,0,{"$f":"IRR($K$2:K371,0.05)","v":{"$error":"#VALUE!"}}]
[{"$f":"+A371+1","v":370},{"$error":"#VALUE!"},{"$f":"B372*'Lakás Törlesztéscsökkentő fiók'!$B$27/12","v":{"$error":"#VALUE!"}},{"$f":"IF(A372>'Lakás Törlesztéscsökkentő fiók'!$J$10,0,'Lakás Törlesztéscsökkentő fiók'!$B$28)","v":0},{"$error":"#VALUE!"},{"$f":"IF(A372>'Lakás Törlesztéscsökkentő fiók'!$J$10,0,'Lakás Törlesztéscsökkentő fiók'!$J$11)","v":0},{"$f":"IF(OR(A372>'Lakás Törlesztéscsökkentő fiók'!$J$10,'Lakás Törlesztéscsökkentő fiók'!$B$24='Lakás Törlesztéscsökkentő fiók'!$T$5),0,'Lakás Törlesztéscsökkentő fiók'!$J$12+'Lakás Törlesztéscsökkentő fiók'!$J$13)","v":0},0,null,null,0,{"$f":"IRR($K$2:K372,0.05)","v":{"$error":"#VALUE!"}}]
[{"$f":"+A372+1","v":371},{"$error":"#VALUE!"},{"$f":"B373*'Lakás Törlesztéscsökkentő fiók'!$B$27/12","v":{"$error":"#VALUE!"}},{"$f":"IF(A373>'Lakás Törlesztéscsökkentő fiók'!$J$10,0,'Lakás Törlesztéscsökkentő fiók'!$B$28)","v":0},{"$error":"#VALUE!"},{"$f":"IF(A373>'Lakás Törlesztéscsökkentő fiók'!$J$10,0,'Lakás Törlesztéscsökkentő fiók'!$J$11)","v":0},{"$f":"IF(OR(A373>'Lakás Törlesztéscsökkentő fiók'!$J$10,'Lakás Törlesztéscsökkentő fiók'!$B$24='Lakás Törlesztéscsökkentő fiók'!$T$5),0,'Lakás Törlesztéscsökkentő fiók'!$J$12+'Lakás Törlesztéscsökkentő fiók'!$J$13)","v":0},0,null,null,0,{"$f":"IRR($K$2:K373,0.05)","v":{"$error":"#VALUE!"}}]
[{"$f":"+A373+1","v":372},{"$error":"#VALUE!"},{"$f":"B374*'Lakás Törlesztéscsökkentő fiók'!$B$27/12","v":{"$error":"#VALUE!"}},{"$f":"IF(A374>'Lakás Törlesztéscsökkentő fiók'!$J$10,0,'Lakás Törlesztéscsökkentő fiók'!$B$28)","v":0},{"$error":"#VALUE!"},{"$f":"IF(A374>'Lakás Törlesztéscsökkentő fiók'!$J$10,0,'Lakás Törlesztéscsökkentő fiók'!$J$11)","v":0},{"$f":"IF(OR(A374>'Lakás Törlesztéscsökkentő fiók'!$J$10,'Lakás Törlesztéscsökkentő fiók'!$B$24='Lakás Törlesztéscsökkentő fiók'!$T$5),0,'Lakás Törlesztéscsökkentő fiók'!$J$12+'Lakás Törlesztéscsökkentő fiók'!$J$13)","v":0},0,null,null,0,{"$f":"IRR($K$2:K374,0.05)","v":{"$error":"#VALUE!"}}]
[{"$f":"+A374+1","v":373},{"$error":"#VALUE!"},{"$f":"B375*'Lakás Törlesztéscsökkentő fiók'!$B$27/12","v":{"$error":"#VALUE!"}},{"$f":"IF(A375>'Lakás Törlesztéscsökkentő fiók'!$J$10,0,'Lakás Törlesztéscsökkentő fiók'!$B$28)","v":0},{"$error":"#VALUE!"},{"$f":"IF(A375>'Lakás Törlesztéscsökkentő fiók'!$J$10,0,'Lakás Törlesztéscsökkentő fiók'!$J$11)","v":0},{"$f":"IF(OR(A375>'Lakás Törlesztéscsökkentő fiók'!$J$10,'Lakás Törlesztéscsökkentő fiók'!$B$24='Lakás Törlesztéscsökkentő fiók'!$T$5),0,'Lakás Törlesztéscsökkentő fiók'!$J$12+'Lakás Törlesztéscsökkentő fiók'!$J$13)","v":0},0,null,null,0,{"$f":"IRR($K$2:K375,0.05)","v":{"$error":"#VALUE!"}}]
[{"$f":"+A375+1","v":374},{"$error":"#VALUE!"},{"$f":"B376*'Lakás Törlesztéscsökkentő fiók'!$B$27/12","v":{"$error":"#VALUE!"}},{"$f":"IF(A376>'Lakás Törlesztéscsökkentő fiók'!$J$10,0,'Lakás Törlesztéscsökkentő fiók'!$B$28)","v":0},{"$error":"#VALUE!"},{"$f":"IF(A376>'Lakás Törlesztéscsökkentő fiók'!$J$10,0,'Lakás Törlesztéscsökkentő fiók'!$J$11)","v":0},{"$f":"IF(OR(A376>'Lakás Törlesztéscsökkentő fiók'!$J$10,'Lakás Törlesztéscsökkentő fiók'!$B$24='Lakás Törlesztéscsökkentő fiók'!$T$5),0,'Lakás Törlesztéscsökkentő fiók'!$J$12+'Lakás Törlesztéscsökkentő fiók'!$J$13)","v":0},0,null,null,0,{"$f":"IRR($K$2:K376,0.05)","v":{"$error":"#VALUE!"}}]
[{"$f":"+A376+1","v":375},{"$error":"#VALUE!"},{"$f":"B377*'Lakás Törlesztéscsökkentő fiók'!$B$27/12","v":{"$error":"#VALUE!"}},{"$f":"IF(A377>'Lakás Törlesztéscsökkentő fiók'!$J$10,0,'Lakás Törlesztéscsökkentő fiók'!$B$28)","v":0},{"$error":"#VALUE!"},{"$f":"IF(A377>'Lakás Törlesztéscsökkentő fiók'!$J$10,0,'Lakás Törlesztéscsökkentő fiók'!$J$11)","v":0},{"$f":"IF(OR(A377>'Lakás Törlesztéscsökkentő fiók'!$J$10,'Lakás Törlesztéscsökkentő fiók'!$B$24='Lakás Törlesztéscsökkentő fiók'!$T$5),0,'Lakás Törlesztéscsökkentő fiók'!$J$12+'Lakás Törlesztéscsökkentő fiók'!$J$13)","v":0},0,null,null,0,{"$f":"IRR($K$2:K377,0.05)","v":{"$error":"#VALUE!"}}]
[{"$f":"+A377+1","v":376},{"$error":"#VALUE!"},{"$f":"B378*'Lakás Törlesztéscsökkentő fiók'!$B$27/12","v":{"$error":"#VALUE!"}},{"$f":"IF(A378>'Lakás Törlesztéscsökkentő fiók'!$J$10,0,'Lakás Törlesztéscsökkentő fiók'!$B$28)","v":0},{"$error":"#VALUE!"},{"$f":"IF(A378>'Lakás Törlesztéscsökkentő fiók'!$J$10,0,'Lakás Törlesztéscsökkentő fiók'!$J$11)","v":0},{"$f":"IF(OR(A378>'Lakás Törlesztéscsökkentő fiók'!$J$10,'Lakás Törlesztéscsökkentő fiók'!$B$24='Lakás Törlesztéscsökkentő fiók'!$T$5),0,'Lakás Törlesztéscsökkentő fiók'!$J$12+'Lakás Törlesztéscsökkentő fiók'!$J$13)","v":0},0,null,null,0,{"$f":"IRR($K$2:K378,0.05)","v":{"$error":"#VALUE!"}}]
[{"$f":"+A378+1","v":377},{"$error":"#VALUE!"},{"$f":"B379*'Lakás Törlesztéscsökkentő fiók'!$B$27/12","v":{"$error":"#VALUE!"}},{"$f":"IF(A379>'Lakás Törlesztéscsökkentő fiók'!$J$10,0,'Lakás Törlesztéscsökkentő fiók'!$B$28)","v":0},{"$error":"#VALUE!"},{"$f":"IF(A379>'Lakás Törlesztéscsökkentő fiók'!$J$10,0,'Lakás Törlesztéscsökkentő fiók'!$J$11)","v":0},{"$f":"IF(OR(A379>'Lakás Törlesztéscsökkentő fiók'!$J$10,'Lakás Törlesztéscsökkentő fiók'!$B$24='Lakás Törlesztéscsökkentő fiók'!$T$5),0,'Lakás Törlesztéscsökkentő fiók'!$J$12+'Lakás Törlesztéscsökkentő fiók'!$J$13)","v":0},0,null,null,0,{"$f":"IRR($K$2:K379,0.05)","v":{"$error":"#VALUE!"}}]
[{"$f":"+A379+1","v":378},{"$error":"#VALUE!"},{"$f":"B380*'Lakás Törlesztéscsökkentő fiók'!$B$27/12","v":{"$error":"#VALUE!"}},{"$f":"IF(A380>'Lakás Törlesztéscsökkentő fiók'!$J$10,0,'Lakás Törlesztéscsökkentő fiók'!$B$28)","v":0},{"$error":"#VALUE!"},{"$f":"IF(A380>'Lakás Törlesztéscsökkentő fiók'!$J$10,0,'Lakás Törlesztéscsökkentő fiók'!$J$11)","v":0},{"$f":"IF(OR(A380>'Lakás Törlesztéscsökkentő fiók'!$J$10,'Lakás Törlesztéscsökkentő fiók'!$B$24='Lakás Törlesztéscsökkentő fiók'!$T$5),0,'Lakás Törlesztéscsökkentő fiók'!$J$12+'Lakás Törlesztéscsökkentő fiók'!$J$13)","v":0},0,null,null,0,{"$f":"IRR($K$2:K380,0.05)","v":{"$error":"#VALUE!"}}]
[{"$f":"+A380+1","v":379},{"$error":"#VALUE!"},{"$f":"B381*'Lakás Törlesztéscsökkentő fiók'!$B$27/12","v":{"$error":"#VALUE!"}},{"$f":"IF(A381>'Lakás Törlesztéscsökkentő fiók'!$J$10,0,'Lakás Törlesztéscsökkentő fiók'!$B$28)","v":0},{"$error":"#VALUE!"},{"$f":"IF(A381>'Lakás Törlesztéscsökkentő fiók'!$J$10,0,'Lakás Törlesztéscsökkentő fiók'!$J$11)","v":0},{"$f":"IF(OR(A381>'Lakás Törlesztéscsökkentő fiók'!$J$10,'Lakás Törlesztéscsökkentő fiók'!$B$24='Lakás Törlesztéscsökkentő fiók'!$T$5),0,'Lakás Törlesztéscsökkentő fiók'!$J$12+'Lakás Törlesztéscsökkentő fiók'!$J$13)","v":0},0,null,null,0,{"$f":"IRR($K$2:K381,0.05)","v":{"$error":"#VALUE!"}}]
[{"$f":"+A381+1","v":380},{"$error":"#VALUE!"},{"$f":"B382*'Lakás Törlesztéscsökkentő fiók'!$B$27/12","v":{"$error":"#VALUE!"}},{"$f":"IF(A382>'Lakás Törlesztéscsökkentő fiók'!$J$10,0,'Lakás Törlesztéscsökkentő fiók'!$B$28)","v":0},{"$error":"#VALUE!"},{"$f":"IF(A382>'Lakás Törlesztéscsökkentő fiók'!$J$10,0,'Lakás Törlesztéscsökkentő fiók'!$J$11)","v":0},{"$f":"IF(OR(A382>'Lakás Törlesztéscsökkentő fiók'!$J$10,'Lakás Törlesztéscsökkentő fiók'!$B$24='Lakás Törlesztéscsökkentő fiók'!$T$5),0,'Lakás Törlesztéscsökkentő fiók'!$J$12+'Lakás Törlesztéscsökkentő fiók'!$J$13)","v":0},0,null,null,0,{"$f":"IRR($K$2:K382,0.05)","v":{"$error":"#VALUE!"}}]
[{"$f":"+A382+1","v":381},{"$error":"#VALUE!"},{"$f":"B383*'Lakás Törlesztéscsökkentő fiók'!$B$27/12","v":{"$error":"#VALUE!"}},{"$f":"IF(A383>'Lakás Törlesztéscsökkentő fiók'!$J$10,0,'Lakás Törlesztéscsökkentő fiók'!$B$28)","v":0},{"$error":"#VALUE!"},{"$f":"IF(A383>'Lakás Törlesztéscsökkentő fiók'!$J$10,0,'Lakás Törlesztéscsökkentő fiók'!$J$11)","v":0},{"$f":"IF(OR(A383>'Lakás Törlesztéscsökkentő fiók'!$J$10,'Lakás Törlesztéscsökkentő fiók'!$B$24='Lakás Törlesztéscsökkentő fiók'!$T$5),0,'Lakás Törlesztéscsökkentő fiók'!$J$12+'Lakás Törlesztéscsökkentő fiók'!$J$13)","v":0},0,null,null,0,{"$f":"IRR($K$2:K383,0.05)","v":{"$error":"#VALUE!"}}]
[{"$f":"+A383+1","v":382},{"$error":"#VALUE!"},{"$f":"B384*'Lakás Törlesztéscsökkentő fiók'!$B$27/12","v":{"$error":"#VALUE!"}},{"$f":"IF(A384>'Lakás Törlesztéscsökkentő fiók'!$J$10,0,'Lakás Törlesztéscsökkentő fiók'!$B$28)","v":0},{"$error":"#VALUE!"},{"$f":"IF(A384>'Lakás Törlesztéscsökkentő fiók'!$J$10,0,'Lakás Törlesztéscsökkentő fiók'!$J$11)","v":0},{"$f":"IF(OR(A384>'Lakás Törlesztéscsökkentő fiók'!$J$10,'Lakás Törlesztéscsökkentő fiók'!$B$24='Lakás Törlesztéscsökkentő fiók'!$T$5),0,'Lakás Törlesztéscsökkentő fiók'!$J$12+'Lakás Törlesztéscsökkentő fiók'!$J$13)","v":0},0,null,null,0,{"$f":"IRR($K$2:K384,0.05)","v":{"$error":"#VALUE!"}}]
[{"$f":"+A384+1","v":383},{"$error":"#VALUE!"},{"$f":"B385*'Lakás Törlesztéscsökkentő fiók'!$B$27/12","v":{"$error":"#VALUE!"}},{"$f":"IF(A385>'Lakás Törlesztéscsökkentő fiók'!$J$10,0,'Lakás Törlesztéscsökkentő fiók'!$B$28)","v":0},{"$error":"#VALUE!"},{"$f":"IF(A385>'Lakás Törlesztéscsökkentő fiók'!$J$10,0,'Lakás Törlesztéscsökkentő fiók'!$J$11)","v":0},{"$f":"IF(OR(A385>'Lakás Törlesztéscsökkentő fiók'!$J$10,'Lakás Törlesztéscsökkentő fiók'!$B$24='Lakás Törlesztéscsökkentő fiók'!$T$5),0,'Lakás Törlesztéscsökkentő fiók'!$J$12+'Lakás Törlesztéscsökkentő fiók'!$J$13)","v":0},0,null,null,0,{"$f":"IRR($K$2:K385,0.05)","v":{"$error":"#VALUE!"}}]
[{"$f":"+A385+1","v":384},{"$error":"#VALUE!"},{"$f":"B386*'Lakás Törlesztéscsökkentő fiók'!$B$27/12","v":{"$error":"#VALUE!"}},{"$f":"IF(A386>'Lakás Törlesztéscsökkentő fiók'!$J$10,0,'Lakás Törlesztéscsökkentő fiók'!$B$28)","v":0},{"$error":"#VALUE!"},{"$f":"IF(A386>'Lakás Törlesztéscsökkentő fiók'!$J$10,0,'Lakás Törlesztéscsökkentő fiók'!$J$11)","v":0},{"$f":"IF(OR(A386>'Lakás Törlesztéscsökkentő fiók'!$J$10,'Lakás Törlesztéscsökkentő fiók'!$B$24='Lakás Törlesztéscsökkentő fiók'!$T$5),0,'Lakás Törlesztéscsökkentő fiók'!$J$12+'Lakás Törlesztéscsökkentő fiók'!$J$13)","v":0},0,null,null,0,{"$f":"IRR($K$2:K386,0.05)","v":{"$error":"#VALUE!"}}]
[{"$f":"+A386+1","v":385},{"$error":"#VALUE!"},{"$f":"B387*'Lakás Törlesztéscsökkentő fiók'!$B$27/12","v":{"$error":"#VALUE!"}},{"$f":"IF(A387>'Lakás Törlesztéscsökkentő fiók'!$J$10,0,'Lakás Törlesztéscsökkentő fiók'!$B$28)","v":0},{"$error":"#VALUE!"},{"$f":"IF(A387>'Lakás Törlesztéscsökkentő fiók'!$J$10,0,'Lakás Törlesztéscsökkentő fiók'!$J$11)","v":0},{"$f":"IF(OR(A387>'Lakás Törlesztéscsökkentő fiók'!$J$10,'Lakás Törlesztéscsökkentő fiók'!$B$24='Lakás Törlesztéscsökkentő fiók'!$T$5),0,'Lakás Törlesztéscsökkentő fiók'!$J$12+'Lakás Törlesztéscsökkentő fiók'!$J$13)","v":0},0,null,null,0,{"$f":"IRR($K$2:K387,0.05)","v":{"$error":"#VALUE!"}}]
[{"$f":"+A387+1","v":386},{"$error":"#VALUE!"},{"$f":"B388*'Lakás Törlesztéscsökkentő fiók'!$B$27/12","v":{"$error":"#VALUE!"}},{"$f":"IF(A388>'Lakás Törlesztéscsökkentő fiók'!$J$10,0,'Lakás Törlesztéscsökkentő fiók'!$B$28)","v":0},{"$error":"#VALUE!"},{"$f":"IF(A388>'Lakás Törlesztéscsökkentő fiók'!$J$10,0,'Lakás Törlesztéscsökkentő fiók'!$J$11)","v":0},{"$f":"IF(OR(A388>'Lakás Törlesztéscsökkentő fiók'!$J$10,'Lakás Törlesztéscsökkentő fiók'!$B$24='Lakás Törlesztéscsökkentő fiók'!$T$5),0,'Lakás Törlesztéscsökkentő fiók'!$J$12+'Lakás Törlesztéscsökkentő fiók'!$J$13)","v":0},0,null,null,0,{"$f":"IRR($K$2:K388,0.05)","v":{"$error":"#VALUE!"}}]
[{"$f":"+A388+1","v":387},{"$error":"#VALUE!"},{"$f":"B389*'Lakás Törlesztéscsökkentő fiók'!$B$27/12","v":{"$error":"#VALUE!"}},{"$f":"IF(A389>'Lakás Törlesztéscsökkentő fiók'!$J$10,0,'Lakás Törlesztéscsökkentő fiók'!$B$28)","v":0},{"$error":"#VALUE!"},{"$f":"IF(A389>'Lakás Törlesztéscsökkentő fiók'!$J$10,0,'Lakás Törlesztéscsökkentő fiók'!$J$11)","v":0},{"$f":"IF(OR(A389>'Lakás Törlesztéscsökkentő fiók'!$J$10,'Lakás Törlesztéscsökkentő fiók'!$B$24='Lakás Törlesztéscsökkentő fiók'!$T$5),0,'Lakás Törlesztéscsökkentő fiók'!$J$12+'Lakás Törlesztéscsökkentő fiók'!$J$13)","v":0},0,null,null,0,{"$f":"IRR($K$2:K389,0.05)","v":{"$error":"#VALUE!"}}]
[{"$f":"+A389+1","v":388},{"$error":"#VALUE!"},{"$f":"B390*'Lakás Törlesztéscsökkentő fiók'!$B$27/12","v":{"$error":"#VALUE!"}},{"$f":"IF(A390>'Lakás Törlesztéscsökkentő fiók'!$J$10,0,'Lakás Törlesztéscsökkentő fiók'!$B$28)","v":0},{"$error":"#VALUE!"},{"$f":"IF(A390>'Lakás Törlesztéscsökkentő fiók'!$J$10,0,'Lakás Törlesztéscsökkentő fiók'!$J$11)","v":0},{"$f":"IF(OR(A390>'Lakás Törlesztéscsökkentő fiók'!$J$10,'Lakás Törlesztéscsökkentő fiók'!$B$24='Lakás Törlesztéscsökkentő fiók'!$T$5),0,'Lakás Törlesztéscsökkentő fiók'!$J$12+'Lakás Törlesztéscsökkentő fiók'!$J$13)","v":0},0,null,null,0,{"$f":"IRR($K$2:K390,0.05)","v":{"$error":"#VALUE!"}}]
[{"$f":"+A390+1","v":389},{"$error":"#VALUE!"},{"$f":"B391*'Lakás Törlesztéscsökkentő fiók'!$B$27/12","v":{"$error":"#VALUE!"}},{"$f":"IF(A391>'Lakás Törlesztéscsökkentő fiók'!$J$10,0,'Lakás Törlesztéscsökkentő fiók'!$B$28)","v":0},{"$error":"#VALUE!"},{"$f":"IF(A391>'Lakás Törlesztéscsökkentő fiók'!$J$10,0,'Lakás Törlesztéscsökkentő fiók'!$J$11)","v":0},{"$f":"IF(OR(A391>'Lakás Törlesztéscsökkentő fiók'!$J$10,'Lakás Törlesztéscsökkentő fiók'!$B$24='Lakás Törlesztéscsökkentő fiók'!$T$5),0,'Lakás Törlesztéscsökkentő fiók'!$J$12+'Lakás Törlesztéscsökkentő fiók'!$J$13)","v":0},0,null,null,0,{"$f":"IRR($K$2:K391,0.05)","v":{"$error":"#VALUE!"}}]
[{"$f":"+A391+1","v":390},{"$error":"#VALUE!"},{"$f":"B392*'Lakás Törlesztéscsökkentő fiók'!$B$27/12","v":{"$error":"#VALUE!"}},{"$f":"IF(A392>'Lakás Törlesztéscsökkentő fiók'!$J$10,0,'Lakás Törlesztéscsökkentő fiók'!$B$28)","v":0},{"$error":"#VALUE!"},{"$f":"IF(A392>'Lakás Törlesztéscsökkentő fiók'!$J$10,0,'Lakás Törlesztéscsökkentő fiók'!$J$11)","v":0},{"$f":"IF(OR(A392>'Lakás Törlesztéscsökkentő fiók'!$J$10,'Lakás Törlesztéscsökkentő fiók'!$B$24='Lakás Törlesztéscsökkentő fiók'!$T$5),0,'Lakás Törlesztéscsökkentő fiók'!$J$12+'Lakás Törlesztéscsökkentő fiók'!$J$13)","v":0},0,null,null,0,{"$f":"IRR($K$2:K392,0.05)","v":{"$error":"#VALUE!"}}]
[{"$f":"+A392+1","v":391},{"$error":"#VALUE!"},{"$f":"B393*'Lakás Törlesztéscsökkentő fiók'!$B$27/12","v":{"$error":"#VALUE!"}},{"$f":"IF(A393>'Lakás Törlesztéscsökkentő fiók'!$J$10,0,'Lakás Törlesztéscsökkentő fiók'!$B$28)","v":0},{"$error":"#VALUE!"},{"$f":"IF(A393>'Lakás Törlesztéscsökkentő fiók'!$J$10,0,'Lakás Törlesztéscsökkentő fiók'!$J$11)","v":0},{"$f":"IF(OR(A393>'Lakás Törlesztéscsökkentő fiók'!$J$10,'Lakás Törlesztéscsökkentő fiók'!$B$24='Lakás Törlesztéscsökkentő fiók'!$T$5),0,'Lakás Törlesztéscsökkentő fiók'!$J$12+'Lakás Törlesztéscsökkentő fiók'!$J$13)","v":0},0,null,null,0,{"$f":"IRR($K$2:K393,0.05)","v":{"$error":"#VALUE!"}}]
[{"$f":"+A393+1","v":392},{"$error":"#VALUE!"},{"$f":"B394*'Lakás Törlesztéscsökkentő fiók'!$B$27/12","v":{"$error":"#VALUE!"}},{"$f":"IF(A394>'Lakás Törlesztéscsökkentő fiók'!$J$10,0,'Lakás Törlesztéscsökkentő fiók'!$B$28)","v":0},{"$error":"#VALUE!"},{"$f":"IF(A394>'Lakás Törlesztéscsökkentő fiók'!$J$10,0,'Lakás Törlesztéscsökkentő fiók'!$J$11)","v":0},{"$f":"IF(OR(A394>'Lakás Törlesztéscsökkentő fiók'!$J$10,'Lakás Törlesztéscsökkentő fiók'!$B$24='Lakás Törlesztéscsökkentő fiók'!$T$5),0,'Lakás Törlesztéscsökkentő fiók'!$J$12+'Lakás Törlesztéscsökkentő fiók'!$J$13)","v":0},0,null,null,0,{"$f":"IRR($K$2:K394,0.05)","v":{"$error":"#VALUE!"}}]
[{"$f":"+A394+1","v":393},{"$error":"#VALUE!"},{"$f":"B395*'Lakás Törlesztéscsökkentő fiók'!$B$27/12","v":{"$error":"#VALUE!"}},{"$f":"IF(A395>'Lakás Törlesztéscsökkentő fiók'!$J$10,0,'Lakás Törlesztéscsökkentő fiók'!$B$28)","v":0},{"$error":"#VALUE!"},{"$f":"IF(A395>'Lakás Törlesztéscsökkentő fiók'!$J$10,0,'Lakás Törlesztéscsökkentő fiók'!$J$11)","v":0},{"$f":"IF(OR(A395>'Lakás Törlesztéscsökkentő fiók'!$J$10,'Lakás Törlesztéscsökkentő fiók'!$B$24='Lakás Törlesztéscsökkentő fiók'!$T$5),0,'Lakás Törlesztéscsökkentő fiók'!$J$12+'Lakás Törlesztéscsökkentő fiók'!$J$13)","v":0},0,null,null,0,{"$f":"IRR($K$2:K395,0.05)","v":{"$error":"#VALUE!"}}]
[{"$f":"+A395+1","v":394},{"$error":"#VALUE!"},{"$f":"B396*'Lakás Törlesztéscsökkentő fiók'!$B$27/12","v":{"$error":"#VALUE!"}},{"$f":"IF(A396>'Lakás Törlesztéscsökkentő fiók'!$J$10,0,'Lakás Törlesztéscsökkentő fiók'!$B$28)","v":0},{"$error":"#VALUE!"},{"$f":"IF(A396>'Lakás Törlesztéscsökkentő fiók'!$J$10,0,'Lakás Törlesztéscsökkentő fiók'!$J$11)","v":0},{"$f":"IF(OR(A396>'Lakás Törlesztéscsökkentő fiók'!$J$10,'Lakás Törlesztéscsökkentő fiók'!$B$24='Lakás Törlesztéscsökkentő fiók'!$T$5),0,'Lakás Törlesztéscsökkentő fiók'!$J$12+'Lakás Törlesztéscsökkentő fiók'!$J$13)","v":0},0,null,null,0,{"$f":"IRR($K$2:K396,0.05)","v":{"$error":"#VALUE!"}}]
[{"$f":"+A396+1","v":395},{"$error":"#VALUE!"},{"$f":"B397*'Lakás Törlesztéscsökkentő fiók'!$B$27/12","v":{"$error":"#VALUE!"}},{"$f":"IF(A397>'Lakás Törlesztéscsökkentő fiók'!$J$10,0,'Lakás Törlesztéscsökkentő fiók'!$B$28)","v":0},{"$error":"#VALUE!"},{"$f":"IF(A397>'Lakás Törlesztéscsökkentő fiók'!$J$10,0,'Lakás Törlesztéscsökkentő fiók'!$J$11)","v":0},{"$f":"IF(OR(A397>'Lakás Törlesztéscsökkentő fiók'!$J$10,'Lakás Törlesztéscsökkentő fiók'!$B$24='Lakás Törlesztéscsökkentő fiók'!$T$5),0,'Lakás Törlesztéscsökkentő fiók'!$J$12+'Lakás Törlesztéscsökkentő fiók'!$J$13)","v":0},0,null,null,0,{"$f":"IRR($K$2:K397,0.05)","v":{"$error":"#VALUE!"}}]
[{"$f":"+A397+1","v":396},{"$error":"#VALUE!"},{"$f":"B398*'Lakás Törlesztéscsökkentő fiók'!$B$27/12","v":{"$error":"#VALUE!"}},{"$f":"IF(A398>'Lakás Törlesztéscsökkentő fiók'!$J$10,0,'Lakás Törlesztéscsökkentő fiók'!$B$28)","v":0},{"$error":"#VALUE!"},{"$f":"IF(A398>'Lakás Törlesztéscsökkentő fiók'!$J$10,0,'Lakás Törlesztéscsökkentő fiók'!$J$11)","v":0},{"$f":"IF(OR(A398>'Lakás Törlesztéscsökkentő fiók'!$J$10,'Lakás Törlesztéscsökkentő fiók'!$B$24='Lakás Törlesztéscsökkentő fiók'!$T$5),0,'Lakás Törlesztéscsökkentő fiók'!$J$12+'Lakás Törlesztéscsökkentő fiók'!$J$13)","v":0},0,null,null,0,{"$f":"IRR($K$2:K398,0.05)","v":{"$error":"#VALUE!"}}]
[{"$f":"+A398+1","v":397},{"$error":"#VALUE!"},{"$f":"B399*'Lakás Törlesztéscsökkentő fiók'!$B$27/12","v":{"$error":"#VALUE!"}},{"$f":"IF(A399>'Lakás Törlesztéscsökkentő fiók'!$J$10,0,'Lakás Törlesztéscsökkentő fiók'!$B$28)","v":0},{"$error":"#VALUE!"},{"$f":"IF(A399>'Lakás Törlesztéscsökkentő fiók'!$J$10,0,'Lakás Törlesztéscsökkentő fiók'!$J$11)","v":0},{"$f":"IF(OR(A399>'Lakás Törlesztéscsökkentő fiók'!$J$10,'Lakás Törlesztéscsökkentő fiók'!$B$24='Lakás Törlesztéscsökkentő fiók'!$T$5),0,'Lakás Törlesztéscsökkentő fiók'!$J$12+'Lakás Törlesztéscsökkentő fiók'!$J$13)","v":0},0,null,null,0,{"$f":"IRR($K$2:K399,0.05)","v":{"$error":"#VALUE!"}}]
[{"$f":"+A399+1","v":398},{"$error":"#VALUE!"},{"$f":"B400*'Lakás Törlesztéscsökkentő fiók'!$B$27/12","v":{"$error":"#VALUE!"}},{"$f":"IF(A400>'Lakás Törlesztéscsökkentő fiók'!$J$10,0,'Lakás Törlesztéscsökkentő fiók'!$B$28)","v":0},{"$error":"#VALUE!"},{"$f":"IF(A400>'Lakás Törlesztéscsökkentő fiók'!$J$10,0,'Lakás Törlesztéscsökkentő fiók'!$J$11)","v":0},{"$f":"IF(OR(A400>'Lakás Törlesztéscsökkentő fiók'!$J$10,'Lakás Törlesztéscsökkentő fiók'!$B$24='Lakás Törlesztéscsökkentő fiók'!$T$5),0,'Lakás Törlesztéscsökkentő fiók'!$J$12+'Lakás Törlesztéscsökkentő fiók'!$J$13)","v":0},0,null,null,0,{"$f":"IRR($K$2:K400,0.05)","v":{"$error":"#VALUE!"}}]
[{"$f":"+A400+1","v":399},{"$error":"#VALUE!"},{"$f":"B401*'Lakás Törlesztéscsökkentő fiók'!$B$27/12","v":{"$error":"#VALUE!"}},{"$f":"IF(A401>'Lakás Törlesztéscsökkentő fiók'!$J$10,0,'Lakás Törlesztéscsökkentő fiók'!$B$28)","v":0},{"$error":"#VALUE!"},{"$f":"IF(A401>'Lakás Törlesztéscsökkentő fiók'!$J$10,0,'Lakás Törlesztéscsökkentő fiók'!$J$11)","v":0},{"$f":"IF(OR(A401>'Lakás Törlesztéscsökkentő fiók'!$J$10,'Lakás Törlesztéscsökkentő fiók'!$B$24='Lakás Törlesztéscsökkentő fiók'!$T$5),0,'Lakás Törlesztéscsökkentő fiók'!$J$12+'Lakás Törlesztéscsökkentő fiók'!$J$13)","v":0},0,null,null,0,{"$f":"IRR($K$2:K401,0.05)","v":{"$error":"#VALUE!"}}]
[{"$f":"+A401+1","v":400},{"$error":"#VALUE!"},{"$f":"B402*'Lakás Törlesztéscsökkentő fiók'!$B$27/12","v":{"$error":"#VALUE!"}},{"$f":"IF(A402>'Lakás Törlesztéscsökkentő fiók'!$J$10,0,'Lakás Törlesztéscsökkentő fiók'!$B$28)","v":0},{"$error":"#VALUE!"},{"$f":"IF(A402>'Lakás Törlesztéscsökkentő fiók'!$J$10,0,'Lakás Törlesztéscsökkentő fiók'!$J$11)","v":0},{"$f":"IF(OR(A402>'Lakás Törlesztéscsökkentő fiók'!$J$10,'Lakás Törlesztéscsökkentő fiók'!$B$24='Lakás Törlesztéscsökkentő fiók'!$T$5),0,'Lakás Törlesztéscsökkentő fiók'!$J$12+'Lakás Törlesztéscsökkentő fiók'!$J$13)","v":0},0,null,null,0,{"$f":"IRR($K$2:K402,0.05)","v":{"$error":"#VALUE!"}}]
[{"$f":"+A402+1","v":401},{"$error":"#VALUE!"},{"$f":"B403*'Lakás Törlesztéscsökkentő fiók'!$B$27/12","v":{"$error":"#VALUE!"}},{"$f":"IF(A403>'Lakás Törlesztéscsökkentő fiók'!$J$10,0,'Lakás Törlesztéscsökkentő fiók'!$B$28)","v":0},{"$error":"#VALUE!"},{"$f":"IF(A403>'Lakás Törlesztéscsökkentő fiók'!$J$10,0,'Lakás Törlesztéscsökkentő fiók'!$J$11)","v":0},{"$f":"IF(OR(A403>'Lakás Törlesztéscsökkentő fiók'!$J$10,'Lakás Törlesztéscsökkentő fiók'!$B$24='Lakás Törlesztéscsökkentő fiók'!$T$5),0,'Lakás Törlesztéscsökkentő fiók'!$J$12+'Lakás Törlesztéscsökkentő fiók'!$J$13)","v":0},0,null,null,0,{"$f":"IRR($K$2:K403,0.05)","v":{"$error":"#VALUE!"}}]
[{"$f":"+A403+1","v":402},{"$error":"#VALUE!"},{"$f":"B404*'Lakás Törlesztéscsökkentő fiók'!$B$27/12","v":{"$error":"#VALUE!"}},{"$f":"IF(A404>'Lakás Törlesztéscsökkentő fiók'!$J$10,0,'Lakás Törlesztéscsökkentő fiók'!$B$28)","v":0},{"$error":"#VALUE!"},{"$f":"IF(A404>'Lakás Törlesztéscsökkentő fiók'!$J$10,0,'Lakás Törlesztéscsökkentő fiók'!$J$11)","v":0},{"$f":"IF(OR(A404>'Lakás Törlesztéscsökkentő fiók'!$J$10,'Lakás Törlesztéscsökkentő fiók'!$B$24='Lakás Törlesztéscsökkentő fiók'!$T$5),0,'Lakás Törlesztéscsökkentő fiók'!$J$12+'Lakás Törlesztéscsökkentő fiók'!$J$13)","v":0},0,null,null,0,{"$f":"IRR($K$2:K404,0.05)","v":{"$error":"#VALUE!"}}]
[{"$f":"+A404+1","v":403},{"$error":"#VALUE!"},{"$f":"B405*'Lakás Törlesztéscsökkentő fiók'!$B$27/12","v":{"$error":"#VALUE!"}},{"$f":"IF(A405>'Lakás Törlesztéscsökkentő fiók'!$J$10,0,'Lakás Törlesztéscsökkentő fiók'!$B$28)","v":0},{"$error":"#VALUE!"},{"$f":"IF(A405>'Lakás Törlesztéscsökkentő fiók'!$J$10,0,'Lakás Törlesztéscsökkentő fiók'!$J$11)","v":0},{"$f":"IF(OR(A405>'Lakás Törlesztéscsökkentő fiók'!$J$10,'Lakás Törlesztéscsökkentő fiók'!$B$24='Lakás Törlesztéscsökkentő fiók'!$T$5),0,'Lakás Törlesztéscsökkentő fiók'!$J$12+'Lakás Törlesztéscsökkentő fiók'!$J$13)","v":0},0,null,null,0,{"$f":"IRR($K$2:K405,0.05)","v":{"$error":"#VALUE!"}}]
[{"$f":"+A405+1","v":404},{"$error":"#VALUE!"},{"$f":"B406*'Lakás Törlesztéscsökkentő fiók'!$B$27/12","v":{"$error":"#VALUE!"}},{"$f":"IF(A406>'Lakás Törlesztéscsökkentő fiók'!$J$10,0,'Lakás Törlesztéscsökkentő fiók'!$B$28)","v":0},{"$error":"#VALUE!"},{"$f":"IF(A406>'Lakás Törlesztéscsökkentő fiók'!$J$10,0,'Lakás Törlesztéscsökkentő fiók'!$J$11)","v":0},{"$f":"IF(OR(A406>'Lakás Törlesztéscsökkentő fiók'!$J$10,'Lakás Törlesztéscsökkentő fiók'!$B$24='Lakás Törlesztéscsökkentő fiók'!$T$5),0,'Lakás Törlesztéscsökkentő fiók'!$J$12+'Lakás Törlesztéscsökkentő fiók'!$J$13)","v":0},0,null,null,0,{"$f":"IRR($K$2:K406,0.05)","v":{"$error":"#VALUE!"}}]
[{"$f":"+A406+1","v":405},{"$error":"#VALUE!"},{"$f":"B407*'Lakás Törlesztéscsökkentő fiók'!$B$27/12","v":{"$error":"#VALUE!"}},{"$f":"IF(A407>'Lakás Törlesztéscsökkentő fiók'!$J$10,0,'Lakás Törlesztéscsökkentő fiók'!$B$28)","v":0},{"$error":"#VALUE!"},{"$f":"IF(A407>'Lakás Törlesztéscsökkentő fiók'!$J$10,0,'Lakás Törlesztéscsökkentő fiók'!$J$11)","v":0},{"$f":"IF(OR(A407>'Lakás Törlesztéscsökkentő fiók'!$J$10,'Lakás Törlesztéscsökkentő fiók'!$B$24='Lakás Törlesztéscsökkentő fiók'!$T$5),0,'Lakás Törlesztéscsökkentő fiók'!$J$12+'Lakás Törlesztéscsökkentő fiók'!$J$13)","v":0},0,null,null,0,{"$f":"IRR($K$2:K407,0.05)","v":{"$error":"#VALUE!"}}]
[{"$f":"+A407+1","v":406},{"$error":"#VALUE!"},{"$f":"B408*'Lakás Törlesztéscsökkentő fiók'!$B$27/12","v":{"$error":"#VALUE!"}},{"$f":"IF(A408>'Lakás Törlesztéscsökkentő fiók'!$J$10,0,'Lakás Törlesztéscsökkentő fiók'!$B$28)","v":0},{"$error":"#VALUE!"},{"$f":"IF(A408>'Lakás Törlesztéscsökkentő fiók'!$J$10,0,'Lakás Törlesztéscsökkentő fiók'!$J$11)","v":0},{"$f":"IF(OR(A408>'Lakás Törlesztéscsökkentő fiók'!$J$10,'Lakás Törlesztéscsökkentő fiók'!$B$24='Lakás Törlesztéscsökkentő fiók'!$T$5),0,'Lakás Törlesztéscsökkentő fiók'!$J$12+'Lakás Törlesztéscsökkentő fiók'!$J$13)","v":0},0,null,null,0,{"$f":"IRR($K$2:K408,0.05)","v":{"$error":"#VALUE!"}}]
[{"$f":"+A408+1","v":407},{"$error":"#VALUE!"},{"$f":"B409*'Lakás Törlesztéscsökkentő fiók'!$B$27/12","v":{"$error":"#VALUE!"}},{"$f":"IF(A409>'Lakás Törlesztéscsökkentő fiók'!$J$10,0,'Lakás Törlesztéscsökkentő fiók'!$B$28)","v":0},{"$error":"#VALUE!"},{"$f":"IF(A409>'Lakás Törlesztéscsökkentő fiók'!$J$10,0,'Lakás Törlesztéscsökkentő fiók'!$J$11)","v":0},{"$f":"IF(OR(A409>'Lakás Törlesztéscsökkentő fiók'!$J$10,'Lakás Törlesztéscsökkentő fiók'!$B$24='Lakás Törlesztéscsökkentő fiók'!$T$5),0,'Lakás Törlesztéscsökkentő fiók'!$J$12+'Lakás Törlesztéscsökkentő fiók'!$J$13)","v":0},0,null,null,0,{"$f":"IRR($K$2:K409,0.05)","v":{"$error":"#VALUE!"}}]
[{"$f":"+A409+1","v":408},{"$error":"#VALUE!"},{"$f":"B410*'Lakás Törlesztéscsökkentő fiók'!$B$27/12","v":{"$error":"#VALUE!"}},{"$f":"IF(A410>'Lakás Törlesztéscsökkentő fiók'!$J$10,0,'Lakás Törlesztéscsökkentő fiók'!$B$28)","v":0},{"$error":"#VALUE!"},{"$f":"IF(A410>'Lakás Törlesztéscsökkentő fiók'!$J$10,0,'Lakás Törlesztéscsökkentő fiók'!$J$11)","v":0},{"$f":"IF(OR(A410>'Lakás Törlesztéscsökkentő fiók'!$J$10,'Lakás Törlesztéscsökkentő fiók'!$B$24='Lakás Törlesztéscsökkentő fiók'!$T$5),0,'Lakás Törlesztéscsökkentő fiók'!$J$12+'Lakás Törlesztéscsökkentő fiók'!$J$13)","v":0},0,null,null,0,{"$f":"IRR($K$2:K410,0.05)","v":{"$error":"#VALUE!"}}]
[{"$f":"+A410+1","v":409},{"$error":"#VALUE!"},{"$f":"B411*'Lakás Törlesztéscsökkentő fiók'!$B$27/12","v":{"$error":"#VALUE!"}},{"$f":"IF(A411>'Lakás Törlesztéscsökkentő fiók'!$J$10,0,'Lakás Törlesztéscsökkentő fiók'!$B$28)","v":0},{"$error":"#VALUE!"},{"$f":"IF(A411>'Lakás Törlesztéscsökkentő fiók'!$J$10,0,'Lakás Törlesztéscsökkentő fiók'!$J$11)","v":0},{"$f":"IF(OR(A411>'Lakás Törlesztéscsökkentő fiók'!$J$10,'Lakás Törlesztéscsökkentő fiók'!$B$24='Lakás Törlesztéscsökkentő fiók'!$T$5),0,'Lakás Törlesztéscsökkentő fiók'!$J$12+'Lakás Törlesztéscsökkentő fiók'!$J$13)","v":0},0,null,null,0,{"$f":"IRR($K$2:K411,0.05)","v":{"$error":"#VALUE!"}}]
[{"$f":"+A411+1","v":410},{"$error":"#VALUE!"},{"$f":"B412*'Lakás Törlesztéscsökkentő fiók'!$B$27/12","v":{"$error":"#VALUE!"}},{"$f":"IF(A412>'Lakás Törlesztéscsökkentő fiók'!$J$10,0,'Lakás Törlesztéscsökkentő fiók'!$B$28)","v":0},{"$error":"#VALUE!"},{"$f":"IF(A412>'Lakás Törlesztéscsökkentő fiók'!$J$10,0,'Lakás Törlesztéscsökkentő fiók'!$J$11)","v":0},{"$f":"IF(OR(A412>'Lakás Törlesztéscsökkentő fiók'!$J$10,'Lakás Törlesztéscsökkentő fiók'!$B$24='Lakás Törlesztéscsökkentő fiók'!$T$5),0,'Lakás Törlesztéscsökkentő fiók'!$J$12+'Lakás Törlesztéscsökkentő fiók'!$J$13)","v":0},0,null,null,0,{"$f":"IRR($K$2:K412,0.05)","v":{"$error":"#VALUE!"}}]
[{"$f":"+A412+1","v":411},{"$error":"#VALUE!"},{"$f":"B413*'Lakás Törlesztéscsökkentő fiók'!$B$27/12","v":{"$error":"#VALUE!"}},{"$f":"IF(A413>'Lakás Törlesztéscsökkentő fiók'!$J$10,0,'Lakás Törlesztéscsökkentő fiók'!$B$28)","v":0},{"$error":"#VALUE!"},{"$f":"IF(A413>'Lakás Törlesztéscsökkentő fiók'!$J$10,0,'Lakás Törlesztéscsökkentő fiók'!$J$11)","v":0},{"$f":"IF(OR(A413>'Lakás Törlesztéscsökkentő fiók'!$J$10,'Lakás Törlesztéscsökkentő fiók'!$B$24='Lakás Törlesztéscsökkentő fiók'!$T$5),0,'Lakás Törlesztéscsökkentő fiók'!$J$12+'Lakás Törlesztéscsökkentő fiók'!$J$13)","v":0},0,null,null,0,{"$f":"IRR($K$2:K413,0.05)","v":{"$error":"#VALUE!"}}]
[{"$f":"+A413+1","v":412},{"$error":"#VALUE!"},{"$f":"B414*'Lakás Törlesztéscsökkentő fiók'!$B$27/12","v":{"$error":"#VALUE!"}},{"$f":"IF(A414>'Lakás Törlesztéscsökkentő fiók'!$J$10,0,'Lakás Törlesztéscsökkentő fiók'!$B$28)","v":0},{"$error":"#VALUE!"},{"$f":"IF(A414>'Lakás Törlesztéscsökkentő fiók'!$J$10,0,'Lakás Törlesztéscsökkentő fiók'!$J$11)","v":0},{"$f":"IF(OR(A414>'Lakás Törlesztéscsökkentő fiók'!$J$10,'Lakás Törlesztéscsökkentő fiók'!$B$24='Lakás Törlesztéscsökkentő fiók'!$T$5),0,'Lakás Törlesztéscsökkentő fiók'!$J$12+'Lakás Törlesztéscsökkentő fiók'!$J$13)","v":0},0,null,null,0,{"$f":"IRR($K$2:K414,0.05)","v":{"$error":"#VALUE!"}}]
[{"$f":"+A414+1","v":413},{"$error":"#VALUE!"},{"$f":"B415*'Lakás Törlesztéscsökkentő fiók'!$B$27/12","v":{"$error":"#VALUE!"}},{"$f":"IF(A415>'Lakás Törlesztéscsökkentő fiók'!$J$10,0,'Lakás Törlesztéscsökkentő fiók'!$B$28)","v":0},{"$error":"#VALUE!"},{"$f":"IF(A415>'Lakás Törlesztéscsökkentő fiók'!$J$10,0,'Lakás Törlesztéscsökkentő fiók'!$J$11)","v":0},{"$f":"IF(OR(A415>'Lakás Törlesztéscsökkentő fiók'!$J$10,'Lakás Törlesztéscsökkentő fiók'!$B$24='Lakás Törlesztéscsökkentő fiók'!$T$5),0,'Lakás Törlesztéscsökkentő fiók'!$J$12+'Lakás Törlesztéscsökkentő fiók'!$J$13)","v":0},0,null,null,0,{"$f":"IRR($K$2:K415,0.05)","v":{"$error":"#VALUE!"}}]
[{"$f":"+A415+1","v":414},{"$error":"#VALUE!"},{"$f":"B416*'Lakás Törlesztéscsökkentő fiók'!$B$27/12","v":{"$error":"#VALUE!"}},{"$f":"IF(A416>'Lakás Törlesztéscsökkentő fiók'!$J$10,0,'Lakás Törlesztéscsökkentő fiók'!$B$28)","v":0},{"$error":"#VALUE!"},{"$f":"IF(A416>'Lakás Törlesztéscsökkentő fiók'!$J$10,0,'Lakás Törlesztéscsökkentő fiók'!$J$11)","v":0},{"$f":"IF(OR(A416>'Lakás Törlesztéscsökkentő fiók'!$J$10,'Lakás Törlesztéscsökkentő fiók'!$B$24='Lakás Törlesztéscsökkentő fiók'!$T$5),0,'Lakás Törlesztéscsökkentő fiók'!$J$12+'Lakás Törlesztéscsökkentő fiók'!$J$13)","v":0},0,null,null,0,{"$f":"IRR($K$2:K416,0.05)","v":{"$error":"#VALUE!"}}]
[{"$f":"+A416+1","v":415},{"$error":"#VALUE!"},{"$f":"B417*'Lakás Törlesztéscsökkentő fiók'!$B$27/12","v":{"$error":"#VALUE!"}},{"$f":"IF(A417>'Lakás Törlesztéscsökkentő fiók'!$J$10,0,'Lakás Törlesztéscsökkentő fiók'!$B$28)","v":0},{"$error":"#VALUE!"},{"$f":"IF(A417>'Lakás Törlesztéscsökkentő fiók'!$J$10,0,'Lakás Törlesztéscsökkentő fiók'!$J$11)","v":0},{"$f":"IF(OR(A417>'Lakás Törlesztéscsökkentő fiók'!$J$10,'Lakás Törlesztéscsökkentő fiók'!$B$24='Lakás Törlesztéscsökkentő fiók'!$T$5),0,'Lakás Törlesztéscsökkentő fiók'!$J$12+'Lakás Törlesztéscsökkentő fiók'!$J$13)","v":0},0,null,null,0,{"$f":"IRR($K$2:K417,0.05)","v":{"$error":"#VALUE!"}}]
[{"$f":"+A417+1","v":416},{"$error":"#VALUE!"},{"$f":"B418*'Lakás Törlesztéscsökkentő fiók'!$B$27/12","v":{"$error":"#VALUE!"}},{"$f":"IF(A418>'Lakás Törlesztéscsökkentő fiók'!$J$10,0,'Lakás Törlesztéscsökkentő fiók'!$B$28)","v":0},{"$error":"#VALUE!"},{"$f":"IF(A418>'Lakás Törlesztéscsökkentő fiók'!$J$10,0,'Lakás Törlesztéscsökkentő fiók'!$J$11)","v":0},{"$f":"IF(OR(A418>'Lakás Törlesztéscsökkentő fiók'!$J$10,'Lakás Törlesztéscsökkentő fiók'!$B$24='Lakás Törlesztéscsökkentő fiók'!$T$5),0,'Lakás Törlesztéscsökkentő fiók'!$J$12+'Lakás Törlesztéscsökkentő fiók'!$J$13)","v":0},0,null,null,0,{"$f":"IRR($K$2:K418,0.05)","v":{"$error":"#VALUE!"}}]
[{"$f":"+A418+1","v":417},{"$error":"#VALUE!"},{"$f":"B419*'Lakás Törlesztéscsökkentő fiók'!$B$27/12","v":{"$error":"#VALUE!"}},{"$f":"IF(A419>'Lakás Törlesztéscsökkentő fiók'!$J$10,0,'Lakás Törlesztéscsökkentő fiók'!$B$28)","v":0},{"$error":"#VALUE!"},{"$f":"IF(A419>'Lakás Törlesztéscsökkentő fiók'!$J$10,0,'Lakás Törlesztéscsökkentő fiók'!$J$11)","v":0},{"$f":"IF(OR(A419>'Lakás Törlesztéscsökkentő fiók'!$J$10,'Lakás Törlesztéscsökkentő fiók'!$B$24='Lakás Törlesztéscsökkentő fiók'!$T$5),0,'Lakás Törlesztéscsökkentő fiók'!$J$12+'Lakás Törlesztéscsökkentő fiók'!$J$13)","v":0},0,null,null,0,{"$f":"IRR($K$2:K419,0.05)","v":{"$error":"#VALUE!"}}]
[{"$f":"+A419+1","v":418},{"$error":"#VALUE!"},{"$f":"B420*'Lakás Törlesztéscsökkentő fiók'!$B$27/12","v":{"$error":"#VALUE!"}},{"$f":"IF(A420>'Lakás Törlesztéscsökkentő fiók'!$J$10,0,'Lakás Törlesztéscsökkentő fiók'!$B$28)","v":0},{"$error":"#VALUE!"},{"$f":"IF(A420>'Lakás Törlesztéscsökkentő fiók'!$J$10,0,'Lakás Törlesztéscsökkentő fiók'!$J$11)","v":0},{"$f":"IF(OR(A420>'Lakás Törlesztéscsökkentő fiók'!$J$10,'Lakás Törlesztéscsökkentő fiók'!$B$24='Lakás Törlesztéscsökkentő fiók'!$T$5),0,'Lakás Törlesztéscsökkentő fiók'!$J$12+'Lakás Törlesztéscsökkentő fiók'!$J$13)","v":0},0,null,null,0,{"$f":"IRR($K$2:K420,0.05)","v":{"$error":"#VALUE!"}}]
[{"$f":"+A420+1","v":419},{"$error":"#VALUE!"},{"$f":"B421*'Lakás Törlesztéscsökkentő fiók'!$B$27/12","v":{"$error":"#VALUE!"}},{"$f":"IF(A421>'Lakás Törlesztéscsökkentő fiók'!$J$10,0,'Lakás Törlesztéscsökkentő fiók'!$B$28)","v":0},{"$error":"#VALUE!"},{"$f":"IF(A421>'Lakás Törlesztéscsökkentő fiók'!$J$10,0,'Lakás Törlesztéscsökkentő fiók'!$J$11)","v":0},{"$f":"IF(OR(A421>'Lakás Törlesztéscsökkentő fiók'!$J$10,'Lakás Törlesztéscsökkentő fiók'!$B$24='Lakás Törlesztéscsökkentő fiók'!$T$5),0,'Lakás Törlesztéscsökkentő fiók'!$J$12+'Lakás Törlesztéscsökkentő fiók'!$J$13)","v":0},0,null,null,0,{"$f":"IRR($K$2:K421,0.05)","v":{"$error":"#VALUE!"}}]
[{"$f":"+A421+1","v":420},{"$error":"#VALUE!"},{"$f":"B422*'Lakás Törlesztéscsökkentő fiók'!$B$27/12","v":{"$error":"#VALUE!"}},{"$f":"IF(A422>'Lakás Törlesztéscsökkentő fiók'!$J$10,0,'Lakás Törlesztéscsökkentő fiók'!$B$28)","v":0},{"$error":"#VALUE!"},{"$f":"IF(A422>'Lakás Törlesztéscsökkentő fiók'!$J$10,0,'Lakás Törlesztéscsökkentő fiók'!$J$11)","v":0},{"$f":"IF(OR(A422>'Lakás Törlesztéscsökkentő fiók'!$J$10,'Lakás Törlesztéscsökkentő fiók'!$B$24='Lakás Törlesztéscsökkentő fiók'!$T$5),0,'Lakás Törlesztéscsökkentő fiók'!$J$12+'Lakás Törlesztéscsökkentő fiók'!$J$13)","v":0},0,null,null,0,{"$f":"IRR($K$2:K422,0.05)","v":{"$error":"#VALUE!"}}]

{"sheet":"THM fiók HE","index":4,"n_rows":422,"n_cols":13,"rows_kept":422,"cut":false,"hidden":true,"merged":[]}
[null,null,null,null,null,null,null,7.2330864975825207E-2,null,null,{"$f":"IRR(K2:K422)","v":{"$error":"#VALUE!"}},{"$f":"((1+K1)^12)-1","v":{"$error":"#VALUE!"}},10]
[null,"nyitó","kamat","törlesztés","záró","számla","életbizt",{"$f":"+'Személyi Törl. csökkentő fiók'!B16-'Személyi Törl. csökkentő fiók'!J14-'Személyi Törl. csökkentő fiók'!B20","v":{"$error":"#VALUE!"}},{"$f":"+H2-H422","v":{"$error":"#VALUE!"}},null,{"$f":"-H2","v":{"$error":"#VALUE!"}}]
[1,{"$f":"+'Személyi Törl. csökkentő fiók'!B16","v":""},{"$f":"B3*'Személyi Törl. csökkentő fiók'!$B$27/12","v":{"$error":"#VALUE!"}},{"$f":"IF(A3>'Személyi Törl. csökkentő fiók'!$J$10,0,'Személyi Törl. csökkentő fiók'!$B$28)","v":0},{"$f":"+B3+C3-D3","v":{"$error":"#VALUE!"}},{"$f":"IF(A3>'Személyi Törl. csökkentő fiók'!$J$10,0,'Személyi Törl. csökkentő fiók'!$J$11)","v":0},{"$f":"IF(OR(A3>'Személyi Törl. csökkentő fiók'!$J$10,'Személyi Törl. csökkentő fiók'!$B$24='Személyi Törl. csökkentő fiók'!$T$5),0,'Személyi Törl. csökkentő fiók'!$J$12+'Személyi Törl. csökkentő fiók'!$J$13)","v":0},{"$f":"(D3+F3+G3)/(1+$H$1)^(A3/12)","v":0},null,null,{"$f":"D3+F3+G3","v":0},{"$f":"IRR($K$2:K3,0.05)","v":{"$error":"#VALUE!"}}]
[{"$f":"+A3+1","v":2},{"$f":"+E3","v":{"$error":"#VALUE!"}},{"$f":"B4*'Személyi Törl. csökkentő fiók'!$B$27/12","v":{"$error":"#VALUE!"}},{"$f":"IF(A4>'Személyi Törl. csökkentő fiók'!$J$10,0,'Személyi Törl. csökkentő fiók'!$B$28)","v":0},{"$f":"+B4+C4-D4","v":{"$error":"#VALUE!"}},{"$f":"IF(A4>'Személyi Törl. csökkentő fiók'!$J$10,0,'Személyi Törl. csökkentő fiók'!$J$11)","v":0},{"$f":"IF(OR(A4>'Személyi Törl. csökkentő fiók'!$J$10,'Személyi Törl. csökkentő fiók'!$B$24='Személyi Törl. csökkentő fiók'!$T$5),0,'Személyi Törl. csökkentő fiók'!$J$12+'Személyi Törl. csökkentő fiók'!$J$13)","v":0},{"$f":"H3+(D4+F4+G4)/(1+$H$1)^(A4/12)","v":0},null,null,{"$f":"D4+F4+G4","v":0},{"$f":"IRR($K$2:K4,0.05)","v":{"$error":"#VALUE!"}}]
[{"$f":"+A4+1","v":3},{"$f":"+E4","v":{"$error":"#VALUE!"}},{"$f":"B5*'Személyi Törl. csökkentő fiók'!$B$27/12","v":{"$error":"#VALUE!"}},{"$f":"IF(A5>'Személyi Törl. csökkentő fiók'!$J$10,0,'Személyi Törl. csökkentő fiók'!$B$28)","v":0},{"$error":"#VALUE!"},{"$f":"IF(A5>'Személyi Törl. csökkentő fiók'!$J$10,0,'Személyi Törl. csökkentő fiók'!$J$11)","v":0},{"$f":"IF(OR(A5>'Személyi Törl. csökkentő fiók'!$J$10,'Személyi Törl. csökkentő fiók'!$B$24='Személyi Törl. csökkentő fiók'!$T$5),0,'Személyi Törl. csökkentő fiók'!$J$12+'Személyi Törl. csökkentő fiók'!$J$13)","v":0},{"$f":"H4+(D5+F5+G5)/(1+$H$1)^(A5/12)","v":0},null,null,0,{"$f":"IRR($K$2:K5,0.05)","v":{"$error":"#VALUE!"}}]
[4,{"$error":"#VALUE!"},{"$f":"B6*'Személyi Törl. csökkentő fiók'!$B$27/12","v":{"$error":"#VALUE!"}},{"$f":"IF(A6>'Személyi Törl. csökkentő fiók'!$J$10,0,'Személyi Törl. csökkentő fiók'!$B$28)","v":0},{"$error":"#VALUE!"},{"$f":"IF(A6>'Személyi Törl. csökkentő fiók'!$J$10,0,'Személyi Törl. csökkentő fiók'!$J$11)","v":0},{"$f":"IF(OR(A6>'Személyi Törl. csökkentő fiók'!$J$10,'Személyi Törl. csökkentő fiók'!$B$24='Személyi Törl. csökkentő fiók'!$T$5),0,'Személyi Törl. csökkentő fiók'!$J$12+'Személyi Törl. csökkentő fiók'!$J$13)","v":0},0,null,null,0,{"$f":"IRR($K$2:K6,0.05)","v":{"$error":"#VALUE!"}}]
[5,{"$error":"#VALUE!"},{"$f":"B7*'Személyi Törl. csökkentő fiók'!$B$27/12","v":{"$error":"#VALUE!"}},{"$f":"IF(A7>'Személyi Törl. csökkentő fiók'!$J$10,0,'Személyi Törl. csökkentő fiók'!$B$28)","v":0},{"$error":"#VALUE!"},{"$f":"IF(A7>'Személyi Törl. csökkentő fiók'!$J$10,0,'Személyi Törl. csökkentő fiók'!$J$11)","v":0},{"$f":"IF(OR(A7>'Személyi Törl. csökkentő fiók'!$J$10,'Személyi Törl. csökkentő fiók'!$B$24='Személyi Törl. csökkentő fiók'!$T$5),0,'Személyi Törl. csökkentő fiók'!$J$12+'Személyi Törl. csökkentő fiók'!$J$13)","v":0},0,null,null,0,{"$f":"IRR($K$2:K7,0.05)","v":{"$error":"#VALUE!"}}]
[6,{"$error":"#VALUE!"},{"$f":"B8*'Személyi Törl. csökkentő fiók'!$B$27/12","v":{"$error":"#VALUE!"}},{"$f":"IF(A8>'Személyi Törl. csökkentő fiók'!$J$10,0,'Személyi Törl. csökkentő fiók'!$B$28)","v":0},{"$error":"#VALUE!"},{"$f":"IF(A8>'Személyi Törl. csökkentő fiók'!$J$10,0,'Személyi Törl. csökkentő fiók'!$J$11)","v":0},{"$f":"IF(OR(A8>'Személyi Törl. csökkentő fiók'!$J$10,'Személyi Törl. csökkentő fiók'!$B$24='Személyi Törl. csökkentő fiók'!$T$5),0,'Személyi Törl. csökkentő fiók'!$J$12+'Személyi Törl. csökkentő fiók'!$J$13)","v":0},0,null,null,0,{"$f":"IRR($K$2:K8,0.05)","v":{"$error":"#VALUE!"}}]
[7,{"$error":"#VALUE!"},{"$f":"B9*'Személyi Törl. csökkentő fiók'!$B$27/12","v":{"$error":"#VALUE!"}},{"$f":"IF(A9>'Személyi Törl. csökkentő fiók'!$J$10,0,'Személyi Törl. csökkentő fiók'!$B$28)","v":0},{"$error":"#VALUE!"},{"$f":"IF(A9>'Személyi Törl. csökkentő fiók'!$J$10,0,'Személyi Törl. csökkentő fiók'!$J$11)","v":0},{"$f":"IF(OR(A9>'Személyi Törl. csökkentő fiók'!$J$10,'Személyi Törl. csökkentő fiók'!$B$24='Személyi Törl. csökkentő fiók'!$T$5),0,'Személyi Törl. csökkentő fiók'!$J$12+'Személyi Törl. csökkentő fiók'!$J$13)","v":0},0,null,null,0,{"$f":"IRR($K$2:K9,0.05)","v":{"$error":"#VALUE!"}}]
[8,{"$error":"#VALUE!"},{"$f":"B10*'Személyi Törl. csökkentő fiók'!$B$27/12","v":{"$error":"#VALUE!"}},{"$f":"IF(A10>'Személyi Törl. csökkentő fiók'!$J$10,0,'Személyi Törl. csökkentő fiók'!$B$28)","v":0},{"$error":"#VALUE!"},{"$f":"IF(A10>'Személyi Törl. csökkentő fiók'!$J$10,0,'Személyi Törl. csökkentő fiók'!$J$11)","v":0},{"$f":"IF(OR(A10>'Személyi Törl. csökkentő fiók'!$J$10,'Személyi Törl. csökkentő fiók'!$B$24='Személyi Törl. csökkentő fiók'!$T$5),0,'Személyi Törl. csökkentő fiók'!$J$12+'Személyi Törl. csökkentő fiók'!$J$13)","v":0},0,null,null,0,{"$f":"IRR($K$2:K10,0.05)","v":{"$error":"#VALUE!"}}]
[9,{"$error":"#VALUE!"},{"$f":"B11*'Személyi Törl. csökkentő fiók'!$B$27/12","v":{"$error":"#VALUE!"}},{"$f":"IF(A11>'Személyi Törl. csökkentő fiók'!$J$10,0,'Személyi Törl. csökkentő fiók'!$B$28)","v":0},{"$error":"#VALUE!"},{"$f":"IF(A11>'Személyi Törl. csökkentő fiók'!$J$10,0,'Személyi Törl. csökkentő fiók'!$J$11)","v":0},{"$f":"IF(OR(A11>'Személyi Törl. csökkentő fiók'!$J$10,'Személyi Törl. csökkentő fiók'!$B$24='Személyi Törl. csökkentő fiók'!$T$5),0,'Személyi Törl. csökkentő fiók'!$J$12+'Személyi Törl. csökkentő fiók'!$J$13)","v":0},0,null,null,0,{"$f":"IRR($K$2:K11,0.05)","v":{"$error":"#VALUE!"}}]
[10,{"$error":"#VALUE!"},{"$f":"B12*'Személyi Törl. csökkentő fiók'!$B$27/12","v":{"$error":"#VALUE!"}},{"$f":"IF(A12>'Személyi Törl. csökkentő fiók'!$J$10,0,'Személyi Törl. csökkentő fiók'!$B$28)","v":0},{"$error":"#VALUE!"},{"$f":"IF(A12>'Személyi Törl. csökkentő fiók'!$J$10,0,'Személyi Törl. csökkentő fiók'!$J$11)","v":0},{"$f":"IF(OR(A12>'Személyi Törl. csökkentő fiók'!$J$10,'Személyi Törl. csökkentő fiók'!$B$24='Személyi Törl. csökkentő fiók'!$T$5),0,'Személyi Törl. csökkentő fiók'!$J$12+'Személyi Törl. csökkentő fiók'!$J$13)","v":0},0,null,null,0,{"$f":"IRR($K$2:K12,0.05)","v":{"$error":"#VALUE!"}}]
[11,{"$error":"#VALUE!"},{"$f":"B13*'Személyi Törl. csökkentő fiók'!$B$27/12","v":{"$error":"#VALUE!"}},{"$f":"IF(A13>'Személyi Törl. csökkentő fiók'!$J$10,0,'Személyi Törl. csökkentő fiók'!$B$28)","v":0},{"$error":"#VALUE!"},{"$f":"IF(A13>'Személyi Törl. csökkentő fiók'!$J$10,0,'Személyi Törl. csökkentő fiók'!$J$11)","v":0},{"$f":"IF(OR(A13>'Személyi Törl. csökkentő fiók'!$J$10,'Személyi Törl. csökkentő fiók'!$B$24='Személyi Törl. csökkentő fiók'!$T$5),0,'Személyi Törl. csökkentő fiók'!$J$12+'Személyi Törl. csökkentő fiók'!$J$13)","v":0},0,null,null,0,{"$f":"IRR($K$2:K13,0.05)","v":{"$error":"#VALUE!"}}]
[12,{"$error":"#VALUE!"},{"$f":"B14*'Személyi Törl. csökkentő fiók'!$B$27/12","v":{"$error":"#VALUE!"}},{"$f":"IF(A14>'Személyi Törl. csökkentő fiók'!$J$10,0,'Személyi Törl. csökkentő fiók'!$B$28)","v":0},{"$error":"#VALUE!"},{"$f":"IF(A14>'Személyi Törl. csökkentő fiók'!$J$10,0,'Személyi Törl. csökkentő fiók'!$J$11)","v":0},{"$f":"IF(OR(A14>'Személyi Törl. csökkentő fiók'!$J$10,'Személyi Törl. csökkentő fiók'!$B$24='Személyi Törl. csökkentő fiók'!$T$5),0,'Személyi Törl. csökkentő fiók'!$J$12+'Személyi Törl. csökkentő fiók'!$J$13)","v":0},0,null,null,0,{"$f":"IRR($K$2:K14,0.05)","v":{"$error":"#VALUE!"}}]
[13,{"$error":"#VALUE!"},{"$f":"B15*'Személyi Törl. csökkentő fiók'!$B$27/12","v":{"$error":"#VALUE!"}},{"$f":"IF(A15>'Személyi Törl. csökkentő fiók'!$J$10,0,'Személyi Törl. csökkentő fiók'!$B$28)","v":0},{"$error":"#VALUE!"},{"$f":"IF(A15>'Személyi Törl. csökkentő fiók'!$J$10,0,'Személyi Törl. csökkentő fiók'!$J$11)","v":0},{"$f":"IF(OR(A15>'Személyi Törl. csökkentő fiók'!$J$10,'Személyi Törl. csökkentő fiók'!$B$24='Személyi Törl. csökkentő fiók'!$T$5),0,'Személyi Törl. csökkentő fiók'!$J$12+'Személyi Törl. csökkentő fiók'!$J$13)","v":0},0,null,null,0,{"$f":"IRR($K$2:K15,0.05)","v":{"$error":"#VALUE!"}}]
[14,{"$error":"#VALUE!"},{"$f":"B16*'Személyi Törl. csökkentő fiók'!$B$27/12","v":{"$error":"#VALUE!"}},{"$f":"IF(A16>'Személyi Törl. csökkentő fiók'!$J$10,0,'Személyi Törl. csökkentő fiók'!$B$28)","v":0},{"$error":"#VALUE!"},{"$f":"IF(A16>'Személyi Törl. csökkentő fiók'!$J$10,0,'Személyi Törl. csökkentő fiók'!$J$11)","v":0},{"$f":"IF(OR(A16>'Személyi Törl. csökkentő fiók'!$J$10,'Személyi Törl. csökkentő fiók'!$B$24='Személyi Törl. csökkentő fiók'!$T$5),0,'Személyi Törl. csökkentő fiók'!$J$12+'Személyi Törl. csökkentő fiók'!$J$13)","v":0},0,null,null,0,{"$f":"IRR($K$2:K16,0.05)","v":{"$error":"#VALUE!"}}]
[15,{"$error":"#VALUE!"},{"$f":"B17*'Személyi Törl. csökkentő fiók'!$B$27/12","v":{"$error":"#VALUE!"}},{"$f":"IF(A17>'Személyi Törl. csökkentő fiók'!$J$10,0,'Személyi Törl. csökkentő fiók'!$B$28)","v":0},{"$error":"#VALUE!"},{"$f":"IF(A17>'Személyi Törl. csökkentő fiók'!$J$10,0,'Személyi Törl. csökkentő fiók'!$J$11)","v":0},{"$f":"IF(OR(A17>'Személyi Törl. csökkentő fiók'!$J$10,'Személyi Törl. csökkentő fiók'!$B$24='Személyi Törl. csökkentő fiók'!$T$5),0,'Személyi Törl. csökkentő fiók'!$J$12+'Személyi Törl. csökkentő fiók'!$J$13)","v":0},0,null,null,0,{"$f":"IRR($K$2:K17,0.05)","v":{"$error":"#VALUE!"}}]
[16,{"$error":"#VALUE!"},{"$f":"B18*'Személyi Törl. csökkentő fiók'!$B$27/12","v":{"$error":"#VALUE!"}},{"$f":"IF(A18>'Személyi Törl. csökkentő fiók'!$J$10,0,'Személyi Törl. csökkentő fiók'!$B$28)","v":0},{"$error":"#VALUE!"},{"$f":"IF(A18>'Személyi Törl. csökkentő fiók'!$J$10,0,'Személyi Törl. csökkentő fiók'!$J$11)","v":0},{"$f":"IF(OR(A18>'Személyi Törl. csökkentő fiók'!$J$10,'Személyi Törl. csökkentő fiók'!$B$24='Személyi Törl. csökkentő fiók'!$T$5),0,'Személyi Törl. csökkentő fiók'!$J$12+'Személyi Törl. csökkentő fiók'!$J$13)","v":0},0,null,null,0,{"$f":"IRR($K$2:K18,0.05)","v":{"$error":"#VALUE!"}}]
[17,{"$error":"#VALUE!"},{"$f":"B19*'Személyi Törl. csökkentő fiók'!$B$27/12","v":{"$error":"#VALUE!"}},{"$f":"IF(A19>'Személyi Törl. csökkentő fiók'!$J$10,0,'Személyi Törl. csökkentő fiók'!$B$28)","v":0},{"$error":"#VALUE!"},{"$f":"IF(A19>'Személyi Törl. csökkentő fiók'!$J$10,0,'Személyi Törl. csökkentő fiók'!$J$11)","v":0},{"$f":"IF(OR(A19>'Személyi Törl. csökkentő fiók'!$J$10,'Személyi Törl. csökkentő fiók'!$B$24='Személyi Törl. csökkentő fiók'!$T$5),0,'Személyi Törl. csökkentő fiók'!$J$12+'Személyi Törl. csökkentő fiók'!$J$13)","v":0},0,null,null,0,{"$f":"IRR($K$2:K19,0.05)","v":{"$error":"#VALUE!"}}]
[18,{"$error":"#VALUE!"},{"$f":"B20*'Személyi Törl. csökkentő fiók'!$B$27/12","v":{"$error":"#VALUE!"}},{"$f":"IF(A20>'Személyi Törl. csökkentő fiók'!$J$10,0,'Személyi Törl. csökkentő fiók'!$B$28)","v":0},{"$error":"#VALUE!"},{"$f":"IF(A20>'Személyi Törl. csökkentő fiók'!$J$10,0,'Személyi Törl. csökkentő fiók'!$J$11)","v":0},{"$f":"IF(OR(A20>'Személyi Törl. csökkentő fiók'!$J$10,'Személyi Törl. csökkentő fiók'!$B$24='Személyi Törl. csökkentő fiók'!$T$5),0,'Személyi Törl. csökkentő fiók'!$J$12+'Személyi Törl. csökkentő fiók'!$J$13)","v":0},0,null,null,0,{"$f":"IRR($K$2:K20,0.05)","v":{"$error":"#VALUE!"}}]
[19,{"$error":"#VALUE!"},{"$f":"B21*'Személyi Törl. csökkentő fiók'!$B$27/12","v":{"$error":"#VALUE!"}},{"$f":"IF(A21>'Személyi Törl. csökkentő fiók'!$J$10,0,'Személyi Törl. csökkentő fiók'!$B$28)","v":0},{"$error":"#VALUE!"},{"$f":"IF(A21>'Személyi Törl. csökkentő fiók'!$J$10,0,'Személyi Törl. csökkentő fiók'!$J$11)","v":0},{"$f":"IF(OR(A21>'Személyi Törl. csökkentő fiók'!$J$10,'Személyi Törl. csökkentő fiók'!$B$24='Személyi Törl. csökkentő fiók'!$T$5),0,'Személyi Törl. csökkentő fiók'!$J$12+'Személyi Törl. csökkentő fiók'!$J$13)","v":0},0,null,null,0,{"$f":"IRR($K$2:K21,0.05)","v":{"$error":"#VALUE!"}}]
[20,{"$error":"#VALUE!"},{"$f":"B22*'Személyi Törl. csökkentő fiók'!$B$27/12","v":{"$error":"#VALUE!"}},{"$f":"IF(A22>'Személyi Törl. csökkentő fiók'!$J$10,0,'Személyi Törl. csökkentő fiók'!$B$28)","v":0},{"$error":"#VALUE!"},{"$f":"IF(A22>'Személyi Törl. csökkentő fiók'!$J$10,0,'Személyi Törl. csökkentő fiók'!$J$11)","v":0},{"$f":"IF(OR(A22>'Személyi Törl. csökkentő fiók'!$J$10,'Személyi Törl. csökkentő fiók'!$B$24='Személyi Törl. csökkentő fiók'!$T$5),0,'Személyi Törl. csökkentő fiók'!$J$12+'Személyi Törl. csökkentő fiók'!$J$13)","v":0},0,null,null,0,{"$f":"IRR($K$2:K22,0.05)","v":{"$error":"#VALUE!"}}]
[21,{"$error":"#VALUE!"},{"$f":"B23*'Személyi Törl. csökkentő fiók'!$B$27/12","v":{"$error":"#VALUE!"}},{"$f":"IF(A23>'Személyi Törl. csökkentő fiók'!$J$10,0,'Személyi Törl. csökkentő fiók'!$B$28)","v":0},{"$error":"#VALUE!"},{"$f":"IF(A23>'Személyi Törl. csökkentő fiók'!$J$10,0,'Személyi Törl. csökkentő fiók'!$J$11)","v":0},{"$f":"IF(OR(A23>'Személyi Törl. csökkentő fiók'!$J$10,'Személyi Törl. csökkentő fiók'!$B$24='Személyi Törl. csökkentő fiók'!$T$5),0,'Személyi Törl. csökkentő fiók'!$J$12+'Személyi Törl. csökkentő fiók'!$J$13)","v":0},0,null,null,0,{"$f":"IRR($K$2:K23,0.05)","v":{"$error":"#VALUE!"}}]
[22,{"$error":"#VALUE!"},{"$f":"B24*'Személyi Törl. csökkentő fiók'!$B$27/12","v":{"$error":"#VALUE!"}},{"$f":"IF(A24>'Személyi Törl. csökkentő fiók'!$J$10,0,'Személyi Törl. csökkentő fiók'!$B$28)","v":0},{"$error":"#VALUE!"},{"$f":"IF(A24>'Személyi Törl. csökkentő fiók'!$J$10,0,'Személyi Törl. csökkentő fiók'!$J$11)","v":0},{"$f":"IF(OR(A24>'Személyi Törl. csökkentő fiók'!$J$10,'Személyi Törl. csökkentő fiók'!$B$24='Személyi Törl. csökkentő fiók'!$T$5),0,'Személyi Törl. csökkentő fiók'!$J$12+'Személyi Törl. csökkentő fiók'!$J$13)","v":0},0,null,null,0,{"$f":"IRR($K$2:K24,0.05)","v":{"$error":"#VALUE!"}}]
[23,{"$error":"#VALUE!"},{"$f":"B25*'Személyi Törl. csökkentő fiók'!$B$27/12","v":{"$error":"#VALUE!"}},{"$f":"IF(A25>'Személyi Törl. csökkentő fiók'!$J$10,0,'Személyi Törl. csökkentő fiók'!$B$28)","v":0},{"$error":"#VALUE!"},{"$f":"IF(A25>'Személyi Törl. csökkentő fiók'!$J$10,0,'Személyi Törl. csökkentő fiók'!$J$11)","v":0},{"$f":"IF(OR(A25>'Személyi Törl. csökkentő fiók'!$J$10,'Személyi Törl. csökkentő fiók'!$B$24='Személyi Törl. csökkentő fiók'!$T$5),0,'Személyi Törl. csökkentő fiók'!$J$12+'Személyi Törl. csökkentő fiók'!$J$13)","v":0},0,null,null,0,{"$f":"IRR($K$2:K25,0.05)","v":{"$error":"#VALUE!"}}]
[24,{"$error":"#VALUE!"},{"$f":"B26*'Személyi Törl. csökkentő fiók'!$B$27/12","v":{"$error":"#VALUE!"}},{"$f":"IF(A26>'Személyi Törl. csökkentő fiók'!$J$10,0,'Személyi Törl. csökkentő fiók'!$B$28)","v":0},{"$error":"#VALUE!"},{"$f":"IF(A26>'Személyi Törl. csökkentő fiók'!$J$10,0,'Személyi Törl. csökkentő fiók'!$J$11)","v":0},{"$f":"IF(OR(A26>'Személyi Törl. csökkentő fiók'!$J$10,'Személyi Törl. csökkentő fiók'!$B$24='Személyi Törl. csökkentő fiók'!$T$5),0,'Személyi Törl. csökkentő fiók'!$J$12+'Személyi Törl. csökkentő fiók'!$J$13)","v":0},0,null,null,0,{"$f":"IRR($K$2:K26,0.05)","v":{"$error":"#VALUE!"}}]
[25,{"$error":"#VALUE!"},{"$f":"B27*'Személyi Törl. csökkentő fiók'!$B$27/12","v":{"$error":"#VALUE!"}},{"$f":"IF(A27>'Személyi Törl. csökkentő fiók'!$J$10,0,'Személyi Törl. csökkentő fiók'!$B$28)","v":0},{"$error":"#VALUE!"},{"$f":"IF(A27>'Személyi Törl. csökkentő fiók'!$J$10,0,'Személyi Törl. csökkentő fiók'!$J$11)","v":0},{"$f":"IF(OR(A27>'Személyi Törl. csökkentő fiók'!$J$10,'Személyi Törl. csökkentő fiók'!$B$24='Személyi Törl. csökkentő fiók'!$T$5),0,'Személyi Törl. csökkentő fiók'!$J$12+'Személyi Törl. csökkentő fiók'!$J$13)","v":0},0,null,null,0,{"$f":"IRR($K$2:K27,0.05)","v":{"$error":"#VALUE!"}}]
[26,{"$error":"#VALUE!"},{"$f":"B28*'Személyi Törl. csökkentő fiók'!$B$27/12","v":{"$error":"#VALUE!"}},{"$f":"IF(A28>'Személyi Törl. csökkentő fiók'!$J$10,0,'Személyi Törl. csökkentő fiók'!$B$28)","v":0},{"$error":"#VALUE!"},{"$f":"IF(A28>'Személyi Törl. csökkentő fiók'!$J$10,0,'Személyi Törl. csökkentő fiók'!$J$11)","v":0},{"$f":"IF(OR(A28>'Személyi Törl. csökkentő fiók'!$J$10,'Személyi Törl. csökkentő fiók'!$B$24='Személyi Törl. csökkentő fiók'!$T$5),0,'Személyi Törl. csökkentő fiók'!$J$12+'Személyi Törl. csökkentő fiók'!$J$13)","v":0},0,null,null,0,{"$f":"IRR($K$2:K28,0.05)","v":{"$error":"#VALUE!"}}]
[27,{"$error":"#VALUE!"},{"$f":"B29*'Személyi Törl. csökkentő fiók'!$B$27/12","v":{"$error":"#VALUE!"}},{"$f":"IF(A29>'Személyi Törl. csökkentő fiók'!$J$10,0,'Személyi Törl. csökkentő fiók'!$B$28)","v":0},{"$error":"#VALUE!"},{"$f":"IF(A29>'Személyi Törl. csökkentő fiók'!$J$10,0,'Személyi Törl. csökkentő fiók'!$J$11)","v":0},{"$f":"IF(OR(A29>'Személyi Törl. csökkentő fiók'!$J$10,'Személyi Törl. csökkentő fiók'!$B$24='Személyi Törl. csökkentő fiók'!$T$5),0,'Személyi Törl. csökkentő fiók'!$J$12+'Személyi Törl. csökkentő fiók'!$J$13)","v":0},0,null,null,0,{"$f":"IRR($K$2:K29,0.05)","v":{"$error":"#VALUE!"}}]
[28,{"$error":"#VALUE!"},{"$f":"B30*'Személyi Törl. csökkentő fiók'!$B$27/12","v":{"$error":"#VALUE!"}},{"$f":"IF(A30>'Személyi Törl. csökkentő fiók'!$J$10,0,'Személyi Törl. csökkentő fiók'!$B$28)","v":0},{"$error":"#VALUE!"},{"$f":"IF(A30>'Személyi Törl. csökkentő fiók'!$J$10,0,'Személyi Törl. csökkentő fiók'!$J$11)","v":0},{"$f":"IF(OR(A30>'Személyi Törl. csökkentő fiók'!$J$10,'Személyi Törl. csökkentő fiók'!$B$24='Személyi Törl. csökkentő fiók'!$T$5),0,'Személyi Törl. csökkentő fiók'!$J$12+'Személyi Törl. csökkentő fiók'!$J$13)","v":0},0,null,null,0,{"$f":"IRR($K$2:K30,0.05)","v":{"$error":"#VALUE!"}}]
[29,{"$error":"#VALUE!"},{"$f":"B31*'Személyi Törl. csökkentő fiók'!$B$27/12","v":{"$error":"#VALUE!"}},{"$f":"IF(A31>'Személyi Törl. csökkentő fiók'!$J$10,0,'Személyi Törl. csökkentő fiók'!$B$28)","v":0},{"$error":"#VALUE!"},{"$f":"IF(A31>'Személyi Törl. csökkentő fiók'!$J$10,0,'Személyi Törl. csökkentő fiók'!$J$11)","v":0},{"$f":"IF(OR(A31>'Személyi Törl. csökkentő fiók'!$J$10,'Személyi Törl. csökkentő fiók'!$B$24='Személyi Törl. csökkentő fiók'!$T$5),0,'Személyi Törl. csökkentő fiók'!$J$12+'Személyi Törl. csökkentő fiók'!$J$13)","v":0},0,null,null,0,{"$f":"IRR($K$2:K31,0.05)","v":{"$error":"#VALUE!"}}]
[30,{"$error":"#VALUE!"},{"$f":"B32*'Személyi Törl. csökkentő fiók'!$B$27/12","v":{"$error":"#VALUE!"}},{"$f":"IF(A32>'Személyi Törl. csökkentő fiók'!$J$10,0,'Személyi Törl. csökkentő fiók'!$B$28)","v":0},{"$error":"#VALUE!"},{"$f":"IF(A32>'Személyi Törl. csökkentő fiók'!$J$10,0,'Személyi Törl. csökkentő fiók'!$J$11)","v":0},{"$f":"IF(OR(A32>'Személyi Törl. csökkentő fiók'!$J$10,'Személyi Törl. csökkentő fiók'!$B$24='Személyi Törl. csökkentő fiók'!$T$5),0,'Személyi Törl. csökkentő fiók'!$J$12+'Személyi Törl. csökkentő fiók'!$J$13)","v":0},0,null,null,0,{"$f":"IRR($K$2:K32,0.05)","v":{"$error":"#VALUE!"}}]
[31,{"$error":"#VALUE!"},{"$f":"B33*'Személyi Törl. csökkentő fiók'!$B$27/12","v":{"$error":"#VALUE!"}},{"$f":"IF(A33>'Személyi Törl. csökkentő fiók'!$J$10,0,'Személyi Törl. csökkentő fiók'!$B$28)","v":0},{"$error":"#VALUE!"},{"$f":"IF(A33>'Személyi Törl. csökkentő fiók'!$J$10,0,'Személyi Törl. csökkentő fiók'!$J$11)","v":0},{"$f":"IF(OR(A33>'Személyi Törl. csökkentő fiók'!$J$10,'Személyi Törl. csökkentő fiók'!$B$24='Személyi Törl. csökkentő fiók'!$T$5),0,'Személyi Törl. csökkentő fiók'!$J$12+'Személyi Törl. csökkentő fiók'!$J$13)","v":0},0,null,null,0,{"$f":"IRR($K$2:K33,0.05)","v":{"$error":"#VALUE!"}}]
[32,{"$error":"#VALUE!"},{"$f":"B34*'Személyi Törl. csökkentő fiók'!$B$27/12","v":{"$error":"#VALUE!"}},{"$f":"IF(A34>'Személyi Törl. csökkentő fiók'!$J$10,0,'Személyi Törl. csökkentő fiók'!$B$28)","v":0},{"$error":"#VALUE!"},{"$f":"IF(A34>'Személyi Törl. csökkentő fiók'!$J$10,0,'Személyi Törl. csökkentő fiók'!$J$11)","v":0},{"$f":"IF(OR(A34>'Személyi Törl. csökkentő fiók'!$J$10,'Személyi Törl. csökkentő fiók'!$B$24='Személyi Törl. csökkentő fiók'!$T$5),0,'Személyi Törl. csökkentő fiók'!$J$12+'Személyi Törl. csökkentő fiók'!$J$13)","v":0},0,null,null,0,{"$f":"IRR($K$2:K34,0.05)","v":{"$error":"#VALUE!"}}]
[33,{"$error":"#VALUE!"},{"$f":"B35*'Személyi Törl. csökkentő fiók'!$B$27/12","v":{"$error":"#VALUE!"}},{"$f":"IF(A35>'Személyi Törl. csökkentő fiók'!$J$10,0,'Személyi Törl. csökkentő fiók'!$B$28)","v":0},{"$error":"#VALUE!"},{"$f":"IF(A35>'Személyi Törl. csökkentő fiók'!$J$10,0,'Személyi Törl. csökkentő fiók'!$J$11)","v":0},{"$f":"IF(OR(A35>'Személyi Törl. csökkentő fiók'!$J$10,'Személyi Törl. csökkentő fiók'!$B$24='Személyi Törl. csökkentő fiók'!$T$5),0,'Személyi Törl. csökkentő fiók'!$J$12+'Személyi Törl. csökkentő fiók'!$J$13)","v":0},0,null,null,0,{"$f":"IRR($K$2:K35,0.05)","v":{"$error":"#VALUE!"}}]
[34,{"$error":"#VALUE!"},{"$f":"B36*'Személyi Törl. csökkentő fiók'!$B$27/12","v":{"$error":"#VALUE!"}},{"$f":"IF(A36>'Személyi Törl. csökkentő fiók'!$J$10,0,'Személyi Törl. csökkentő fiók'!$B$28)","v":0},{"$error":"#VALUE!"},{"$f":"IF(A36>'Személyi Törl. csökkentő fiók'!$J$10,0,'Személyi Törl. csökkentő fiók'!$J$11)","v":0},{"$f":"IF(OR(A36>'Személyi Törl. csökkentő fiók'!$J$10,'Személyi Törl. csökkentő fiók'!$B$24='Személyi Törl. csökkentő fiók'!$T$5),0,'Személyi Törl. csökkentő fiók'!$J$12+'Személyi Törl. csökkentő fiók'!$J$13)","v":0},0,null,null,0,{"$f":"IRR($K$2:K36,0.05)","v":{"$error":"#VALUE!"}}]
[35,{"$error":"#VALUE!"},{"$f":"B37*'Személyi Törl. csökkentő fiók'!$B$27/12","v":{"$error":"#VALUE!"}},{"$f":"IF(A37>'Személyi Törl. csökkentő fiók'!$J$10,0,'Személyi Törl. csökkentő fiók'!$B$28)","v":0},{"$error":"#VALUE!"},{"$f":"IF(A37>'Személyi Törl. csökkentő fiók'!$J$10,0,'Személyi Törl. csökkentő fiók'!$J$11)","v":0},{"$f":"IF(OR(A37>'Személyi Törl. csökkentő fiók'!$J$10,'Személyi Törl. csökkentő fiók'!$B$24='Személyi Törl. csökkentő fiók'!$T$5),0,'Személyi Törl. csökkentő fiók'!$J$12+'Személyi Törl. csökkentő fiók'!$J$13)","v":0},0,null,null,0,{"$f":"IRR($K$2:K37,0.05)","v":{"$error":"#VALUE!"}}]
[36,{"$error":"#VALUE!"},{"$f":"B38*'Személyi Törl. csökkentő fiók'!$B$27/12","v":{"$error":"#VALUE!"}},{"$f":"IF(A38>'Személyi Törl. csökkentő fiók'!$J$10,0,'Személyi Törl. csökkentő fiók'!$B$28)","v":0},{"$error":"#VALUE!"},{"$f":"IF(A38>'Személyi Törl. csökkentő fiók'!$J$10,0,'Személyi Törl. csökkentő fiók'!$J$11)","v":0},{"$f":"IF(OR(A38>'Személyi Törl. csökkentő fiók'!$J$10,'Személyi Törl. csökkentő fiók'!$B$24='Személyi Törl. csökkentő fiók'!$T$5),0,'Személyi Törl. csökkentő fiók'!$J$12+'Személyi Törl. csökkentő fiók'!$J$13)","v":0},0,null,null,0,{"$f":"IRR($K$2:K38,0.05)","v":{"$error":"#VALUE!"}}]
[37,{"$error":"#VALUE!"},{"$f":"B39*'Személyi Törl. csökkentő fiók'!$B$27/12","v":{"$error":"#VALUE!"}},{"$f":"IF(A39>'Személyi Törl. csökkentő fiók'!$J$10,0,'Személyi Törl. csökkentő fiók'!$B$28)","v":0},{"$error":"#VALUE!"},{"$f":"IF(A39>'Személyi Törl. csökkentő fiók'!$J$10,0,'Személyi Törl. csökkentő fiók'!$J$11)","v":0},{"$f":"IF(OR(A39>'Személyi Törl. csökkentő fiók'!$J$10,'Személyi Törl. csökkentő fiók'!$B$24='Személyi Törl. csökkentő fiók'!$T$5),0,'Személyi Törl. csökkentő fiók'!$J$12+'Személyi Törl. csökkentő fiók'!$J$13)","v":0},0,null,null,0,{"$f":"IRR($K$2:K39,0.05)","v":{"$error":"#VALUE!"}}]
[38,{"$error":"#VALUE!"},{"$f":"B40*'Személyi Törl. csökkentő fiók'!$B$27/12","v":{"$error":"#VALUE!"}},{"$f":"IF(A40>'Személyi Törl. csökkentő fiók'!$J$10,0,'Személyi Törl. csökkentő fiók'!$B$28)","v":0},{"$error":"#VALUE!"},{"$f":"IF(A40>'Személyi Törl. csökkentő fiók'!$J$10,0,'Személyi Törl. csökkentő fiók'!$J$11)","v":0},{"$f":"IF(OR(A40>'Személyi Törl. csökkentő fiók'!$J$10,'Személyi Törl. csökkentő fiók'!$B$24='Személyi Törl. csökkentő fiók'!$T$5),0,'Személyi Törl. csökkentő fiók'!$J$12+'Személyi Törl. csökkentő fiók'!$J$13)","v":0},0,null,null,0,{"$f":"IRR($K$2:K40,0.05)","v":{"$error":"#VALUE!"}}]
[39,{"$error":"#VALUE!"},{"$f":"B41*'Személyi Törl. csökkentő fiók'!$B$27/12","v":{"$error":"#VALUE!"}},{"$f":"IF(A41>'Személyi Törl. csökkentő fiók'!$J$10,0,'Személyi Törl. csökkentő fiók'!$B$28)","v":0},{"$error":"#VALUE!"},{"$f":"IF(A41>'Személyi Törl. csökkentő fiók'!$J$10,0,'Személyi Törl. csökkentő fiók'!$J$11)","v":0},{"$f":"IF(OR(A41>'Személyi Törl. csökkentő fiók'!$J$10,'Személyi Törl. csökkentő fiók'!$B$24='Személyi Törl. csökkentő fiók'!$T$5),0,'Személyi Törl. csökkentő fiók'!$J$12+'Személyi Törl. csökkentő fiók'!$J$13)","v":0},0,null,null,0,{"$f":"IRR($K$2:K41,0.05)","v":{"$error":"#VALUE!"}}]
[40,{"$error":"#VALUE!"},{"$f":"B42*'Személyi Törl. csökkentő fiók'!$B$27/12","v":{"$error":"#VALUE!"}},{"$f":"IF(A42>'Személyi Törl. csökkentő fiók'!$J$10,0,'Személyi Törl. csökkentő fiók'!$B$28)","v":0},{"$error":"#VALUE!"},{"$f":"IF(A42>'Személyi Törl. csökkentő fiók'!$J$10,0,'Személyi Törl. csökkentő fiók'!$J$11)","v":0},{"$f":"IF(OR(A42>'Személyi Törl. csökkentő fiók'!$J$10,'Személyi Törl. csökkentő fiók'!$B$24='Személyi Törl. csökkentő fiók'!$T$5),0,'Személyi Törl. csökkentő fiók'!$J$12+'Személyi Törl. csökkentő fiók'!$J$13)","v":0},0,null,null,0,{"$f":"IRR($K$2:K42,0.05)","v":{"$error":"#VALUE!"}}]
[41,{"$error":"#VALUE!"},{"$f":"B43*'Személyi Törl. csökkentő fiók'!$B$27/12","v":{"$error":"#VALUE!"}},{"$f":"IF(A43>'Személyi Törl. csökkentő fiók'!$J$10,0,'Személyi Törl. csökkentő fiók'!$B$28)","v":0},{"$error":"#VALUE!"},{"$f":"IF(A43>'Személyi Törl. csökkentő fiók'!$J$10,0,'Személyi Törl. csökkentő fiók'!$J$11)","v":0},{"$f":"IF(OR(A43>'Személyi Törl. csökkentő fiók'!$J$10,'Személyi Törl. csökkentő fiók'!$B$24='Személyi Törl. csökkentő fiók'!$T$5),0,'Személyi Törl. csökkentő fiók'!$J$12+'Személyi Törl. csökkentő fiók'!$J$13)","v":0},0,null,null,0,{"$f":"IRR($K$2:K43,0.05)","v":{"$error":"#VALUE!"}}]
[42,{"$error":"#VALUE!"},{"$f":"B44*'Személyi Törl. csökkentő fiók'!$B$27/12","v":{"$error":"#VALUE!"}},{"$f":"IF(A44>'Személyi Törl. csökkentő fiók'!$J$10,0,'Személyi Törl. csökkentő fiók'!$B$28)","v":0},{"$error":"#VALUE!"},{"$f":"IF(A44>'Személyi Törl. csökkentő fiók'!$J$10,0,'Személyi Törl. csökkentő fiók'!$J$11)","v":0},{"$f":"IF(OR(A44>'Személyi Törl. csökkentő fiók'!$J$10,'Személyi Törl. csökkentő fiók'!$B$24='Személyi Törl. csökkentő fiók'!$T$5),0,'Személyi Törl. csökkentő fiók'!$J$12+'Személyi Törl. csökkentő fiók'!$J$13)","v":0},0,null,null,0,{"$f":"IRR($K$2:K44,0.05)","v":{"$error":"#VALUE!"}}]
[43,{"$error":"#VALUE!"},{"$f":"B45*'Személyi Törl. csökkentő fiók'!$B$27/12","v":{"$error":"#VALUE!"}},{"$f":"IF(A45>'Személyi Törl. csökkentő fiók'!$J$10,0,'Személyi Törl. csökkentő fiók'!$B$28)","v":0},{"$error":"#VALUE!"},{"$f":"IF(A45>'Személyi Törl. csökkentő fiók'!$J$10,0,'Személyi Törl. csökkentő fiók'!$J$11)","v":0},{"$f":"IF(OR(A45>'Személyi Törl. csökkentő fiók'!$J$10,'Személyi Törl. csökkentő fiók'!$B$24='Személyi Törl. csökkentő fiók'!$T$5),0,'Személyi Törl. csökkentő fiók'!$J$12+'Személyi Törl. csökkentő fiók'!$J$13)","v":0},0,null,null,0,{"$f":"IRR($K$2:K45,0.05)","v":{"$error":"#VALUE!"}}]
[44,{"$error":"#VALUE!"},{"$f":"B46*'Személyi Törl. csökkentő fiók'!$B$27/12","v":{"$error":"#VALUE!"}},{"$f":"IF(A46>'Személyi Törl. csökkentő fiók'!$J$10,0,'Személyi Törl. csökkentő fiók'!$B$28)","v":0},{"$error":"#VALUE!"},{"$f":"IF(A46>'Személyi Törl. csökkentő fiók'!$J$10,0,'Személyi Törl. csökkentő fiók'!$J$11)","v":0},{"$f":"IF(OR(A46>'Személyi Törl. csökkentő fiók'!$J$10,'Személyi Törl. csökkentő fiók'!$B$24='Személyi Törl. csökkentő fiók'!$T$5),0,'Személyi Törl. csökkentő fiók'!$J$12+'Személyi Törl. csökkentő fiók'!$J$13)","v":0},0,null,null,0,{"$f":"IRR($K$2:K46,0.05)","v":{"$error":"#VALUE!"}}]
[45,{"$error":"#VALUE!"},{"$f":"B47*'Személyi Törl. csökkentő fiók'!$B$27/12","v":{"$error":"#VALUE!"}},{"$f":"IF(A47>'Személyi Törl. csökkentő fiók'!$J$10,0,'Személyi Törl. csökkentő fiók'!$B$28)","v":0},{"$error":"#VALUE!"},{"$f":"IF(A47>'Személyi Törl. csökkentő fiók'!$J$10,0,'Személyi Törl. csökkentő fiók'!$J$11)","v":0},{"$f":"IF(OR(A47>'Személyi Törl. csökkentő fiók'!$J$10,'Személyi Törl. csökkentő fiók'!$B$24='Személyi Törl. csökkentő fiók'!$T$5),0,'Személyi Törl. csökkentő fiók'!$J$12+'Személyi Törl. csökkentő fiók'!$J$13)","v":0},0,null,null,0,{"$f":"IRR($K$2:K47,0.05)","v":{"$error":"#VALUE!"}}]
[46,{"$error":"#VALUE!"},{"$f":"B48*'Személyi Törl. csökkentő fiók'!$B$27/12","v":{"$error":"#VALUE!"}},{"$f":"IF(A48>'Személyi Törl. csökkentő fiók'!$J$10,0,'Személyi Törl. csökkentő fiók'!$B$28)","v":0},{"$error":"#VALUE!"},{"$f":"IF(A48>'Személyi Törl. csökkentő fiók'!$J$10,0,'Személyi Törl. csökkentő fiók'!$J$11)","v":0},{"$f":"IF(OR(A48>'Személyi Törl. csökkentő fiók'!$J$10,'Személyi Törl. csökkentő fiók'!$B$24='Személyi Törl. csökkentő fiók'!$T$5),0,'Személyi Törl. csökkentő fiók'!$J$12+'Személyi Törl. csökkentő fiók'!$J$13)","v":0},0,null,null,0,{"$f":"IRR($K$2:K48,0.05)","v":{"$error":"#VALUE!"}}]
[47,{"$error":"#VALUE!"},{"$f":"B49*'Személyi Törl. csökkentő fiók'!$B$27/12","v":{"$error":"#VALUE!"}},{"$f":"IF(A49>'Személyi Törl. csökkentő fiók'!$J$10,0,'Személyi Törl. csökkentő fiók'!$B$28)","v":0},{"$error":"#VALUE!"},{"$f":"IF(A49>'Személyi Törl. csökkentő fiók'!$J$10,0,'Személyi Törl. csökkentő fiók'!$J$11)","v":0},{"$f":"IF(OR(A49>'Személyi Törl. csökkentő fiók'!$J$10,'Személyi Törl. csökkentő fiók'!$B$24='Személyi Törl. csökkentő fiók'!$T$5),0,'Személyi Törl. csökkentő fiók'!$J$12+'Személyi Törl. csökkentő fiók'!$J$13)","v":0},0,null,null,0,{"$f":"IRR($K$2:K49,0.05)","v":{"$error":"#VALUE!"}}]
[48,{"$error":"#VALUE!"},{"$f":"B50*'Személyi Törl. csökkentő fiók'!$B$27/12","v":{"$error":"#VALUE!"}},{"$f":"IF(A50>'Személyi Törl. csökkentő fiók'!$J$10,0,'Személyi Törl. csökkentő fiók'!$B$28)","v":0},{"$error":"#VALUE!"},{"$f":"IF(A50>'Személyi Törl. csökkentő fiók'!$J$10,0,'Személyi Törl. csökkentő fiók'!$J$11)","v":0},{"$f":"IF(OR(A50>'Személyi Törl. csökkentő fiók'!$J$10,'Személyi Törl. csökkentő fiók'!$B$24='Személyi Törl. csökkentő fiók'!$T$5),0,'Személyi Törl. csökkentő fiók'!$J$12+'Személyi Törl. csökkentő fiók'!$J$13)","v":0},0,null,null,0,{"$f":"IRR($K$2:K50,0.05)","v":{"$error":"#VALUE!"}}]
[49,{"$error":"#VALUE!"},{"$f":"B51*'Személyi Törl. csökkentő fiók'!$B$27/12","v":{"$error":"#VALUE!"}},{"$f":"IF(A51>'Személyi Törl. csökkentő fiók'!$J$10,0,'Személyi Törl. csökkentő fiók'!$B$28)","v":0},{"$error":"#VALUE!"},{"$f":"IF(A51>'Személyi Törl. csökkentő fiók'!$J$10,0,'Személyi Törl. csökkentő fiók'!$J$11)","v":0},{"$f":"IF(OR(A51>'Személyi Törl. csökkentő fiók'!$J$10,'Személyi Törl. csökkentő fiók'!$B$24='Személyi Törl. csökkentő fiók'!$T$5),0,'Személyi Törl. csökkentő fiók'!$J$12+'Személyi Törl. csökkentő fiók'!$J$13)","v":0},0,null,null,0,{"$f":"IRR($K$2:K51,0.05)","v":{"$error":"#VALUE!"}}]
[50,{"$error":"#VALUE!"},{"$f":"B52*'Személyi Törl. csökkentő fiók'!$B$27/12","v":{"$error":"#VALUE!"}},{"$f":"IF(A52>'Személyi Törl. csökkentő fiók'!$J$10,0,'Személyi Törl. csökkentő fiók'!$B$28)","v":0},{"$error":"#VALUE!"},{"$f":"IF(A52>'Személyi Törl. csökkentő fiók'!$J$10,0,'Személyi Törl. csökkentő fiók'!$J$11)","v":0},{"$f":"IF(OR(A52>'Személyi Törl. csökkentő fiók'!$J$10,'Személyi Törl. csökkentő fiók'!$B$24='Személyi Törl. csökkentő fiók'!$T$5),0,'Személyi Törl. csökkentő fiók'!$J$12+'Személyi Törl. csökkentő fiók'!$J$13)","v":0},0,null,null,0,{"$f":"IRR($K$2:K52,0.05)","v":{"$error":"#VALUE!"}}]
[51,{"$error":"#VALUE!"},{"$f":"B53*'Személyi Törl. csökkentő fiók'!$B$27/12","v":{"$error":"#VALUE!"}},{"$f":"IF(A53>'Személyi Törl. csökkentő fiók'!$J$10,0,'Személyi Törl. csökkentő fiók'!$B$28)","v":0},{"$error":"#VALUE!"},{"$f":"IF(A53>'Személyi Törl. csökkentő fiók'!$J$10,0,'Személyi Törl. csökkentő fiók'!$J$11)","v":0},{"$f":"IF(OR(A53>'Személyi Törl. csökkentő fiók'!$J$10,'Személyi Törl. csökkentő fiók'!$B$24='Személyi Törl. csökkentő fiók'!$T$5),0,'Személyi Törl. csökkentő fiók'!$J$12+'Személyi Törl. csökkentő fiók'!$J$13)","v":0},0,null,null,0,{"$f":"IRR($K$2:K53,0.05)","v":{"$error":"#VALUE!"}}]
[52,{"$error":"#VALUE!"},{"$f":"B54*'Személyi Törl. csökkentő fiók'!$B$27/12","v":{"$error":"#VALUE!"}},{"$f":"IF(A54>'Személyi Törl. csökkentő fiók'!$J$10,0,'Személyi Törl. csökkentő fiók'!$B$28)","v":0},{"$error":"#VALUE!"},{"$f":"IF(A54>'Személyi Törl. csökkentő fiók'!$J$10,0,'Személyi Törl. csökkentő fiók'!$J$11)","v":0},{"$f":"IF(OR(A54>'Személyi Törl. csökkentő fiók'!$J$10,'Személyi Törl. csökkentő fiók'!$B$24='Személyi Törl. csökkentő fiók'!$T$5),0,'Személyi Törl. csökkentő fiók'!$J$12+'Személyi Törl. csökkentő fiók'!$J$13)","v":0},0,null,null,0,{"$f":"IRR($K$2:K54,0.05)","v":{"$error":"#VALUE!"}}]
[53,{"$error":"#VALUE!"},{"$f":"B55*'Személyi Törl. csökkentő fiók'!$B$27/12","v":{"$error":"#VALUE!"}},{"$f":"IF(A55>'Személyi Törl. csökkentő fiók'!$J$10,0,'Személyi Törl. csökkentő fiók'!$B$28)","v":0},{"$error":"#VALUE!"},{"$f":"IF(A55>'Személyi Törl. csökkentő fiók'!$J$10,0,'Személyi Törl. csökkentő fiók'!$J$11)","v":0},{"$f":"IF(OR(A55>'Személyi Törl. csökkentő fiók'!$J$10,'Személyi Törl. csökkentő fiók'!$B$24='Személyi Törl. csökkentő fiók'!$T$5),0,'Személyi Törl. csökkentő fiók'!$J$12+'Személyi Törl. csökkentő fiók'!$J$13)","v":0},0,null,null,0,{"$f":"IRR($K$2:K55,0.05)","v":{"$error":"#VALUE!"}}]
[54,{"$error":"#VALUE!"},{"$f":"B56*'Személyi Törl. csökkentő fiók'!$B$27/12","v":{"$error":"#VALUE!"}},{"$f":"IF(A56>'Személyi Törl. csökkentő fiók'!$J$10,0,'Személyi Törl. csökkentő fiók'!$B$28)","v":0},{"$error":"#VALUE!"},{"$f":"IF(A56>'Személyi Törl. csökkentő fiók'!$J$10,0,'Személyi Törl. csökkentő fiók'!$J$11)","v":0},{"$f":"IF(OR(A56>'Személyi Törl. csökkentő fiók'!$J$10,'Személyi Törl. csökkentő fiók'!$B$24='Személyi Törl. csökkentő fiók'!$T$5),0,'Személyi Törl. csökkentő fiók'!$J$12+'Személyi Törl. csökkentő fiók'!$J$13)","v":0},0,null,null,0,{"$f":"IRR($K$2:K56,0.05)","v":{"$error":"#VALUE!"}}]
[55,{"$error":"#VALUE!"},{"$f":"B57*'Személyi Törl. csökkentő fiók'!$B$27/12","v":{"$error":"#VALUE!"}},{"$f":"IF(A57>'Személyi Törl. csökkentő fiók'!$J$10,0,'Személyi Törl. csökkentő fiók'!$B$28)","v":0},{"$error":"#VALUE!"},{"$f":"IF(A57>'Személyi Törl. csökkentő fiók'!$J$10,0,'Személyi Törl. csökkentő fiók'!$J$11)","v":0},{"$f":"IF(OR(A57>'Személyi Törl. csökkentő fiók'!$J$10,'Személyi Törl. csökkentő fiók'!$B$24='Személyi Törl. csökkentő fiók'!$T$5),0,'Személyi Törl. csökkentő fiók'!$J$12+'Személyi Törl. csökkentő fiók'!$J$13)","v":0},0,null,null,0,{"$f":"IRR($K$2:K57,0.05)","v":{"$error":"#VALUE!"}}]
[56,{"$error":"#VALUE!"},{"$f":"B58*'Személyi Törl. csökkentő fiók'!$B$27/12","v":{"$error":"#VALUE!"}},{"$f":"IF(A58>'Személyi Törl. csökkentő fiók'!$J$10,0,'Személyi Törl. csökkentő fiók'!$B$28)","v":0},{"$error":"#VALUE!"},{"$f":"IF(A58>'Személyi Törl. csökkentő fiók'!$J$10,0,'Személyi Törl. csökkentő fiók'!$J$11)","v":0},{"$f":"IF(OR(A58>'Személyi Törl. csökkentő fiók'!$J$10,'Személyi Törl. csökkentő fiók'!$B$24='Személyi Törl. csökkentő fiók'!$T$5),0,'Személyi Törl. csökkentő fiók'!$J$12+'Személyi Törl. csökkentő fiók'!$J$13)","v":0},0,null,null,0,{"$f":"IRR($K$2:K58,0.05)","v":{"$error":"#VALUE!"}}]
[57,{"$error":"#VALUE!"},{"$f":"B59*'Személyi Törl. csökkentő fiók'!$B$27/12","v":{"$error":"#VALUE!"}},{"$f":"IF(A59>'Személyi Törl. csökkentő fiók'!$J$10,0,'Személyi Törl. csökkentő fiók'!$B$28)","v":0},{"$error":"#VALUE!"},{"$f":"IF(A59>'Személyi Törl. csökkentő fiók'!$J$10,0,'Személyi Törl. csökkentő fiók'!$J$11)","v":0},{"$f":"IF(OR(A59>'Személyi Törl. csökkentő fiók'!$J$10,'Személyi Törl. csökkentő fiók'!$B$24='Személyi Törl. csökkentő fiók'!$T$5),0,'Személyi Törl. csökkentő fiók'!$J$12+'Személyi Törl. csökkentő fiók'!$J$13)","v":0},0,null,null,0,{"$f":"IRR($K$2:K59,0.05)","v":{"$error":"#VALUE!"}}]
[58,{"$error":"#VALUE!"},{"$f":"B60*'Személyi Törl. csökkentő fiók'!$B$27/12","v":{"$error":"#VALUE!"}},{"$f":"IF(A60>'Személyi Törl. csökkentő fiók'!$J$10,0,'Személyi Törl. csökkentő fiók'!$B$28)","v":0},{"$error":"#VALUE!"},{"$f":"IF(A60>'Személyi Törl. csökkentő fiók'!$J$10,0,'Személyi Törl. csökkentő fiók'!$J$11)","v":0},{"$f":"IF(OR(A60>'Személyi Törl. csökkentő fiók'!$J$10,'Személyi Törl. csökkentő fiók'!$B$24='Személyi Törl. csökkentő fiók'!$T$5),0,'Személyi Törl. csökkentő fiók'!$J$12+'Személyi Törl. csökkentő fiók'!$J$13)","v":0},0,null,null,0,{"$f":"IRR($K$2:K60,0.05)","v":{"$error":"#VALUE!"}}]
[59,{"$error":"#VALUE!"},{"$f":"B61*'Személyi Törl. csökkentő fiók'!$B$27/12","v":{"$error":"#VALUE!"}},{"$f":"IF(A61>'Személyi Törl. csökkentő fiók'!$J$10,0,'Személyi Törl. csökkentő fiók'!$B$28)","v":0},{"$error":"#VALUE!"},{"$f":"IF(A61>'Személyi Törl. csökkentő fiók'!$J$10,0,'Személyi Törl. csökkentő fiók'!$J$11)","v":0},{"$f":"IF(OR(A61>'Személyi Törl. csökkentő fiók'!$J$10,'Személyi Törl. csökkentő fiók'!$B$24='Személyi Törl. csökkentő fiók'!$T$5),0,'Személyi Törl. csökkentő fiók'!$J$12+'Személyi Törl. csökkentő fiók'!$J$13)","v":0},0,null,null,0,{"$f":"IRR($K$2:K61,0.05)","v":{"$error":"#VALUE!"}}]
[60,{"$error":"#VALUE!"},{"$f":"B62*'Személyi Törl. csökkentő fiók'!$B$27/12","v":{"$error":"#VALUE!"}},{"$f":"IF(A62>'Személyi Törl. csökkentő fiók'!$J$10,0,'Személyi Törl. csökkentő fiók'!$B$28)","v":0},{"$error":"#VALUE!"},{"$f":"IF(A62>'Személyi Törl. csökkentő fiók'!$J$10,0,'Személyi Törl. csökkentő fiók'!$J$11)","v":0},{"$f":"IF(OR(A62>'Személyi Törl. csökkentő fiók'!$J$10,'Személyi Törl. csökkentő fiók'!$B$24='Személyi Törl. csökkentő fiók'!$T$5),0,'Személyi Törl. csökkentő fiók'!$J$12+'Személyi Törl. csökkentő fiók'!$J$13)","v":0},0,null,null,0,{"$f":"IRR($K$2:K62,0.05)","v":{"$error":"#VALUE!"}}]
[61,{"$error":"#VALUE!"},{"$f":"B63*'Személyi Törl. csökkentő fiók'!$B$27/12","v":{"$error":"#VALUE!"}},{"$f":"IF(A63>'Személyi Törl. csökkentő fiók'!$J$10,0,'Személyi Törl. csökkentő fiók'!$B$28)","v":0},{"$error":"#VALUE!"},{"$f":"IF(A63>'Személyi Törl. csökkentő fiók'!$J$10,0,'Személyi Törl. csökkentő fiók'!$J$11)","v":0},{"$f":"IF(OR(A63>'Személyi Törl. csökkentő fiók'!$J$10,'Személyi Törl. csökkentő fiók'!$B$24='Személyi Törl. csökkentő fiók'!$T$5),0,'Személyi Törl. csökkentő fiók'!$J$12+'Személyi Törl. csökkentő fiók'!$J$13)","v":0},0,null,null,0,{"$f":"IRR($K$2:K63,0.05)","v":{"$error":"#VALUE!"}}]
[62,{"$error":"#VALUE!"},{"$f":"B64*'Személyi Törl. csökkentő fiók'!$B$27/12","v":{"$error":"#VALUE!"}},{"$f":"IF(A64>'Személyi Törl. csökkentő fiók'!$J$10,0,'Személyi Törl. csökkentő fiók'!$B$28)","v":0},{"$error":"#VALUE!"},{"$f":"IF(A64>'Személyi Törl. csökkentő fiók'!$J$10,0,'Személyi Törl. csökkentő fiók'!$J$11)","v":0},{"$f":"IF(OR(A64>'Személyi Törl. csökkentő fiók'!$J$10,'Személyi Törl. csökkentő fiók'!$B$24='Személyi Törl. csökkentő fiók'!$T$5),0,'Személyi Törl. csökkentő fiók'!$J$12+'Személyi Törl. csökkentő fiók'!$J$13)","v":0},0,null,null,0,{"$f":"IRR($K$2:K64,0.05)","v":{"$error":"#VALUE!"}}]
[63,{"$error":"#VALUE!"},{"$f":"B65*'Személyi Törl. csökkentő fiók'!$B$27/12","v":{"$error":"#VALUE!"}},{"$f":"IF(A65>'Személyi Törl. csökkentő fiók'!$J$10,0,'Személyi Törl. csökkentő fiók'!$B$28)","v":0},{"$error":"#VALUE!"},{"$f":"IF(A65>'Személyi Törl. csökkentő fiók'!$J$10,0,'Személyi Törl. csökkentő fiók'!$J$11)","v":0},{"$f":"IF(OR(A65>'Személyi Törl. csökkentő fiók'!$J$10,'Személyi Törl. csökkentő fiók'!$B$24='Személyi Törl. csökkentő fiók'!$T$5),0,'Személyi Törl. csökkentő fiók'!$J$12+'Személyi Törl. csökkentő fiók'!$J$13)","v":0},0,null,null,0,{"$f":"IRR($K$2:K65,0.05)","v":{"$error":"#VALUE!"}}]
[64,{"$error":"#VALUE!"},{"$f":"B66*'Személyi Törl. csökkentő fiók'!$B$27/12","v":{"$error":"#VALUE!"}},{"$f":"IF(A66>'Személyi Törl. csökkentő fiók'!$J$10,0,'Személyi Törl. csökkentő fiók'!$B$28)","v":0},{"$error":"#VALUE!"},{"$f":"IF(A66>'Személyi Törl. csökkentő fiók'!$J$10,0,'Személyi Törl. csökkentő fiók'!$J$11)","v":0},{"$f":"IF(OR(A66>'Személyi Törl. csökkentő fiók'!$J$10,'Személyi Törl. csökkentő fiók'!$B$24='Személyi Törl. csökkentő fiók'!$T$5),0,'Személyi Törl. csökkentő fiók'!$J$12+'Személyi Törl. csökkentő fiók'!$J$13)","v":0},0,null,null,0,{"$f":"IRR($K$2:K66,0.05)","v":{"$error":"#VALUE!"}}]
[65,{"$error":"#VALUE!"},{"$f":"B67*'Személyi Törl. csökkentő fiók'!$B$27/12","v":{"$error":"#VALUE!"}},{"$f":"IF(A67>'Személyi Törl. csökkentő fiók'!$J$10,0,'Személyi Törl. csökkentő fiók'!$B$28)","v":0},{"$error":"#VALUE!"},{"$f":"IF(A67>'Személyi Törl. csökkentő fiók'!$J$10,0,'Személyi Törl. csökkentő fiók'!$J$11)","v":0},{"$f":"IF(OR(A67>'Személyi Törl. csökkentő fiók'!$J$10,'Személyi Törl. csökkentő fiók'!$B$24='Személyi Törl. csökkentő fiók'!$T$5),0,'Személyi Törl. csökkentő fiók'!$J$12+'Személyi Törl. csökkentő fiók'!$J$13)","v":0},0,null,null,0,{"$f":"IRR($K$2:K67,0.05)","v":{"$error":"#VALUE!"}}]
[66,{"$error":"#VALUE!"},{"$f":"B68*'Személyi Törl. csökkentő fiók'!$B$27/12","v":{"$error":"#VALUE!"}},{"$f":"IF(A68>'Személyi Törl. csökkentő fiók'!$J$10,0,'Személyi Törl. csökkentő fiók'!$B$28)","v":0},{"$f":"+B68+C68-D68","v":{"$error":"#VALUE!"}},{"$f":"IF(A68>'Személyi Törl. csökkentő fiók'!$J$10,0,'Személyi Törl. csökkentő fiók'!$J$11)","v":0},{"$f":"IF(OR(A68>'Személyi Törl. csökkentő fiók'!$J$10,'Személyi Törl. csökkentő fiók'!$B$24='Személyi Törl. csökkentő fiók'!$T$5),0,'Személyi Törl. csökkentő fiók'!$J$12+'Személyi Törl. csökkentő fiók'!$J$13)","v":0},0,null,null,{"$f":"D68+F68+G68","v":0},{"$f":"IRR($K$2:K68,0.05)","v":{"$error":"#VALUE!"}}]
[{"$f":"+A68+1","v":67},{"$f":"+E68","v":{"$error":"#VALUE!"}},{"$f":"B69*'Személyi Törl. csökkentő fiók'!$B$27/12","v":{"$error":"#VALUE!"}},{"$f":"IF(A69>'Személyi Törl. csökkentő fiók'!$J$10,0,'Személyi Törl. csökkentő fiók'!$B$28)","v":0},{"$error":"#VALUE!"},{"$f":"IF(A69>'Személyi Törl. csökkentő fiók'!$J$10,0,'Személyi Törl. csökkentő fiók'!$J$11)","v":0},{"$f":"IF(OR(A69>'Személyi Törl. csökkentő fiók'!$J$10,'Személyi Törl. csökkentő fiók'!$B$24='Személyi Törl. csökkentő fiók'!$T$5),0,'Személyi Törl. csökkentő fiók'!$J$12+'Személyi Törl. csökkentő fiók'!$J$13)","v":0},{"$f":"H68+(D69+F69+G69)/(1+$H$1)^(A69/12)","v":0},null,null,0,{"$f":"IRR($K$2:K69,0.05)","v":{"$error":"#VALUE!"}}]
[68,{"$error":"#VALUE!"},{"$f":"B70*'Személyi Törl. csökkentő fiók'!$B$27/12","v":{"$error":"#VALUE!"}},{"$f":"IF(A70>'Személyi Törl. csökkentő fiók'!$J$10,0,'Személyi Törl. csökkentő fiók'!$B$28)","v":0},{"$error":"#VALUE!"},{"$f":"IF(A70>'Személyi Törl. csökkentő fiók'!$J$10,0,'Személyi Törl. csökkentő fiók'!$J$11)","v":0},{"$f":"IF(OR(A70>'Személyi Törl. csökkentő fiók'!$J$10,'Személyi Törl. csökkentő fiók'!$B$24='Személyi Törl. csökkentő fiók'!$T$5),0,'Személyi Törl. csökkentő fiók'!$J$12+'Személyi Törl. csökkentő fiók'!$J$13)","v":0},0,null,null,0,{"$f":"IRR($K$2:K70,0.05)","v":{"$error":"#VALUE!"}}]
[69,{"$error":"#VALUE!"},{"$f":"B71*'Személyi Törl. csökkentő fiók'!$B$27/12","v":{"$error":"#VALUE!"}},{"$f":"IF(A71>'Személyi Törl. csökkentő fiók'!$J$10,0,'Személyi Törl. csökkentő fiók'!$B$28)","v":0},{"$error":"#VALUE!"},{"$f":"IF(A71>'Személyi Törl. csökkentő fiók'!$J$10,0,'Személyi Törl. csökkentő fiók'!$J$11)","v":0},{"$f":"IF(OR(A71>'Személyi Törl. csökkentő fiók'!$J$10,'Személyi Törl. csökkentő fiók'!$B$24='Személyi Törl. csökkentő fiók'!$T$5),0,'Személyi Törl. csökkentő fiók'!$J$12+'Személyi Törl. csökkentő fiók'!$J$13)","v":0},0,null,null,0,{"$f":"IRR($K$2:K71,0.05)","v":{"$error":"#VALUE!"}}]
[70,{"$error":"#VALUE!"},{"$f":"B72*'Személyi Törl. csökkentő fiók'!$B$27/12","v":{"$error":"#VALUE!"}},{"$f":"IF(A72>'Személyi Törl. csökkentő fiók'!$J$10,0,'Személyi Törl. csökkentő fiók'!$B$28)","v":0},{"$error":"#VALUE!"},{"$f":"IF(A72>'Személyi Törl. csökkentő fiók'!$J$10,0,'Személyi Törl. csökkentő fiók'!$J$11)","v":0},{"$f":"IF(OR(A72>'Személyi Törl. csökkentő fiók'!$J$10,'Személyi Törl. csökkentő fiók'!$B$24='Személyi Törl. csökkentő fiók'!$T$5),0,'Személyi Törl. csökkentő fiók'!$J$12+'Személyi Törl. csökkentő fiók'!$J$13)","v":0},0,null,null,0,{"$f":"IRR($K$2:K72,0.05)","v":{"$error":"#VALUE!"}}]
[71,{"$error":"#VALUE!"},{"$f":"B73*'Személyi Törl. csökkentő fiók'!$B$27/12","v":{"$error":"#VALUE!"}},{"$f":"IF(A73>'Személyi Törl. csökkentő fiók'!$J$10,0,'Személyi Törl. csökkentő fiók'!$B$28)","v":0},{"$error":"#VALUE!"},{"$f":"IF(A73>'Személyi Törl. csökkentő fiók'!$J$10,0,'Személyi Törl. csökkentő fiók'!$J$11)","v":0},{"$f":"IF(OR(A73>'Személyi Törl. csökkentő fiók'!$J$10,'Személyi Törl. csökkentő fiók'!$B$24='Személyi Törl. csökkentő fiók'!$T$5),0,'Személyi Törl. csökkentő fiók'!$J$12+'Személyi Törl. csökkentő fiók'!$J$13)","v":0},0,null,null,0,{"$f":"IRR($K$2:K73,0.05)","v":{"$error":"#VALUE!"}}]
[72,{"$error":"#VALUE!"},{"$f":"B74*'Személyi Törl. csökkentő fiók'!$B$27/12","v":{"$error":"#VALUE!"}},{"$f":"IF(A74>'Személyi Törl. csökkentő fiók'!$J$10,0,'Személyi Törl. csökkentő fiók'!$B$28)","v":0},{"$error":"#VALUE!"},{"$f":"IF(A74>'Személyi Törl. csökkentő fiók'!$J$10,0,'Személyi Törl. csökkentő fiók'!$J$11)","v":0},{"$f":"IF(OR(A74>'Személyi Törl. csökkentő fiók'!$J$10,'Személyi Törl. csökkentő fiók'!$B$24='Személyi Törl. csökkentő fiók'!$T$5),0,'Személyi Törl. csökkentő fiók'!$J$12+'Személyi Törl. csökkentő fiók'!$J$13)","v":0},0,null,null,0,{"$f":"IRR($K$2:K74,0.05)","v":{"$error":"#VALUE!"}}]
[73,{"$error":"#VALUE!"},{"$f":"B75*'Személyi Törl. csökkentő fiók'!$B$27/12","v":{"$error":"#VALUE!"}},{"$f":"IF(A75>'Személyi Törl. csökkentő fiók'!$J$10,0,'Személyi Törl. csökkentő fiók'!$B$28)","v":0},{"$error":"#VALUE!"},{"$f":"IF(A75>'Személyi Törl. csökkentő fiók'!$J$10,0,'Személyi Törl. csökkentő fiók'!$J$11)","v":0},{"$f":"IF(OR(A75>'Személyi Törl. csökkentő fiók'!$J$10,'Személyi Törl. csökkentő fiók'!$B$24='Személyi Törl. csökkentő fiók'!$T$5),0,'Személyi Törl. csökkentő fiók'!$J$12+'Személyi Törl. csökkentő fiók'!$J$13)","v":0},0,null,null,0,{"$f":"IRR($K$2:K75,0.05)","v":{"$error":"#VALUE!"}}]
[74,{"$error":"#VALUE!"},{"$f":"B76*'Személyi Törl. csökkentő fiók'!$B$27/12","v":{"$error":"#VALUE!"}},{"$f":"IF(A76>'Személyi Törl. csökkentő fiók'!$J$10,0,'Személyi Törl. csökkentő fiók'!$B$28)","v":0},{"$error":"#VALUE!"},{"$f":"IF(A76>'Személyi Törl. csökkentő fiók'!$J$10,0,'Személyi Törl. csökkentő fiók'!$J$11)","v":0},{"$f":"IF(OR(A76>'Személyi Törl. csökkentő fiók'!$J$10,'Személyi Törl. csökkentő fiók'!$B$24='Személyi Törl. csökkentő fiók'!$T$5),0,'Személyi Törl. csökkentő fiók'!$J$12+'Személyi Törl. csökkentő fiók'!$J$13)","v":0},0,null,null,0,{"$f":"IRR($K$2:K76,0.05)","v":{"$error":"#VALUE!"}}]
[75,{"$error":"#VALUE!"},{"$f":"B77*'Személyi Törl. csökkentő fiók'!$B$27/12","v":{"$error":"#VALUE!"}},{"$f":"IF(A77>'Személyi Törl. csökkentő fiók'!$J$10,0,'Személyi Törl. csökkentő fiók'!$B$28)","v":0},{"$error":"#VALUE!"},{"$f":"IF(A77>'Személyi Törl. csökkentő fiók'!$J$10,0,'Személyi Törl. csökkentő fiók'!$J$11)","v":0},{"$f":"IF(OR(A77>'Személyi Törl. csökkentő fiók'!$J$10,'Személyi Törl. csökkentő fiók'!$B$24='Személyi Törl. csökkentő fiók'!$T$5),0,'Személyi Törl. csökkentő fiók'!$J$12+'Személyi Törl. csökkentő fiók'!$J$13)","v":0},0,null,null,0,{"$f":"IRR($K$2:K77,0.05)","v":{"$error":"#VALUE!"}}]
[76,{"$error":"#VALUE!"},{"$f":"B78*'Személyi Törl. csökkentő fiók'!$B$27/12","v":{"$error":"#VALUE!"}},{"$f":"IF(A78>'Személyi Törl. csökkentő fiók'!$J$10,0,'Személyi Törl. csökkentő fiók'!$B$28)","v":0},{"$error":"#VALUE!"},{"$f":"IF(A78>'Személyi Törl. csökkentő fiók'!$J$10,0,'Személyi Törl. csökkentő fiók'!$J$11)","v":0},{"$f":"IF(OR(A78>'Személyi Törl. csökkentő fiók'!$J$10,'Személyi Törl. csökkentő fiók'!$B$24='Személyi Törl. csökkentő fiók'!$T$5),0,'Személyi Törl. csökkentő fiók'!$J$12+'Személyi Törl. csökkentő fiók'!$J$13)","v":0},0,null,null,0,{"$f":"IRR($K$2:K78,0.05)","v":{"$error":"#VALUE!"}}]
[77,{"$error":"#VALUE!"},{"$f":"B79*'Személyi Törl. csökkentő fiók'!$B$27/12","v":{"$error":"#VALUE!"}},{"$f":"IF(A79>'Személyi Törl. csökkentő fiók'!$J$10,0,'Személyi Törl. csökkentő fiók'!$B$28)","v":0},{"$error":"#VALUE!"},{"$f":"IF(A79>'Személyi Törl. csökkentő fiók'!$J$10,0,'Személyi Törl. csökkentő fiók'!$J$11)","v":0},{"$f":"IF(OR(A79>'Személyi Törl. csökkentő fiók'!$J$10,'Személyi Törl. csökkentő fiók'!$B$24='Személyi Törl. csökkentő fiók'!$T$5),0,'Személyi Törl. csökkentő fiók'!$J$12+'Személyi Törl. csökkentő fiók'!$J$13)","v":0},0,null,null,0,{"$f":"IRR($K$2:K79,0.05)","v":{"$error":"#VALUE!"}}]
[78,{"$error":"#VALUE!"},{"$f":"B80*'Személyi Törl. csökkentő fiók'!$B$27/12","v":{"$error":"#VALUE!"}},{"$f":"IF(A80>'Személyi Törl. csökkentő fiók'!$J$10,0,'Személyi Törl. csökkentő fiók'!$B$28)","v":0},{"$error":"#VALUE!"},{"$f":"IF(A80>'Személyi Törl. csökkentő fiók'!$J$10,0,'Személyi Törl. csökkentő fiók'!$J$11)","v":0},{"$f":"IF(OR(A80>'Személyi Törl. csökkentő fiók'!$J$10,'Személyi Törl. csökkentő fiók'!$B$24='Személyi Törl. csökkentő fiók'!$T$5),0,'Személyi Törl. csökkentő fiók'!$J$12+'Személyi Törl. csökkentő fiók'!$J$13)","v":0},0,null,null,0,{"$f":"IRR($K$2:K80,0.05)","v":{"$error":"#VALUE!"}}]
[79,{"$error":"#VALUE!"},{"$f":"B81*'Személyi Törl. csökkentő fiók'!$B$27/12","v":{"$error":"#VALUE!"}},{"$f":"IF(A81>'Személyi Törl. csökkentő fiók'!$J$10,0,'Személyi Törl. csökkentő fiók'!$B$28)","v":0},{"$error":"#VALUE!"},{"$f":"IF(A81>'Személyi Törl. csökkentő fiók'!$J$10,0,'Személyi Törl. csökkentő fiók'!$J$11)","v":0},{"$f":"IF(OR(A81>'Személyi Törl. csökkentő fiók'!$J$10,'Személyi Törl. csökkentő fiók'!$B$24='Személyi Törl. csökkentő fiók'!$T$5),0,'Személyi Törl. csökkentő fiók'!$J$12+'Személyi Törl. csökkentő fiók'!$J$13)","v":0},0,null,null,0,{"$f":"IRR($K$2:K81,0.05)","v":{"$error":"#VALUE!"}}]
[80,{"$error":"#VALUE!"},{"$f":"B82*'Személyi Törl. csökkentő fiók'!$B$27/12","v":{"$error":"#VALUE!"}},{"$f":"IF(A82>'Személyi Törl. csökkentő fiók'!$J$10,0,'Személyi Törl. csökkentő fiók'!$B$28)","v":0},{"$error":"#VALUE!"},{"$f":"IF(A82>'Személyi Törl. csökkentő fiók'!$J$10,0,'Személyi Törl. csökkentő fiók'!$J$11)","v":0},{"$f":"IF(OR(A82>'Személyi Törl. csökkentő fiók'!$J$10,'Személyi Törl. csökkentő fiók'!$B$24='Személyi Törl. csökkentő fiók'!$T$5),0,'Személyi Törl. csökkentő fiók'!$J$12+'Személyi Törl. csökkentő fiók'!$J$13)","v":0},0,null,null,0,{"$f":"IRR($K$2:K82,0.05)","v":{"$error":"#VALUE!"}}]
[81,{"$error":"#VALUE!"},{"$f":"B83*'Személyi Törl. csökkentő fiók'!$B$27/12","v":{"$error":"#VALUE!"}},{"$f":"IF(A83>'Személyi Törl. csökkentő fiók'!$J$10,0,'Személyi Törl. csökkentő fiók'!$B$28)","v":0},{"$error":"#VALUE!"},{"$f":"IF(A83>'Személyi Törl. csökkentő fiók'!$J$10,0,'Személyi Törl. csökkentő fiók'!$J$11)","v":0},{"$f":"IF(OR(A83>'Személyi Törl. csökkentő fiók'!$J$10,'Személyi Törl. csökkentő fiók'!$B$24='Személyi Törl. csökkentő fiók'!$T$5),0,'Személyi Törl. csökkentő fiók'!$J$12+'Személyi Törl. csökkentő fiók'!$J$13)","v":0},0,null,null,0,{"$f":"IRR($K$2:K83,0.05)","v":{"$error":"#VALUE!"}}]
[82,{"$error":"#VALUE!"},{"$f":"B84*'Személyi Törl. csökkentő fiók'!$B$27/12","v":{"$error":"#VALUE!"}},{"$f":"IF(A84>'Személyi Törl. csökkentő fiók'!$J$10,0,'Személyi Törl. csökkentő fiók'!$B$28)","v":0},{"$error":"#VALUE!"},{"$f":"IF(A84>'Személyi Törl. csökkentő fiók'!$J$10,0,'Személyi Törl. csökkentő fiók'!$J$11)","v":0},{"$f":"IF(OR(A84>'Személyi Törl. csökkentő fiók'!$J$10,'Személyi Törl. csökkentő fiók'!$B$24='Személyi Törl. csökkentő fiók'!$T$5),0,'Személyi Törl. csökkentő fiók'!$J$12+'Személyi Törl. csökkentő fiók'!$J$13)","v":0},0,null,null,0,{"$f":"IRR($K$2:K84,0.05)","v":{"$error":"#VALUE!"}}]
[83,{"$error":"#VALUE!"},{"$f":"B85*'Személyi Törl. csökkentő fiók'!$B$27/12","v":{"$error":"#VALUE!"}},{"$f":"IF(A85>'Személyi Törl. csökkentő fiók'!$J$10,0,'Személyi Törl. csökkentő fiók'!$B$28)","v":0},{"$error":"#VALUE!"},{"$f":"IF(A85>'Személyi Törl. csökkentő fiók'!$J$10,0,'Személyi Törl. csökkentő fiók'!$J$11)","v":0},{"$f":"IF(OR(A85>'Személyi Törl. csökkentő fiók'!$J$10,'Személyi Törl. csökkentő fiók'!$B$24='Személyi Törl. csökkentő fiók'!$T$5),0,'Személyi Törl. csökkentő fiók'!$J$12+'Személyi Törl. csökkentő fiók'!$J$13)","v":0},0,null,null,0,{"$f":"IRR($K$2:K85,0.05)","v":{"$error":"#VALUE!"}}]
[84,{"$error":"#VALUE!"},{"$f":"B86*'Személyi Törl. csökkentő fiók'!$B$27/12","v":{"$error":"#VALUE!"}},{"$f":"IF(A86>'Személyi Törl. csökkentő fiók'!$J$10,0,'Személyi Törl. csökkentő fiók'!$B$28)","v":0},{"$error":"#VALUE!"},{"$f":"IF(A86>'Személyi Törl. csökkentő fiók'!$J$10,0,'Személyi Törl. csökkentő fiók'!$J$11)","v":0},{"$f":"IF(OR(A86>'Személyi Törl. csökkentő fiók'!$J$10,'Személyi Törl. csökkentő fiók'!$B$24='Személyi Törl. csökkentő fiók'!$T$5),0,'Személyi Törl. csökkentő fiók'!$J$12+'Személyi Törl. csökkentő fiók'!$J$13)","v":0},0,null,null,0,{"$f":"IRR($K$2:K86,0.05)","v":{"$error":"#VALUE!"}}]
[85,{"$error":"#VALUE!"},{"$f":"B87*'Személyi Törl. csökkentő fiók'!$B$27/12","v":{"$error":"#VALUE!"}},{"$f":"IF(A87>'Személyi Törl. csökkentő fiók'!$J$10,0,'Személyi Törl. csökkentő fiók'!$B$28)","v":0},{"$error":"#VALUE!"},{"$f":"IF(A87>'Személyi Törl. csökkentő fiók'!$J$10,0,'Személyi Törl. csökkentő fiók'!$J$11)","v":0},{"$f":"IF(OR(A87>'Személyi Törl. csökkentő fiók'!$J$10,'Személyi Törl. csökkentő fiók'!$B$24='Személyi Törl. csökkentő fiók'!$T$5),0,'Személyi Törl. csökkentő fiók'!$J$12+'Személyi Törl. csökkentő fiók'!$J$13)","v":0},0,null,null,0,{"$f":"IRR($K$2:K87,0.05)","v":{"$error":"#VALUE!"}}]
[86,{"$error":"#VALUE!"},{"$f":"B88*'Személyi Törl. csökkentő fiók'!$B$27/12","v":{"$error":"#VALUE!"}},{"$f":"IF(A88>'Személyi Törl. csökkentő fiók'!$J$10,0,'Személyi Törl. csökkentő fiók'!$B$28)","v":0},{"$error":"#VALUE!"},{"$f":"IF(A88>'Személyi Törl. csökkentő fiók'!$J$10,0,'Személyi Törl. csökkentő fiók'!$J$11)","v":0},{"$f":"IF(OR(A88>'Személyi Törl. csökkentő fiók'!$J$10,'Személyi Törl. csökkentő fiók'!$B$24='Személyi Törl. csökkentő fiók'!$T$5),0,'Személyi Törl. csökkentő fiók'!$J$12+'Személyi Törl. csökkentő fiók'!$J$13)","v":0},0,null,null,0,{"$f":"IRR($K$2:K88,0.05)","v":{"$error":"#VALUE!"}}]
[87,{"$error":"#VALUE!"},{"$f":"B89*'Személyi Törl. csökkentő fiók'!$B$27/12","v":{"$error":"#VALUE!"}},{"$f":"IF(A89>'Személyi Törl. csökkentő fiók'!$J$10,0,'Személyi Törl. csökkentő fiók'!$B$28)","v":0},{"$error":"#VALUE!"},{"$f":"IF(A89>'Személyi Törl. csökkentő fiók'!$J$10,0,'Személyi Törl. csökkentő fiók'!$J$11)","v":0},{"$f":"IF(OR(A89>'Személyi Törl. csökkentő fiók'!$J$10,'Személyi Törl. csökkentő fiók'!$B$24='Személyi Törl. csökkentő fiók'!$T$5),0,'Személyi Törl. csökkentő fiók'!$J$12+'Személyi Törl. csökkentő fiók'!$J$13)","v":0},0,null,null,0,{"$f":"IRR($K$2:K89,0.05)","v":{"$error":"#VALUE!"}}]
[88,{"$error":"#VALUE!"},{"$f":"B90*'Személyi Törl. csökkentő fiók'!$B$27/12","v":{"$error":"#VALUE!"}},{"$f":"IF(A90>'Személyi Törl. csökkentő fiók'!$J$10,0,'Személyi Törl. csökkentő fiók'!$B$28)","v":0},{"$error":"#VALUE!"},{"$f":"IF(A90>'Személyi Törl. csökkentő fiók'!$J$10,0,'Személyi Törl. csökkentő fiók'!$J$11)","v":0},{"$f":"IF(OR(A90>'Személyi Törl. csökkentő fiók'!$J$10,'Személyi Törl. csökkentő fiók'!$B$24='Személyi Törl. csökkentő fiók'!$T$5),0,'Személyi Törl. csökkentő fiók'!$J$12+'Személyi Törl. csökkentő fiók'!$J$13)","v":0},0,null,null,0,{"$f":"IRR($K$2:K90,0.05)","v":{"$error":"#VALUE!"}}]
[89,{"$error":"#VALUE!"},{"$f":"B91*'Személyi Törl. csökkentő fiók'!$B$27/12","v":{"$error":"#VALUE!"}},{"$f":"IF(A91>'Személyi Törl. csökkentő fiók'!$J$10,0,'Személyi Törl. csökkentő fiók'!$B$28)","v":0},{"$error":"#VALUE!"},{"$f":"IF(A91>'Személyi Törl. csökkentő fiók'!$J$10,0,'Személyi Törl. csökkentő fiók'!$J$11)","v":0},{"$f":"IF(OR(A91>'Személyi Törl. csökkentő fiók'!$J$10,'Személyi Törl. csökkentő fiók'!$B$24='Személyi Törl. csökkentő fiók'!$T$5),0,'Személyi Törl. csökkentő fiók'!$J$12+'Személyi Törl. csökkentő fiók'!$J$13)","v":0},0,null,null,0,{"$f":"IRR($K$2:K91,0.05)","v":{"$error":"#VALUE!"}}]
[90,{"$error":"#VALUE!"},{"$f":"B92*'Személyi Törl. csökkentő fiók'!$B$27/12","v":{"$error":"#VALUE!"}},{"$f":"IF(A92>'Személyi Törl. csökkentő fiók'!$J$10,0,'Személyi Törl. csökkentő fiók'!$B$28)","v":0},{"$error":"#VALUE!"},{"$f":"IF(A92>'Személyi Törl. csökkentő fiók'!$J$10,0,'Személyi Törl. csökkentő fiók'!$J$11)","v":0},{"$f":"IF(OR(A92>'Személyi Törl. csökkentő fiók'!$J$10,'Személyi Törl. csökkentő fiók'!$B$24='Személyi Törl. csökkentő fiók'!$T$5),0,'Személyi Törl. csökkentő fiók'!$J$12+'Személyi Törl. csökkentő fiók'!$J$13)","v":0},0,null,null,0,{"$f":"IRR($K$2:K92,0.05)","v":{"$error":"#VALUE!"}}]
[91,{"$error":"#VALUE!"},{"$f":"B93*'Személyi Törl. csökkentő fiók'!$B$27/12","v":{"$error":"#VALUE!"}},{"$f":"IF(A93>'Személyi Törl. csökkentő fiók'!$J$10,0,'Személyi Törl. csökkentő fiók'!$B$28)","v":0},{"$error":"#VALUE!"},{"$f":"IF(A93>'Személyi Törl. csökkentő fiók'!$J$10,0,'Személyi Törl. csökkentő fiók'!$J$11)","v":0},{"$f":"IF(OR(A93>'Személyi Törl. csökkentő fiók'!$J$10,'Személyi Törl. csökkentő fiók'!$B$24='Személyi Törl. csökkentő fiók'!$T$5),0,'Személyi Törl. csökkentő fiók'!$J$12+'Személyi Törl. csökkentő fiók'!$J$13)","v":0},0,null,null,0,{"$f":"IRR($K$2:K93,0.05)","v":{"$error":"#VALUE!"}}]
[92,{"$error":"#VALUE!"},{"$f":"B94*'Személyi Törl. csökkentő fiók'!$B$27/12","v":{"$error":"#VALUE!"}},{"$f":"IF(A94>'Személyi Törl. csökkentő fiók'!$J$10,0,'Személyi Törl. csökkentő fiók'!$B$28)","v":0},{"$error":"#VALUE!"},{"$f":"IF(A94>'Személyi Törl. csökkentő fiók'!$J$10,0,'Személyi Törl. csökkentő fiók'!$J$11)","v":0},{"$f":"IF(OR(A94>'Személyi Törl. csökkentő fiók'!$J$10,'Személyi Törl. csökkentő fiók'!$B$24='Személyi Törl. csökkentő fiók'!$T$5),0,'Személyi Törl. csökkentő fiók'!$J$12+'Személyi Törl. csökkentő fiók'!$J$13)","v":0},0,null,null,0,{"$f":"IRR($K$2:K94,0.05)","v":{"$error":"#VALUE!"}}]
[93,{"$error":"#VALUE!"},{"$f":"B95*'Személyi Törl. csökkentő fiók'!$B$27/12","v":{"$error":"#VALUE!"}},{"$f":"IF(A95>'Személyi Törl. csökkentő fiók'!$J$10,0,'Személyi Törl. csökkentő fiók'!$B$28)","v":0},{"$error":"#VALUE!"},{"$f":"IF(A95>'Személyi Törl. csökkentő fiók'!$J$10,0,'Személyi Törl. csökkentő fiók'!$J$11)","v":0},{"$f":"IF(OR(A95>'Személyi Törl. csökkentő fiók'!$J$10,'Személyi Törl. csökkentő fiók'!$B$24='Személyi Törl. csökkentő fiók'!$T$5),0,'Személyi Törl. csökkentő fiók'!$J$12+'Személyi Törl. csökkentő fiók'!$J$13)","v":0},0,null,null,0,{"$f":"IRR($K$2:K95,0.05)","v":{"$error":"#VALUE!"}}]
[94,{"$error":"#VALUE!"},{"$f":"B96*'Személyi Törl. csökkentő fiók'!$B$27/12","v":{"$error":"#VALUE!"}},{"$f":"IF(A96>'Személyi Törl. csökkentő fiók'!$J$10,0,'Személyi Törl. csökkentő fiók'!$B$28)","v":0},{"$error":"#VALUE!"},{"$f":"IF(A96>'Személyi Törl. csökkentő fiók'!$J$10,0,'Személyi Törl. csökkentő fiók'!$J$11)","v":0},{"$f":"IF(OR(A96>'Személyi Törl. csökkentő fiók'!$J$10,'Személyi Törl. csökkentő fiók'!$B$24='Személyi Törl. csökkentő fiók'!$T$5),0,'Személyi Törl. csökkentő fiók'!$J$12+'Személyi Törl. csökkentő fiók'!$J$13)","v":0},0,null,null,0,{"$f":"IRR($K$2:K96,0.05)","v":{"$error":"#VALUE!"}}]
[95,{"$error":"#VALUE!"},{"$f":"B97*'Személyi Törl. csökkentő fiók'!$B$27/12","v":{"$error":"#VALUE!"}},{"$f":"IF(A97>'Személyi Törl. csökkentő fiók'!$J$10,0,'Személyi Törl. csökkentő fiók'!$B$28)","v":0},{"$error":"#VALUE!"},{"$f":"IF(A97>'Személyi Törl. csökkentő fiók'!$J$10,0,'Személyi Törl. csökkentő fiók'!$J$11)","v":0},{"$f":"IF(OR(A97>'Személyi Törl. csökkentő fiók'!$J$10,'Személyi Törl. csökkentő fiók'!$B$24='Személyi Törl. csökkentő fiók'!$T$5),0,'Személyi Törl. csökkentő fiók'!$J$12+'Személyi Törl. csökkentő fiók'!$J$13)","v":0},0,null,null,0,{"$f":"IRR($K$2:K97,0.05)","v":{"$error":"#VALUE!"}}]
[96,{"$error":"#VALUE!"},{"$f":"B98*'Személyi Törl. csökkentő fiók'!$B$27/12","v":{"$error":"#VALUE!"}},{"$f":"IF(A98>'Személyi Törl. csökkentő fiók'!$J$10,0,'Személyi Törl. csökkentő fiók'!$B$28)","v":0},{"$error":"#VALUE!"},{"$f":"IF(A98>'Személyi Törl. csökkentő fiók'!$J$10,0,'Személyi Törl. csökkentő fiók'!$J$11)","v":0},{"$f":"IF(OR(A98>'Személyi Törl. csökkentő fiók'!$J$10,'Személyi Törl. csökkentő fiók'!$B$24='Személyi Törl. csökkentő fiók'!$T$5),0,'Személyi Törl. csökkentő fiók'!$J$12+'Személyi Törl. csökkentő fiók'!$J$13)","v":0},0,null,null,0,{"$f":"IRR($K$2:K98,0.05)","v":{"$error":"#VALUE!"}}]
[97,{"$error":"#VALUE!"},{"$f":"B99*'Személyi Törl. csökkentő fiók'!$B$27/12","v":{"$error":"#VALUE!"}},{"$f":"IF(A99>'Személyi Törl. csökkentő fiók'!$J$10,0,'Személyi Törl. csökkentő fiók'!$B$28)","v":0},{"$error":"#VALUE!"},{"$f":"IF(A99>'Személyi Törl. csökkentő fiók'!$J$10,0,'Személyi Törl. csökkentő fiók'!$J$11)","v":0},{"$f":"IF(OR(A99>'Személyi Törl. csökkentő fiók'!$J$10,'Személyi Törl. csökkentő fiók'!$B$24='Személyi Törl. csökkentő fiók'!$T$5),0,'Személyi Törl. csökkentő fiók'!$J$12+'Személyi Törl. csökkentő fiók'!$J$13)","v":0},0,null,null,0,{"$f":"IRR($K$2:K99,0.05)","v":{"$error":"#VALUE!"}}]
[98,{"$error":"#VALUE!"},{"$f":"B100*'Személyi Törl. csökkentő fiók'!$B$27/12","v":{"$error":"#VALUE!"}},{"$f":"IF(A100>'Személyi Törl. csökkentő fiók'!$J$10,0,'Személyi Törl. csökkentő fiók'!$B$28)","v":0},{"$error":"#VALUE!"},{"$f":"IF(A100>'Személyi Törl. csökkentő fiók'!$J$10,0,'Személyi Törl. csökkentő fiók'!$J$11)","v":0},{"$f":"IF(OR(A100>'Személyi Törl. csökkentő fiók'!$J$10,'Személyi Törl. csökkentő fiók'!$B$24='Személyi Törl. csökkentő fiók'!$T$5),0,'Személyi Törl. csökkentő fiók'!$J$12+'Személyi Törl. csökkentő fiók'!$J$13)","v":0},0,null,null,0,{"$f":"IRR($K$2:K100,0.05)","v":{"$error":"#VALUE!"}}]
[99,{"$error":"#VALUE!"},{"$f":"B101*'Személyi Törl. csökkentő fiók'!$B$27/12","v":{"$error":"#VALUE!"}},{"$f":"IF(A101>'Személyi Törl. csökkentő fiók'!$J$10,0,'Személyi Törl. csökkentő fiók'!$B$28)","v":0},{"$error":"#VALUE!"},{"$f":"IF(A101>'Személyi Törl. csökkentő fiók'!$J$10,0,'Személyi Törl. csökkentő fiók'!$J$11)","v":0},{"$f":"IF(OR(A101>'Személyi Törl. csökkentő fiók'!$J$10,'Személyi Törl. csökkentő fiók'!$B$24='Személyi Törl. csökkentő fiók'!$T$5),0,'Személyi Törl. csökkentő fiók'!$J$12+'Személyi Törl. csökkentő fiók'!$J$13)","v":0},0,null,null,0,{"$f":"IRR($K$2:K101,0.05)","v":{"$error":"#VALUE!"}}]
[100,{"$error":"#VALUE!"},{"$f":"B102*'Személyi Törl. csökkentő fiók'!$B$27/12","v":{"$error":"#VALUE!"}},{"$f":"IF(A102>'Személyi Törl. csökkentő fiók'!$J$10,0,'Személyi Törl. csökkentő fiók'!$B$28)","v":0},{"$error":"#VALUE!"},{"$f":"IF(A102>'Személyi Törl. csökkentő fiók'!$J$10,0,'Személyi Törl. csökkentő fiók'!$J$11)","v":0},{"$f":"IF(OR(A102>'Személyi Törl. csökkentő fiók'!$J$10,'Személyi Törl. csökkentő fiók'!$B$24='Személyi Törl. csökkentő fiók'!$T$5),0,'Személyi Törl. csökkentő fiók'!$J$12+'Személyi Törl. csökkentő fiók'!$J$13)","v":0},0,null,null,0,{"$f":"IRR($K$2:K102,0.05)","v":{"$error":"#VALUE!"}}]
[101,{"$error":"#VALUE!"},{"$f":"B103*'Személyi Törl. csökkentő fiók'!$B$27/12","v":{"$error":"#VALUE!"}},{"$f":"IF(A103>'Személyi Törl. csökkentő fiók'!$J$10,0,'Személyi Törl. csökkentő fiók'!$B$28)","v":0},{"$error":"#VALUE!"},{"$f":"IF(A103>'Személyi Törl. csökkentő fiók'!$J$10,0,'Személyi Törl. csökkentő fiók'!$J$11)","v":0},{"$f":"IF(OR(A103>'Személyi Törl. csökkentő fiók'!$J$10,'Személyi Törl. csökkentő fiók'!$B$24='Személyi Törl. csökkentő fiók'!$T$5),0,'Személyi Törl. csökkentő fiók'!$J$12+'Személyi Törl. csökkentő fiók'!$J$13)","v":0},0,null,null,0,{"$f":"IRR($K$2:K103,0.05)","v":{"$error":"#VALUE!"}}]
[102,{"$error":"#VALUE!"},{"$f":"B104*'Személyi Törl. csökkentő fiók'!$B$27/12","v":{"$error":"#VALUE!"}},{"$f":"IF(A104>'Személyi Törl. csökkentő fiók'!$J$10,0,'Személyi Törl. csökkentő fiók'!$B$28)","v":0},{"$error":"#VALUE!"},{"$f":"IF(A104>'Személyi Törl. csökkentő fiók'!$J$10,0,'Személyi Törl. csökkentő fiók'!$J$11)","v":0},{"$f":"IF(OR(A104>'Személyi Törl. csökkentő fiók'!$J$10,'Személyi Törl. csökkentő fiók'!$B$24='Személyi Törl. csökkentő fiók'!$T$5),0,'Személyi Törl. csökkentő fiók'!$J$12+'Személyi Törl. csökkentő fiók'!$J$13)","v":0},0,null,null,0,{"$f":"IRR($K$2:K104,0.05)","v":{"$error":"#VALUE!"}}]
[103,{"$error":"#VALUE!"},{"$f":"B105*'Személyi Törl. csökkentő fiók'!$B$27/12","v":{"$error":"#VALUE!"}},{"$f":"IF(A105>'Személyi Törl. csökkentő fiók'!$J$10,0,'Személyi Törl. csökkentő fiók'!$B$28)","v":0},{"$error":"#VALUE!"},{"$f":"IF(A105>'Személyi Törl. csökkentő fiók'!$J$10,0,'Személyi Törl. csökkentő fiók'!$J$11)","v":0},{"$f":"IF(OR(A105>'Személyi Törl. csökkentő fiók'!$J$10,'Személyi Törl. csökkentő fiók'!$B$24='Személyi Törl. csökkentő fiók'!$T$5),0,'Személyi Törl. csökkentő fiók'!$J$12+'Személyi Törl. csökkentő fiók'!$J$13)","v":0},0,null,null,0,{"$f":"IRR($K$2:K105,0.05)","v":{"$error":"#VALUE!"}}]
[104,{"$error":"#VALUE!"},{"$f":"B106*'Személyi Törl. csökkentő fiók'!$B$27/12","v":{"$error":"#VALUE!"}},{"$f":"IF(A106>'Személyi Törl. csökkentő fiók'!$J$10,0,'Személyi Törl. csökkentő fiók'!$B$28)","v":0},{"$error":"#VALUE!"},{"$f":"IF(A106>'Személyi Törl. csökkentő fiók'!$J$10,0,'Személyi Törl. csökkentő fiók'!$J$11)","v":0},{"$f":"IF(OR(A106>'Személyi Törl. csökkentő fiók'!$J$10,'Személyi Törl. csökkentő fiók'!$B$24='Személyi Törl. csökkentő fiók'!$T$5),0,'Személyi Törl. csökkentő fiók'!$J$12+'Személyi Törl. csökkentő fiók'!$J$13)","v":0},0,null,null,0,{"$f":"IRR($K$2:K106,0.05)","v":{"$error":"#VALUE!"}}]
[105,{"$error":"#VALUE!"},{"$f":"B107*'Személyi Törl. csökkentő fiók'!$B$27/12","v":{"$error":"#VALUE!"}},{"$f":"IF(A107>'Személyi Törl. csökkentő fiók'!$J$10,0,'Személyi Törl. csökkentő fiók'!$B$28)","v":0},{"$error":"#VALUE!"},{"$f":"IF(A107>'Személyi Törl. csökkentő fiók'!$J$10,0,'Személyi Törl. csökkentő fiók'!$J$11)","v":0},{"$f":"IF(OR(A107>'Személyi Törl. csökkentő fiók'!$J$10,'Személyi Törl. csökkentő fiók'!$B$24='Személyi Törl. csökkentő fiók'!$T$5),0,'Személyi Törl. csökkentő fiók'!$J$12+'Személyi Törl. csökkentő fiók'!$J$13)","v":0},0,null,null,0,{"$f":"IRR($K$2:K107,0.05)","v":{"$error":"#VALUE!"}}]
[106,{"$error":"#VALUE!"},{"$f":"B108*'Személyi Törl. csökkentő fiók'!$B$27/12","v":{"$error":"#VALUE!"}},{"$f":"IF(A108>'Személyi Törl. csökkentő fiók'!$J$10,0,'Személyi Törl. csökkentő fiók'!$B$28)","v":0},{"$error":"#VALUE!"},{"$f":"IF(A108>'Személyi Törl. csökkentő fiók'!$J$10,0,'Személyi Törl. csökkentő fiók'!$J$11)","v":0},{"$f":"IF(OR(A108>'Személyi Törl. csökkentő fiók'!$J$10,'Személyi Törl. csökkentő fiók'!$B$24='Személyi Törl. csökkentő fiók'!$T$5),0,'Személyi Törl. csökkentő fiók'!$J$12+'Személyi Törl. csökkentő fiók'!$J$13)","v":0},0,null,null,0,{"$f":"IRR($K$2:K108,0.05)","v":{"$error":"#VALUE!"}}]
[107,{"$error":"#VALUE!"},{"$f":"B109*'Személyi Törl. csökkentő fiók'!$B$27/12","v":{"$error":"#VALUE!"}},{"$f":"IF(A109>'Személyi Törl. csökkentő fiók'!$J$10,0,'Személyi Törl. csökkentő fiók'!$B$28)","v":0},{"$error":"#VALUE!"},{"$f":"IF(A109>'Személyi Törl. csökkentő fiók'!$J$10,0,'Személyi Törl. csökkentő fiók'!$J$11)","v":0},{"$f":"IF(OR(A109>'Személyi Törl. csökkentő fiók'!$J$10,'Személyi Törl. csökkentő fiók'!$B$24='Személyi Törl. csökkentő fiók'!$T$5),0,'Személyi Törl. csökkentő fiók'!$J$12+'Személyi Törl. csökkentő fiók'!$J$13)","v":0},0,null,null,0,{"$f":"IRR($K$2:K109,0.05)","v":{"$error":"#VALUE!"}}]
[108,{"$error":"#VALUE!"},{"$f":"B110*'Személyi Törl. csökkentő fiók'!$B$27/12","v":{"$error":"#VALUE!"}},{"$f":"IF(A110>'Személyi Törl. csökkentő fiók'!$J$10,0,'Személyi Törl. csökkentő fiók'!$B$28)","v":0},{"$error":"#VALUE!"},{"$f":"IF(A110>'Személyi Törl. csökkentő fiók'!$J$10,0,'Személyi Törl. csökkentő fiók'!$J$11)","v":0},{"$f":"IF(OR(A110>'Személyi Törl. csökkentő fiók'!$J$10,'Személyi Törl. csökkentő fiók'!$B$24='Személyi Törl. csökkentő fiók'!$T$5),0,'Személyi Törl. csökkentő fiók'!$J$12+'Személyi Törl. csökkentő fiók'!$J$13)","v":0},0,null,null,0,{"$f":"IRR($K$2:K110,0.05)","v":{"$error":"#VALUE!"}}]
[109,{"$error":"#VALUE!"},{"$f":"B111*'Személyi Törl. csökkentő fiók'!$B$27/12","v":{"$error":"#VALUE!"}},{"$f":"IF(A111>'Személyi Törl. csökkentő fiók'!$J$10,0,'Személyi Törl. csökkentő fiók'!$B$28)","v":0},{"$error":"#VALUE!"},{"$f":"IF(A111>'Személyi Törl. csökkentő fiók'!$J$10,0,'Személyi Törl. csökkentő fiók'!$J$11)","v":0},{"$f":"IF(OR(A111>'Személyi Törl. csökkentő fiók'!$J$10,'Személyi Törl. csökkentő fiók'!$B$24='Személyi Törl. csökkentő fiók'!$T$5),0,'Személyi Törl. csökkentő fiók'!$J$12+'Személyi Törl. csökkentő fiók'!$J$13)","v":0},0,null,null,0,{"$f":"IRR($K$2:K111,0.05)","v":{"$error":"#VALUE!"}}]
[110,{"$error":"#VALUE!"},{"$f":"B112*'Személyi Törl. csökkentő fiók'!$B$27/12","v":{"$error":"#VALUE!"}},{"$f":"IF(A112>'Személyi Törl. csökkentő fiók'!$J$10,0,'Személyi Törl. csökkentő fiók'!$B$28)","v":0},{"$error":"#VALUE!"},{"$f":"IF(A112>'Személyi Törl. csökkentő fiók'!$J$10,0,'Személyi Törl. csökkentő fiók'!$J$11)","v":0},{"$f":"IF(OR(A112>'Személyi Törl. csökkentő fiók'!$J$10,'Személyi Törl. csökkentő fiók'!$B$24='Személyi Törl. csökkentő fiók'!$T$5),0,'Személyi Törl. csökkentő fiók'!$J$12+'Személyi Törl. csökkentő fiók'!$J$13)","v":0},0,null,null,0,{"$f":"IRR($K$2:K112,0.05)","v":{"$error":"#VALUE!"}}]
[111,{"$error":"#VALUE!"},{"$f":"B113*'Személyi Törl. csökkentő fiók'!$B$27/12","v":{"$error":"#VALUE!"}},{"$f":"IF(A113>'Személyi Törl. csökkentő fiók'!$J$10,0,'Személyi Törl. csökkentő fiók'!$B$28)","v":0},{"$error":"#VALUE!"},{"$f":"IF(A113>'Személyi Törl. csökkentő fiók'!$J$10,0,'Személyi Törl. csökkentő fiók'!$J$11)","v":0},{"$f":"IF(OR(A113>'Személyi Törl. csökkentő fiók'!$J$10,'Személyi Törl. csökkentő fiók'!$B$24='Személyi Törl. csökkentő fiók'!$T$5),0,'Személyi Törl. csökkentő fiók'!$J$12+'Személyi Törl. csökkentő fiók'!$J$13)","v":0},0,null,null,0,{"$f":"IRR($K$2:K113,0.05)","v":{"$error":"#VALUE!"}}]
[112,{"$error":"#VALUE!"},{"$f":"B114*'Személyi Törl. csökkentő fiók'!$B$27/12","v":{"$error":"#VALUE!"}},{"$f":"IF(A114>'Személyi Törl. csökkentő fiók'!$J$10,0,'Személyi Törl. csökkentő fiók'!$B$28)","v":0},{"$error":"#VALUE!"},{"$f":"IF(A114>'Személyi Törl. csökkentő fiók'!$J$10,0,'Személyi Törl. csökkentő fiók'!$J$11)","v":0},{"$f":"IF(OR(A114>'Személyi Törl. csökkentő fiók'!$J$10,'Személyi Törl. csökkentő fiók'!$B$24='Személyi Törl. csökkentő fiók'!$T$5),0,'Személyi Törl. csökkentő fiók'!$J$12+'Személyi Törl. csökkentő fiók'!$J$13)","v":0},0,null,null,0,{"$f":"IRR($K$2:K114,0.05)","v":{"$error":"#VALUE!"}}]
[113,{"$error":"#VALUE!"},{"$f":"B115*'Személyi Törl. csökkentő fiók'!$B$27/12","v":{"$error":"#VALUE!"}},{"$f":"IF(A115>'Személyi Törl. csökkentő fiók'!$J$10,0,'Személyi Törl. csökkentő fiók'!$B$28)","v":0},{"$error":"#VALUE!"},{"$f":"IF(A115>'Személyi Törl. csökkentő fiók'!$J$10,0,'Személyi Törl. csökkentő fiók'!$J$11)","v":0},{"$f":"IF(OR(A115>'Személyi Törl. csökkentő fiók'!$J$10,'Személyi Törl. csökkentő fiók'!$B$24='Személyi Törl. csökkentő fiók'!$T$5),0,'Személyi Törl. csökkentő fiók'!$J$12+'Személyi Törl. csökkentő fiók'!$J$13)","v":0},0,null,null,0,{"$f":"IRR($K$2:K115,0.05)","v":{"$error":"#VALUE!"}}]
[114,{"$error":"#VALUE!"},{"$f":"B116*'Személyi Törl. csökkentő fiók'!$B$27/12","v":{"$error":"#VALUE!"}},{"$f":"IF(A116>'Személyi Törl. csökkentő fiók'!$J$10,0,'Személyi Törl. csökkentő fiók'!$B$28)","v":0},{"$error":"#VALUE!"},{"$f":"IF(A116>'Személyi Törl. csökkentő fiók'!$J$10,0,'Személyi Törl. csökkentő fiók'!$J$11)","v":0},{"$f":"IF(OR(A116>'Személyi Törl. csökkentő fiók'!$J$10,'Személyi Törl. csökkentő fiók'!$B$24='Személyi Törl. csökkentő fiók'!$T$5),0,'Személyi Törl. csökkentő fiók'!$J$12+'Személyi Törl. csökkentő fiók'!$J$13)","v":0},0,null,null,0,{"$f":"IRR($K$2:K116,0.05)","v":{"$error":"#VALUE!"}}]
[115,{"$error":"#VALUE!"},{"$f":"B117*'Személyi Törl. csökkentő fiók'!$B$27/12","v":{"$error":"#VALUE!"}},{"$f":"IF(A117>'Személyi Törl. csökkentő fiók'!$J$10,0,'Személyi Törl. csökkentő fiók'!$B$28)","v":0},{"$error":"#VALUE!"},{"$f":"IF(A117>'Személyi Törl. csökkentő fiók'!$J$10,0,'Személyi Törl. csökkentő fiók'!$J$11)","v":0},{"$f":"IF(OR(A117>'Személyi Törl. csökkentő fiók'!$J$10,'Személyi Törl. csökkentő fiók'!$B$24='Személyi Törl. csökkentő fiók'!$T$5),0,'Személyi Törl. csökkentő fiók'!$J$12+'Személyi Törl. csökkentő fiók'!$J$13)","v":0},0,null,null,0,{"$f":"IRR($K$2:K117,0.05)","v":{"$error":"#VALUE!"}}]
[116,{"$error":"#VALUE!"},{"$f":"B118*'Személyi Törl. csökkentő fiók'!$B$27/12","v":{"$error":"#VALUE!"}},{"$f":"IF(A118>'Személyi Törl. csökkentő fiók'!$J$10,0,'Személyi Törl. csökkentő fiók'!$B$28)","v":0},{"$error":"#VALUE!"},{"$f":"IF(A118>'Személyi Törl. csökkentő fiók'!$J$10,0,'Személyi Törl. csökkentő fiók'!$J$11)","v":0},{"$f":"IF(OR(A118>'Személyi Törl. csökkentő fiók'!$J$10,'Személyi Törl. csökkentő fiók'!$B$24='Személyi Törl. csökkentő fiók'!$T$5),0,'Személyi Törl. csökkentő fiók'!$J$12+'Személyi Törl. csökkentő fiók'!$J$13)","v":0},0,null,null,0,{"$f":"IRR($K$2:K118,0.05)","v":{"$error":"#VALUE!"}}]
[117,{"$error":"#VALUE!"},{"$f":"B119*'Személyi Törl. csökkentő fiók'!$B$27/12","v":{"$error":"#VALUE!"}},{"$f":"IF(A119>'Személyi Törl. csökkentő fiók'!$J$10,0,'Személyi Törl. csökkentő fiók'!$B$28)","v":0},{"$error":"#VALUE!"},{"$f":"IF(A119>'Személyi Törl. csökkentő fiók'!$J$10,0,'Személyi Törl. csökkentő fiók'!$J$11)","v":0},{"$f":"IF(OR(A119>'Személyi Törl. csökkentő fiók'!$J$10,'Személyi Törl. csökkentő fiók'!$B$24='Személyi Törl. csökkentő fiók'!$T$5),0,'Személyi Törl. csökkentő fiók'!$J$12+'Személyi Törl. csökkentő fiók'!$J$13)","v":0},0,null,null,0,{"$f":"IRR($K$2:K119,0.05)","v":{"$error":"#VALUE!"}}]
[118,{"$error":"#VALUE!"},{"$f":"B120*'Személyi Törl. csökkentő fiók'!$B$27/12","v":{"$error":"#VALUE!"}},{"$f":"IF(A120>'Személyi Törl. csökkentő fiók'!$J$10,0,'Személyi Törl. csökkentő fiók'!$B$28)","v":0},{"$error":"#VALUE!"},{"$f":"IF(A120>'Személyi Törl. csökkentő fiók'!$J$10,0,'Személyi Törl. csökkentő fiók'!$J$11)","v":0},{"$f":"IF(OR(A120>'Személyi Törl. csökkentő fiók'!$J$10,'Személyi Törl. csökkentő fiók'!$B$24='Személyi Törl. csökkentő fiók'!$T$5),0,'Személyi Törl. csökkentő fiók'!$J$12+'Személyi Törl. csökkentő fiók'!$J$13)","v":0},0,null,null,0,{"$f":"IRR($K$2:K120,0.05)","v":{"$error":"#VALUE!"}}]
[119,{"$error":"#VALUE!"},{"$f":"B121*'Személyi Törl. csökkentő fiók'!$B$27/12","v":{"$error":"#VALUE!"}},{"$f":"IF(A121>'Személyi Törl. csökkentő fiók'!$J$10,0,'Személyi Törl. csökkentő fiók'!$B$28)","v":0},{"$error":"#VALUE!"},{"$f":"IF(A121>'Személyi Törl. csökkentő fiók'!$J$10,0,'Személyi Törl. csökkentő fiók'!$J$11)","v":0},{"$f":"IF(OR(A121>'Személyi Törl. csökkentő fiók'!$J$10,'Személyi Törl. csökkentő fiók'!$B$24='Személyi Törl. csökkentő fiók'!$T$5),0,'Személyi Törl. csökkentő fiók'!$J$12+'Személyi Törl. csökkentő fiók'!$J$13)","v":0},0,null,null,0,{"$f":"IRR($K$2:K121,0.05)","v":{"$error":"#VALUE!"}}]
[120,{"$error":"#VALUE!"},{"$f":"B122*'Személyi Törl. csökkentő fiók'!$B$27/12","v":{"$error":"#VALUE!"}},{"$f":"IF(A122>'Személyi Törl. csökkentő fiók'!$J$10,0,'Személyi Törl. csökkentő fiók'!$B$28)","v":0},{"$error":"#VALUE!"},{"$f":"IF(A122>'Személyi Törl. csökkentő fiók'!$J$10,0,'Személyi Törl. csökkentő fiók'!$J$11)","v":0},{"$f":"IF(OR(A122>'Személyi Törl. csökkentő fiók'!$J$10,'Személyi Törl. csökkentő fiók'!$B$24='Személyi Törl. csökkentő fiók'!$T$5),0,'Személyi Törl. csökkentő fiók'!$J$12+'Személyi Törl. csökkentő fiók'!$J$13)","v":0},0,null,null,0,{"$f":"IRR($K$2:K122,0.05)","v":{"$error":"#VALUE!"}}]
[121,{"$error":"#VALUE!"},{"$f":"B123*'Személyi Törl. csökkentő fiók'!$B$27/12","v":{"$error":"#VALUE!"}},{"$f":"IF(A123>'Személyi Törl. csökkentő fiók'!$J$10,0,'Személyi Törl. csökkentő fiók'!$B$28)","v":0},{"$error":"#VALUE!"},{"$f":"IF(A123>'Személyi Törl. csökkentő fiók'!$J$10,0,'Személyi Törl. csökkentő fiók'!$J$11)","v":0},{"$f":"IF(OR(A123>'Személyi Törl. csökkentő fiók'!$J$10,'Személyi Törl. csökkentő fiók'!$B$24='Személyi Törl. csökkentő fiók'!$T$5),0,'Személyi Törl. csökkentő fiók'!$J$12+'Személyi Törl. csökkentő fiók'!$J$13)","v":0},0,null,null,0,{"$f":"IRR($K$2:K123,0.05)","v":{"$error":"#VALUE!"}}]
[122,{"$error":"#VALUE!"},{"$f":"B124*'Személyi Törl. csökkentő fiók'!$B$27/12","v":{"$error":"#VALUE!"}},{"$f":"IF(A124>'Személyi Törl. csökkentő fiók'!$J$10,0,'Személyi Törl. csökkentő fiók'!$B$28)","v":0},{"$error":"#VALUE!"},{"$f":"IF(A124>'Személyi Törl. csökkentő fiók'!$J$10,0,'Személyi Törl. csökkentő fiók'!$J$11)","v":0},{"$f":"IF(OR(A124>'Személyi Törl. csökkentő fiók'!$J$10,'Személyi Törl. csökkentő fiók'!$B$24='Személyi Törl. csökkentő fiók'!$T$5),0,'Személyi Törl. csökkentő fiók'!$J$12+'Személyi Törl. csökkentő fiók'!$J$13)","v":0},0,null,null,0,{"$f":"IRR($K$2:K124,0.05)","v":{"$error":"#VALUE!"}}]
[123,{"$error":"#VALUE!"},{"$f":"B125*'Személyi Törl. csökkentő fiók'!$B$27/12","v":{"$error":"#VALUE!"}},{"$f":"IF(A125>'Személyi Törl. csökkentő fiók'!$J$10,0,'Személyi Törl. csökkentő fiók'!$B$28)","v":0},{"$error":"#VALUE!"},{"$f":"IF(A125>'Személyi Törl. csökkentő fiók'!$J$10,0,'Személyi Törl. csökkentő fiók'!$J$11)","v":0},{"$f":"IF(OR(A125>'Személyi Törl. csökkentő fiók'!$J$10,'Személyi Törl. csökkentő fiók'!$B$24='Személyi Törl. csökkentő fiók'!$T$5),0,'Személyi Törl. csökkentő fiók'!$J$12+'Személyi Törl. csökkentő fiók'!$J$13)","v":0},0,null,null,0,{"$f":"IRR($K$2:K125,0.05)","v":{"$error":"#VALUE!"}}]
[124,{"$error":"#VALUE!"},{"$f":"B126*'Személyi Törl. csökkentő fiók'!$B$27/12","v":{"$error":"#VALUE!"}},{"$f":"IF(A126>'Személyi Törl. csökkentő fiók'!$J$10,0,'Személyi Törl. csökkentő fiók'!$B$28)","v":0},{"$error":"#VALUE!"},{"$f":"IF(A126>'Személyi Törl. csökkentő fiók'!$J$10,0,'Személyi Törl. csökkentő fiók'!$J$11)","v":0},{"$f":"IF(OR(A126>'Személyi Törl. csökkentő fiók'!$J$10,'Személyi Törl. csökkentő fiók'!$B$24='Személyi Törl. csökkentő fiók'!$T$5),0,'Személyi Törl. csökkentő fiók'!$J$12+'Személyi Törl. csökkentő fiók'!$J$13)","v":0},0,null,null,0,{"$f":"IRR($K$2:K126,0.05)","v":{"$error":"#VALUE!"}}]
[125,{"$error":"#VALUE!"},{"$f":"B127*'Személyi Törl. csökkentő fiók'!$B$27/12","v":{"$error":"#VALUE!"}},{"$f":"IF(A127>'Személyi Törl. csökkentő fiók'!$J$10,0,'Személyi Törl. csökkentő fiók'!$B$28)","v":0},{"$error":"#VALUE!"},{"$f":"IF(A127>'Személyi Törl. csökkentő fiók'!$J$10,0,'Személyi Törl. csökkentő fiók'!$J$11)","v":0},{"$f":"IF(OR(A127>'Személyi Törl. csökkentő fiók'!$J$10,'Személyi Törl. csökkentő fiók'!$B$24='Személyi Törl. csökkentő fiók'!$T$5),0,'Személyi Törl. csökkentő fiók'!$J$12+'Személyi Törl. csökkentő fiók'!$J$13)","v":0},0,null,null,0,{"$f":"IRR($K$2:K127,0.05)","v":{"$error":"#VALUE!"}}]
[126,{"$error":"#VALUE!"},{"$f":"B128*'Személyi Törl. csökkentő fiók'!$B$27/12","v":{"$error":"#VALUE!"}},{"$f":"IF(A128>'Személyi Törl. csökkentő fiók'!$J$10,0,'Személyi Törl. csökkentő fiók'!$B$28)","v":0},{"$error":"#VALUE!"},{"$f":"IF(A128>'Személyi Törl. csökkentő fiók'!$J$10,0,'Személyi Törl. csökkentő fiók'!$J$11)","v":0},{"$f":"IF(OR(A128>'Személyi Törl. csökkentő fiók'!$J$10,'Személyi Törl. csökkentő fiók'!$B$24='Személyi Törl. csökkentő fiók'!$T$5),0,'Személyi Törl. csökkentő fiók'!$J$12+'Személyi Törl. csökkentő fiók'!$J$13)","v":0},0,null,null,0,{"$f":"IRR($K$2:K128,0.05)","v":{"$error":"#VALUE!"}}]
[127,{"$error":"#VALUE!"},{"$f":"B129*'Személyi Törl. csökkentő fiók'!$B$27/12","v":{"$error":"#VALUE!"}},{"$f":"IF(A129>'Személyi Törl. csökkentő fiók'!$J$10,0,'Személyi Törl. csökkentő fiók'!$B$28)","v":0},{"$error":"#VALUE!"},{"$f":"IF(A129>'Személyi Törl. csökkentő fiók'!$J$10,0,'Személyi Törl. csökkentő fiók'!$J$11)","v":0},{"$f":"IF(OR(A129>'Személyi Törl. csökkentő fiók'!$J$10,'Személyi Törl. csökkentő fiók'!$B$24='Személyi Törl. csökkentő fiók'!$T$5),0,'Személyi Törl. csökkentő fiók'!$J$12+'Személyi Törl. csökkentő fiók'!$J$13)","v":0},0,null,null,0,{"$f":"IRR($K$2:K129,0.05)","v":{"$error":"#VALUE!"}}]
[128,{"$error":"#VALUE!"},{"$f":"B130*'Személyi Törl. csökkentő fiók'!$B$27/12","v":{"$error":"#VALUE!"}},{"$f":"IF(A130>'Személyi Törl. csökkentő fiók'!$J$10,0,'Személyi Törl. csökkentő fiók'!$B$28)","v":0},{"$error":"#VALUE!"},{"$f":"IF(A130>'Személyi Törl. csökkentő fiók'!$J$10,0,'Személyi Törl. csökkentő fiók'!$J$11)","v":0},{"$f":"IF(OR(A130>'Személyi Törl. csökkentő fiók'!$J$10,'Személyi Törl. csökkentő fiók'!$B$24='Személyi Törl. csökkentő fiók'!$T$5),0,'Személyi Törl. csökkentő fiók'!$J$12+'Személyi Törl. csökkentő fiók'!$J$13)","v":0},0,null,null,0,{"$f":"IRR($K$2:K130,0.05)","v":{"$error":"#VALUE!"}}]
[129,{"$error":"#VALUE!"},{"$f":"B131*'Személyi Törl. csökkentő fiók'!$B$27/12","v":{"$error":"#VALUE!"}},{"$f":"IF(A131>'Személyi Törl. csökkentő fiók'!$J$10,0,'Személyi Törl. csökkentő fiók'!$B$28)","v":0},{"$error":"#VALUE!"},{"$f":"IF(A131>'Személyi Törl. csökkentő fiók'!$J$10,0,'Személyi Törl. csökkentő fiók'!$J$11)","v":0},{"$f":"IF(OR(A131>'Személyi Törl. csökkentő fiók'!$J$10,'Személyi Törl. csökkentő fiók'!$B$24='Személyi Törl. csökkentő fiók'!$T$5),0,'Személyi Törl. csökkentő fiók'!$J$12+'Személyi Törl. csökkentő fiók'!$J$13)","v":0},0,null,null,0,{"$f":"IRR($K$2:K131,0.05)","v":{"$error":"#VALUE!"}}]
[130,{"$error":"#VALUE!"},{"$f":"B132*'Személyi Törl. csökkentő fiók'!$B$27/12","v":{"$error":"#VALUE!"}},{"$f":"IF(A132>'Személyi Törl. csökkentő fiók'!$J$10,0,'Személyi Törl. csökkentő fiók'!$B$28)","v":0},{"$f":"+B132+C132-D132","v":{"$error":"#VALUE!"}},{"$f":"IF(A132>'Személyi Törl. csökkentő fiók'!$J$10,0,'Személyi Törl. csökkentő fiók'!$J$11)","v":0},{"$f":"IF(OR(A132>'Személyi Törl. csökkentő fiók'!$J$10,'Személyi Törl. csökkentő fiók'!$B$24='Személyi Törl. csökkentő fiók'!$T$5),0,'Személyi Törl. csökkentő fiók'!$J$12+'Személyi Törl. csökkentő fiók'!$J$13)","v":0},0,null,null,{"$f":"D132+F132+G132","v":0},{"$f":"IRR($K$2:K132,0.05)","v":{"$error":"#VALUE!"}}]
[{"$f":"+A132+1","v":131},{"$f":"+E132","v":{"$error":"#VALUE!"}},{"$f":"B133*'Személyi Törl. csökkentő fiók'!$B$27/12","v":{"$error":"#VALUE!"}},{"$f":"IF(A133>'Személyi Törl. csökkentő fiók'!$J$10,0,'Személyi Törl. csökkentő fiók'!$B$28)","v":0},{"$error":"#VALUE!"},{"$f":"IF(A133>'Személyi Törl. csökkentő fiók'!$J$10,0,'Személyi Törl. csökkentő fiók'!$J$11)","v":0},{"$f":"IF(OR(A133>'Személyi Törl. csökkentő fiók'!$J$10,'Személyi Törl. csökkentő fiók'!$B$24='Személyi Törl. csökkentő fiók'!$T$5),0,'Személyi Törl. csökkentő fiók'!$J$12+'Személyi Törl. csökkentő fiók'!$J$13)","v":0},{"$f":"H132+(D133+F133+G133)/(1+$H$1)^(A133/12)","v":0},null,null,0,{"$f":"IRR($K$2:K133,0.05)","v":{"$error":"#VALUE!"}}]
[132,{"$error":"#VALUE!"},{"$f":"B134*'Személyi Törl. csökkentő fiók'!$B$27/12","v":{"$error":"#VALUE!"}},{"$f":"IF(A134>'Személyi Törl. csökkentő fiók'!$J$10,0,'Személyi Törl. csökkentő fiók'!$B$28)","v":0},{"$error":"#VALUE!"},{"$f":"IF(A134>'Személyi Törl. csökkentő fiók'!$J$10,0,'Személyi Törl. csökkentő fiók'!$J$11)","v":0},{"$f":"IF(OR(A134>'Személyi Törl. csökkentő fiók'!$J$10,'Személyi Törl. csökkentő fiók'!$B$24='Személyi Törl. csökkentő fiók'!$T$5),0,'Személyi Törl. csökkentő fiók'!$J$12+'Személyi Törl. csökkentő fiók'!$J$13)","v":0},0,null,null,0,{"$f":"IRR($K$2:K134,0.05)","v":{"$error":"#VALUE!"}}]
[133,{"$error":"#VALUE!"},{"$f":"B135*'Személyi Törl. csökkentő fiók'!$B$27/12","v":{"$error":"#VALUE!"}},{"$f":"IF(A135>'Személyi Törl. csökkentő fiók'!$J$10,0,'Személyi Törl. csökkentő fiók'!$B$28)","v":0},{"$error":"#VALUE!"},{"$f":"IF(A135>'Személyi Törl. csökkentő fiók'!$J$10,0,'Személyi Törl. csökkentő fiók'!$J$11)","v":0},{"$f":"IF(OR(A135>'Személyi Törl. csökkentő fiók'!$J$10,'Személyi Törl. csökkentő fiók'!$B$24='Személyi Törl. csökkentő fiók'!$T$5),0,'Személyi Törl. csökkentő fiók'!$J$12+'Személyi Törl. csökkentő fiók'!$J$13)","v":0},0,null,null,0,{"$f":"IRR($K$2:K135,0.05)","v":{"$error":"#VALUE!"}}]
[134,{"$error":"#VALUE!"},{"$f":"B136*'Személyi Törl. csökkentő fiók'!$B$27/12","v":{"$error":"#VALUE!"}},{"$f":"IF(A136>'Személyi Törl. csökkentő fiók'!$J$10,0,'Személyi Törl. csökkentő fiók'!$B$28)","v":0},{"$error":"#VALUE!"},{"$f":"IF(A136>'Személyi Törl. csökkentő fiók'!$J$10,0,'Személyi Törl. csökkentő fiók'!$J$11)","v":0},{"$f":"IF(OR(A136>'Személyi Törl. csökkentő fiók'!$J$10,'Személyi Törl. csökkentő fiók'!$B$24='Személyi Törl. csökkentő fiók'!$T$5),0,'Személyi Törl. csökkentő fiók'!$J$12+'Személyi Törl. csökkentő fiók'!$J$13)","v":0},0,null,null,0,{"$f":"IRR($K$2:K136,0.05)","v":{"$error":"#VALUE!"}}]
[135,{"$error":"#VALUE!"},{"$f":"B137*'Személyi Törl. csökkentő fiók'!$B$27/12","v":{"$error":"#VALUE!"}},{"$f":"IF(A137>'Személyi Törl. csökkentő fiók'!$J$10,0,'Személyi Törl. csökkentő fiók'!$B$28)","v":0},{"$error":"#VALUE!"},{"$f":"IF(A137>'Személyi Törl. csökkentő fiók'!$J$10,0,'Személyi Törl. csökkentő fiók'!$J$11)","v":0},{"$f":"IF(OR(A137>'Személyi Törl. csökkentő fiók'!$J$10,'Személyi Törl. csökkentő fiók'!$B$24='Személyi Törl. csökkentő fiók'!$T$5),0,'Személyi Törl. csökkentő fiók'!$J$12+'Személyi Törl. csökkentő fiók'!$J$13)","v":0},0,null,null,0,{"$f":"IRR($K$2:K137,0.05)","v":{"$error":"#VALUE!"}}]
[136,{"$error":"#VALUE!"},{"$f":"B138*'Személyi Törl. csökkentő fiók'!$B$27/12","v":{"$error":"#VALUE!"}},{"$f":"IF(A138>'Személyi Törl. csökkentő fiók'!$J$10,0,'Személyi Törl. csökkentő fiók'!$B$28)","v":0},{"$error":"#VALUE!"},{"$f":"IF(A138>'Személyi Törl. csökkentő fiók'!$J$10,0,'Személyi Törl. csökkentő fiók'!$J$11)","v":0},{"$f":"IF(OR(A138>'Személyi Törl. csökkentő fiók'!$J$10,'Személyi Törl. csökkentő fiók'!$B$24='Személyi Törl. csökkentő fiók'!$T$5),0,'Személyi Törl. csökkentő fiók'!$J$12+'Személyi Törl. csökkentő fiók'!$J$13)","v":0},0,null,null,0,{"$f":"IRR($K$2:K138,0.05)","v":{"$error":"#VALUE!"}}]
[137,{"$error":"#VALUE!"},{"$f":"B139*'Személyi Törl. csökkentő fiók'!$B$27/12","v":{"$error":"#VALUE!"}},{"$f":"IF(A139>'Személyi Törl. csökkentő fiók'!$J$10,0,'Személyi Törl. csökkentő fiók'!$B$28)","v":0},{"$error":"#VALUE!"},{"$f":"IF(A139>'Személyi Törl. csökkentő fiók'!$J$10,0,'Személyi Törl. csökkentő fiók'!$J$11)","v":0},{"$f":"IF(OR(A139>'Személyi Törl. csökkentő fiók'!$J$10,'Személyi Törl. csökkentő fiók'!$B$24='Személyi Törl. csökkentő fiók'!$T$5),0,'Személyi Törl. csökkentő fiók'!$J$12+'Személyi Törl. csökkentő fiók'!$J$13)","v":0},0,null,null,0,{"$f":"IRR($K$2:K139,0.05)","v":{"$error":"#VALUE!"}}]
[138,{"$error":"#VALUE!"},{"$f":"B140*'Személyi Törl. csökkentő fiók'!$B$27/12","v":{"$error":"#VALUE!"}},{"$f":"IF(A140>'Személyi Törl. csökkentő fiók'!$J$10,0,'Személyi Törl. csökkentő fiók'!$B$28)","v":0},{"$error":"#VALUE!"},{"$f":"IF(A140>'Személyi Törl. csökkentő fiók'!$J$10,0,'Személyi Törl. csökkentő fiók'!$J$11)","v":0},{"$f":"IF(OR(A140>'Személyi Törl. csökkentő fiók'!$J$10,'Személyi Törl. csökkentő fiók'!$B$24='Személyi Törl. csökkentő fiók'!$T$5),0,'Személyi Törl. csökkentő fiók'!$J$12+'Személyi Törl. csökkentő fiók'!$J$13)","v":0},0,null,null,0,{"$f":"IRR($K$2:K140,0.05)","v":{"$error":"#VALUE!"}}]
[139,{"$error":"#VALUE!"},{"$f":"B141*'Személyi Törl. csökkentő fiók'!$B$27/12","v":{"$error":"#VALUE!"}},{"$f":"IF(A141>'Személyi Törl. csökkentő fiók'!$J$10,0,'Személyi Törl. csökkentő fiók'!$B$28)","v":0},{"$error":"#VALUE!"},{"$f":"IF(A141>'Személyi Törl. csökkentő fiók'!$J$10,0,'Személyi Törl. csökkentő fiók'!$J$11)","v":0},{"$f":"IF(OR(A141>'Személyi Törl. csökkentő fiók'!$J$10,'Személyi Törl. csökkentő fiók'!$B$24='Személyi Törl. csökkentő fiók'!$T$5),0,'Személyi Törl. csökkentő fiók'!$J$12+'Személyi Törl. csökkentő fiók'!$J$13)","v":0},0,null,null,0,{"$f":"IRR($K$2:K141,0.05)","v":{"$error":"#VALUE!"}}]
[140,{"$error":"#VALUE!"},{"$f":"B142*'Személyi Törl. csökkentő fiók'!$B$27/12","v":{"$error":"#VALUE!"}},{"$f":"IF(A142>'Személyi Törl. csökkentő fiók'!$J$10,0,'Személyi Törl. csökkentő fiók'!$B$28)","v":0},{"$error":"#VALUE!"},{"$f":"IF(A142>'Személyi Törl. csökkentő fiók'!$J$10,0,'Személyi Törl. csökkentő fiók'!$J$11)","v":0},{"$f":"IF(OR(A142>'Személyi Törl. csökkentő fiók'!$J$10,'Személyi Törl. csökkentő fiók'!$B$24='Személyi Törl. csökkentő fiók'!$T$5),0,'Személyi Törl. csökkentő fiók'!$J$12+'Személyi Törl. csökkentő fiók'!$J$13)","v":0},0,null,null,0,{"$f":"IRR($K$2:K142,0.05)","v":{"$error":"#VALUE!"}}]
[141,{"$error":"#VALUE!"},{"$f":"B143*'Személyi Törl. csökkentő fiók'!$B$27/12","v":{"$error":"#VALUE!"}},{"$f":"IF(A143>'Személyi Törl. csökkentő fiók'!$J$10,0,'Személyi Törl. csökkentő fiók'!$B$28)","v":0},{"$error":"#VALUE!"},{"$f":"IF(A143>'Személyi Törl. csökkentő fiók'!$J$10,0,'Személyi Törl. csökkentő fiók'!$J$11)","v":0},{"$f":"IF(OR(A143>'Személyi Törl. csökkentő fiók'!$J$10,'Személyi Törl. csökkentő fiók'!$B$24='Személyi Törl. csökkentő fiók'!$T$5),0,'Személyi Törl. csökkentő fiók'!$J$12+'Személyi Törl. csökkentő fiók'!$J$13)","v":0},0,null,null,0,{"$f":"IRR($K$2:K143,0.05)","v":{"$error":"#VALUE!"}}]
[142,{"$error":"#VALUE!"},{"$f":"B144*'Személyi Törl. csökkentő fiók'!$B$27/12","v":{"$error":"#VALUE!"}},{"$f":"IF(A144>'Személyi Törl. csökkentő fiók'!$J$10,0,'Személyi Törl. csökkentő fiók'!$B$28)","v":0},{"$error":"#VALUE!"},{"$f":"IF(A144>'Személyi Törl. csökkentő fiók'!$J$10,0,'Személyi Törl. csökkentő fiók'!$J$11)","v":0},{"$f":"IF(OR(A144>'Személyi Törl. csökkentő fiók'!$J$10,'Személyi Törl. csökkentő fiók'!$B$24='Személyi Törl. csökkentő fiók'!$T$5),0,'Személyi Törl. csökkentő fiók'!$J$12+'Személyi Törl. csökkentő fiók'!$J$13)","v":0},0,null,null,0,{"$f":"IRR($K$2:K144,0.05)","v":{"$error":"#VALUE!"}}]
[143,{"$error":"#VALUE!"},{"$f":"B145*'Személyi Törl. csökkentő fiók'!$B$27/12","v":{"$error":"#VALUE!"}},{"$f":"IF(A145>'Személyi Törl. csökkentő fiók'!$J$10,0,'Személyi Törl. csökkentő fiók'!$B$28)","v":0},{"$error":"#VALUE!"},{"$f":"IF(A145>'Személyi Törl. csökkentő fiók'!$J$10,0,'Személyi Törl. csökkentő fiók'!$J$11)","v":0},{"$f":"IF(OR(A145>'Személyi Törl. csökkentő fiók'!$J$10,'Személyi Törl. csökkentő fiók'!$B$24='Személyi Törl. csökkentő fiók'!$T$5),0,'Személyi Törl. csökkentő fiók'!$J$12+'Személyi Törl. csökkentő fiók'!$J$13)","v":0},0,null,null,0,{"$f":"IRR($K$2:K145,0.05)","v":{"$error":"#VALUE!"}}]
[144,{"$error":"#VALUE!"},{"$f":"B146*'Személyi Törl. csökkentő fiók'!$B$27/12","v":{"$error":"#VALUE!"}},{"$f":"IF(A146>'Személyi Törl. csökkentő fiók'!$J$10,0,'Személyi Törl. csökkentő fiók'!$B$28)","v":0},{"$error":"#VALUE!"},{"$f":"IF(A146>'Személyi Törl. csökkentő fiók'!$J$10,0,'Személyi Törl. csökkentő fiók'!$J$11)","v":0},{"$f":"IF(OR(A146>'Személyi Törl. csökkentő fiók'!$J$10,'Személyi Törl. csökkentő fiók'!$B$24='Személyi Törl. csökkentő fiók'!$T$5),0,'Személyi Törl. csökkentő fiók'!$J$12+'Személyi Törl. csökkentő fiók'!$J$13)","v":0},0,null,null,0,{"$f":"IRR($K$2:K146,0.05)","v":{"$error":"#VALUE!"}}]
[145,{"$error":"#VALUE!"},{"$f":"B147*'Személyi Törl. csökkentő fiók'!$B$27/12","v":{"$error":"#VALUE!"}},{"$f":"IF(A147>'Személyi Törl. csökkentő fiók'!$J$10,0,'Személyi Törl. csökkentő fiók'!$B$28)","v":0},{"$error":"#VALUE!"},{"$f":"IF(A147>'Személyi Törl. csökkentő fiók'!$J$10,0,'Személyi Törl. csökkentő fiók'!$J$11)","v":0},{"$f":"IF(OR(A147>'Személyi Törl. csökkentő fiók'!$J$10,'Személyi Törl. csökkentő fiók'!$B$24='Személyi Törl. csökkentő fiók'!$T$5),0,'Személyi Törl. csökkentő fiók'!$J$12+'Személyi Törl. csökkentő fiók'!$J$13)","v":0},0,null,null,0,{"$f":"IRR($K$2:K147,0.05)","v":{"$error":"#VALUE!"}}]
[146,{"$error":"#VALUE!"},{"$f":"B148*'Személyi Törl. csökkentő fiók'!$B$27/12","v":{"$error":"#VALUE!"}},{"$f":"IF(A148>'Személyi Törl. csökkentő fiók'!$J$10,0,'Személyi Törl. csökkentő fiók'!$B$28)","v":0},{"$error":"#VALUE!"},{"$f":"IF(A148>'Személyi Törl. csökkentő fiók'!$J$10,0,'Személyi Törl. csökkentő fiók'!$J$11)","v":0},{"$f":"IF(OR(A148>'Személyi Törl. csökkentő fiók'!$J$10,'Személyi Törl. csökkentő fiók'!$B$24='Személyi Törl. csökkentő fiók'!$T$5),0,'Személyi Törl. csökkentő fiók'!$J$12+'Személyi Törl. csökkentő fiók'!$J$13)","v":0},0,null,null,0,{"$f":"IRR($K$2:K148,0.05)","v":{"$error":"#VALUE!"}}]
[147,{"$error":"#VALUE!"},{"$f":"B149*'Személyi Törl. csökkentő fiók'!$B$27/12","v":{"$error":"#VALUE!"}},{"$f":"IF(A149>'Személyi Törl. csökkentő fiók'!$J$10,0,'Személyi Törl. csökkentő fiók'!$B$28)","v":0},{"$error":"#VALUE!"},{"$f":"IF(A149>'Személyi Törl. csökkentő fiók'!$J$10,0,'Személyi Törl. csökkentő fiók'!$J$11)","v":0},{"$f":"IF(OR(A149>'Személyi Törl. csökkentő fiók'!$J$10,'Személyi Törl. csökkentő fiók'!$B$24='Személyi Törl. csökkentő fiók'!$T$5),0,'Személyi Törl. csökkentő fiók'!$J$12+'Személyi Törl. csökkentő fiók'!$J$13)","v":0},0,null,null,0,{"$f":"IRR($K$2:K149,0.05)","v":{"$error":"#VALUE!"}}]
[148,{"$error":"#VALUE!"},{"$f":"B150*'Személyi Törl. csökkentő fiók'!$B$27/12","v":{"$error":"#VALUE!"}},{"$f":"IF(A150>'Személyi Törl. csökkentő fiók'!$J$10,0,'Személyi Törl. csökkentő fiók'!$B$28)","v":0},{"$error":"#VALUE!"},{"$f":"IF(A150>'Személyi Törl. csökkentő fiók'!$J$10,0,'Személyi Törl. csökkentő fiók'!$J$11)","v":0},{"$f":"IF(OR(A150>'Személyi Törl. csökkentő fiók'!$J$10,'Személyi Törl. csökkentő fiók'!$B$24='Személyi Törl. csökkentő fiók'!$T$5),0,'Személyi Törl. csökkentő fiók'!$J$12+'Személyi Törl. csökkentő fiók'!$J$13)","v":0},0,null,null,0,{"$f":"IRR($K$2:K150,0.05)","v":{"$error":"#VALUE!"}}]
[149,{"$error":"#VALUE!"},{"$f":"B151*'Személyi Törl. csökkentő fiók'!$B$27/12","v":{"$error":"#VALUE!"}},{"$f":"IF(A151>'Személyi Törl. csökkentő fiók'!$J$10,0,'Személyi Törl. csökkentő fiók'!$B$28)","v":0},{"$error":"#VALUE!"},{"$f":"IF(A151>'Személyi Törl. csökkentő fiók'!$J$10,0,'Személyi Törl. csökkentő fiók'!$J$11)","v":0},{"$f":"IF(OR(A151>'Személyi Törl. csökkentő fiók'!$J$10,'Személyi Törl. csökkentő fiók'!$B$24='Személyi Törl. csökkentő fiók'!$T$5),0,'Személyi Törl. csökkentő fiók'!$J$12+'Személyi Törl. csökkentő fiók'!$J$13)","v":0},0,null,null,0,{"$f":"IRR($K$2:K151,0.05)","v":{"$error":"#VALUE!"}}]
[150,{"$error":"#VALUE!"},{"$f":"B152*'Személyi Törl. csökkentő fiók'!$B$27/12","v":{"$error":"#VALUE!"}},{"$f":"IF(A152>'Személyi Törl. csökkentő fiók'!$J$10,0,'Személyi Törl. csökkentő fiók'!$B$28)","v":0},{"$error":"#VALUE!"},{"$f":"IF(A152>'Személyi Törl. csökkentő fiók'!$J$10,0,'Személyi Törl. csökkentő fiók'!$J$11)","v":0},{"$f":"IF(OR(A152>'Személyi Törl. csökkentő fiók'!$J$10,'Személyi Törl. csökkentő fiók'!$B$24='Személyi Törl. csökkentő fiók'!$T$5),0,'Személyi Törl. csökkentő fiók'!$J$12+'Személyi Törl. csökkentő fiók'!$J$13)","v":0},0,null,null,0,{"$f":"IRR($K$2:K152,0.05)","v":{"$error":"#VALUE!"}}]
[151,{"$error":"#VALUE!"},{"$f":"B153*'Személyi Törl. csökkentő fiók'!$B$27/12","v":{"$error":"#VALUE!"}},{"$f":"IF(A153>'Személyi Törl. csökkentő fiók'!$J$10,0,'Személyi Törl. csökkentő fiók'!$B$28)","v":0},{"$error":"#VALUE!"},{"$f":"IF(A153>'Személyi Törl. csökkentő fiók'!$J$10,0,'Személyi Törl. csökkentő fiók'!$J$11)","v":0},{"$f":"IF(OR(A153>'Személyi Törl. csökkentő fiók'!$J$10,'Személyi Törl. csökkentő fiók'!$B$24='Személyi Törl. csökkentő fiók'!$T$5),0,'Személyi Törl. csökkentő fiók'!$J$12+'Személyi Törl. csökkentő fiók'!$J$13)","v":0},0,null,null,0,{"$f":"IRR($K$2:K153,0.05)","v":{"$error":"#VALUE!"}}]
[152,{"$error":"#VALUE!"},{"$f":"B154*'Személyi Törl. csökkentő fiók'!$B$27/12","v":{"$error":"#VALUE!"}},{"$f":"IF(A154>'Személyi Törl. csökkentő fiók'!$J$10,0,'Személyi Törl. csökkentő fiók'!$B$28)","v":0},{"$error":"#VALUE!"},{"$f":"IF(A154>'Személyi Törl. csökkentő fiók'!$J$10,0,'Személyi Törl. csökkentő fiók'!$J$11)","v":0},{"$f":"IF(OR(A154>'Személyi Törl. csökkentő fiók'!$J$10,'Személyi Törl. csökkentő fiók'!$B$24='Személyi Törl. csökkentő fiók'!$T$5),0,'Személyi Törl. csökkentő fiók'!$J$12+'Személyi Törl. csökkentő fiók'!$J$13)","v":0},0,null,null,0,{"$f":"IRR($K$2:K154,0.05)","v":{"$error":"#VALUE!"}}]
[153,{"$error":"#VALUE!"},{"$f":"B155*'Személyi Törl. csökkentő fiók'!$B$27/12","v":{"$error":"#VALUE!"}},{"$f":"IF(A155>'Személyi Törl. csökkentő fiók'!$J$10,0,'Személyi Törl. csökkentő fiók'!$B$28)","v":0},{"$error":"#VALUE!"},{"$f":"IF(A155>'Személyi Törl. csökkentő fiók'!$J$10,0,'Személyi Törl. csökkentő fiók'!$J$11)","v":0},{"$f":"IF(OR(A155>'Személyi Törl. csökkentő fiók'!$J$10,'Személyi Törl. csökkentő fiók'!$B$24='Személyi Törl. csökkentő fiók'!$T$5),0,'Személyi Törl. csökkentő fiók'!$J$12+'Személyi Törl. csökkentő fiók'!$J$13)","v":0},0,null,null,0,{"$f":"IRR($K$2:K155,0.05)","v":{"$error":"#VALUE!"}}]
[154,{"$error":"#VALUE!"},{"$f":"B156*'Személyi Törl. csökkentő fiók'!$B$27/12","v":{"$error":"#VALUE!"}},{"$f":"IF(A156>'Személyi Törl. csökkentő fiók'!$J$10,0,'Személyi Törl. csökkentő fiók'!$B$28)","v":0},{"$error":"#VALUE!"},{"$f":"IF(A156>'Személyi Törl. csökkentő fiók'!$J$10,0,'Személyi Törl. csökkentő fiók'!$J$11)","v":0},{"$f":"IF(OR(A156>'Személyi Törl. csökkentő fiók'!$J$10,'Személyi Törl. csökkentő fiók'!$B$24='Személyi Törl. csökkentő fiók'!$T$5),0,'Személyi Törl. csökkentő fiók'!$J$12+'Személyi Törl. csökkentő fiók'!$J$13)","v":0},0,null,null,0,{"$f":"IRR($K$2:K156,0.05)","v":{"$error":"#VALUE!"}}]
[155,{"$error":"#VALUE!"},{"$f":"B157*'Személyi Törl. csökkentő fiók'!$B$27/12","v":{"$error":"#VALUE!"}},{"$f":"IF(A157>'Személyi Törl. csökkentő fiók'!$J$10,0,'Személyi Törl. csökkentő fiók'!$B$28)","v":0},{"$error":"#VALUE!"},{"$f":"IF(A157>'Személyi Törl. csökkentő fiók'!$J$10,0,'Személyi Törl. csökkentő fiók'!$J$11)","v":0},{"$f":"IF(OR(A157>'Személyi Törl. csökkentő fiók'!$J$10,'Személyi Törl. csökkentő fiók'!$B$24='Személyi Törl. csökkentő fiók'!$T$5),0,'Személyi Törl. csökkentő fiók'!$J$12+'Személyi Törl. csökkentő fiók'!$J$13)","v":0},0,null,null,0,{"$f":"IRR($K$2:K157,0.05)","v":{"$error":"#VALUE!"}}]
[156,{"$error":"#VALUE!"},{"$f":"B158*'Személyi Törl. csökkentő fiók'!$B$27/12","v":{"$error":"#VALUE!"}},{"$f":"IF(A158>'Személyi Törl. csökkentő fiók'!$J$10,0,'Személyi Törl. csökkentő fiók'!$B$28)","v":0},{"$error":"#VALUE!"},{"$f":"IF(A158>'Személyi Törl. csökkentő fiók'!$J$10,0,'Személyi Törl. csökkentő fiók'!$J$11)","v":0},{"$f":"IF(OR(A158>'Személyi Törl. csökkentő fiók'!$J$10,'Személyi Törl. csökkentő fiók'!$B$24='Személyi Törl. csökkentő fiók'!$T$5),0,'Személyi Törl. csökkentő fiók'!$J$12+'Személyi Törl. csökkentő fiók'!$J$13)","v":0},0,null,null,0,{"$f":"IRR($K$2:K158,0.05)","v":{"$error":"#VALUE!"}}]
[157,{"$error":"#VALUE!"},{"$f":"B159*'Személyi Törl. csökkentő fiók'!$B$27/12","v":{"$error":"#VALUE!"}},{"$f":"IF(A159>'Személyi Törl. csökkentő fiók'!$J$10,0,'Személyi Törl. csökkentő fiók'!$B$28)","v":0},{"$error":"#VALUE!"},{"$f":"IF(A159>'Személyi Törl. csökkentő fiók'!$J$10,0,'Személyi Törl. csökkentő fiók'!$J$11)","v":0},{"$f":"IF(OR(A159>'Személyi Törl. csökkentő fiók'!$J$10,'Személyi Törl. csökkentő fiók'!$B$24='Személyi Törl. csökkentő fiók'!$T$5),0,'Személyi Törl. csökkentő fiók'!$J$12+'Személyi Törl. csökkentő fiók'!$J$13)","v":0},0,null,null,0,{"$f":"IRR($K$2:K159,0.05)","v":{"$error":"#VALUE!"}}]
[158,{"$error":"#VALUE!"},{"$f":"B160*'Személyi Törl. csökkentő fiók'!$B$27/12","v":{"$error":"#VALUE!"}},{"$f":"IF(A160>'Személyi Törl. csökkentő fiók'!$J$10,0,'Személyi Törl. csökkentő fiók'!$B$28)","v":0},{"$error":"#VALUE!"},{"$f":"IF(A160>'Személyi Törl. csökkentő fiók'!$J$10,0,'Személyi Törl. csökkentő fiók'!$J$11)","v":0},{"$f":"IF(OR(A160>'Személyi Törl. csökkentő fiók'!$J$10,'Személyi Törl. csökkentő fiók'!$B$24='Személyi Törl. csökkentő fiók'!$T$5),0,'Személyi Törl. csökkentő fiók'!$J$12+'Személyi Törl. csökkentő fiók'!$J$13)","v":0},0,null,null,0,{"$f":"IRR($K$2:K160,0.05)","v":{"$error":"#VALUE!"}}]
[159,{"$error":"#VALUE!"},{"$f":"B161*'Személyi Törl. csökkentő fiók'!$B$27/12","v":{"$error":"#VALUE!"}},{"$f":"IF(A161>'Személyi Törl. csökkentő fiók'!$J$10,0,'Személyi Törl. csökkentő fiók'!$B$28)","v":0},{"$error":"#VALUE!"},{"$f":"IF(A161>'Személyi Törl. csökkentő fiók'!$J$10,0,'Személyi Törl. csökkentő fiók'!$J$11)","v":0},{"$f":"IF(OR(A161>'Személyi Törl. csökkentő fiók'!$J$10,'Személyi Törl. csökkentő fiók'!$B$24='Személyi Törl. csökkentő fiók'!$T$5),0,'Személyi Törl. csökkentő fiók'!$J$12+'Személyi Törl. csökkentő fiók'!$J$13)","v":0},0,null,null,0,{"$f":"IRR($K$2:K161,0.05)","v":{"$error":"#VALUE!"}}]
[160,{"$error":"#VALUE!"},{"$f":"B162*'Személyi Törl. csökkentő fiók'!$B$27/12","v":{"$error":"#VALUE!"}},{"$f":"IF(A162>'Személyi Törl. csökkentő fiók'!$J$10,0,'Személyi Törl. csökkentő fiók'!$B$28)","v":0},{"$error":"#VALUE!"},{"$f":"IF(A162>'Személyi Törl. csökkentő fiók'!$J$10,0,'Személyi Törl. csökkentő fiók'!$J$11)","v":0},{"$f":"IF(OR(A162>'Személyi Törl. csökkentő fiók'!$J$10,'Személyi Törl. csökkentő fiók'!$B$24='Személyi Törl. csökkentő fiók'!$T$5),0,'Személyi Törl. csökkentő fiók'!$J$12+'Személyi Törl. csökkentő fiók'!$J$13)","v":0},0,null,null,0,{"$f":"IRR($K$2:K162,0.05)","v":{"$error":"#VALUE!"}}]
[161,{"$error":"#VALUE!"},{"$f":"B163*'Személyi Törl. csökkentő fiók'!$B$27/12","v":{"$error":"#VALUE!"}},{"$f":"IF(A163>'Személyi Törl. csökkentő fiók'!$J$10,0,'Személyi Törl. csökkentő fiók'!$B$28)","v":0},{"$error":"#VALUE!"},{"$f":"IF(A163>'Személyi Törl. csökkentő fiók'!$J$10,0,'Személyi Törl. csökkentő fiók'!$J$11)","v":0},{"$f":"IF(OR(A163>'Személyi Törl. csökkentő fiók'!$J$10,'Személyi Törl. csökkentő fiók'!$B$24='Személyi Törl. csökkentő fiók'!$T$5),0,'Személyi Törl. csökkentő fiók'!$J$12+'Személyi Törl. csökkentő fiók'!$J$13)","v":0},0,null,null,0,{"$f":"IRR($K$2:K163,0.05)","v":{"$error":"#VALUE!"}}]
[162,{"$error":"#VALUE!"},{"$f":"B164*'Személyi Törl. csökkentő fiók'!$B$27/12","v":{"$error":"#VALUE!"}},{"$f":"IF(A164>'Személyi Törl. csökkentő fiók'!$J$10,0,'Személyi Törl. csökkentő fiók'!$B$28)","v":0},{"$error":"#VALUE!"},{"$f":"IF(A164>'Személyi Törl. csökkentő fiók'!$J$10,0,'Személyi Törl. csökkentő fiók'!$J$11)","v":0},{"$f":"IF(OR(A164>'Személyi Törl. csökkentő fiók'!$J$10,'Személyi Törl. csökkentő fiók'!$B$24='Személyi Törl. csökkentő fiók'!$T$5),0,'Személyi Törl. csökkentő fiók'!$J$12+'Személyi Törl. csökkentő fiók'!$J$13)","v":0},0,null,null,0,{"$f":"IRR($K$2:K164,0.05)","v":{"$error":"#VALUE!"}}]
[163,{"$error":"#VALUE!"},{"$f":"B165*'Személyi Törl. csökkentő fiók'!$B$27/12","v":{"$error":"#VALUE!"}},{"$f":"IF(A165>'Személyi Törl. csökkentő fiók'!$J$10,0,'Személyi Törl. csökkentő fiók'!$B$28)","v":0},{"$error":"#VALUE!"},{"$f":"IF(A165>'Személyi Törl. csökkentő fiók'!$J$10,0,'Személyi Törl. csökkentő fiók'!$J$11)","v":0},{"$f":"IF(OR(A165>'Személyi Törl. csökkentő fiók'!$J$10,'Személyi Törl. csökkentő fiók'!$B$24='Személyi Törl. csökkentő fiók'!$T$5),0,'Személyi Törl. csökkentő fiók'!$J$12+'Személyi Törl. csökkentő fiók'!$J$13)","v":0},0,null,null,0,{"$f":"IRR($K$2:K165,0.05)","v":{"$error":"#VALUE!"}}]
[164,{"$error":"#VALUE!"},{"$f":"B166*'Személyi Törl. csökkentő fiók'!$B$27/12","v":{"$error":"#VALUE!"}},{"$f":"IF(A166>'Személyi Törl. csökkentő fiók'!$J$10,0,'Személyi Törl. csökkentő fiók'!$B$28)","v":0},{"$error":"#VALUE!"},{"$f":"IF(A166>'Személyi Törl. csökkentő fiók'!$J$10,0,'Személyi Törl. csökkentő fiók'!$J$11)","v":0},{"$f":"IF(OR(A166>'Személyi Törl. csökkentő fiók'!$J$10,'Személyi Törl. csökkentő fiók'!$B$24='Személyi Törl. csökkentő fiók'!$T$5),0,'Személyi Törl. csökkentő fiók'!$J$12+'Személyi Törl. csökkentő fiók'!$J$13)","v":0},0,null,null,0,{"$f":"IRR($K$2:K166,0.05)","v":{"$error":"#VALUE!"}}]
[165,{"$error":"#VALUE!"},{"$f":"B167*'Személyi Törl. csökkentő fiók'!$B$27/12","v":{"$error":"#VALUE!"}},{"$f":"IF(A167>'Személyi Törl. csökkentő fiók'!$J$10,0,'Személyi Törl. csökkentő fiók'!$B$28)","v":0},{"$error":"#VALUE!"},{"$f":"IF(A167>'Személyi Törl. csökkentő fiók'!$J$10,0,'Személyi Törl. csökkentő fiók'!$J$11)","v":0},{"$f":"IF(OR(A167>'Személyi Törl. csökkentő fiók'!$J$10,'Személyi Törl. csökkentő fiók'!$B$24='Személyi Törl. csökkentő fiók'!$T$5),0,'Személyi Törl. csökkentő fiók'!$J$12+'Személyi Törl. csökkentő fiók'!$J$13)","v":0},0,null,null,0,{"$f":"IRR($K$2:K167,0.05)","v":{"$error":"#VALUE!"}}]
[166,{"$error":"#VALUE!"},{"$f":"B168*'Személyi Törl. csökkentő fiók'!$B$27/12","v":{"$error":"#VALUE!"}},{"$f":"IF(A168>'Személyi Törl. csökkentő fiók'!$J$10,0,'Személyi Törl. csökkentő fiók'!$B$28)","v":0},{"$error":"#VALUE!"},{"$f":"IF(A168>'Személyi Törl. csökkentő fiók'!$J$10,0,'Személyi Törl. csökkentő fiók'!$J$11)","v":0},{"$f":"IF(OR(A168>'Személyi Törl. csökkentő fiók'!$J$10,'Személyi Törl. csökkentő fiók'!$B$24='Személyi Törl. csökkentő fiók'!$T$5),0,'Személyi Törl. csökkentő fiók'!$J$12+'Személyi Törl. csökkentő fiók'!$J$13)","v":0},0,null,null,0,{"$f":"IRR($K$2:K168,0.05)","v":{"$error":"#VALUE!"}}]
[167,{"$error":"#VALUE!"},{"$f":"B169*'Személyi Törl. csökkentő fiók'!$B$27/12","v":{"$error":"#VALUE!"}},{"$f":"IF(A169>'Személyi Törl. csökkentő fiók'!$J$10,0,'Személyi Törl. csökkentő fiók'!$B$28)","v":0},{"$error":"#VALUE!"},{"$f":"IF(A169>'Személyi Törl. csökkentő fiók'!$J$10,0,'Személyi Törl. csökkentő fiók'!$J$11)","v":0},{"$f":"IF(OR(A169>'Személyi Törl. csökkentő fiók'!$J$10,'Személyi Törl. csökkentő fiók'!$B$24='Személyi Törl. csökkentő fiók'!$T$5),0,'Személyi Törl. csökkentő fiók'!$J$12+'Személyi Törl. csökkentő fiók'!$J$13)","v":0},0,null,null,0,{"$f":"IRR($K$2:K169,0.05)","v":{"$error":"#VALUE!"}}]
[168,{"$error":"#VALUE!"},{"$f":"B170*'Személyi Törl. csökkentő fiók'!$B$27/12","v":{"$error":"#VALUE!"}},{"$f":"IF(A170>'Személyi Törl. csökkentő fiók'!$J$10,0,'Személyi Törl. csökkentő fiók'!$B$28)","v":0},{"$error":"#VALUE!"},{"$f":"IF(A170>'Személyi Törl. csökkentő fiók'!$J$10,0,'Személyi Törl. csökkentő fiók'!$J$11)","v":0},{"$f":"IF(OR(A170>'Személyi Törl. csökkentő fiók'!$J$10,'Személyi Törl. csökkentő fiók'!$B$24='Személyi Törl. csökkentő fiók'!$T$5),0,'Személyi Törl. csökkentő fiók'!$J$12+'Személyi Törl. csökkentő fiók'!$J$13)","v":0},0,null,null,0,{"$f":"IRR($K$2:K170,0.05)","v":{"$error":"#VALUE!"}}]
[169,{"$error":"#VALUE!"},{"$f":"B171*'Személyi Törl. csökkentő fiók'!$B$27/12","v":{"$error":"#VALUE!"}},{"$f":"IF(A171>'Személyi Törl. csökkentő fiók'!$J$10,0,'Személyi Törl. csökkentő fiók'!$B$28)","v":0},{"$error":"#VALUE!"},{"$f":"IF(A171>'Személyi Törl. csökkentő fiók'!$J$10,0,'Személyi Törl. csökkentő fiók'!$J$11)","v":0},{"$f":"IF(OR(A171>'Személyi Törl. csökkentő fiók'!$J$10,'Személyi Törl. csökkentő fiók'!$B$24='Személyi Törl. csökkentő fiók'!$T$5),0,'Személyi Törl. csökkentő fiók'!$J$12+'Személyi Törl. csökkentő fiók'!$J$13)","v":0},0,null,null,0,{"$f":"IRR($K$2:K171,0.05)","v":{"$error":"#VALUE!"}}]
[170,{"$error":"#VALUE!"},{"$f":"B172*'Személyi Törl. csökkentő fiók'!$B$27/12","v":{"$error":"#VALUE!"}},{"$f":"IF(A172>'Személyi Törl. csökkentő fiók'!$J$10,0,'Személyi Törl. csökkentő fiók'!$B$28)","v":0},{"$error":"#VALUE!"},{"$f":"IF(A172>'Személyi Törl. csökkentő fiók'!$J$10,0,'Személyi Törl. csökkentő fiók'!$J$11)","v":0},{"$f":"IF(OR(A172>'Személyi Törl. csökkentő fiók'!$J$10,'Személyi Törl. csökkentő fiók'!$B$24='Személyi Törl. csökkentő fiók'!$T$5),0,'Személyi Törl. csökkentő fiók'!$J$12+'Személyi Törl. csökkentő fiók'!$J$13)","v":0},0,null,null,0,{"$f":"IRR($K$2:K172,0.05)","v":{"$error":"#VALUE!"}}]
[171,{"$error":"#VALUE!"},{"$f":"B173*'Személyi Törl. csökkentő fiók'!$B$27/12","v":{"$error":"#VALUE!"}},{"$f":"IF(A173>'Személyi Törl. csökkentő fiók'!$J$10,0,'Személyi Törl. csökkentő fiók'!$B$28)","v":0},{"$error":"#VALUE!"},{"$f":"IF(A173>'Személyi Törl. csökkentő fiók'!$J$10,0,'Személyi Törl. csökkentő fiók'!$J$11)","v":0},{"$f":"IF(OR(A173>'Személyi Törl. csökkentő fiók'!$J$10,'Személyi Törl. csökkentő fiók'!$B$24='Személyi Törl. csökkentő fiók'!$T$5),0,'Személyi Törl. csökkentő fiók'!$J$12+'Személyi Törl. csökkentő fiók'!$J$13)","v":0},0,null,null,0,{"$f":"IRR($K$2:K173,0.05)","v":{"$error":"#VALUE!"}}]
[172,{"$error":"#VALUE!"},{"$f":"B174*'Személyi Törl. csökkentő fiók'!$B$27/12","v":{"$error":"#VALUE!"}},{"$f":"IF(A174>'Személyi Törl. csökkentő fiók'!$J$10,0,'Személyi Törl. csökkentő fiók'!$B$28)","v":0},{"$error":"#VALUE!"},{"$f":"IF(A174>'Személyi Törl. csökkentő fiók'!$J$10,0,'Személyi Törl. csökkentő fiók'!$J$11)","v":0},{"$f":"IF(OR(A174>'Személyi Törl. csökkentő fiók'!$J$10,'Személyi Törl. csökkentő fiók'!$B$24='Személyi Törl. csökkentő fiók'!$T$5),0,'Személyi Törl. csökkentő fiók'!$J$12+'Személyi Törl. csökkentő fiók'!$J$13)","v":0},0,null,null,0,{"$f":"IRR($K$2:K174,0.05)","v":{"$error":"#VALUE!"}}]
[173,{"$error":"#VALUE!"},{"$f":"B175*'Személyi Törl. csökkentő fiók'!$B$27/12","v":{"$error":"#VALUE!"}},{"$f":"IF(A175>'Személyi Törl. csökkentő fiók'!$J$10,0,'Személyi Törl. csökkentő fiók'!$B$28)","v":0},{"$error":"#VALUE!"},{"$f":"IF(A175>'Személyi Törl. csökkentő fiók'!$J$10,0,'Személyi Törl. csökkentő fiók'!$J$11)","v":0},{"$f":"IF(OR(A175>'Személyi Törl. csökkentő fiók'!$J$10,'Személyi Törl. csökkentő fiók'!$B$24='Személyi Törl. csökkentő fiók'!$T$5),0,'Személyi Törl. csökkentő fiók'!$J$12+'Személyi Törl. csökkentő fiók'!$J$13)","v":0},0,null,null,0,{"$f":"IRR($K$2:K175,0.05)","v":{"$error":"#VALUE!"}}]
[174,{"$error":"#VALUE!"},{"$f":"B176*'Személyi Törl. csökkentő fiók'!$B$27/12","v":{"$error":"#VALUE!"}},{"$f":"IF(A176>'Személyi Törl. csökkentő fiók'!$J$10,0,'Személyi Törl. csökkentő fiók'!$B$28)","v":0},{"$error":"#VALUE!"},{"$f":"IF(A176>'Személyi Törl. csökkentő fiók'!$J$10,0,'Személyi Törl. csökkentő fiók'!$J$11)","v":0},{"$f":"IF(OR(A176>'Személyi Törl. csökkentő fiók'!$J$10,'Személyi Törl. csökkentő fiók'!$B$24='Személyi Törl. csökkentő fiók'!$T$5),0,'Személyi Törl. csökkentő fiók'!$J$12+'Személyi Törl. csökkentő fiók'!$J$13)","v":0},0,null,null,0,{"$f":"IRR($K$2:K176,0.05)","v":{"$error":"#VALUE!"}}]
[175,{"$error":"#VALUE!"},{"$f":"B177*'Személyi Törl. csökkentő fiók'!$B$27/12","v":{"$error":"#VALUE!"}},{"$f":"IF(A177>'Személyi Törl. csökkentő fiók'!$J$10,0,'Személyi Törl. csökkentő fiók'!$B$28)","v":0},{"$error":"#VALUE!"},{"$f":"IF(A177>'Személyi Törl. csökkentő fiók'!$J$10,0,'Személyi Törl. csökkentő fiók'!$J$11)","v":0},{"$f":"IF(OR(A177>'Személyi Törl. csökkentő fiók'!$J$10,'Személyi Törl. csökkentő fiók'!$B$24='Személyi Törl. csökkentő fiók'!$T$5),0,'Személyi Törl. csökkentő fiók'!$J$12+'Személyi Törl. csökkentő fiók'!$J$13)","v":0},0,null,null,0,{"$f":"IRR($K$2:K177,0.05)","v":{"$error":"#VALUE!"}}]
[176,{"$error":"#VALUE!"},{"$f":"B178*'Személyi Törl. csökkentő fiók'!$B$27/12","v":{"$error":"#VALUE!"}},{"$f":"IF(A178>'Személyi Törl. csökkentő fiók'!$J$10,0,'Személyi Törl. csökkentő fiók'!$B$28)","v":0},{"$error":"#VALUE!"},{"$f":"IF(A178>'Személyi Törl. csökkentő fiók'!$J$10,0,'Személyi Törl. csökkentő fiók'!$J$11)","v":0},{"$f":"IF(OR(A178>'Személyi Törl. csökkentő fiók'!$J$10,'Személyi Törl. csökkentő fiók'!$B$24='Személyi Törl. csökkentő fiók'!$T$5),0,'Személyi Törl. csökkentő fiók'!$J$12+'Személyi Törl. csökkentő fiók'!$J$13)","v":0},0,null,null,0,{"$f":"IRR($K$2:K178,0.05)","v":{"$error":"#VALUE!"}}]
[177,{"$error":"#VALUE!"},{"$f":"B179*'Személyi Törl. csökkentő fiók'!$B$27/12","v":{"$error":"#VALUE!"}},{"$f":"IF(A179>'Személyi Törl. csökkentő fiók'!$J$10,0,'Személyi Törl. csökkentő fiók'!$B$28)","v":0},{"$error":"#VALUE!"},{"$f":"IF(A179>'Személyi Törl. csökkentő fiók'!$J$10,0,'Személyi Törl. csökkentő fiók'!$J$11)","v":0},{"$f":"IF(OR(A179>'Személyi Törl. csökkentő fiók'!$J$10,'Személyi Törl. csökkentő fiók'!$B$24='Személyi Törl. csökkentő fiók'!$T$5),0,'Személyi Törl. csökkentő fiók'!$J$12+'Személyi Törl. csökkentő fiók'!$J$13)","v":0},0,null,null,0,{"$f":"IRR($K$2:K179,0.05)","v":{"$error":"#VALUE!"}}]
[178,{"$error":"#VALUE!"},{"$f":"B180*'Személyi Törl. csökkentő fiók'!$B$27/12","v":{"$error":"#VALUE!"}},{"$f":"IF(A180>'Személyi Törl. csökkentő fiók'!$J$10,0,'Személyi Törl. csökkentő fiók'!$B$28)","v":0},{"$error":"#VALUE!"},{"$f":"IF(A180>'Személyi Törl. csökkentő fiók'!$J$10,0,'Személyi Törl. csökkentő fiók'!$J$11)","v":0},{"$f":"IF(OR(A180>'Személyi Törl. csökkentő fiók'!$J$10,'Személyi Törl. csökkentő fiók'!$B$24='Személyi Törl. csökkentő fiók'!$T$5),0,'Személyi Törl. csökkentő fiók'!$J$12+'Személyi Törl. csökkentő fiók'!$J$13)","v":0},0,null,null,0,{"$f":"IRR($K$2:K180,0.05)","v":{"$error":"#VALUE!"}}]
[179,{"$error":"#VALUE!"},{"$f":"B181*'Személyi Törl. csökkentő fiók'!$B$27/12","v":{"$error":"#VALUE!"}},{"$f":"IF(A181>'Személyi Törl. csökkentő fiók'!$J$10,0,'Személyi Törl. csökkentő fiók'!$B$28)","v":0},{"$error":"#VALUE!"},{"$f":"IF(A181>'Személyi Törl. csökkentő fiók'!$J$10,0,'Személyi Törl. csökkentő fiók'!$J$11)","v":0},{"$f":"IF(OR(A181>'Személyi Törl. csökkentő fiók'!$J$10,'Személyi Törl. csökkentő fiók'!$B$24='Személyi Törl. csökkentő fiók'!$T$5),0,'Személyi Törl. csökkentő fiók'!$J$12+'Személyi Törl. csökkentő fiók'!$J$13)","v":0},0,null,null,0,{"$f":"IRR($K$2:K181,0.05)","v":{"$error":"#VALUE!"}}]
[180,{"$error":"#VALUE!"},{"$f":"B182*'Személyi Törl. csökkentő fiók'!$B$27/12","v":{"$error":"#VALUE!"}},{"$f":"IF(A182>'Személyi Törl. csökkentő fiók'!$J$10,0,'Személyi Törl. csökkentő fiók'!$B$28)","v":0},{"$error":"#VALUE!"},{"$f":"IF(A182>'Személyi Törl. csökkentő fiók'!$J$10,0,'Személyi Törl. csökkentő fiók'!$J$11)","v":0},{"$f":"IF(OR(A182>'Személyi Törl. csökkentő fiók'!$J$10,'Személyi Törl. csökkentő fiók'!$B$24='Személyi Törl. csökkentő fiók'!$T$5),0,'Személyi Törl. csökkentő fiók'!$J$12+'Személyi Törl. csökkentő fiók'!$J$13)","v":0},0,null,null,0,{"$f":"IRR($K$2:K182,0.05)","v":{"$error":"#VALUE!"}}]
[181,{"$error":"#VALUE!"},{"$f":"B183*'Személyi Törl. csökkentő fiók'!$B$27/12","v":{"$error":"#VALUE!"}},{"$f":"IF(A183>'Személyi Törl. csökkentő fiók'!$J$10,0,'Személyi Törl. csökkentő fiók'!$B$28)","v":0},{"$error":"#VALUE!"},{"$f":"IF(A183>'Személyi Törl. csökkentő fiók'!$J$10,0,'Személyi Törl. csökkentő fiók'!$J$11)","v":0},{"$f":"IF(OR(A183>'Személyi Törl. csökkentő fiók'!$J$10,'Személyi Törl. csökkentő fiók'!$B$24='Személyi Törl. csökkentő fiók'!$T$5),0,'Személyi Törl. csökkentő fiók'!$J$12+'Személyi Törl. csökkentő fiók'!$J$13)","v":0},0,null,null,0,{"$f":"IRR($K$2:K183,0.05)","v":{"$error":"#VALUE!"}}]
[182,{"$error":"#VALUE!"},{"$f":"B184*'Személyi Törl. csökkentő fiók'!$B$27/12","v":{"$error":"#VALUE!"}},{"$f":"IF(A184>'Személyi Törl. csökkentő fiók'!$J$10,0,'Személyi Törl. csökkentő fiók'!$B$28)","v":0},{"$error":"#VALUE!"},{"$f":"IF(A184>'Személyi Törl. csökkentő fiók'!$J$10,0,'Személyi Törl. csökkentő fiók'!$J$11)","v":0},{"$f":"IF(OR(A184>'Személyi Törl. csökkentő fiók'!$J$10,'Személyi Törl. csökkentő fiók'!$B$24='Személyi Törl. csökkentő fiók'!$T$5),0,'Személyi Törl. csökkentő fiók'!$J$12+'Személyi Törl. csökkentő fiók'!$J$13)","v":0},0,null,null,0,{"$f":"IRR($K$2:K184,0.05)","v":{"$error":"#VALUE!"}}]
[183,{"$error":"#VALUE!"},{"$f":"B185*'Személyi Törl. csökkentő fiók'!$B$27/12","v":{"$error":"#VALUE!"}},{"$f":"IF(A185>'Személyi Törl. csökkentő fiók'!$J$10,0,'Személyi Törl. csökkentő fiók'!$B$28)","v":0},{"$error":"#VALUE!"},{"$f":"IF(A185>'Személyi Törl. csökkentő fiók'!$J$10,0,'Személyi Törl. csökkentő fiók'!$J$11)","v":0},{"$f":"IF(OR(A185>'Személyi Törl. csökkentő fiók'!$J$10,'Személyi Törl. csökkentő fiók'!$B$24='Személyi Törl. csökkentő fiók'!$T$5),0,'Személyi Törl. csökkentő fiók'!$J$12+'Személyi Törl. csökkentő fiók'!$J$13)","v":0},0,null,null,0,{"$f":"IRR($K$2:K185,0.05)","v":{"$error":"#VALUE!"}}]
[184,{"$error":"#VALUE!"},{"$f":"B186*'Személyi Törl. csökkentő fiók'!$B$27/12","v":{"$error":"#VALUE!"}},{"$f":"IF(A186>'Személyi Törl. csökkentő fiók'!$J$10,0,'Személyi Törl. csökkentő fiók'!$B$28)","v":0},{"$error":"#VALUE!"},{"$f":"IF(A186>'Személyi Törl. csökkentő fiók'!$J$10,0,'Személyi Törl. csökkentő fiók'!$J$11)","v":0},{"$f":"IF(OR(A186>'Személyi Törl. csökkentő fiók'!$J$10,'Személyi Törl. csökkentő fiók'!$B$24='Személyi Törl. csökkentő fiók'!$T$5),0,'Személyi Törl. csökkentő fiók'!$J$12+'Személyi Törl. csökkentő fiók'!$J$13)","v":0},0,null,null,0,{"$f":"IRR($K$2:K186,0.05)","v":{"$error":"#VALUE!"}}]
[185,{"$error":"#VALUE!"},{"$f":"B187*'Személyi Törl. csökkentő fiók'!$B$27/12","v":{"$error":"#VALUE!"}},{"$f":"IF(A187>'Személyi Törl. csökkentő fiók'!$J$10,0,'Személyi Törl. csökkentő fiók'!$B$28)","v":0},{"$error":"#VALUE!"},{"$f":"IF(A187>'Személyi Törl. csökkentő fiók'!$J$10,0,'Személyi Törl. csökkentő fiók'!$J$11)","v":0},{"$f":"IF(OR(A187>'Személyi Törl. csökkentő fiók'!$J$10,'Személyi Törl. csökkentő fiók'!$B$24='Személyi Törl. csökkentő fiók'!$T$5),0,'Személyi Törl. csökkentő fiók'!$J$12+'Személyi Törl. csökkentő fiók'!$J$13)","v":0},0,null,null,0,{"$f":"IRR($K$2:K187,0.05)","v":{"$error":"#VALUE!"}}]
[186,{"$error":"#VALUE!"},{"$f":"B188*'Személyi Törl. csökkentő fiók'!$B$27/12","v":{"$error":"#VALUE!"}},{"$f":"IF(A188>'Személyi Törl. csökkentő fiók'!$J$10,0,'Személyi Törl. csökkentő fiók'!$B$28)","v":0},{"$error":"#VALUE!"},{"$f":"IF(A188>'Személyi Törl. csökkentő fiók'!$J$10,0,'Személyi Törl. csökkentő fiók'!$J$11)","v":0},{"$f":"IF(OR(A188>'Személyi Törl. csökkentő fiók'!$J$10,'Személyi Törl. csökkentő fiók'!$B$24='Személyi Törl. csökkentő fiók'!$T$5),0,'Személyi Törl. csökkentő fiók'!$J$12+'Személyi Törl. csökkentő fiók'!$J$13)","v":0},0,null,null,0,{"$f":"IRR($K$2:K188,0.05)","v":{"$error":"#VALUE!"}}]
[187,{"$error":"#VALUE!"},{"$f":"B189*'Személyi Törl. csökkentő fiók'!$B$27/12","v":{"$error":"#VALUE!"}},{"$f":"IF(A189>'Személyi Törl. csökkentő fiók'!$J$10,0,'Személyi Törl. csökkentő fiók'!$B$28)","v":0},{"$error":"#VALUE!"},{"$f":"IF(A189>'Személyi Törl. csökkentő fiók'!$J$10,0,'Személyi Törl. csökkentő fiók'!$J$11)","v":0},{"$f":"IF(OR(A189>'Személyi Törl. csökkentő fiók'!$J$10,'Személyi Törl. csökkentő fiók'!$B$24='Személyi Törl. csökkentő fiók'!$T$5),0,'Személyi Törl. csökkentő fiók'!$J$12+'Személyi Törl. csökkentő fiók'!$J$13)","v":0},0,null,null,0,{"$f":"IRR($K$2:K189,0.05)","v":{"$error":"#VALUE!"}}]
[188,{"$error":"#VALUE!"},{"$f":"B190*'Személyi Törl. csökkentő fiók'!$B$27/12","v":{"$error":"#VALUE!"}},{"$f":"IF(A190>'Személyi Törl. csökkentő fiók'!$J$10,0,'Személyi Törl. csökkentő fiók'!$B$28)","v":0},{"$error":"#VALUE!"},{"$f":"IF(A190>'Személyi Törl. csökkentő fiók'!$J$10,0,'Személyi Törl. csökkentő fiók'!$J$11)","v":0},{"$f":"IF(OR(A190>'Személyi Törl. csökkentő fiók'!$J$10,'Személyi Törl. csökkentő fiók'!$B$24='Személyi Törl. csökkentő fiók'!$T$5),0,'Személyi Törl. csökkentő fiók'!$J$12+'Személyi Törl. csökkentő fiók'!$J$13)","v":0},0,null,null,0,{"$f":"IRR($K$2:K190,0.05)","v":{"$error":"#VALUE!"}}]
[189,{"$error":"#VALUE!"},{"$f":"B191*'Személyi Törl. csökkentő fiók'!$B$27/12","v":{"$error":"#VALUE!"}},{"$f":"IF(A191>'Személyi Törl. csökkentő fiók'!$J$10,0,'Személyi Törl. csökkentő fiók'!$B$28)","v":0},{"$error":"#VALUE!"},{"$f":"IF(A191>'Személyi Törl. csökkentő fiók'!$J$10,0,'Személyi Törl. csökkentő fiók'!$J$11)","v":0},{"$f":"IF(OR(A191>'Személyi Törl. csökkentő fiók'!$J$10,'Személyi Törl. csökkentő fiók'!$B$24='Személyi Törl. csökkentő fiók'!$T$5),0,'Személyi Törl. csökkentő fiók'!$J$12+'Személyi Törl. csökkentő fiók'!$J$13)","v":0},0,null,null,0,{"$f":"IRR($K$2:K191,0.05)","v":{"$error":"#VALUE!"}}]
[190,{"$error":"#VALUE!"},{"$f":"B192*'Személyi Törl. csökkentő fiók'!$B$27/12","v":{"$error":"#VALUE!"}},{"$f":"IF(A192>'Személyi Törl. csökkentő fiók'!$J$10,0,'Személyi Törl. csökkentő fiók'!$B$28)","v":0},{"$error":"#VALUE!"},{"$f":"IF(A192>'Személyi Törl. csökkentő fiók'!$J$10,0,'Személyi Törl. csökkentő fiók'!$J$11)","v":0},{"$f":"IF(OR(A192>'Személyi Törl. csökkentő fiók'!$J$10,'Személyi Törl. csökkentő fiók'!$B$24='Személyi Törl. csökkentő fiók'!$T$5),0,'Személyi Törl. csökkentő fiók'!$J$12+'Személyi Törl. csökkentő fiók'!$J$13)","v":0},0,null,null,0,{"$f":"IRR($K$2:K192,0.05)","v":{"$error":"#VALUE!"}}]
[191,{"$error":"#VALUE!"},{"$f":"B193*'Személyi Törl. csökkentő fiók'!$B$27/12","v":{"$error":"#VALUE!"}},{"$f":"IF(A193>'Személyi Törl. csökkentő fiók'!$J$10,0,'Személyi Törl. csökkentő fiók'!$B$28)","v":0},{"$error":"#VALUE!"},{"$f":"IF(A193>'Személyi Törl. csökkentő fiók'!$J$10,0,'Személyi Törl. csökkentő fiók'!$J$11)","v":0},{"$f":"IF(OR(A193>'Személyi Törl. csökkentő fiók'!$J$10,'Személyi Törl. csökkentő fiók'!$B$24='Személyi Törl. csökkentő fiók'!$T$5),0,'Személyi Törl. csökkentő fiók'!$J$12+'Személyi Törl. csökkentő fiók'!$J$13)","v":0},0,null,null,0,{"$f":"IRR($K$2:K193,0.05)","v":{"$error":"#VALUE!"}}]
[192,{"$error":"#VALUE!"},{"$f":"B194*'Személyi Törl. csökkentő fiók'!$B$27/12","v":{"$error":"#VALUE!"}},{"$f":"IF(A194>'Személyi Törl. csökkentő fiók'!$J$10,0,'Személyi Törl. csökkentő fiók'!$B$28)","v":0},{"$error":"#VALUE!"},{"$f":"IF(A194>'Személyi Törl. csökkentő fiók'!$J$10,0,'Személyi Törl. csökkentő fiók'!$J$11)","v":0},{"$f":"IF(OR(A194>'Személyi Törl. csökkentő fiók'!$J$10,'Személyi Törl. csökkentő fiók'!$B$24='Személyi Törl. csökkentő fiók'!$T$5),0,'Személyi Törl. csökkentő fiók'!$J$12+'Személyi Törl. csökkentő fiók'!$J$13)","v":0},0,null,null,0,{"$f":"IRR($K$2:K194,0.05)","v":{"$error":"#VALUE!"}}]
[193,{"$error":"#VALUE!"},{"$f":"B195*'Személyi Törl. csökkentő fiók'!$B$27/12","v":{"$error":"#VALUE!"}},{"$f":"IF(A195>'Személyi Törl. csökkentő fiók'!$J$10,0,'Személyi Törl. csökkentő fiók'!$B$28)","v":0},{"$error":"#VALUE!"},{"$f":"IF(A195>'Személyi Törl. csökkentő fiók'!$J$10,0,'Személyi Törl. csökkentő fiók'!$J$11)","v":0},{"$f":"IF(OR(A195>'Személyi Törl. csökkentő fiók'!$J$10,'Személyi Törl. csökkentő fiók'!$B$24='Személyi Törl. csökkentő fiók'!$T$5),0,'Személyi Törl. csökkentő fiók'!$J$12+'Személyi Törl. csökkentő fiók'!$J$13)","v":0},0,null,null,0,{"$f":"IRR($K$2:K195,0.05)","v":{"$error":"#VALUE!"}}]
[194,{"$error":"#VALUE!"},{"$f":"B196*'Személyi Törl. csökkentő fiók'!$B$27/12","v":{"$error":"#VALUE!"}},{"$f":"IF(A196>'Személyi Törl. csökkentő fiók'!$J$10,0,'Személyi Törl. csökkentő fiók'!$B$28)","v":0},{"$f":"+B196+C196-D196","v":{"$error":"#VALUE!"}},{"$f":"IF(A196>'Személyi Törl. csökkentő fiók'!$J$10,0,'Személyi Törl. csökkentő fiók'!$J$11)","v":0},{"$f":"IF(OR(A196>'Személyi Törl. csökkentő fiók'!$J$10,'Személyi Törl. csökkentő fiók'!$B$24='Személyi Törl. csökkentő fiók'!$T$5),0,'Személyi Törl. csökkentő fiók'!$J$12+'Személyi Törl. csökkentő fiók'!$J$13)","v":0},0,null,null,{"$f":"D196+F196+G196","v":0},{"$f":"IRR($K$2:K196,0.05)","v":{"$error":"#VALUE!"}}]
[{"$f":"+A196+1","v":195},{"$f":"+E196","v":{"$error":"#VALUE!"}},{"$f":"B197*'Személyi Törl. csökkentő fiók'!$B$27/12","v":{"$error":"#VALUE!"}},{"$f":"IF(A197>'Személyi Törl. csökkentő fiók'!$J$10,0,'Személyi Törl. csökkentő fiók'!$B$28)","v":0},{"$error":"#VALUE!"},{"$f":"IF(A197>'Személyi Törl. csökkentő fiók'!$J$10,0,'Személyi Törl. csökkentő fiók'!$J$11)","v":0},{"$f":"IF(OR(A197>'Személyi Törl. csökkentő fiók'!$J$10,'Személyi Törl. csökkentő fiók'!$B$24='Személyi Törl. csökkentő fiók'!$T$5),0,'Személyi Törl. csökkentő fiók'!$J$12+'Személyi Törl. csökkentő fiók'!$J$13)","v":0},{"$f":"H196+(D197+F197+G197)/(1+$H$1)^(A197/12)","v":0},null,null,0,{"$f":"IRR($K$2:K197,0.05)","v":{"$error":"#VALUE!"}}]
[196,{"$error":"#VALUE!"},{"$f":"B198*'Személyi Törl. csökkentő fiók'!$B$27/12","v":{"$error":"#VALUE!"}},{"$f":"IF(A198>'Személyi Törl. csökkentő fiók'!$J$10,0,'Személyi Törl. csökkentő fiók'!$B$28)","v":0},{"$error":"#VALUE!"},{"$f":"IF(A198>'Személyi Törl. csökkentő fiók'!$J$10,0,'Személyi Törl. csökkentő fiók'!$J$11)","v":0},{"$f":"IF(OR(A198>'Személyi Törl. csökkentő fiók'!$J$10,'Személyi Törl. csökkentő fiók'!$B$24='Személyi Törl. csökkentő fiók'!$T$5),0,'Személyi Törl. csökkentő fiók'!$J$12+'Személyi Törl. csökkentő fiók'!$J$13)","v":0},0,null,null,0,{"$f":"IRR($K$2:K198,0.05)","v":{"$error":"#VALUE!"}}]
[197,{"$error":"#VALUE!"},{"$f":"B199*'Személyi Törl. csökkentő fiók'!$B$27/12","v":{"$error":"#VALUE!"}},{"$f":"IF(A199>'Személyi Törl. csökkentő fiók'!$J$10,0,'Személyi Törl. csökkentő fiók'!$B$28)","v":0},{"$error":"#VALUE!"},{"$f":"IF(A199>'Személyi Törl. csökkentő fiók'!$J$10,0,'Személyi Törl. csökkentő fiók'!$J$11)","v":0},{"$f":"IF(OR(A199>'Személyi Törl. csökkentő fiók'!$J$10,'Személyi Törl. csökkentő fiók'!$B$24='Személyi Törl. csökkentő fiók'!$T$5),0,'Személyi Törl. csökkentő fiók'!$J$12+'Személyi Törl. csökkentő fiók'!$J$13)","v":0},0,null,null,0,{"$f":"IRR($K$2:K199,0.05)","v":{"$error":"#VALUE!"}}]
[198,{"$error":"#VALUE!"},{"$f":"B200*'Személyi Törl. csökkentő fiók'!$B$27/12","v":{"$error":"#VALUE!"}},{"$f":"IF(A200>'Személyi Törl. csökkentő fiók'!$J$10,0,'Személyi Törl. csökkentő fiók'!$B$28)","v":0},{"$error":"#VALUE!"},{"$f":"IF(A200>'Személyi Törl. csökkentő fiók'!$J$10,0,'Személyi Törl. csökkentő fiók'!$J$11)","v":0},{"$f":"IF(OR(A200>'Személyi Törl. csökkentő fiók'!$J$10,'Személyi Törl. csökkentő fiók'!$B$24='Személyi Törl. csökkentő fiók'!$T$5),0,'Személyi Törl. csökkentő fiók'!$J$12+'Személyi Törl. csökkentő fiók'!$J$13)","v":0},0,null,null,0,{"$f":"IRR($K$2:K200,0.05)","v":{"$error":"#VALUE!"}}]
[199,{"$error":"#VALUE!"},{"$f":"B201*'Személyi Törl. csökkentő fiók'!$B$27/12","v":{"$error":"#VALUE!"}},{"$f":"IF(A201>'Személyi Törl. csökkentő fiók'!$J$10,0,'Személyi Törl. csökkentő fiók'!$B$28)","v":0},{"$error":"#VALUE!"},{"$f":"IF(A201>'Személyi Törl. csökkentő fiók'!$J$10,0,'Személyi Törl. csökkentő fiók'!$J$11)","v":0},{"$f":"IF(OR(A201>'Személyi Törl. csökkentő fiók'!$J$10,'Személyi Törl. csökkentő fiók'!$B$24='Személyi Törl. csökkentő fiók'!$T$5),0,'Személyi Törl. csökkentő fiók'!$J$12+'Személyi Törl. csökkentő fiók'!$J$13)","v":0},0,null,null,0,{"$f":"IRR($K$2:K201,0.05)","v":{"$error":"#VALUE!"}}]
[200,{"$error":"#VALUE!"},{"$f":"B202*'Személyi Törl. csökkentő fiók'!$B$27/12","v":{"$error":"#VALUE!"}},{"$f":"IF(A202>'Személyi Törl. csökkentő fiók'!$J$10,0,'Személyi Törl. csökkentő fiók'!$B$28)","v":0},{"$error":"#VALUE!"},{"$f":"IF(A202>'Személyi Törl. csökkentő fiók'!$J$10,0,'Személyi Törl. csökkentő fiók'!$J$11)","v":0},{"$f":"IF(OR(A202>'Személyi Törl. csökkentő fiók'!$J$10,'Személyi Törl. csökkentő fiók'!$B$24='Személyi Törl. csökkentő fiók'!$T$5),0,'Személyi Törl. csökkentő fiók'!$J$12+'Személyi Törl. csökkentő fiók'!$J$13)","v":0},0,null,null,0,{"$f":"IRR($K$2:K202,0.05)","v":{"$error":"#VALUE!"}}]
[201,{"$error":"#VALUE!"},{"$f":"B203*'Személyi Törl. csökkentő fiók'!$B$27/12","v":{"$error":"#VALUE!"}},{"$f":"IF(A203>'Személyi Törl. csökkentő fiók'!$J$10,0,'Személyi Törl. csökkentő fiók'!$B$28)","v":0},{"$error":"#VALUE!"},{"$f":"IF(A203>'Személyi Törl. csökkentő fiók'!$J$10,0,'Személyi Törl. csökkentő fiók'!$J$11)","v":0},{"$f":"IF(OR(A203>'Személyi Törl. csökkentő fiók'!$J$10,'Személyi Törl. csökkentő fiók'!$B$24='Személyi Törl. csökkentő fiók'!$T$5),0,'Személyi Törl. csökkentő fiók'!$J$12+'Személyi Törl. csökkentő fiók'!$J$13)","v":0},0,null,null,0,{"$f":"IRR($K$2:K203,0.05)","v":{"$error":"#VALUE!"}}]
[202,{"$error":"#VALUE!"},{"$f":"B204*'Személyi Törl. csökkentő fiók'!$B$27/12","v":{"$error":"#VALUE!"}},{"$f":"IF(A204>'Személyi Törl. csökkentő fiók'!$J$10,0,'Személyi Törl. csökkentő fiók'!$B$28)","v":0},{"$error":"#VALUE!"},{"$f":"IF(A204>'Személyi Törl. csökkentő fiók'!$J$10,0,'Személyi Törl. csökkentő fiók'!$J$11)","v":0},{"$f":"IF(OR(A204>'Személyi Törl. csökkentő fiók'!$J$10,'Személyi Törl. csökkentő fiók'!$B$24='Személyi Törl. csökkentő fiók'!$T$5),0,'Személyi Törl. csökkentő fiók'!$J$12+'Személyi Törl. csökkentő fiók'!$J$13)","v":0},0,null,null,0,{"$f":"IRR($K$2:K204,0.05)","v":{"$error":"#VALUE!"}}]
[203,{"$error":"#VALUE!"},{"$f":"B205*'Személyi Törl. csökkentő fiók'!$B$27/12","v":{"$error":"#VALUE!"}},{"$f":"IF(A205>'Személyi Törl. csökkentő fiók'!$J$10,0,'Személyi Törl. csökkentő fiók'!$B$28)","v":0},{"$error":"#VALUE!"},{"$f":"IF(A205>'Személyi Törl. csökkentő fiók'!$J$10,0,'Személyi Törl. csökkentő fiók'!$J$11)","v":0},{"$f":"IF(OR(A205>'Személyi Törl. csökkentő fiók'!$J$10,'Személyi Törl. csökkentő fiók'!$B$24='Személyi Törl. csökkentő fiók'!$T$5),0,'Személyi Törl. csökkentő fiók'!$J$12+'Személyi Törl. csökkentő fiók'!$J$13)","v":0},0,null,null,0,{"$f":"IRR($K$2:K205,0.05)","v":{"$error":"#VALUE!"}}]
[204,{"$error":"#VALUE!"},{"$f":"B206*'Személyi Törl. csökkentő fiók'!$B$27/12","v":{"$error":"#VALUE!"}},{"$f":"IF(A206>'Személyi Törl. csökkentő fiók'!$J$10,0,'Személyi Törl. csökkentő fiók'!$B$28)","v":0},{"$error":"#VALUE!"},{"$f":"IF(A206>'Személyi Törl. csökkentő fiók'!$J$10,0,'Személyi Törl. csökkentő fiók'!$J$11)","v":0},{"$f":"IF(OR(A206>'Személyi Törl. csökkentő fiók'!$J$10,'Személyi Törl. csökkentő fiók'!$B$24='Személyi Törl. csökkentő fiók'!$T$5),0,'Személyi Törl. csökkentő fiók'!$J$12+'Személyi Törl. csökkentő fiók'!$J$13)","v":0},0,null,null,0,{"$f":"IRR($K$2:K206,0.05)","v":{"$error":"#VALUE!"}}]
[205,{"$error":"#VALUE!"},{"$f":"B207*'Személyi Törl. csökkentő fiók'!$B$27/12","v":{"$error":"#VALUE!"}},{"$f":"IF(A207>'Személyi Törl. csökkentő fiók'!$J$10,0,'Személyi Törl. csökkentő fiók'!$B$28)","v":0},{"$error":"#VALUE!"},{"$f":"IF(A207>'Személyi Törl. csökkentő fiók'!$J$10,0,'Személyi Törl. csökkentő fiók'!$J$11)","v":0},{"$f":"IF(OR(A207>'Személyi Törl. csökkentő fiók'!$J$10,'Személyi Törl. csökkentő fiók'!$B$24='Személyi Törl. csökkentő fiók'!$T$5),0,'Személyi Törl. csökkentő fiók'!$J$12+'Személyi Törl. csökkentő fiók'!$J$13)","v":0},0,null,null,0,{"$f":"IRR($K$2:K207,0.05)","v":{"$error":"#VALUE!"}}]
[206,{"$error":"#VALUE!"},{"$f":"B208*'Személyi Törl. csökkentő fiók'!$B$27/12","v":{"$error":"#VALUE!"}},{"$f":"IF(A208>'Személyi Törl. csökkentő fiók'!$J$10,0,'Személyi Törl. csökkentő fiók'!$B$28)","v":0},{"$error":"#VALUE!"},{"$f":"IF(A208>'Személyi Törl. csökkentő fiók'!$J$10,0,'Személyi Törl. csökkentő fiók'!$J$11)","v":0},{"$f":"IF(OR(A208>'Személyi Törl. csökkentő fiók'!$J$10,'Személyi Törl. csökkentő fiók'!$B$24='Személyi Törl. csökkentő fiók'!$T$5),0,'Személyi Törl. csökkentő fiók'!$J$12+'Személyi Törl. csökkentő fiók'!$J$13)","v":0},0,null,null,0,{"$f":"IRR($K$2:K208,0.05)","v":{"$error":"#VALUE!"}}]
[207,{"$error":"#VALUE!"},{"$f":"B209*'Személyi Törl. csökkentő fiók'!$B$27/12","v":{"$error":"#VALUE!"}},{"$f":"IF(A209>'Személyi Törl. csökkentő fiók'!$J$10,0,'Személyi Törl. csökkentő fiók'!$B$28)","v":0},{"$error":"#VALUE!"},{"$f":"IF(A209>'Személyi Törl. csökkentő fiók'!$J$10,0,'Személyi Törl. csökkentő fiók'!$J$11)","v":0},{"$f":"IF(OR(A209>'Személyi Törl. csökkentő fiók'!$J$10,'Személyi Törl. csökkentő fiók'!$B$24='Személyi Törl. csökkentő fiók'!$T$5),0,'Személyi Törl. csökkentő fiók'!$J$12+'Személyi Törl. csökkentő fiók'!$J$13)","v":0},0,null,null,0,{"$f":"IRR($K$2:K209,0.05)","v":{"$error":"#VALUE!"}}]
[208,{"$error":"#VALUE!"},{"$f":"B210*'Személyi Törl. csökkentő fiók'!$B$27/12","v":{"$error":"#VALUE!"}},{"$f":"IF(A210>'Személyi Törl. csökkentő fiók'!$J$10,0,'Személyi Törl. csökkentő fiók'!$B$28)","v":0},{"$error":"#VALUE!"},{"$f":"IF(A210>'Személyi Törl. csökkentő fiók'!$J$10,0,'Személyi Törl. csökkentő fiók'!$J$11)","v":0},{"$f":"IF(OR(A210>'Személyi Törl. csökkentő fiók'!$J$10,'Személyi Törl. csökkentő fiók'!$B$24='Személyi Törl. csökkentő fiók'!$T$5),0,'Személyi Törl. csökkentő fiók'!$J$12+'Személyi Törl. csökkentő fiók'!$J$13)","v":0},0,null,null,0,{"$f":"IRR($K$2:K210,0.05)","v":{"$error":"#VALUE!"}}]
[209,{"$error":"#VALUE!"},{"$f":"B211*'Személyi Törl. csökkentő fiók'!$B$27/12","v":{"$error":"#VALUE!"}},{"$f":"IF(A211>'Személyi Törl. csökkentő fiók'!$J$10,0,'Személyi Törl. csökkentő fiók'!$B$28)","v":0},{"$error":"#VALUE!"},{"$f":"IF(A211>'Személyi Törl. csökkentő fiók'!$J$10,0,'Személyi Törl. csökkentő fiók'!$J$11)","v":0},{"$f":"IF(OR(A211>'Személyi Törl. csökkentő fiók'!$J$10,'Személyi Törl. csökkentő fiók'!$B$24='Személyi Törl. csökkentő fiók'!$T$5),0,'Személyi Törl. csökkentő fiók'!$J$12+'Személyi Törl. csökkentő fiók'!$J$13)","v":0},0,null,null,0,{"$f":"IRR($K$2:K211,0.05)","v":{"$error":"#VALUE!"}}]
[210,{"$error":"#VALUE!"},{"$f":"B212*'Személyi Törl. csökkentő fiók'!$B$27/12","v":{"$error":"#VALUE!"}},{"$f":"IF(A212>'Személyi Törl. csökkentő fiók'!$J$10,0,'Személyi Törl. csökkentő fiók'!$B$28)","v":0},{"$error":"#VALUE!"},{"$f":"IF(A212>'Személyi Törl. csökkentő fiók'!$J$10,0,'Személyi Törl. csökkentő fiók'!$J$11)","v":0},{"$f":"IF(OR(A212>'Személyi Törl. csökkentő fiók'!$J$10,'Személyi Törl. csökkentő fiók'!$B$24='Személyi Törl. csökkentő fiók'!$T$5),0,'Személyi Törl. csökkentő fiók'!$J$12+'Személyi Törl. csökkentő fiók'!$J$13)","v":0},0,null,null,0,{"$f":"IRR($K$2:K212,0.05)","v":{"$error":"#VALUE!"}}]
[211,{"$error":"#VALUE!"},{"$f":"B213*'Személyi Törl. csökkentő fiók'!$B$27/12","v":{"$error":"#VALUE!"}},{"$f":"IF(A213>'Személyi Törl. csökkentő fiók'!$J$10,0,'Személyi Törl. csökkentő fiók'!$B$28)","v":0},{"$error":"#VALUE!"},{"$f":"IF(A213>'Személyi Törl. csökkentő fiók'!$J$10,0,'Személyi Törl. csökkentő fiók'!$J$11)","v":0},{"$f":"IF(OR(A213>'Személyi Törl. csökkentő fiók'!$J$10,'Személyi Törl. csökkentő fiók'!$B$24='Személyi Törl. csökkentő fiók'!$T$5),0,'Személyi Törl. csökkentő fiók'!$J$12+'Személyi Törl. csökkentő fiók'!$J$13)","v":0},0,null,null,0,{"$f":"IRR($K$2:K213,0.05)","v":{"$error":"#VALUE!"}}]
[212,{"$error":"#VALUE!"},{"$f":"B214*'Személyi Törl. csökkentő fiók'!$B$27/12","v":{"$error":"#VALUE!"}},{"$f":"IF(A214>'Személyi Törl. csökkentő fiók'!$J$10,0,'Személyi Törl. csökkentő fiók'!$B$28)","v":0},{"$error":"#VALUE!"},{"$f":"IF(A214>'Személyi Törl. csökkentő fiók'!$J$10,0,'Személyi Törl. csökkentő fiók'!$J$11)","v":0},{"$f":"IF(OR(A214>'Személyi Törl. csökkentő fiók'!$J$10,'Személyi Törl. csökkentő fiók'!$B$24='Személyi Törl. csökkentő fiók'!$T$5),0,'Személyi Törl. csökkentő fiók'!$J$12+'Személyi Törl. csökkentő fiók'!$J$13)","v":0},0,null,null,0,{"$f":"IRR($K$2:K214,0.05)","v":{"$error":"#VALUE!"}}]
[213,{"$error":"#VALUE!"},{"$f":"B215*'Személyi Törl. csökkentő fiók'!$B$27/12","v":{"$error":"#VALUE!"}},{"$f":"IF(A215>'Személyi Törl. csökkentő fiók'!$J$10,0,'Személyi Törl. csökkentő fiók'!$B$28)","v":0},{"$error":"#VALUE!"},{"$f":"IF(A215>'Személyi Törl. csökkentő fiók'!$J$10,0,'Személyi Törl. csökkentő fiók'!$J$11)","v":0},{"$f":"IF(OR(A215>'Személyi Törl. csökkentő fiók'!$J$10,'Személyi Törl. csökkentő fiók'!$B$24='Személyi Törl. csökkentő fiók'!$T$5),0,'Személyi Törl. csökkentő fiók'!$J$12+'Személyi Törl. csökkentő fiók'!$J$13)","v":0},0,null,null,0,{"$f":"IRR($K$2:K215,0.05)","v":{"$error":"#VALUE!"}}]
[214,{"$error":"#VALUE!"},{"$f":"B216*'Személyi Törl. csökkentő fiók'!$B$27/12","v":{"$error":"#VALUE!"}},{"$f":"IF(A216>'Személyi Törl. csökkentő fiók'!$J$10,0,'Személyi Törl. csökkentő fiók'!$B$28)","v":0},{"$error":"#VALUE!"},{"$f":"IF(A216>'Személyi Törl. csökkentő fiók'!$J$10,0,'Személyi Törl. csökkentő fiók'!$J$11)","v":0},{"$f":"IF(OR(A216>'Személyi Törl. csökkentő fiók'!$J$10,'Személyi Törl. csökkentő fiók'!$B$24='Személyi Törl. csökkentő fiók'!$T$5),0,'Személyi Törl. csökkentő fiók'!$J$12+'Személyi Törl. csökkentő fiók'!$J$13)","v":0},0,null,null,0,{"$f":"IRR($K$2:K216,0.05)","v":{"$error":"#VALUE!"}}]
[215,{"$error":"#VALUE!"},{"$f":"B217*'Személyi Törl. csökkentő fiók'!$B$27/12","v":{"$error":"#VALUE!"}},{"$f":"IF(A217>'Személyi Törl. csökkentő fiók'!$J$10,0,'Személyi Törl. csökkentő fiók'!$B$28)","v":0},{"$error":"#VALUE!"},{"$f":"IF(A217>'Személyi Törl. csökkentő fiók'!$J$10,0,'Személyi Törl. csökkentő fiók'!$J$11)","v":0},{"$f":"IF(OR(A217>'Személyi Törl. csökkentő fiók'!$J$10,'Személyi Törl. csökkentő fiók'!$B$24='Személyi Törl. csökkentő fiók'!$T$5),0,'Személyi Törl. csökkentő fiók'!$J$12+'Személyi Törl. csökkentő fiók'!$J$13)","v":0},0,null,null,0,{"$f":"IRR($K$2:K217,0.05)","v":{"$error":"#VALUE!"}}]
[216,{"$error":"#VALUE!"},{"$f":"B218*'Személyi Törl. csökkentő fiók'!$B$27/12","v":{"$error":"#VALUE!"}},{"$f":"IF(A218>'Személyi Törl. csökkentő fiók'!$J$10,0,'Személyi Törl. csökkentő fiók'!$B$28)","v":0},{"$error":"#VALUE!"},{"$f":"IF(A218>'Személyi Törl. csökkentő fiók'!$J$10,0,'Személyi Törl. csökkentő fiók'!$J$11)","v":0},{"$f":"IF(OR(A218>'Személyi Törl. csökkentő fiók'!$J$10,'Személyi Törl. csökkentő fiók'!$B$24='Személyi Törl. csökkentő fiók'!$T$5),0,'Személyi Törl. csökkentő fiók'!$J$12+'Személyi Törl. csökkentő fiók'!$J$13)","v":0},0,null,null,0,{"$f":"IRR($K$2:K218,0.05)","v":{"$error":"#VALUE!"}}]
[217,{"$error":"#VALUE!"},{"$f":"B219*'Személyi Törl. csökkentő fiók'!$B$27/12","v":{"$error":"#VALUE!"}},{"$f":"IF(A219>'Személyi Törl. csökkentő fiók'!$J$10,0,'Személyi Törl. csökkentő fiók'!$B$28)","v":0},{"$error":"#VALUE!"},{"$f":"IF(A219>'Személyi Törl. csökkentő fiók'!$J$10,0,'Személyi Törl. csökkentő fiók'!$J$11)","v":0},{"$f":"IF(OR(A219>'Személyi Törl. csökkentő fiók'!$J$10,'Személyi Törl. csökkentő fiók'!$B$24='Személyi Törl. csökkentő fiók'!$T$5),0,'Személyi Törl. csökkentő fiók'!$J$12+'Személyi Törl. csökkentő fiók'!$J$13)","v":0},0,null,null,0,{"$f":"IRR($K$2:K219,0.05)","v":{"$error":"#VALUE!"}}]
[218,{"$error":"#VALUE!"},{"$f":"B220*'Személyi Törl. csökkentő fiók'!$B$27/12","v":{"$error":"#VALUE!"}},{"$f":"IF(A220>'Személyi Törl. csökkentő fiók'!$J$10,0,'Személyi Törl. csökkentő fiók'!$B$28)","v":0},{"$error":"#VALUE!"},{"$f":"IF(A220>'Személyi Törl. csökkentő fiók'!$J$10,0,'Személyi Törl. csökkentő fiók'!$J$11)","v":0},{"$f":"IF(OR(A220>'Személyi Törl. csökkentő fiók'!$J$10,'Személyi Törl. csökkentő fiók'!$B$24='Személyi Törl. csökkentő fiók'!$T$5),0,'Személyi Törl. csökkentő fiók'!$J$12+'Személyi Törl. csökkentő fiók'!$J$13)","v":0},0,null,null,0,{"$f":"IRR($K$2:K220,0.05)","v":{"$error":"#VALUE!"}}]
[219,{"$error":"#VALUE!"},{"$f":"B221*'Személyi Törl. csökkentő fiók'!$B$27/12","v":{"$error":"#VALUE!"}},{"$f":"IF(A221>'Személyi Törl. csökkentő fiók'!$J$10,0,'Személyi Törl. csökkentő fiók'!$B$28)","v":0},{"$error":"#VALUE!"},{"$f":"IF(A221>'Személyi Törl. csökkentő fiók'!$J$10,0,'Személyi Törl. csökkentő fiók'!$J$11)","v":0},{"$f":"IF(OR(A221>'Személyi Törl. csökkentő fiók'!$J$10,'Személyi Törl. csökkentő fiók'!$B$24='Személyi Törl. csökkentő fiók'!$T$5),0,'Személyi Törl. csökkentő fiók'!$J$12+'Személyi Törl. csökkentő fiók'!$J$13)","v":0},0,null,null,0,{"$f":"IRR($K$2:K221,0.05)","v":{"$error":"#VALUE!"}}]
[220,{"$error":"#VALUE!"},{"$f":"B222*'Személyi Törl. csökkentő fiók'!$B$27/12","v":{"$error":"#VALUE!"}},{"$f":"IF(A222>'Személyi Törl. csökkentő fiók'!$J$10,0,'Személyi Törl. csökkentő fiók'!$B$28)","v":0},{"$error":"#VALUE!"},{"$f":"IF(A222>'Személyi Törl. csökkentő fiók'!$J$10,0,'Személyi Törl. csökkentő fiók'!$J$11)","v":0},{"$f":"IF(OR(A222>'Személyi Törl. csökkentő fiók'!$J$10,'Személyi Törl. csökkentő fiók'!$B$24='Személyi Törl. csökkentő fiók'!$T$5),0,'Személyi Törl. csökkentő fiók'!$J$12+'Személyi Törl. csökkentő fiók'!$J$13)","v":0},0,null,null,0,{"$f":"IRR($K$2:K222,0.05)","v":{"$error":"#VALUE!"}}]
[221,{"$error":"#VALUE!"},{"$f":"B223*'Személyi Törl. csökkentő fiók'!$B$27/12","v":{"$error":"#VALUE!"}},{"$f":"IF(A223>'Személyi Törl. csökkentő fiók'!$J$10,0,'Személyi Törl. csökkentő fiók'!$B$28)","v":0},{"$error":"#VALUE!"},{"$f":"IF(A223>'Személyi Törl. csökkentő fiók'!$J$10,0,'Személyi Törl. csökkentő fiók'!$J$11)","v":0},{"$f":"IF(OR(A223>'Személyi Törl. csökkentő fiók'!$J$10,'Személyi Törl. csökkentő fiók'!$B$24='Személyi Törl. csökkentő fiók'!$T$5),0,'Személyi Törl. csökkentő fiók'!$J$12+'Személyi Törl. csökkentő fiók'!$J$13)","v":0},0,null,null,0,{"$f":"IRR($K$2:K223,0.05)","v":{"$error":"#VALUE!"}}]
[222,{"$error":"#VALUE!"},{"$f":"B224*'Személyi Törl. csökkentő fiók'!$B$27/12","v":{"$error":"#VALUE!"}},{"$f":"IF(A224>'Személyi Törl. csökkentő fiók'!$J$10,0,'Személyi Törl. csökkentő fiók'!$B$28)","v":0},{"$error":"#VALUE!"},{"$f":"IF(A224>'Személyi Törl. csökkentő fiók'!$J$10,0,'Személyi Törl. csökkentő fiók'!$J$11)","v":0},{"$f":"IF(OR(A224>'Személyi Törl. csökkentő fiók'!$J$10,'Személyi Törl. csökkentő fiók'!$B$24='Személyi Törl. csökkentő fiók'!$T$5),0,'Személyi Törl. csökkentő fiók'!$J$12+'Személyi Törl. csökkentő fiók'!$J$13)","v":0},0,null,null,0,{"$f":"IRR($K$2:K224,0.05)","v":{"$error":"#VALUE!"}}]
[223,{"$error":"#VALUE!"},{"$f":"B225*'Személyi Törl. csökkentő fiók'!$B$27/12","v":{"$error":"#VALUE!"}},{"$f":"IF(A225>'Személyi Törl. csökkentő fiók'!$J$10,0,'Személyi Törl. csökkentő fiók'!$B$28)","v":0},{"$error":"#VALUE!"},{"$f":"IF(A225>'Személyi Törl. csökkentő fiók'!$J$10,0,'Személyi Törl. csökkentő fiók'!$J$11)","v":0},{"$f":"IF(OR(A225>'Személyi Törl. csökkentő fiók'!$J$10,'Személyi Törl. csökkentő fiók'!$B$24='Személyi Törl. csökkentő fiók'!$T$5),0,'Személyi Törl. csökkentő fiók'!$J$12+'Személyi Törl. csökkentő fiók'!$J$13)","v":0},0,null,null,0,{"$f":"IRR($K$2:K225,0.05)","v":{"$error":"#VALUE!"}}]
[224,{"$error":"#VALUE!"},{"$f":"B226*'Személyi Törl. csökkentő fiók'!$B$27/12","v":{"$error":"#VALUE!"}},{"$f":"IF(A226>'Személyi Törl. csökkentő fiók'!$J$10,0,'Személyi Törl. csökkentő fiók'!$B$28)","v":0},{"$error":"#VALUE!"},{"$f":"IF(A226>'Személyi Törl. csökkentő fiók'!$J$10,0,'Személyi Törl. csökkentő fiók'!$J$11)","v":0},{"$f":"IF(OR(A226>'Személyi Törl. csökkentő fiók'!$J$10,'Személyi Törl. csökkentő fiók'!$B$24='Személyi Törl. csökkentő fiók'!$T$5),0,'Személyi Törl. csökkentő fiók'!$J$12+'Személyi Törl. csökkentő fiók'!$J$13)","v":0},0,null,null,0,{"$f":"IRR($K$2:K226,0.05)","v":{"$error":"#VALUE!"}}]
[225,{"$error":"#VALUE!"},{"$f":"B227*'Személyi Törl. csökkentő fiók'!$B$27/12","v":{"$error":"#VALUE!"}},{"$f":"IF(A227>'Személyi Törl. csökkentő fiók'!$J$10,0,'Személyi Törl. csökkentő fiók'!$B$28)","v":0},{"$error":"#VALUE!"},{"$f":"IF(A227>'Személyi Törl. csökkentő fiók'!$J$10,0,'Személyi Törl. csökkentő fiók'!$J$11)","v":0},{"$f":"IF(OR(A227>'Személyi Törl. csökkentő fiók'!$J$10,'Személyi Törl. csökkentő fiók'!$B$24='Személyi Törl. csökkentő fiók'!$T$5),0,'Személyi Törl. csökkentő fiók'!$J$12+'Személyi Törl. csökkentő fiók'!$J$13)","v":0},0,null,null,0,{"$f":"IRR($K$2:K227,0.05)","v":{"$error":"#VALUE!"}}]
[226,{"$error":"#VALUE!"},{"$f":"B228*'Személyi Törl. csökkentő fiók'!$B$27/12","v":{"$error":"#VALUE!"}},{"$f":"IF(A228>'Személyi Törl. csökkentő fiók'!$J$10,0,'Személyi Törl. csökkentő fiók'!$B$28)","v":0},{"$error":"#VALUE!"},{"$f":"IF(A228>'Személyi Törl. csökkentő fiók'!$J$10,0,'Személyi Törl. csökkentő fiók'!$J$11)","v":0},{"$f":"IF(OR(A228>'Személyi Törl. csökkentő fiók'!$J$10,'Személyi Törl. csökkentő fiók'!$B$24='Személyi Törl. csökkentő fiók'!$T$5),0,'Személyi Törl. csökkentő fiók'!$J$12+'Személyi Törl. csökkentő fiók'!$J$13)","v":0},0,null,null,0,{"$f":"IRR($K$2:K228,0.05)","v":{"$error":"#VALUE!"}}]
[227,{"$error":"#VALUE!"},{"$f":"B229*'Személyi Törl. csökkentő fiók'!$B$27/12","v":{"$error":"#VALUE!"}},{"$f":"IF(A229>'Személyi Törl. csökkentő fiók'!$J$10,0,'Személyi Törl. csökkentő fiók'!$B$28)","v":0},{"$error":"#VALUE!"},{"$f":"IF(A229>'Személyi Törl. csökkentő fiók'!$J$10,0,'Személyi Törl. csökkentő fiók'!$J$11)","v":0},{"$f":"IF(OR(A229>'Személyi Törl. csökkentő fiók'!$J$10,'Személyi Törl. csökkentő fiók'!$B$24='Személyi Törl. csökkentő fiók'!$T$5),0,'Személyi Törl. csökkentő fiók'!$J$12+'Személyi Törl. csökkentő fiók'!$J$13)","v":0},0,null,null,0,{"$f":"IRR($K$2:K229,0.05)","v":{"$error":"#VALUE!"}}]
[228,{"$error":"#VALUE!"},{"$f":"B230*'Személyi Törl. csökkentő fiók'!$B$27/12","v":{"$error":"#VALUE!"}},{"$f":"IF(A230>'Személyi Törl. csökkentő fiók'!$J$10,0,'Személyi Törl. csökkentő fiók'!$B$28)","v":0},{"$error":"#VALUE!"},{"$f":"IF(A230>'Személyi Törl. csökkentő fiók'!$J$10,0,'Személyi Törl. csökkentő fiók'!$J$11)","v":0},{"$f":"IF(OR(A230>'Személyi Törl. csökkentő fiók'!$J$10,'Személyi Törl. csökkentő fiók'!$B$24='Személyi Törl. csökkentő fiók'!$T$5),0,'Személyi Törl. csökkentő fiók'!$J$12+'Személyi Törl. csökkentő fiók'!$J$13)","v":0},0,null,null,0,{"$f":"IRR($K$2:K230,0.05)","v":{"$error":"#VALUE!"}}]
[229,{"$error":"#VALUE!"},{"$f":"B231*'Személyi Törl. csökkentő fiók'!$B$27/12","v":{"$error":"#VALUE!"}},{"$f":"IF(A231>'Személyi Törl. csökkentő fiók'!$J$10,0,'Személyi Törl. csökkentő fiók'!$B$28)","v":0},{"$error":"#VALUE!"},{"$f":"IF(A231>'Személyi Törl. csökkentő fiók'!$J$10,0,'Személyi Törl. csökkentő fiók'!$J$11)","v":0},{"$f":"IF(OR(A231>'Személyi Törl. csökkentő fiók'!$J$10,'Személyi Törl. csökkentő fiók'!$B$24='Személyi Törl. csökkentő fiók'!$T$5),0,'Személyi Törl. csökkentő fiók'!$J$12+'Személyi Törl. csökkentő fiók'!$J$13)","v":0},0,null,null,0,{"$f":"IRR($K$2:K231,0.05)","v":{"$error":"#VALUE!"}}]
[230,{"$error":"#VALUE!"},{"$f":"B232*'Személyi Törl. csökkentő fiók'!$B$27/12","v":{"$error":"#VALUE!"}},{"$f":"IF(A232>'Személyi Törl. csökkentő fiók'!$J$10,0,'Személyi Törl. csökkentő fiók'!$B$28)","v":0},{"$error":"#VALUE!"},{"$f":"IF(A232>'Személyi Törl. csökkentő fiók'!$J$10,0,'Személyi Törl. csökkentő fiók'!$J$11)","v":0},{"$f":"IF(OR(A232>'Személyi Törl. csökkentő fiók'!$J$10,'Személyi Törl. csökkentő fiók'!$B$24='Személyi Törl. csökkentő fiók'!$T$5),0,'Személyi Törl. csökkentő fiók'!$J$12+'Személyi Törl. csökkentő fiók'!$J$13)","v":0},0,null,null,0,{"$f":"IRR($K$2:K232,0.05)","v":{"$error":"#VALUE!"}}]
[231,{"$error":"#VALUE!"},{"$f":"B233*'Személyi Törl. csökkentő fiók'!$B$27/12","v":{"$error":"#VALUE!"}},{"$f":"IF(A233>'Személyi Törl. csökkentő fiók'!$J$10,0,'Személyi Törl. csökkentő fiók'!$B$28)","v":0},{"$error":"#VALUE!"},{"$f":"IF(A233>'Személyi Törl. csökkentő fiók'!$J$10,0,'Személyi Törl. csökkentő fiók'!$J$11)","v":0},{"$f":"IF(OR(A233>'Személyi Törl. csökkentő fiók'!$J$10,'Személyi Törl. csökkentő fiók'!$B$24='Személyi Törl. csökkentő fiók'!$T$5),0,'Személyi Törl. csökkentő fiók'!$J$12+'Személyi Törl. csökkentő fiók'!$J$13)","v":0},0,null,null,0,{"$f":"IRR($K$2:K233,0.05)","v":{"$error":"#VALUE!"}}]
[232,{"$error":"#VALUE!"},{"$f":"B234*'Személyi Törl. csökkentő fiók'!$B$27/12","v":{"$error":"#VALUE!"}},{"$f":"IF(A234>'Személyi Törl. csökkentő fiók'!$J$10,0,'Személyi Törl. csökkentő fiók'!$B$28)","v":0},{"$error":"#VALUE!"},{"$f":"IF(A234>'Személyi Törl. csökkentő fiók'!$J$10,0,'Személyi Törl. csökkentő fiók'!$J$11)","v":0},{"$f":"IF(OR(A234>'Személyi Törl. csökkentő fiók'!$J$10,'Személyi Törl. csökkentő fiók'!$B$24='Személyi Törl. csökkentő fiók'!$T$5),0,'Személyi Törl. csökkentő fiók'!$J$12+'Személyi Törl. csökkentő fiók'!$J$13)","v":0},0,null,null,0,{"$f":"IRR($K$2:K234,0.05)","v":{"$error":"#VALUE!"}}]
[233,{"$error":"#VALUE!"},{"$f":"B235*'Személyi Törl. csökkentő fiók'!$B$27/12","v":{"$error":"#VALUE!"}},{"$f":"IF(A235>'Személyi Törl. csökkentő fiók'!$J$10,0,'Személyi Törl. csökkentő fiók'!$B$28)","v":0},{"$error":"#VALUE!"},{"$f":"IF(A235>'Személyi Törl. csökkentő fiók'!$J$10,0,'Személyi Törl. csökkentő fiók'!$J$11)","v":0},{"$f":"IF(OR(A235>'Személyi Törl. csökkentő fiók'!$J$10,'Személyi Törl. csökkentő fiók'!$B$24='Személyi Törl. csökkentő fiók'!$T$5),0,'Személyi Törl. csökkentő fiók'!$J$12+'Személyi Törl. csökkentő fiók'!$J$13)","v":0},0,null,null,0,{"$f":"IRR($K$2:K235,0.05)","v":{"$error":"#VALUE!"}}]
[234,{"$error":"#VALUE!"},{"$f":"B236*'Személyi Törl. csökkentő fiók'!$B$27/12","v":{"$error":"#VALUE!"}},{"$f":"IF(A236>'Személyi Törl. csökkentő fiók'!$J$10,0,'Személyi Törl. csökkentő fiók'!$B$28)","v":0},{"$error":"#VALUE!"},{"$f":"IF(A236>'Személyi Törl. csökkentő fiók'!$J$10,0,'Személyi Törl. csökkentő fiók'!$J$11)","v":0},{"$f":"IF(OR(A236>'Személyi Törl. csökkentő fiók'!$J$10,'Személyi Törl. csökkentő fiók'!$B$24='Személyi Törl. csökkentő fiók'!$T$5),0,'Személyi Törl. csökkentő fiók'!$J$12+'Személyi Törl. csökkentő fiók'!$J$13)","v":0},0,null,null,0,{"$f":"IRR($K$2:K236,0.05)","v":{"$error":"#VALUE!"}}]
[235,{"$error":"#VALUE!"},{"$f":"B237*'Személyi Törl. csökkentő fiók'!$B$27/12","v":{"$error":"#VALUE!"}},{"$f":"IF(A237>'Személyi Törl. csökkentő fiók'!$J$10,0,'Személyi Törl. csökkentő fiók'!$B$28)","v":0},{"$error":"#VALUE!"},{"$f":"IF(A237>'Személyi Törl. csökkentő fiók'!$J$10,0,'Személyi Törl. csökkentő fiók'!$J$11)","v":0},{"$f":"IF(OR(A237>'Személyi Törl. csökkentő fiók'!$J$10,'Személyi Törl. csökkentő fiók'!$B$24='Személyi Törl. csökkentő fiók'!$T$5),0,'Személyi Törl. csökkentő fiók'!$J$12+'Személyi Törl. csökkentő fiók'!$J$13)","v":0},0,null,null,0,{"$f":"IRR($K$2:K237,0.05)","v":{"$error":"#VALUE!"}}]
[236,{"$error":"#VALUE!"},{"$f":"B238*'Személyi Törl. csökkentő fiók'!$B$27/12","v":{"$error":"#VALUE!"}},{"$f":"IF(A238>'Személyi Törl. csökkentő fiók'!$J$10,0,'Személyi Törl. csökkentő fiók'!$B$28)","v":0},{"$error":"#VALUE!"},{"$f":"IF(A238>'Személyi Törl. csökkentő fiók'!$J$10,0,'Személyi Törl. csökkentő fiók'!$J$11)","v":0},{"$f":"IF(OR(A238>'Személyi Törl. csökkentő fiók'!$J$10,'Személyi Törl. csökkentő fiók'!$B$24='Személyi Törl. csökkentő fiók'!$T$5),0,'Személyi Törl. csökkentő fiók'!$J$12+'Személyi Törl. csökkentő fiók'!$J$13)","v":0},0,null,null,0,{"$f":"IRR($K$2:K238,0.05)","v":{"$error":"#VALUE!"}}]
[237,{"$error":"#VALUE!"},{"$f":"B239*'Személyi Törl. csökkentő fiók'!$B$27/12","v":{"$error":"#VALUE!"}},{"$f":"IF(A239>'Személyi Törl. csökkentő fiók'!$J$10,0,'Személyi Törl. csökkentő fiók'!$B$28)","v":0},{"$error":"#VALUE!"},{"$f":"IF(A239>'Személyi Törl. csökkentő fiók'!$J$10,0,'Személyi Törl. csökkentő fiók'!$J$11)","v":0},{"$f":"IF(OR(A239>'Személyi Törl. csökkentő fiók'!$J$10,'Személyi Törl. csökkentő fiók'!$B$24='Személyi Törl. csökkentő fiók'!$T$5),0,'Személyi Törl. csökkentő fiók'!$J$12+'Személyi Törl. csökkentő fiók'!$J$13)","v":0},0,null,null,0,{"$f":"IRR($K$2:K239,0.05)","v":{"$error":"#VALUE!"}}]
[238,{"$error":"#VALUE!"},{"$f":"B240*'Személyi Törl. csökkentő fiók'!$B$27/12","v":{"$error":"#VALUE!"}},{"$f":"IF(A240>'Személyi Törl. csökkentő fiók'!$J$10,0,'Személyi Törl. csökkentő fiók'!$B$28)","v":0},{"$error":"#VALUE!"},{"$f":"IF(A240>'Személyi Törl. csökkentő fiók'!$J$10,0,'Személyi Törl. csökkentő fiók'!$J$11)","v":0},{"$f":"IF(OR(A240>'Személyi Törl. csökkentő fiók'!$J$10,'Személyi Törl. csökkentő fiók'!$B$24='Személyi Törl. csökkentő fiók'!$T$5),0,'Személyi Törl. csökkentő fiók'!$J$12+'Személyi Törl. csökkentő fiók'!$J$13)","v":0},0,null,null,0,{"$f":"IRR($K$2:K240,0.05)","v":{"$error":"#VALUE!"}}]
[239,{"$error":"#VALUE!"},{"$f":"B241*'Személyi Törl. csökkentő fiók'!$B$27/12","v":{"$error":"#VALUE!"}},{"$f":"IF(A241>'Személyi Törl. csökkentő fiók'!$J$10,0,'Személyi Törl. csökkentő fiók'!$B$28)","v":0},{"$error":"#VALUE!"},{"$f":"IF(A241>'Személyi Törl. csökkentő fiók'!$J$10,0,'Személyi Törl. csökkentő fiók'!$J$11)","v":0},{"$f":"IF(OR(A241>'Személyi Törl. csökkentő fiók'!$J$10,'Személyi Törl. csökkentő fiók'!$B$24='Személyi Törl. csökkentő fiók'!$T$5),0,'Személyi Törl. csökkentő fiók'!$J$12+'Személyi Törl. csökkentő fiók'!$J$13)","v":0},0,null,null,0,{"$f":"IRR($K$2:K241,0.05)","v":{"$error":"#VALUE!"}}]
[240,{"$error":"#VALUE!"},{"$f":"B242*'Személyi Törl. csökkentő fiók'!$B$27/12","v":{"$error":"#VALUE!"}},{"$f":"IF(A242>'Személyi Törl. csökkentő fiók'!$J$10,0,'Személyi Törl. csökkentő fiók'!$B$28)","v":0},{"$error":"#VALUE!"},{"$f":"IF(A242>'Személyi Törl. csökkentő fiók'!$J$10,0,'Személyi Törl. csökkentő fiók'!$J$11)","v":0},{"$f":"IF(OR(A242>'Személyi Törl. csökkentő fiók'!$J$10,'Személyi Törl. csökkentő fiók'!$B$24='Személyi Törl. csökkentő fiók'!$T$5),0,'Személyi Törl. csökkentő fiók'!$J$12+'Személyi Törl. csökkentő fiók'!$J$13)","v":0},0,null,null,0,{"$f":"IRR($K$2:K242,0.05)","v":{"$error":"#VALUE!"}}]
[241,{"$error":"#VALUE!"},{"$f":"B243*'Személyi Törl. csökkentő fiók'!$B$27/12","v":{"$error":"#VALUE!"}},{"$f":"IF(A243>'Személyi Törl. csökkentő fiók'!$J$10,0,'Személyi Törl. csökkentő fiók'!$B$28)","v":0},{"$error":"#VALUE!"},{"$f":"IF(A243>'Személyi Törl. csökkentő fiók'!$J$10,0,'Személyi Törl. csökkentő fiók'!$J$11)","v":0},{"$f":"IF(OR(A243>'Személyi Törl. csökkentő fiók'!$J$10,'Személyi Törl. csökkentő fiók'!$B$24='Személyi Törl. csökkentő fiók'!$T$5),0,'Személyi Törl. csökkentő fiók'!$J$12+'Személyi Törl. csökkentő fiók'!$J$13)","v":0},0,null,null,0,{"$f":"IRR($K$2:K243,0.05)","v":{"$error":"#VALUE!"}}]
[242,{"$error":"#VALUE!"},{"$f":"B244*'Személyi Törl. csökkentő fiók'!$B$27/12","v":{"$error":"#VALUE!"}},{"$f":"IF(A244>'Személyi Törl. csökkentő fiók'!$J$10,0,'Személyi Törl. csökkentő fiók'!$B$28)","v":0},{"$error":"#VALUE!"},{"$f":"IF(A244>'Személyi Törl. csökkentő fiók'!$J$10,0,'Személyi Törl. csökkentő fiók'!$J$11)","v":0},{"$f":"IF(OR(A244>'Személyi Törl. csökkentő fiók'!$J$10,'Személyi Törl. csökkentő fiók'!$B$24='Személyi Törl. csökkentő fiók'!$T$5),0,'Személyi Törl. csökkentő fiók'!$J$12+'Személyi Törl. csökkentő fiók'!$J$13)","v":0},0,null,null,0,{"$f":"IRR($K$2:K244,0.05)","v":{"$error":"#VALUE!"}}]
[243,{"$error":"#VALUE!"},{"$f":"B245*'Személyi Törl. csökkentő fiók'!$B$27/12","v":{"$error":"#VALUE!"}},{"$f":"IF(A245>'Személyi Törl. csökkentő fiók'!$J$10,0,'Személyi Törl. csökkentő fiók'!$B$28)","v":0},{"$error":"#VALUE!"},{"$f":"IF(A245>'Személyi Törl. csökkentő fiók'!$J$10,0,'Személyi Törl. csökkentő fiók'!$J$11)","v":0},{"$f":"IF(OR(A245>'Személyi Törl. csökkentő fiók'!$J$10,'Személyi Törl. csökkentő fiók'!$B$24='Személyi Törl. csökkentő fiók'!$T$5),0,'Személyi Törl. csökkentő fiók'!$J$12+'Személyi Törl. csökkentő fiók'!$J$13)","v":0},0,null,null,0,{"$f":"IRR($K$2:K245,0.05)","v":{"$error":"#VALUE!"}}]
[244,{"$error":"#VALUE!"},{"$f":"B246*'Személyi Törl. csökkentő fiók'!$B$27/12","v":{"$error":"#VALUE!"}},{"$f":"IF(A246>'Személyi Törl. csökkentő fiók'!$J$10,0,'Személyi Törl. csökkentő fiók'!$B$28)","v":0},{"$error":"#VALUE!"},{"$f":"IF(A246>'Személyi Törl. csökkentő fiók'!$J$10,0,'Személyi Törl. csökkentő fiók'!$J$11)","v":0},{"$f":"IF(OR(A246>'Személyi Törl. csökkentő fiók'!$J$10,'Személyi Törl. csökkentő fiók'!$B$24='Személyi Törl. csökkentő fiók'!$T$5),0,'Személyi Törl. csökkentő fiók'!$J$12+'Személyi Törl. csökkentő fiók'!$J$13)","v":0},0,null,null,0,{"$f":"IRR($K$2:K246,0.05)","v":{"$error":"#VALUE!"}}]
[245,{"$error":"#VALUE!"},{"$f":"B247*'Személyi Törl. csökkentő fiók'!$B$27/12","v":{"$error":"#VALUE!"}},{"$f":"IF(A247>'Személyi Törl. csökkentő fiók'!$J$10,0,'Személyi Törl. csökkentő fiók'!$B$28)","v":0},{"$error":"#VALUE!"},{"$f":"IF(A247>'Személyi Törl. csökkentő fiók'!$J$10,0,'Személyi Törl. csökkentő fiók'!$J$11)","v":0},{"$f":"IF(OR(A247>'Személyi Törl. csökkentő fiók'!$J$10,'Személyi Törl. csökkentő fiók'!$B$24='Személyi Törl. csökkentő fiók'!$T$5),0,'Személyi Törl. csökkentő fiók'!$J$12+'Személyi Törl. csökkentő fiók'!$J$13)","v":0},0,null,null,0,{"$f":"IRR($K$2:K247,0.05)","v":{"$error":"#VALUE!"}}]
[246,{"$error":"#VALUE!"},{"$f":"B248*'Személyi Törl. csökkentő fiók'!$B$27/12","v":{"$error":"#VALUE!"}},{"$f":"IF(A248>'Személyi Törl. csökkentő fiók'!$J$10,0,'Személyi Törl. csökkentő fiók'!$B$28)","v":0},{"$error":"#VALUE!"},{"$f":"IF(A248>'Személyi Törl. csökkentő fiók'!$J$10,0,'Személyi Törl. csökkentő fiók'!$J$11)","v":0},{"$f":"IF(OR(A248>'Személyi Törl. csökkentő fiók'!$J$10,'Személyi Törl. csökkentő fiók'!$B$24='Személyi Törl. csökkentő fiók'!$T$5),0,'Személyi Törl. csökkentő fiók'!$J$12+'Személyi Törl. csökkentő fiók'!$J$13)","v":0},0,null,null,0,{"$f":"IRR($K$2:K248,0.05)","v":{"$error":"#VALUE!"}}]
[247,{"$error":"#VALUE!"},{"$f":"B249*'Személyi Törl. csökkentő fiók'!$B$27/12","v":{"$error":"#VALUE!"}},{"$f":"IF(A249>'Személyi Törl. csökkentő fiók'!$J$10,0,'Személyi Törl. csökkentő fiók'!$B$28)","v":0},{"$error":"#VALUE!"},{"$f":"IF(A249>'Személyi Törl. csökkentő fiók'!$J$10,0,'Személyi Törl. csökkentő fiók'!$J$11)","v":0},{"$f":"IF(OR(A249>'Személyi Törl. csökkentő fiók'!$J$10,'Személyi Törl. csökkentő fiók'!$B$24='Személyi Törl. csökkentő fiók'!$T$5),0,'Személyi Törl. csökkentő fiók'!$J$12+'Személyi Törl. csökkentő fiók'!$J$13)","v":0},0,null,null,0,{"$f":"IRR($K$2:K249,0.05)","v":{"$error":"#VALUE!"}}]
[248,{"$error":"#VALUE!"},{"$f":"B250*'Személyi Törl. csökkentő fiók'!$B$27/12","v":{"$error":"#VALUE!"}},{"$f":"IF(A250>'Személyi Törl. csökkentő fiók'!$J$10,0,'Személyi Törl. csökkentő fiók'!$B$28)","v":0},{"$error":"#VALUE!"},{"$f":"IF(A250>'Személyi Törl. csökkentő fiók'!$J$10,0,'Személyi Törl. csökkentő fiók'!$J$11)","v":0},{"$f":"IF(OR(A250>'Személyi Törl. csökkentő fiók'!$J$10,'Személyi Törl. csökkentő fiók'!$B$24='Személyi Törl. csökkentő fiók'!$T$5),0,'Személyi Törl. csökkentő fiók'!$J$12+'Személyi Törl. csökkentő fiók'!$J$13)","v":0},0,null,null,0,{"$f":"IRR($K$2:K250,0.05)","v":{"$error":"#VALUE!"}}]
[249,{"$error":"#VALUE!"},{"$f":"B251*'Személyi Törl. csökkentő fiók'!$B$27/12","v":{"$error":"#VALUE!"}},{"$f":"IF(A251>'Személyi Törl. csökkentő fiók'!$J$10,0,'Személyi Törl. csökkentő fiók'!$B$28)","v":0},{"$error":"#VALUE!"},{"$f":"IF(A251>'Személyi Törl. csökkentő fiók'!$J$10,0,'Személyi Törl. csökkentő fiók'!$J$11)","v":0},{"$f":"IF(OR(A251>'Személyi Törl. csökkentő fiók'!$J$10,'Személyi Törl. csökkentő fiók'!$B$24='Személyi Törl. csökkentő fiók'!$T$5),0,'Személyi Törl. csökkentő fiók'!$J$12+'Személyi Törl. csökkentő fiók'!$J$13)","v":0},0,null,null,0,{"$f":"IRR($K$2:K251,0.05)","v":{"$error":"#VALUE!"}}]
[250,{"$error":"#VALUE!"},{"$f":"B252*'Személyi Törl. csökkentő fiók'!$B$27/12","v":{"$error":"#VALUE!"}},{"$f":"IF(A252>'Személyi Törl. csökkentő fiók'!$J$10,0,'Személyi Törl. csökkentő fiók'!$B$28)","v":0},{"$error":"#VALUE!"},{"$f":"IF(A252>'Személyi Törl. csökkentő fiók'!$J$10,0,'Személyi Törl. csökkentő fiók'!$J$11)","v":0},{"$f":"IF(OR(A252>'Személyi Törl. csökkentő fiók'!$J$10,'Személyi Törl. csökkentő fiók'!$B$24='Személyi Törl. csökkentő fiók'!$T$5),0,'Személyi Törl. csökkentő fiók'!$J$12+'Személyi Törl. csökkentő fiók'!$J$13)","v":0},0,null,null,0,{"$f":"IRR($K$2:K252,0.05)","v":{"$error":"#VALUE!"}}]
[251,{"$error":"#VALUE!"},{"$f":"B253*'Személyi Törl. csökkentő fiók'!$B$27/12","v":{"$error":"#VALUE!"}},{"$f":"IF(A253>'Személyi Törl. csökkentő fiók'!$J$10,0,'Személyi Törl. csökkentő fiók'!$B$28)","v":0},{"$error":"#VALUE!"},{"$f":"IF(A253>'Személyi Törl. csökkentő fiók'!$J$10,0,'Személyi Törl. csökkentő fiók'!$J$11)","v":0},{"$f":"IF(OR(A253>'Személyi Törl. csökkentő fiók'!$J$10,'Személyi Törl. csökkentő fiók'!$B$24='Személyi Törl. csökkentő fiók'!$T$5),0,'Személyi Törl. csökkentő fiók'!$J$12+'Személyi Törl. csökkentő fiók'!$J$13)","v":0},0,null,null,0,{"$f":"IRR($K$2:K253,0.05)","v":{"$error":"#VALUE!"}}]
[252,{"$error":"#VALUE!"},{"$f":"B254*'Személyi Törl. csökkentő fiók'!$B$27/12","v":{"$error":"#VALUE!"}},{"$f":"IF(A254>'Személyi Törl. csökkentő fiók'!$J$10,0,'Személyi Törl. csökkentő fiók'!$B$28)","v":0},{"$error":"#VALUE!"},{"$f":"IF(A254>'Személyi Törl. csökkentő fiók'!$J$10,0,'Személyi Törl. csökkentő fiók'!$J$11)","v":0},{"$f":"IF(OR(A254>'Személyi Törl. csökkentő fiók'!$J$10,'Személyi Törl. csökkentő fiók'!$B$24='Személyi Törl. csökkentő fiók'!$T$5),0,'Személyi Törl. csökkentő fiók'!$J$12+'Személyi Törl. csökkentő fiók'!$J$13)","v":0},0,null,null,0,{"$f":"IRR($K$2:K254,0.05)","v":{"$error":"#VALUE!"}}]
[253,{"$error":"#VALUE!"},{"$f":"B255*'Személyi Törl. csökkentő fiók'!$B$27/12","v":{"$error":"#VALUE!"}},{"$f":"IF(A255>'Személyi Törl. csökkentő fiók'!$J$10,0,'Személyi Törl. csökkentő fiók'!$B$28)","v":0},{"$error":"#VALUE!"},{"$f":"IF(A255>'Személyi Törl. csökkentő fiók'!$J$10,0,'Személyi Törl. csökkentő fiók'!$J$11)","v":0},{"$f":"IF(OR(A255>'Személyi Törl. csökkentő fiók'!$J$10,'Személyi Törl. csökkentő fiók'!$B$24='Személyi Törl. csökkentő fiók'!$T$5),0,'Személyi Törl. csökkentő fiók'!$J$12+'Személyi Törl. csökkentő fiók'!$J$13)","v":0},0,null,null,0,{"$f":"IRR($K$2:K255,0.05)","v":{"$error":"#VALUE!"}}]
[254,{"$error":"#VALUE!"},{"$f":"B256*'Személyi Törl. csökkentő fiók'!$B$27/12","v":{"$error":"#VALUE!"}},{"$f":"IF(A256>'Személyi Törl. csökkentő fiók'!$J$10,0,'Személyi Törl. csökkentő fiók'!$B$28)","v":0},{"$error":"#VALUE!"},{"$f":"IF(A256>'Személyi Törl. csökkentő fiók'!$J$10,0,'Személyi Törl. csökkentő fiók'!$J$11)","v":0},{"$f":"IF(OR(A256>'Személyi Törl. csökkentő fiók'!$J$10,'Személyi Törl. csökkentő fiók'!$B$24='Személyi Törl. csökkentő fiók'!$T$5),0,'Személyi Törl. csökkentő fiók'!$J$12+'Személyi Törl. csökkentő fiók'!$J$13)","v":0},0,null,null,0,{"$f":"IRR($K$2:K256,0.05)","v":{"$error":"#VALUE!"}}]
[255,{"$error":"#VALUE!"},{"$f":"B257*'Személyi Törl. csökkentő fiók'!$B$27/12","v":{"$error":"#VALUE!"}},{"$f":"IF(A257>'Személyi Törl. csökkentő fiók'!$J$10,0,'Személyi Törl. csökkentő fiók'!$B$28)","v":0},{"$error":"#VALUE!"},{"$f":"IF(A257>'Személyi Törl. csökkentő fiók'!$J$10,0,'Személyi Törl. csökkentő fiók'!$J$11)","v":0},{"$f":"IF(OR(A257>'Személyi Törl. csökkentő fiók'!$J$10,'Személyi Törl. csökkentő fiók'!$B$24='Személyi Törl. csökkentő fiók'!$T$5),0,'Személyi Törl. csökkentő fiók'!$J$12+'Személyi Törl. csökkentő fiók'!$J$13)","v":0},0,null,null,0,{"$f":"IRR($K$2:K257,0.05)","v":{"$error":"#VALUE!"}}]
[256,{"$error":"#VALUE!"},{"$f":"B258*'Személyi Törl. csökkentő fiók'!$B$27/12","v":{"$error":"#VALUE!"}},{"$f":"IF(A258>'Személyi Törl. csökkentő fiók'!$J$10,0,'Személyi Törl. csökkentő fiók'!$B$28)","v":0},{"$error":"#VALUE!"},{"$f":"IF(A258>'Személyi Törl. csökkentő fiók'!$J$10,0,'Személyi Törl. csökkentő fiók'!$J$11)","v":0},{"$f":"IF(OR(A258>'Személyi Törl. csökkentő fiók'!$J$10,'Személyi Törl. csökkentő fiók'!$B$24='Személyi Törl. csökkentő fiók'!$T$5),0,'Személyi Törl. csökkentő fiók'!$J$12+'Személyi Törl. csökkentő fiók'!$J$13)","v":0},0,null,null,0,{"$f":"IRR($K$2:K258,0.05)","v":{"$error":"#VALUE!"}}]
[257,{"$error":"#VALUE!"},{"$f":"B259*'Személyi Törl. csökkentő fiók'!$B$27/12","v":{"$error":"#VALUE!"}},{"$f":"IF(A259>'Személyi Törl. csökkentő fiók'!$J$10,0,'Személyi Törl. csökkentő fiók'!$B$28)","v":0},{"$error":"#VALUE!"},{"$f":"IF(A259>'Személyi Törl. csökkentő fiók'!$J$10,0,'Személyi Törl. csökkentő fiók'!$J$11)","v":0},{"$f":"IF(OR(A259>'Személyi Törl. csökkentő fiók'!$J$10,'Személyi Törl. csökkentő fiók'!$B$24='Személyi Törl. csökkentő fiók'!$T$5),0,'Személyi Törl. csökkentő fiók'!$J$12+'Személyi Törl. csökkentő fiók'!$J$13)","v":0},0,null,null,0,{"$f":"IRR($K$2:K259,0.05)","v":{"$error":"#VALUE!"}}]
[258,{"$error":"#VALUE!"},{"$f":"B260*'Személyi Törl. csökkentő fiók'!$B$27/12","v":{"$error":"#VALUE!"}},{"$f":"IF(A260>'Személyi Törl. csökkentő fiók'!$J$10,0,'Személyi Törl. csökkentő fiók'!$B$28)","v":0},{"$f":"+B260+C260-D260","v":{"$error":"#VALUE!"}},{"$f":"IF(A260>'Személyi Törl. csökkentő fiók'!$J$10,0,'Személyi Törl. csökkentő fiók'!$J$11)","v":0},{"$f":"IF(OR(A260>'Személyi Törl. csökkentő fiók'!$J$10,'Személyi Törl. csökkentő fiók'!$B$24='Személyi Törl. csökkentő fiók'!$T$5),0,'Személyi Törl. csökkentő fiók'!$J$12+'Személyi Törl. csökkentő fiók'!$J$13)","v":0},0,null,null,{"$f":"D260+F260+G260","v":0},{"$f":"IRR($K$2:K260,0.05)","v":{"$error":"#VALUE!"}}]
[{"$f":"+A260+1","v":259},{"$f":"+E260","v":{"$error":"#VALUE!"}},{"$f":"B261*'Személyi Törl. csökkentő fiók'!$B$27/12","v":{"$error":"#VALUE!"}},{"$f":"IF(A261>'Személyi Törl. csökkentő fiók'!$J$10,0,'Személyi Törl. csökkentő fiók'!$B$28)","v":0},{"$error":"#VALUE!"},{"$f":"IF(A261>'Személyi Törl. csökkentő fiók'!$J$10,0,'Személyi Törl. csökkentő fiók'!$J$11)","v":0},{"$f":"IF(OR(A261>'Személyi Törl. csökkentő fiók'!$J$10,'Személyi Törl. csökkentő fiók'!$B$24='Személyi Törl. csökkentő fiók'!$T$5),0,'Személyi Törl. csökkentő fiók'!$J$12+'Személyi Törl. csökkentő fiók'!$J$13)","v":0},{"$f":"H260+(D261+F261+G261)/(1+$H$1)^(A261/12)","v":0},null,null,0,{"$f":"IRR($K$2:K261,0.05)","v":{"$error":"#VALUE!"}}]
[260,{"$error":"#VALUE!"},{"$f":"B262*'Személyi Törl. csökkentő fiók'!$B$27/12","v":{"$error":"#VALUE!"}},{"$f":"IF(A262>'Személyi Törl. csökkentő fiók'!$J$10,0,'Személyi Törl. csökkentő fiók'!$B$28)","v":0},{"$error":"#VALUE!"},{"$f":"IF(A262>'Személyi Törl. csökkentő fiók'!$J$10,0,'Személyi Törl. csökkentő fiók'!$J$11)","v":0},{"$f":"IF(OR(A262>'Személyi Törl. csökkentő fiók'!$J$10,'Személyi Törl. csökkentő fiók'!$B$24='Személyi Törl. csökkentő fiók'!$T$5),0,'Személyi Törl. csökkentő fiók'!$J$12+'Személyi Törl. csökkentő fiók'!$J$13)","v":0},0,null,null,0,{"$f":"IRR($K$2:K262,0.05)","v":{"$error":"#VALUE!"}}]
[261,{"$error":"#VALUE!"},{"$f":"B263*'Személyi Törl. csökkentő fiók'!$B$27/12","v":{"$error":"#VALUE!"}},{"$f":"IF(A263>'Személyi Törl. csökkentő fiók'!$J$10,0,'Személyi Törl. csökkentő fiók'!$B$28)","v":0},{"$error":"#VALUE!"},{"$f":"IF(A263>'Személyi Törl. csökkentő fiók'!$J$10,0,'Személyi Törl. csökkentő fiók'!$J$11)","v":0},{"$f":"IF(OR(A263>'Személyi Törl. csökkentő fiók'!$J$10,'Személyi Törl. csökkentő fiók'!$B$24='Személyi Törl. csökkentő fiók'!$T$5),0,'Személyi Törl. csökkentő fiók'!$J$12+'Személyi Törl. csökkentő fiók'!$J$13)","v":0},0,null,null,0,{"$f":"IRR($K$2:K263,0.05)","v":{"$error":"#VALUE!"}}]
[262,{"$error":"#VALUE!"},{"$f":"B264*'Személyi Törl. csökkentő fiók'!$B$27/12","v":{"$error":"#VALUE!"}},{"$f":"IF(A264>'Személyi Törl. csökkentő fiók'!$J$10,0,'Személyi Törl. csökkentő fiók'!$B$28)","v":0},{"$error":"#VALUE!"},{"$f":"IF(A264>'Személyi Törl. csökkentő fiók'!$J$10,0,'Személyi Törl. csökkentő fiók'!$J$11)","v":0},{"$f":"IF(OR(A264>'Személyi Törl. csökkentő fiók'!$J$10,'Személyi Törl. csökkentő fiók'!$B$24='Személyi Törl. csökkentő fiók'!$T$5),0,'Személyi Törl. csökkentő fiók'!$J$12+'Személyi Törl. csökkentő fiók'!$J$13)","v":0},0,null,null,0,{"$f":"IRR($K$2:K264,0.05)","v":{"$error":"#VALUE!"}}]
[263,{"$error":"#VALUE!"},{"$f":"B265*'Személyi Törl. csökkentő fiók'!$B$27/12","v":{"$error":"#VALUE!"}},{"$f":"IF(A265>'Személyi Törl. csökkentő fiók'!$J$10,0,'Személyi Törl. csökkentő fiók'!$B$28)","v":0},{"$error":"#VALUE!"},{"$f":"IF(A265>'Személyi Törl. csökkentő fiók'!$J$10,0,'Személyi Törl. csökkentő fiók'!$J$11)","v":0},{"$f":"IF(OR(A265>'Személyi Törl. csökkentő fiók'!$J$10,'Személyi Törl. csökkentő fiók'!$B$24='Személyi Törl. csökkentő fiók'!$T$5),0,'Személyi Törl. csökkentő fiók'!$J$12+'Személyi Törl. csökkentő fiók'!$J$13)","v":0},0,null,null,0,{"$f":"IRR($K$2:K265,0.05)","v":{"$error":"#VALUE!"}}]
[264,{"$error":"#VALUE!"},{"$f":"B266*'Személyi Törl. csökkentő fiók'!$B$27/12","v":{"$error":"#VALUE!"}},{"$f":"IF(A266>'Személyi Törl. csökkentő fiók'!$J$10,0,'Személyi Törl. csökkentő fiók'!$B$28)","v":0},{"$error":"#VALUE!"},{"$f":"IF(A266>'Személyi Törl. csökkentő fiók'!$J$10,0,'Személyi Törl. csökkentő fiók'!$J$11)","v":0},{"$f":"IF(OR(A266>'Személyi Törl. csökkentő fiók'!$J$10,'Személyi Törl. csökkentő fiók'!$B$24='Személyi Törl. csökkentő fiók'!$T$5),0,'Személyi Törl. csökkentő fiók'!$J$12+'Személyi Törl. csökkentő fiók'!$J$13)","v":0},0,null,null,0,{"$f":"IRR($K$2:K266,0.05)","v":{"$error":"#VALUE!"}}]
[265,{"$error":"#VALUE!"},{"$f":"B267*'Személyi Törl. csökkentő fiók'!$B$27/12","v":{"$error":"#VALUE!"}},{"$f":"IF(A267>'Személyi Törl. csökkentő fiók'!$J$10,0,'Személyi Törl. csökkentő fiók'!$B$28)","v":0},{"$error":"#VALUE!"},{"$f":"IF(A267>'Személyi Törl. csökkentő fiók'!$J$10,0,'Személyi Törl. csökkentő fiók'!$J$11)","v":0},{"$f":"IF(OR(A267>'Személyi Törl. csökkentő fiók'!$J$10,'Személyi Törl. csökkentő fiók'!$B$24='Személyi Törl. csökkentő fiók'!$T$5),0,'Személyi Törl. csökkentő fiók'!$J$12+'Személyi Törl. csökkentő fiók'!$J$13)","v":0},0,null,null,0,{"$f":"IRR($K$2:K267,0.05)","v":{"$error":"#VALUE!"}}]
[266,{"$error":"#VALUE!"},{"$f":"B268*'Személyi Törl. csökkentő fiók'!$B$27/12","v":{"$error":"#VALUE!"}},{"$f":"IF(A268>'Személyi Törl. csökkentő fiók'!$J$10,0,'Személyi Törl. csökkentő fiók'!$B$28)","v":0},{"$error":"#VALUE!"},{"$f":"IF(A268>'Személyi Törl. csökkentő fiók'!$J$10,0,'Személyi Törl. csökkentő fiók'!$J$11)","v":0},{"$f":"IF(OR(A268>'Személyi Törl. csökkentő fiók'!$J$10,'Személyi Törl. csökkentő fiók'!$B$24='Személyi Törl. csökkentő fiók'!$T$5),0,'Személyi Törl. csökkentő fiók'!$J$12+'Személyi Törl. csökkentő fiók'!$J$13)","v":0},0,null,null,0,{"$f":"IRR($K$2:K268,0.05)","v":{"$error":"#VALUE!"}}]
[267,{"$error":"#VALUE!"},{"$f":"B269*'Személyi Törl. csökkentő fiók'!$B$27/12","v":{"$error":"#VALUE!"}},{"$f":"IF(A269>'Személyi Törl. csökkentő fiók'!$J$10,0,'Személyi Törl. csökkentő fiók'!$B$28)","v":0},{"$error":"#VALUE!"},{"$f":"IF(A269>'Személyi Törl. csökkentő fiók'!$J$10,0,'Személyi Törl. csökkentő fiók'!$J$11)","v":0},{"$f":"IF(OR(A269>'Személyi Törl. csökkentő fiók'!$J$10,'Személyi Törl. csökkentő fiók'!$B$24='Személyi Törl. csökkentő fiók'!$T$5),0,'Személyi Törl. csökkentő fiók'!$J$12+'Személyi Törl. csökkentő fiók'!$J$13)","v":0},0,null,null,0,{"$f":"IRR($K$2:K269,0.05)","v":{"$error":"#VALUE!"}}]
[268,{"$error":"#VALUE!"},{"$f":"B270*'Személyi Törl. csökkentő fiók'!$B$27/12","v":{"$error":"#VALUE!"}},{"$f":"IF(A270>'Személyi Törl. csökkentő fiók'!$J$10,0,'Személyi Törl. csökkentő fiók'!$B$28)","v":0},{"$error":"#VALUE!"},{"$f":"IF(A270>'Személyi Törl. csökkentő fiók'!$J$10,0,'Személyi Törl. csökkentő fiók'!$J$11)","v":0},{"$f":"IF(OR(A270>'Személyi Törl. csökkentő fiók'!$J$10,'Személyi Törl. csökkentő fiók'!$B$24='Személyi Törl. csökkentő fiók'!$T$5),0,'Személyi Törl. csökkentő fiók'!$J$12+'Személyi Törl. csökkentő fiók'!$J$13)","v":0},0,null,null,0,{"$f":"IRR($K$2:K270,0.05)","v":{"$error":"#VALUE!"}}]
[269,{"$error":"#VALUE!"},{"$f":"B271*'Személyi Törl. csökkentő fiók'!$B$27/12","v":{"$error":"#VALUE!"}},{"$f":"IF(A271>'Személyi Törl. csökkentő fiók'!$J$10,0,'Személyi Törl. csökkentő fiók'!$B$28)","v":0},{"$error":"#VALUE!"},{"$f":"IF(A271>'Személyi Törl. csökkentő fiók'!$J$10,0,'Személyi Törl. csökkentő fiók'!$J$11)","v":0},{"$f":"IF(OR(A271>'Személyi Törl. csökkentő fiók'!$J$10,'Személyi Törl. csökkentő fiók'!$B$24='Személyi Törl. csökkentő fiók'!$T$5),0,'Személyi Törl. csökkentő fiók'!$J$12+'Személyi Törl. csökkentő fiók'!$J$13)","v":0},0,null,null,0,{"$f":"IRR($K$2:K271,0.05)","v":{"$error":"#VALUE!"}}]
[270,{"$error":"#VALUE!"},{"$f":"B272*'Személyi Törl. csökkentő fiók'!$B$27/12","v":{"$error":"#VALUE!"}},{"$f":"IF(A272>'Személyi Törl. csökkentő fiók'!$J$10,0,'Személyi Törl. csökkentő fiók'!$B$28)","v":0},{"$error":"#VALUE!"},{"$f":"IF(A272>'Személyi Törl. csökkentő fiók'!$J$10,0,'Személyi Törl. csökkentő fiók'!$J$11)","v":0},{"$f":"IF(OR(A272>'Személyi Törl. csökkentő fiók'!$J$10,'Személyi Törl. csökkentő fiók'!$B$24='Személyi Törl. csökkentő fiók'!$T$5),0,'Személyi Törl. csökkentő fiók'!$J$12+'Személyi Törl. csökkentő fiók'!$J$13)","v":0},0,null,null,0,{"$f":"IRR($K$2:K272,0.05)","v":{"$error":"#VALUE!"}}]
[271,{"$error":"#VALUE!"},{"$f":"B273*'Személyi Törl. csökkentő fiók'!$B$27/12","v":{"$error":"#VALUE!"}},{"$f":"IF(A273>'Személyi Törl. csökkentő fiók'!$J$10,0,'Személyi Törl. csökkentő fiók'!$B$28)","v":0},{"$error":"#VALUE!"},{"$f":"IF(A273>'Személyi Törl. csökkentő fiók'!$J$10,0,'Személyi Törl. csökkentő fiók'!$J$11)","v":0},{"$f":"IF(OR(A273>'Személyi Törl. csökkentő fiók'!$J$10,'Személyi Törl. csökkentő fiók'!$B$24='Személyi Törl. csökkentő fiók'!$T$5),0,'Személyi Törl. csökkentő fiók'!$J$12+'Személyi Törl. csökkentő fiók'!$J$13)","v":0},0,null,null,0,{"$f":"IRR($K$2:K273,0.05)","v":{"$error":"#VALUE!"}}]
[272,{"$error":"#VALUE!"},{"$f":"B274*'Személyi Törl. csökkentő fiók'!$B$27/12","v":{"$error":"#VALUE!"}},{"$f":"IF(A274>'Személyi Törl. csökkentő fiók'!$J$10,0,'Személyi Törl. csökkentő fiók'!$B$28)","v":0},{"$error":"#VALUE!"},{"$f":"IF(A274>'Személyi Törl. csökkentő fiók'!$J$10,0,'Személyi Törl. csökkentő fiók'!$J$11)","v":0},{"$f":"IF(OR(A274>'Személyi Törl. csökkentő fiók'!$J$10,'Személyi Törl. csökkentő fiók'!$B$24='Személyi Törl. csökkentő fiók'!$T$5),0,'Személyi Törl. csökkentő fiók'!$J$12+'Személyi Törl. csökkentő fiók'!$J$13)","v":0},0,null,null,0,{"$f":"IRR($K$2:K274,0.05)","v":{"$error":"#VALUE!"}}]
[273,{"$error":"#VALUE!"},{"$f":"B275*'Személyi Törl. csökkentő fiók'!$B$27/12","v":{"$error":"#VALUE!"}},{"$f":"IF(A275>'Személyi Törl. csökkentő fiók'!$J$10,0,'Személyi Törl. csökkentő fiók'!$B$28)","v":0},{"$error":"#VALUE!"},{"$f":"IF(A275>'Személyi Törl. csökkentő fiók'!$J$10,0,'Személyi Törl. csökkentő fiók'!$J$11)","v":0},{"$f":"IF(OR(A275>'Személyi Törl. csökkentő fiók'!$J$10,'Személyi Törl. csökkentő fiók'!$B$24='Személyi Törl. csökkentő fiók'!$T$5),0,'Személyi Törl. csökkentő fiók'!$J$12+'Személyi Törl. csökkentő fiók'!$J$13)","v":0},0,null,null,0,{"$f":"IRR($K$2:K275,0.05)","v":{"$error":"#VALUE!"}}]
[274,{"$error":"#VALUE!"},{"$f":"B276*'Személyi Törl. csökkentő fiók'!$B$27/12","v":{"$error":"#VALUE!"}},{"$f":"IF(A276>'Személyi Törl. csökkentő fiók'!$J$10,0,'Személyi Törl. csökkentő fiók'!$B$28)","v":0},{"$error":"#VALUE!"},{"$f":"IF(A276>'Személyi Törl. csökkentő fiók'!$J$10,0,'Személyi Törl. csökkentő fiók'!$J$11)","v":0},{"$f":"IF(OR(A276>'Személyi Törl. csökkentő fiók'!$J$10,'Személyi Törl. csökkentő fiók'!$B$24='Személyi Törl. csökkentő fiók'!$T$5),0,'Személyi Törl. csökkentő fiók'!$J$12+'Személyi Törl. csökkentő fiók'!$J$13)","v":0},0,null,null,0,{"$f":"IRR($K$2:K276,0.05)","v":{"$error":"#VALUE!"}}]
[275,{"$error":"#VALUE!"},{"$f":"B277*'Személyi Törl. csökkentő fiók'!$B$27/12","v":{"$error":"#VALUE!"}},{"$f":"IF(A277>'Személyi Törl. csökkentő fiók'!$J$10,0,'Személyi Törl. csökkentő fiók'!$B$28)","v":0},{"$error":"#VALUE!"},{"$f":"IF(A277>'Személyi Törl. csökkentő fiók'!$J$10,0,'Személyi Törl. csökkentő fiók'!$J$11)","v":0},{"$f":"IF(OR(A277>'Személyi Törl. csökkentő fiók'!$J$10,'Személyi Törl. csökkentő fiók'!$B$24='Személyi Törl. csökkentő fiók'!$T$5),0,'Személyi Törl. csökkentő fiók'!$J$12+'Személyi Törl. csökkentő fiók'!$J$13)","v":0},0,null,null,0,{"$f":"IRR($K$2:K277,0.05)","v":{"$error":"#VALUE!"}}]
[276,{"$error":"#VALUE!"},{"$f":"B278*'Személyi Törl. csökkentő fiók'!$B$27/12","v":{"$error":"#VALUE!"}},{"$f":"IF(A278>'Személyi Törl. csökkentő fiók'!$J$10,0,'Személyi Törl. csökkentő fiók'!$B$28)","v":0},{"$error":"#VALUE!"},{"$f":"IF(A278>'Személyi Törl. csökkentő fiók'!$J$10,0,'Személyi Törl. csökkentő fiók'!$J$11)","v":0},{"$f":"IF(OR(A278>'Személyi Törl. csökkentő fiók'!$J$10,'Személyi Törl. csökkentő fiók'!$B$24='Személyi Törl. csökkentő fiók'!$T$5),0,'Személyi Törl. csökkentő fiók'!$J$12+'Személyi Törl. csökkentő fiók'!$J$13)","v":0},0,null,null,0,{"$f":"IRR($K$2:K278,0.05)","v":{"$error":"#VALUE!"}}]
[277,{"$error":"#VALUE!"},{"$f":"B279*'Személyi Törl. csökkentő fiók'!$B$27/12","v":{"$error":"#VALUE!"}},{"$f":"IF(A279>'Személyi Törl. csökkentő fiók'!$J$10,0,'Személyi Törl. csökkentő fiók'!$B$28)","v":0},{"$error":"#VALUE!"},{"$f":"IF(A279>'Személyi Törl. csökkentő fiók'!$J$10,0,'Személyi Törl. csökkentő fiók'!$J$11)","v":0},{"$f":"IF(OR(A279>'Személyi Törl. csökkentő fiók'!$J$10,'Személyi Törl. csökkentő fiók'!$B$24='Személyi Törl. csökkentő fiók'!$T$5),0,'Személyi Törl. csökkentő fiók'!$J$12+'Személyi Törl. csökkentő fiók'!$J$13)","v":0},0,null,null,0,{"$f":"IRR($K$2:K279,0.05)","v":{"$error":"#VALUE!"}}]
[278,{"$error":"#VALUE!"},{"$f":"B280*'Személyi Törl. csökkentő fiók'!$B$27/12","v":{"$error":"#VALUE!"}},{"$f":"IF(A280>'Személyi Törl. csökkentő fiók'!$J$10,0,'Személyi Törl. csökkentő fiók'!$B$28)","v":0},{"$error":"#VALUE!"},{"$f":"IF(A280>'Személyi Törl. csökkentő fiók'!$J$10,0,'Személyi Törl. csökkentő fiók'!$J$11)","v":0},{"$f":"IF(OR(A280>'Személyi Törl. csökkentő fiók'!$J$10,'Személyi Törl. csökkentő fiók'!$B$24='Személyi Törl. csökkentő fiók'!$T$5),0,'Személyi Törl. csökkentő fiók'!$J$12+'Személyi Törl. csökkentő fiók'!$J$13)","v":0},0,null,null,0,{"$f":"IRR($K$2:K280,0.05)","v":{"$error":"#VALUE!"}}]
[279,{"$error":"#VALUE!"},{"$f":"B281*'Személyi Törl. csökkentő fiók'!$B$27/12","v":{"$error":"#VALUE!"}},{"$f":"IF(A281>'Személyi Törl. csökkentő fiók'!$J$10,0,'Személyi Törl. csökkentő fiók'!$B$28)","v":0},{"$error":"#VALUE!"},{"$f":"IF(A281>'Személyi Törl. csökkentő fiók'!$J$10,0,'Személyi Törl. csökkentő fiók'!$J$11)","v":0},{"$f":"IF(OR(A281>'Személyi Törl. csökkentő fiók'!$J$10,'Személyi Törl. csökkentő fiók'!$B$24='Személyi Törl. csökkentő fiók'!$T$5),0,'Személyi Törl. csökkentő fiók'!$J$12+'Személyi Törl. csökkentő fiók'!$J$13)","v":0},0,null,null,0,{"$f":"IRR($K$2:K281,0.05)","v":{"$error":"#VALUE!"}}]
[280,{"$error":"#VALUE!"},{"$f":"B282*'Személyi Törl. csökkentő fiók'!$B$27/12","v":{"$error":"#VALUE!"}},{"$f":"IF(A282>'Személyi Törl. csökkentő fiók'!$J$10,0,'Személyi Törl. csökkentő fiók'!$B$28)","v":0},{"$error":"#VALUE!"},{"$f":"IF(A282>'Személyi Törl. csökkentő fiók'!$J$10,0,'Személyi Törl. csökkentő fiók'!$J$11)","v":0},{"$f":"IF(OR(A282>'Személyi Törl. csökkentő fiók'!$J$10,'Személyi Törl. csökkentő fiók'!$B$24='Személyi Törl. csökkentő fiók'!$T$5),0,'Személyi Törl. csökkentő fiók'!$J$12+'Személyi Törl. csökkentő fiók'!$J$13)","v":0},0,null,null,0,{"$f":"IRR($K$2:K282,0.05)","v":{"$error":"#VALUE!"}}]
[281,{"$error":"#VALUE!"},{"$f":"B283*'Személyi Törl. csökkentő fiók'!$B$27/12","v":{"$error":"#VALUE!"}},{"$f":"IF(A283>'Személyi Törl. csökkentő fiók'!$J$10,0,'Személyi Törl. csökkentő fiók'!$B$28)","v":0},{"$error":"#VALUE!"},{"$f":"IF(A283>'Személyi Törl. csökkentő fiók'!$J$10,0,'Személyi Törl. csökkentő fiók'!$J$11)","v":0},{"$f":"IF(OR(A283>'Személyi Törl. csökkentő fiók'!$J$10,'Személyi Törl. csökkentő fiók'!$B$24='Személyi Törl. csökkentő fiók'!$T$5),0,'Személyi Törl. csökkentő fiók'!$J$12+'Személyi Törl. csökkentő fiók'!$J$13)","v":0},0,null,null,0,{"$f":"IRR($K$2:K283,0.05)","v":{"$error":"#VALUE!"}}]
[282,{"$error":"#VALUE!"},{"$f":"B284*'Személyi Törl. csökkentő fiók'!$B$27/12","v":{"$error":"#VALUE!"}},{"$f":"IF(A284>'Személyi Törl. csökkentő fiók'!$J$10,0,'Személyi Törl. csökkentő fiók'!$B$28)","v":0},{"$error":"#VALUE!"},{"$f":"IF(A284>'Személyi Törl. csökkentő fiók'!$J$10,0,'Személyi Törl. csökkentő fiók'!$J$11)","v":0},{"$f":"IF(OR(A284>'Személyi Törl. csökkentő fiók'!$J$10,'Személyi Törl. csökkentő fiók'!$B$24='Személyi Törl. csökkentő fiók'!$T$5),0,'Személyi Törl. csökkentő fiók'!$J$12+'Személyi Törl. csökkentő fiók'!$J$13)","v":0},0,null,null,0,{"$f":"IRR($K$2:K284,0.05)","v":{"$error":"#VALUE!"}}]
[283,{"$error":"#VALUE!"},{"$f":"B285*'Személyi Törl. csökkentő fiók'!$B$27/12","v":{"$error":"#VALUE!"}},{"$f":"IF(A285>'Személyi Törl. csökkentő fiók'!$J$10,0,'Személyi Törl. csökkentő fiók'!$B$28)","v":0},{"$error":"#VALUE!"},{"$f":"IF(A285>'Személyi Törl. csökkentő fiók'!$J$10,0,'Személyi Törl. csökkentő fiók'!$J$11)","v":0},{"$f":"IF(OR(A285>'Személyi Törl. csökkentő fiók'!$J$10,'Személyi Törl. csökkentő fiók'!$B$24='Személyi Törl. csökkentő fiók'!$T$5),0,'Személyi Törl. csökkentő fiók'!$J$12+'Személyi Törl. csökkentő fiók'!$J$13)","v":0},0,null,null,0,{"$f":"IRR($K$2:K285,0.05)","v":{"$error":"#VALUE!"}}]
[284,{"$error":"#VALUE!"},{"$f":"B286*'Személyi Törl. csökkentő fiók'!$B$27/12","v":{"$error":"#VALUE!"}},{"$f":"IF(A286>'Személyi Törl. csökkentő fiók'!$J$10,0,'Személyi Törl. csökkentő fiók'!$B$28)","v":0},{"$error":"#VALUE!"},{"$f":"IF(A286>'Személyi Törl. csökkentő fiók'!$J$10,0,'Személyi Törl. csökkentő fiók'!$J$11)","v":0},{"$f":"IF(OR(A286>'Személyi Törl. csökkentő fiók'!$J$10,'Személyi Törl. csökkentő fiók'!$B$24='Személyi Törl. csökkentő fiók'!$T$5),0,'Személyi Törl. csökkentő fiók'!$J$12+'Személyi Törl. csökkentő fiók'!$J$13)","v":0},0,null,null,0,{"$f":"IRR($K$2:K286,0.05)","v":{"$error":"#VALUE!"}}]
[285,{"$error":"#VALUE!"},{"$f":"B287*'Személyi Törl. csökkentő fiók'!$B$27/12","v":{"$error":"#VALUE!"}},{"$f":"IF(A287>'Személyi Törl. csökkentő fiók'!$J$10,0,'Személyi Törl. csökkentő fiók'!$B$28)","v":0},{"$error":"#VALUE!"},{"$f":"IF(A287>'Személyi Törl. csökkentő fiók'!$J$10,0,'Személyi Törl. csökkentő fiók'!$J$11)","v":0},{"$f":"IF(OR(A287>'Személyi Törl. csökkentő fiók'!$J$10,'Személyi Törl. csökkentő fiók'!$B$24='Személyi Törl. csökkentő fiók'!$T$5),0,'Személyi Törl. csökkentő fiók'!$J$12+'Személyi Törl. csökkentő fiók'!$J$13)","v":0},0,null,null,0,{"$f":"IRR($K$2:K287,0.05)","v":{"$error":"#VALUE!"}}]
[286,{"$error":"#VALUE!"},{"$f":"B288*'Személyi Törl. csökkentő fiók'!$B$27/12","v":{"$error":"#VALUE!"}},{"$f":"IF(A288>'Személyi Törl. csökkentő fiók'!$J$10,0,'Személyi Törl. csökkentő fiók'!$B$28)","v":0},{"$error":"#VALUE!"},{"$f":"IF(A288>'Személyi Törl. csökkentő fiók'!$J$10,0,'Személyi Törl. csökkentő fiók'!$J$11)","v":0},{"$f":"IF(OR(A288>'Személyi Törl. csökkentő fiók'!$J$10,'Személyi Törl. csökkentő fiók'!$B$24='Személyi Törl. csökkentő fiók'!$T$5),0,'Személyi Törl. csökkentő fiók'!$J$12+'Személyi Törl. csökkentő fiók'!$J$13)","v":0},0,null,null,0,{"$f":"IRR($K$2:K288,0.05)","v":{"$error":"#VALUE!"}}]
[287,{"$error":"#VALUE!"},{"$f":"B289*'Személyi Törl. csökkentő fiók'!$B$27/12","v":{"$error":"#VALUE!"}},{"$f":"IF(A289>'Személyi Törl. csökkentő fiók'!$J$10,0,'Személyi Törl. csökkentő fiók'!$B$28)","v":0},{"$error":"#VALUE!"},{"$f":"IF(A289>'Személyi Törl. csökkentő fiók'!$J$10,0,'Személyi Törl. csökkentő fiók'!$J$11)","v":0},{"$f":"IF(OR(A289>'Személyi Törl. csökkentő fiók'!$J$10,'Személyi Törl. csökkentő fiók'!$B$24='Személyi Törl. csökkentő fiók'!$T$5),0,'Személyi Törl. csökkentő fiók'!$J$12+'Személyi Törl. csökkentő fiók'!$J$13)","v":0},0,null,null,0,{"$f":"IRR($K$2:K289,0.05)","v":{"$error":"#VALUE!"}}]
[288,{"$error":"#VALUE!"},{"$f":"B290*'Személyi Törl. csökkentő fiók'!$B$27/12","v":{"$error":"#VALUE!"}},{"$f":"IF(A290>'Személyi Törl. csökkentő fiók'!$J$10,0,'Személyi Törl. csökkentő fiók'!$B$28)","v":0},{"$error":"#VALUE!"},{"$f":"IF(A290>'Személyi Törl. csökkentő fiók'!$J$10,0,'Személyi Törl. csökkentő fiók'!$J$11)","v":0},{"$f":"IF(OR(A290>'Személyi Törl. csökkentő fiók'!$J$10,'Személyi Törl. csökkentő fiók'!$B$24='Személyi Törl. csökkentő fiók'!$T$5),0,'Személyi Törl. csökkentő fiók'!$J$12+'Személyi Törl. csökkentő fiók'!$J$13)","v":0},0,null,null,0,{"$f":"IRR($K$2:K290,0.05)","v":{"$error":"#VALUE!"}}]
[289,{"$error":"#VALUE!"},{"$f":"B291*'Személyi Törl. csökkentő fiók'!$B$27/12","v":{"$error":"#VALUE!"}},{"$f":"IF(A291>'Személyi Törl. csökkentő fiók'!$J$10,0,'Személyi Törl. csökkentő fiók'!$B$28)","v":0},{"$error":"#VALUE!"},{"$f":"IF(A291>'Személyi Törl. csökkentő fiók'!$J$10,0,'Személyi Törl. csökkentő fiók'!$J$11)","v":0},{"$f":"IF(OR(A291>'Személyi Törl. csökkentő fiók'!$J$10,'Személyi Törl. csökkentő fiók'!$B$24='Személyi Törl. csökkentő fiók'!$T$5),0,'Személyi Törl. csökkentő fiók'!$J$12+'Személyi Törl. csökkentő fiók'!$J$13)","v":0},0,null,null,0,{"$f":"IRR($K$2:K291,0.05)","v":{"$error":"#VALUE!"}}]
[290,{"$error":"#VALUE!"},{"$f":"B292*'Személyi Törl. csökkentő fiók'!$B$27/12","v":{"$error":"#VALUE!"}},{"$f":"IF(A292>'Személyi Törl. csökkentő fiók'!$J$10,0,'Személyi Törl. csökkentő fiók'!$B$28)","v":0},{"$error":"#VALUE!"},{"$f":"IF(A292>'Személyi Törl. csökkentő fiók'!$J$10,0,'Személyi Törl. csökkentő fiók'!$J$11)","v":0},{"$f":"IF(OR(A292>'Személyi Törl. csökkentő fiók'!$J$10,'Személyi Törl. csökkentő fiók'!$B$24='Személyi Törl. csökkentő fiók'!$T$5),0,'Személyi Törl. csökkentő fiók'!$J$12+'Személyi Törl. csökkentő fiók'!$J$13)","v":0},0,null,null,0,{"$f":"IRR($K$2:K292,0.05)","v":{"$error":"#VALUE!"}}]
[291,{"$error":"#VALUE!"},{"$f":"B293*'Személyi Törl. csökkentő fiók'!$B$27/12","v":{"$error":"#VALUE!"}},{"$f":"IF(A293>'Személyi Törl. csökkentő fiók'!$J$10,0,'Személyi Törl. csökkentő fiók'!$B$28)","v":0},{"$error":"#VALUE!"},{"$f":"IF(A293>'Személyi Törl. csökkentő fiók'!$J$10,0,'Személyi Törl. csökkentő fiók'!$J$11)","v":0},{"$f":"IF(OR(A293>'Személyi Törl. csökkentő fiók'!$J$10,'Személyi Törl. csökkentő fiók'!$B$24='Személyi Törl. csökkentő fiók'!$T$5),0,'Személyi Törl. csökkentő fiók'!$J$12+'Személyi Törl. csökkentő fiók'!$J$13)","v":0},0,null,null,0,{"$f":"IRR($K$2:K293,0.05)","v":{"$error":"#VALUE!"}}]
[292,{"$error":"#VALUE!"},{"$f":"B294*'Személyi Törl. csökkentő fiók'!$B$27/12","v":{"$error":"#VALUE!"}},{"$f":"IF(A294>'Személyi Törl. csökkentő fiók'!$J$10,0,'Személyi Törl. csökkentő fiók'!$B$28)","v":0},{"$error":"#VALUE!"},{"$f":"IF(A294>'Személyi Törl. csökkentő fiók'!$J$10,0,'Személyi Törl. csökkentő fiók'!$J$11)","v":0},{"$f":"IF(OR(A294>'Személyi Törl. csökkentő fiók'!$J$10,'Személyi Törl. csökkentő fiók'!$B$24='Személyi Törl. csökkentő fiók'!$T$5),0,'Személyi Törl. csökkentő fiók'!$J$12+'Személyi Törl. csökkentő fiók'!$J$13)","v":0},0,null,null,0,{"$f":"IRR($K$2:K294,0.05)","v":{"$error":"#VALUE!"}}]
[293,{"$error":"#VALUE!"},{"$f":"B295*'Személyi Törl. csökkentő fiók'!$B$27/12","v":{"$error":"#VALUE!"}},{"$f":"IF(A295>'Személyi Törl. csökkentő fiók'!$J$10,0,'Személyi Törl. csökkentő fiók'!$B$28)","v":0},{"$error":"#VALUE!"},{"$f":"IF(A295>'Személyi Törl. csökkentő fiók'!$J$10,0,'Személyi Törl. csökkentő fiók'!$J$11)","v":0},{"$f":"IF(OR(A295>'Személyi Törl. csökkentő fiók'!$J$10,'Személyi Törl. csökkentő fiók'!$B$24='Személyi Törl. csökkentő fiók'!$T$5),0,'Személyi Törl. csökkentő fiók'!$J$12+'Személyi Törl. csökkentő fiók'!$J$13)","v":0},0,null,null,0,{"$f":"IRR($K$2:K295,0.05)","v":{"$error":"#VALUE!"}}]
[294,{"$error":"#VALUE!"},{"$f":"B296*'Személyi Törl. csökkentő fiók'!$B$27/12","v":{"$error":"#VALUE!"}},{"$f":"IF(A296>'Személyi Törl. csökkentő fiók'!$J$10,0,'Személyi Törl. csökkentő fiók'!$B$28)","v":0},{"$error":"#VALUE!"},{"$f":"IF(A296>'Személyi Törl. csökkentő fiók'!$J$10,0,'Személyi Törl. csökkentő fiók'!$J$11)","v":0},{"$f":"IF(OR(A296>'Személyi Törl. csökkentő fiók'!$J$10,'Személyi Törl. csökkentő fiók'!$B$24='Személyi Törl. csökkentő fiók'!$T$5),0,'Személyi Törl. csökkentő fiók'!$J$12+'Személyi Törl. csökkentő fiók'!$J$13)","v":0},0,null,null,0,{"$f":"IRR($K$2:K296,0.05)","v":{"$error":"#VALUE!"}}]
[295,{"$error":"#VALUE!"},{"$f":"B297*'Személyi Törl. csökkentő fiók'!$B$27/12","v":{"$error":"#VALUE!"}},{"$f":"IF(A297>'Személyi Törl. csökkentő fiók'!$J$10,0,'Személyi Törl. csökkentő fiók'!$B$28)","v":0},{"$error":"#VALUE!"},{"$f":"IF(A297>'Személyi Törl. csökkentő fiók'!$J$10,0,'Személyi Törl. csökkentő fiók'!$J$11)","v":0},{"$f":"IF(OR(A297>'Személyi Törl. csökkentő fiók'!$J$10,'Személyi Törl. csökkentő fiók'!$B$24='Személyi Törl. csökkentő fiók'!$T$5),0,'Személyi Törl. csökkentő fiók'!$J$12+'Személyi Törl. csökkentő fiók'!$J$13)","v":0},0,null,null,0,{"$f":"IRR($K$2:K297,0.05)","v":{"$error":"#VALUE!"}}]
[296,{"$error":"#VALUE!"},{"$f":"B298*'Személyi Törl. csökkentő fiók'!$B$27/12","v":{"$error":"#VALUE!"}},{"$f":"IF(A298>'Személyi Törl. csökkentő fiók'!$J$10,0,'Személyi Törl. csökkentő fiók'!$B$28)","v":0},{"$error":"#VALUE!"},{"$f":"IF(A298>'Személyi Törl. csökkentő fiók'!$J$10,0,'Személyi Törl. csökkentő fiók'!$J$11)","v":0},{"$f":"IF(OR(A298>'Személyi Törl. csökkentő fiók'!$J$10,'Személyi Törl. csökkentő fiók'!$B$24='Személyi Törl. csökkentő fiók'!$T$5),0,'Személyi Törl. csökkentő fiók'!$J$12+'Személyi Törl. csökkentő fiók'!$J$13)","v":0},0,null,null,0,{"$f":"IRR($K$2:K298,0.05)","v":{"$error":"#VALUE!"}}]
[297,{"$error":"#VALUE!"},{"$f":"B299*'Személyi Törl. csökkentő fiók'!$B$27/12","v":{"$error":"#VALUE!"}},{"$f":"IF(A299>'Személyi Törl. csökkentő fiók'!$J$10,0,'Személyi Törl. csökkentő fiók'!$B$28)","v":0},{"$error":"#VALUE!"},{"$f":"IF(A299>'Személyi Törl. csökkentő fiók'!$J$10,0,'Személyi Törl. csökkentő fiók'!$J$11)","v":0},{"$f":"IF(OR(A299>'Személyi Törl. csökkentő fiók'!$J$10,'Személyi Törl. csökkentő fiók'!$B$24='Személyi Törl. csökkentő fiók'!$T$5),0,'Személyi Törl. csökkentő fiók'!$J$12+'Személyi Törl. csökkentő fiók'!$J$13)","v":0},0,null,null,0,{"$f":"IRR($K$2:K299,0.05)","v":{"$error":"#VALUE!"}}]
[298,{"$error":"#VALUE!"},{"$f":"B300*'Személyi Törl. csökkentő fiók'!$B$27/12","v":{"$error":"#VALUE!"}},{"$f":"IF(A300>'Személyi Törl. csökkentő fiók'!$J$10,0,'Személyi Törl. csökkentő fiók'!$B$28)","v":0},{"$error":"#VALUE!"},{"$f":"IF(A300>'Személyi Törl. csökkentő fiók'!$J$10,0,'Személyi Törl. csökkentő fiók'!$J$11)","v":0},{"$f":"IF(OR(A300>'Személyi Törl. csökkentő fiók'!$J$10,'Személyi Törl. csökkentő fiók'!$B$24='Személyi Törl. csökkentő fiók'!$T$5),0,'Személyi Törl. csökkentő fiók'!$J$12+'Személyi Törl. csökkentő fiók'!$J$13)","v":0},0,null,null,0,{"$f":"IRR($K$2:K300,0.05)","v":{"$error":"#VALUE!"}}]
[299,{"$error":"#VALUE!"},{"$f":"B301*'Személyi Törl. csökkentő fiók'!$B$27/12","v":{"$error":"#VALUE!"}},{"$f":"IF(A301>'Személyi Törl. csökkentő fiók'!$J$10,0,'Személyi Törl. csökkentő fiók'!$B$28)","v":0},{"$error":"#VALUE!"},{"$f":"IF(A301>'Személyi Törl. csökkentő fiók'!$J$10,0,'Személyi Törl. csökkentő fiók'!$J$11)","v":0},{"$f":"IF(OR(A301>'Személyi Törl. csökkentő fiók'!$J$10,'Személyi Törl. csökkentő fiók'!$B$24='Személyi Törl. csökkentő fiók'!$T$5),0,'Személyi Törl. csökkentő fiók'!$J$12+'Személyi Törl. csökkentő fiók'!$J$13)","v":0},0,null,null,0,{"$f":"IRR($K$2:K301,0.05)","v":{"$error":"#VALUE!"}}]
[300,{"$error":"#VALUE!"},{"$f":"B302*'Személyi Törl. csökkentő fiók'!$B$27/12","v":{"$error":"#VALUE!"}},{"$f":"IF(A302>'Személyi Törl. csökkentő fiók'!$J$10,0,'Személyi Törl. csökkentő fiók'!$B$28)","v":0},{"$error":"#VALUE!"},{"$f":"IF(A302>'Személyi Törl. csökkentő fiók'!$J$10,0,'Személyi Törl. csökkentő fiók'!$J$11)","v":0},{"$f":"IF(OR(A302>'Személyi Törl. csökkentő fiók'!$J$10,'Személyi Törl. csökkentő fiók'!$B$24='Személyi Törl. csökkentő fiók'!$T$5),0,'Személyi Törl. csökkentő fiók'!$J$12+'Személyi Törl. csökkentő fiók'!$J$13)","v":0},0,null,null,0,{"$f":"IRR($K$2:K302,0.05)","v":{"$error":"#VALUE!"}}]
[301,{"$error":"#VALUE!"},{"$f":"B303*'Személyi Törl. csökkentő fiók'!$B$27/12","v":{"$error":"#VALUE!"}},{"$f":"IF(A303>'Személyi Törl. csökkentő fiók'!$J$10,0,'Személyi Törl. csökkentő fiók'!$B$28)","v":0},{"$error":"#VALUE!"},{"$f":"IF(A303>'Személyi Törl. csökkentő fiók'!$J$10,0,'Személyi Törl. csökkentő fiók'!$J$11)","v":0},{"$f":"IF(OR(A303>'Személyi Törl. csökkentő fiók'!$J$10,'Személyi Törl. csökkentő fiók'!$B$24='Személyi Törl. csökkentő fiók'!$T$5),0,'Személyi Törl. csökkentő fiók'!$J$12+'Személyi Törl. csökkentő fiók'!$J$13)","v":0},0,null,null,0,{"$f":"IRR($K$2:K303,0.05)","v":{"$error":"#VALUE!"}}]
[302,{"$error":"#VALUE!"},{"$f":"B304*'Személyi Törl. csökkentő fiók'!$B$27/12","v":{"$error":"#VALUE!"}},{"$f":"IF(A304>'Személyi Törl. csökkentő fiók'!$J$10,0,'Személyi Törl. csökkentő fiók'!$B$28)","v":0},{"$error":"#VALUE!"},{"$f":"IF(A304>'Személyi Törl. csökkentő fiók'!$J$10,0,'Személyi Törl. csökkentő fiók'!$J$11)","v":0},{"$f":"IF(OR(A304>'Személyi Törl. csökkentő fiók'!$J$10,'Személyi Törl. csökkentő fiók'!$B$24='Személyi Törl. csökkentő fiók'!$T$5),0,'Személyi Törl. csökkentő fiók'!$J$12+'Személyi Törl. csökkentő fiók'!$J$13)","v":0},0,null,null,0,{"$f":"IRR($K$2:K304,0.05)","v":{"$error":"#VALUE!"}}]
[303,{"$error":"#VALUE!"},{"$f":"B305*'Személyi Törl. csökkentő fiók'!$B$27/12","v":{"$error":"#VALUE!"}},{"$f":"IF(A305>'Személyi Törl. csökkentő fiók'!$J$10,0,'Személyi Törl. csökkentő fiók'!$B$28)","v":0},{"$error":"#VALUE!"},{"$f":"IF(A305>'Személyi Törl. csökkentő fiók'!$J$10,0,'Személyi Törl. csökkentő fiók'!$J$11)","v":0},{"$f":"IF(OR(A305>'Személyi Törl. csökkentő fiók'!$J$10,'Személyi Törl. csökkentő fiók'!$B$24='Személyi Törl. csökkentő fiók'!$T$5),0,'Személyi Törl. csökkentő fiók'!$J$12+'Személyi Törl. csökkentő fiók'!$J$13)","v":0},0,null,null,0,{"$f":"IRR($K$2:K305,0.05)","v":{"$error":"#VALUE!"}}]
[304,{"$error":"#VALUE!"},{"$f":"B306*'Személyi Törl. csökkentő fiók'!$B$27/12","v":{"$error":"#VALUE!"}},{"$f":"IF(A306>'Személyi Törl. csökkentő fiók'!$J$10,0,'Személyi Törl. csökkentő fiók'!$B$28)","v":0},{"$error":"#VALUE!"},{"$f":"IF(A306>'Személyi Törl. csökkentő fiók'!$J$10,0,'Személyi Törl. csökkentő fiók'!$J$11)","v":0},{"$f":"IF(OR(A306>'Személyi Törl. csökkentő fiók'!$J$10,'Személyi Törl. csökkentő fiók'!$B$24='Személyi Törl. csökkentő fiók'!$T$5),0,'Személyi Törl. csökkentő fiók'!$J$12+'Személyi Törl. csökkentő fiók'!$J$13)","v":0},0,null,null,0,{"$f":"IRR($K$2:K306,0.05)","v":{"$error":"#VALUE!"}}]
[305,{"$error":"#VALUE!"},{"$f":"B307*'Személyi Törl. csökkentő fiók'!$B$27/12","v":{"$error":"#VALUE!"}},{"$f":"IF(A307>'Személyi Törl. csökkentő fiók'!$J$10,0,'Személyi Törl. csökkentő fiók'!$B$28)","v":0},{"$error":"#VALUE!"},{"$f":"IF(A307>'Személyi Törl. csökkentő fiók'!$J$10,0,'Személyi Törl. csökkentő fiók'!$J$11)","v":0},{"$f":"IF(OR(A307>'Személyi Törl. csökkentő fiók'!$J$10,'Személyi Törl. csökkentő fiók'!$B$24='Személyi Törl. csökkentő fiók'!$T$5),0,'Személyi Törl. csökkentő fiók'!$J$12+'Személyi Törl. csökkentő fiók'!$J$13)","v":0},0,null,null,0,{"$f":"IRR($K$2:K307,0.05)","v":{"$error":"#VALUE!"}}]
[306,{"$error":"#VALUE!"},{"$f":"B308*'Személyi Törl. csökkentő fiók'!$B$27/12","v":{"$error":"#VALUE!"}},{"$f":"IF(A308>'Személyi Törl. csökkentő fiók'!$J$10,0,'Személyi Törl. csökkentő fiók'!$B$28)","v":0},{"$error":"#VALUE!"},{"$f":"IF(A308>'Személyi Törl. csökkentő fiók'!$J$10,0,'Személyi Törl. csökkentő fiók'!$J$11)","v":0},{"$f":"IF(OR(A308>'Személyi Törl. csökkentő fiók'!$J$10,'Személyi Törl. csökkentő fiók'!$B$24='Személyi Törl. csökkentő fiók'!$T$5),0,'Személyi Törl. csökkentő fiók'!$J$12+'Személyi Törl. csökkentő fiók'!$J$13)","v":0},0,null,null,0,{"$f":"IRR($K$2:K308,0.05)","v":{"$error":"#VALUE!"}}]
[307,{"$error":"#VALUE!"},{"$f":"B309*'Személyi Törl. csökkentő fiók'!$B$27/12","v":{"$error":"#VALUE!"}},{"$f":"IF(A309>'Személyi Törl. csökkentő fiók'!$J$10,0,'Személyi Törl. csökkentő fiók'!$B$28)","v":0},{"$error":"#VALUE!"},{"$f":"IF(A309>'Személyi Törl. csökkentő fiók'!$J$10,0,'Személyi Törl. csökkentő fiók'!$J$11)","v":0},{"$f":"IF(OR(A309>'Személyi Törl. csökkentő fiók'!$J$10,'Személyi Törl. csökkentő fiók'!$B$24='Személyi Törl. csökkentő fiók'!$T$5),0,'Személyi Törl. csökkentő fiók'!$J$12+'Személyi Törl. csökkentő fiók'!$J$13)","v":0},0,null,null,0,{"$f":"IRR($K$2:K309,0.05)","v":{"$error":"#VALUE!"}}]
[308,{"$error":"#VALUE!"},{"$f":"B310*'Személyi Törl. csökkentő fiók'!$B$27/12","v":{"$error":"#VALUE!"}},{"$f":"IF(A310>'Személyi Törl. csökkentő fiók'!$J$10,0,'Személyi Törl. csökkentő fiók'!$B$28)","v":0},{"$error":"#VALUE!"},{"$f":"IF(A310>'Személyi Törl. csökkentő fiók'!$J$10,0,'Személyi Törl. csökkentő fiók'!$J$11)","v":0},{"$f":"IF(OR(A310>'Személyi Törl. csökkentő fiók'!$J$10,'Személyi Törl. csökkentő fiók'!$B$24='Személyi Törl. csökkentő fiók'!$T$5),0,'Személyi Törl. csökkentő fiók'!$J$12+'Személyi Törl. csökkentő fiók'!$J$13)","v":0},0,null,null,0,{"$f":"IRR($K$2:K310,0.05)","v":{"$error":"#VALUE!"}}]
[309,{"$error":"#VALUE!"},{"$f":"B311*'Személyi Törl. csökkentő fiók'!$B$27/12","v":{"$error":"#VALUE!"}},{"$f":"IF(A311>'Személyi Törl. csökkentő fiók'!$J$10,0,'Személyi Törl. csökkentő fiók'!$B$28)","v":0},{"$error":"#VALUE!"},{"$f":"IF(A311>'Személyi Törl. csökkentő fiók'!$J$10,0,'Személyi Törl. csökkentő fiók'!$J$11)","v":0},{"$f":"IF(OR(A311>'Személyi Törl. csökkentő fiók'!$J$10,'Személyi Törl. csökkentő fiók'!$B$24='Személyi Törl. csökkentő fiók'!$T$5),0,'Személyi Törl. csökkentő fiók'!$J$12+'Személyi Törl. csökkentő fiók'!$J$13)","v":0},0,null,null,0,{"$f":"IRR($K$2:K311,0.05)","v":{"$error":"#VALUE!"}}]
[310,{"$error":"#VALUE!"},{"$f":"B312*'Személyi Törl. csökkentő fiók'!$B$27/12","v":{"$error":"#VALUE!"}},{"$f":"IF(A312>'Személyi Törl. csökkentő fiók'!$J$10,0,'Személyi Törl. csökkentő fiók'!$B$28)","v":0},{"$error":"#VALUE!"},{"$f":"IF(A312>'Személyi Törl. csökkentő fiók'!$J$10,0,'Személyi Törl. csökkentő fiók'!$J$11)","v":0},{"$f":"IF(OR(A312>'Személyi Törl. csökkentő fiók'!$J$10,'Személyi Törl. csökkentő fiók'!$B$24='Személyi Törl. csökkentő fiók'!$T$5),0,'Személyi Törl. csökkentő fiók'!$J$12+'Személyi Törl. csökkentő fiók'!$J$13)","v":0},0,null,null,0,{"$f":"IRR($K$2:K312,0.05)","v":{"$error":"#VALUE!"}}]
[311,{"$error":"#VALUE!"},{"$f":"B313*'Személyi Törl. csökkentő fiók'!$B$27/12","v":{"$error":"#VALUE!"}},{"$f":"IF(A313>'Személyi Törl. csökkentő fiók'!$J$10,0,'Személyi Törl. csökkentő fiók'!$B$28)","v":0},{"$error":"#VALUE!"},{"$f":"IF(A313>'Személyi Törl. csökkentő fiók'!$J$10,0,'Személyi Törl. csökkentő fiók'!$J$11)","v":0},{"$f":"IF(OR(A313>'Személyi Törl. csökkentő fiók'!$J$10,'Személyi Törl. csökkentő fiók'!$B$24='Személyi Törl. csökkentő fiók'!$T$5),0,'Személyi Törl. csökkentő fiók'!$J$12+'Személyi Törl. csökkentő fiók'!$J$13)","v":0},0,null,null,0,{"$f":"IRR($K$2:K313,0.05)","v":{"$error":"#VALUE!"}}]
[312,{"$error":"#VALUE!"},{"$f":"B314*'Személyi Törl. csökkentő fiók'!$B$27/12","v":{"$error":"#VALUE!"}},{"$f":"IF(A314>'Személyi Törl. csökkentő fiók'!$J$10,0,'Személyi Törl. csökkentő fiók'!$B$28)","v":0},{"$error":"#VALUE!"},{"$f":"IF(A314>'Személyi Törl. csökkentő fiók'!$J$10,0,'Személyi Törl. csökkentő fiók'!$J$11)","v":0},{"$f":"IF(OR(A314>'Személyi Törl. csökkentő fiók'!$J$10,'Személyi Törl. csökkentő fiók'!$B$24='Személyi Törl. csökkentő fiók'!$T$5),0,'Személyi Törl. csökkentő fiók'!$J$12+'Személyi Törl. csökkentő fiók'!$J$13)","v":0},0,null,null,0,{"$f":"IRR($K$2:K314,0.05)","v":{"$error":"#VALUE!"}}]
[313,{"$error":"#VALUE!"},{"$f":"B315*'Személyi Törl. csökkentő fiók'!$B$27/12","v":{"$error":"#VALUE!"}},{"$f":"IF(A315>'Személyi Törl. csökkentő fiók'!$J$10,0,'Személyi Törl. csökkentő fiók'!$B$28)","v":0},{"$error":"#VALUE!"},{"$f":"IF(A315>'Személyi Törl. csökkentő fiók'!$J$10,0,'Személyi Törl. csökkentő fiók'!$J$11)","v":0},{"$f":"IF(OR(A315>'Személyi Törl. csökkentő fiók'!$J$10,'Személyi Törl. csökkentő fiók'!$B$24='Személyi Törl. csökkentő fiók'!$T$5),0,'Személyi Törl. csökkentő fiók'!$J$12+'Személyi Törl. csökkentő fiók'!$J$13)","v":0},0,null,null,0,{"$f":"IRR($K$2:K315,0.05)","v":{"$error":"#VALUE!"}}]
[314,{"$error":"#VALUE!"},{"$f":"B316*'Személyi Törl. csökkentő fiók'!$B$27/12","v":{"$error":"#VALUE!"}},{"$f":"IF(A316>'Személyi Törl. csökkentő fiók'!$J$10,0,'Személyi Törl. csökkentő fiók'!$B$28)","v":0},{"$error":"#VALUE!"},{"$f":"IF(A316>'Személyi Törl. csökkentő fiók'!$J$10,0,'Személyi Törl. csökkentő fiók'!$J$11)","v":0},{"$f":"IF(OR(A316>'Személyi Törl. csökkentő fiók'!$J$10,'Személyi Törl. csökkentő fiók'!$B$24='Személyi Törl. csökkentő fiók'!$T$5),0,'Személyi Törl. csökkentő fiók'!$J$12+'Személyi Törl. csökkentő fiók'!$J$13)","v":0},0,null,null,0,{"$f":"IRR($K$2:K316,0.05)","v":{"$error":"#VALUE!"}}]
[315,{"$error":"#VALUE!"},{"$f":"B317*'Személyi Törl. csökkentő fiók'!$B$27/12","v":{"$error":"#VALUE!"}},{"$f":"IF(A317>'Személyi Törl. csökkentő fiók'!$J$10,0,'Személyi Törl. csökkentő fiók'!$B$28)","v":0},{"$error":"#VALUE!"},{"$f":"IF(A317>'Személyi Törl. csökkentő fiók'!$J$10,0,'Személyi Törl. csökkentő fiók'!$J$11)","v":0},{"$f":"IF(OR(A317>'Személyi Törl. csökkentő fiók'!$J$10,'Személyi Törl. csökkentő fiók'!$B$24='Személyi Törl. csökkentő fiók'!$T$5),0,'Személyi Törl. csökkentő fiók'!$J$12+'Személyi Törl. csökkentő fiók'!$J$13)","v":0},0,null,null,0,{"$f":"IRR($K$2:K317,0.05)","v":{"$error":"#VALUE!"}}]
[316,{"$error":"#VALUE!"},{"$f":"B318*'Személyi Törl. csökkentő fiók'!$B$27/12","v":{"$error":"#VALUE!"}},{"$f":"IF(A318>'Személyi Törl. csökkentő fiók'!$J$10,0,'Személyi Törl. csökkentő fiók'!$B$28)","v":0},{"$error":"#VALUE!"},{"$f":"IF(A318>'Személyi Törl. csökkentő fiók'!$J$10,0,'Személyi Törl. csökkentő fiók'!$J$11)","v":0},{"$f":"IF(OR(A318>'Személyi Törl. csökkentő fiók'!$J$10,'Személyi Törl. csökkentő fiók'!$B$24='Személyi Törl. csökkentő fiók'!$T$5),0,'Személyi Törl. csökkentő fiók'!$J$12+'Személyi Törl. csökkentő fiók'!$J$13)","v":0},0,null,null,0,{"$f":"IRR($K$2:K318,0.05)","v":{"$error":"#VALUE!"}}]
[317,{"$error":"#VALUE!"},{"$f":"B319*'Személyi Törl. csökkentő fiók'!$B$27/12","v":{"$error":"#VALUE!"}},{"$f":"IF(A319>'Személyi Törl. csökkentő fiók'!$J$10,0,'Személyi Törl. csökkentő fiók'!$B$28)","v":0},{"$error":"#VALUE!"},{"$f":"IF(A319>'Személyi Törl. csökkentő fiók'!$J$10,0,'Személyi Törl. csökkentő fiók'!$J$11)","v":0},{"$f":"IF(OR(A319>'Személyi Törl. csökkentő fiók'!$J$10,'Személyi Törl. csökkentő fiók'!$B$24='Személyi Törl. csökkentő fiók'!$T$5),0,'Személyi Törl. csökkentő fiók'!$J$12+'Személyi Törl. csökkentő fiók'!$J$13)","v":0},0,null,null,0,{"$f":"IRR($K$2:K319,0.05)","v":{"$error":"#VALUE!"}}]
[318,{"$error":"#VALUE!"},{"$f":"B320*'Személyi Törl. csökkentő fiók'!$B$27/12","v":{"$error":"#VALUE!"}},{"$f":"IF(A320>'Személyi Törl. csökkentő fiók'!$J$10,0,'Személyi Törl. csökkentő fiók'!$B$28)","v":0},{"$error":"#VALUE!"},{"$f":"IF(A320>'Személyi Törl. csökkentő fiók'!$J$10,0,'Személyi Törl. csökkentő fiók'!$J$11)","v":0},{"$f":"IF(OR(A320>'Személyi Törl. csökkentő fiók'!$J$10,'Személyi Törl. csökkentő fiók'!$B$24='Személyi Törl. csökkentő fiók'!$T$5),0,'Személyi Törl. csökkentő fiók'!$J$12+'Személyi Törl. csökkentő fiók'!$J$13)","v":0},0,null,null,0,{"$f":"IRR($K$2:K320,0.05)","v":{"$error":"#VALUE!"}}]
[319,{"$error":"#VALUE!"},{"$f":"B321*'Személyi Törl. csökkentő fiók'!$B$27/12","v":{"$error":"#VALUE!"}},{"$f":"IF(A321>'Személyi Törl. csökkentő fiók'!$J$10,0,'Személyi Törl. csökkentő fiók'!$B$28)","v":0},{"$error":"#VALUE!"},{"$f":"IF(A321>'Személyi Törl. csökkentő fiók'!$J$10,0,'Személyi Törl. csökkentő fiók'!$J$11)","v":0},{"$f":"IF(OR(A321>'Személyi Törl. csökkentő fiók'!$J$10,'Személyi Törl. csökkentő fiók'!$B$24='Személyi Törl. csökkentő fiók'!$T$5),0,'Személyi Törl. csökkentő fiók'!$J$12+'Személyi Törl. csökkentő fiók'!$J$13)","v":0},0,null,null,0,{"$f":"IRR($K$2:K321,0.05)","v":{"$error":"#VALUE!"}}]
[320,{"$error":"#VALUE!"},{"$f":"B322*'Személyi Törl. csökkentő fiók'!$B$27/12","v":{"$error":"#VALUE!"}},{"$f":"IF(A322>'Személyi Törl. csökkentő fiók'!$J$10,0,'Személyi Törl. csökkentő fiók'!$B$28)","v":0},{"$error":"#VALUE!"},{"$f":"IF(A322>'Személyi Törl. csökkentő fiók'!$J$10,0,'Személyi Törl. csökkentő fiók'!$J$11)","v":0},{"$f":"IF(OR(A322>'Személyi Törl. csökkentő fiók'!$J$10,'Személyi Törl. csökkentő fiók'!$B$24='Személyi Törl. csökkentő fiók'!$T$5),0,'Személyi Törl. csökkentő fiók'!$J$12+'Személyi Törl. csökkentő fiók'!$J$13)","v":0},0,null,null,0,{"$f":"IRR($K$2:K322,0.05)","v":{"$error":"#VALUE!"}}]
[321,{"$error":"#VALUE!"},{"$f":"B323*'Személyi Törl. csökkentő fiók'!$B$27/12","v":{"$error":"#VALUE!"}},{"$f":"IF(A323>'Személyi Törl. csökkentő fiók'!$J$10,0,'Személyi Törl. csökkentő fiók'!$B$28)","v":0},{"$error":"#VALUE!"},{"$f":"IF(A323>'Személyi Törl. csökkentő fiók'!$J$10,0,'Személyi Törl. csökkentő fiók'!$J$11)","v":0},{"$f":"IF(OR(A323>'Személyi Törl. csökkentő fiók'!$J$10,'Személyi Törl. csökkentő fiók'!$B$24='Személyi Törl. csökkentő fiók'!$T$5),0,'Személyi Törl. csökkentő fiók'!$J$12+'Személyi Törl. csökkentő fiók'!$J$13)","v":0},0,null,null,0,{"$f":"IRR($K$2:K323,0.05)","v":{"$error":"#VALUE!"}}]
[322,{"$error":"#VALUE!"},{"$f":"B324*'Személyi Törl. csökkentő fiók'!$B$27/12","v":{"$error":"#VALUE!"}},{"$f":"IF(A324>'Személyi Törl. csökkentő fiók'!$J$10,0,'Személyi Törl. csökkentő fiók'!$B$28)","v":0},{"$f":"+B324+C324-D324","v":{"$error":"#VALUE!"}},{"$f":"IF(A324>'Személyi Törl. csökkentő fiók'!$J$10,0,'Személyi Törl. csökkentő fiók'!$J$11)","v":0},{"$f":"IF(OR(A324>'Személyi Törl. csökkentő fiók'!$J$10,'Személyi Törl. csökkentő fiók'!$B$24='Személyi Törl. csökkentő fiók'!$T$5),0,'Személyi Törl. csökkentő fiók'!$J$12+'Személyi Törl. csökkentő fiók'!$J$13)","v":0},0,null,null,{"$f":"D324+F324+G324","v":0},{"$f":"IRR($K$2:K324,0.05)","v":{"$error":"#VALUE!"}}]
[{"$f":"+A324+1","v":323},{"$f":"+E324","v":{"$error":"#VALUE!"}},{"$f":"B325*'Személyi Törl. csökkentő fiók'!$B$27/12","v":{"$error":"#VALUE!"}},{"$f":"IF(A325>'Személyi Törl. csökkentő fiók'!$J$10,0,'Személyi Törl. csökkentő fiók'!$B$28)","v":0},{"$error":"#VALUE!"},{"$f":"IF(A325>'Személyi Törl. csökkentő fiók'!$J$10,0,'Személyi Törl. csökkentő fiók'!$J$11)","v":0},{"$f":"IF(OR(A325>'Személyi Törl. csökkentő fiók'!$J$10,'Személyi Törl. csökkentő fiók'!$B$24='Személyi Törl. csökkentő fiók'!$T$5),0,'Személyi Törl. csökkentő fiók'!$J$12+'Személyi Törl. csökkentő fiók'!$J$13)","v":0},{"$f":"H324+(D325+F325+G325)/(1+$H$1)^(A325/12)","v":0},null,null,0,{"$f":"IRR($K$2:K325,0.05)","v":{"$error":"#VALUE!"}}]
[324,{"$error":"#VALUE!"},{"$f":"B326*'Személyi Törl. csökkentő fiók'!$B$27/12","v":{"$error":"#VALUE!"}},{"$f":"IF(A326>'Személyi Törl. csökkentő fiók'!$J$10,0,'Személyi Törl. csökkentő fiók'!$B$28)","v":0},{"$error":"#VALUE!"},{"$f":"IF(A326>'Személyi Törl. csökkentő fiók'!$J$10,0,'Személyi Törl. csökkentő fiók'!$J$11)","v":0},{"$f":"IF(OR(A326>'Személyi Törl. csökkentő fiók'!$J$10,'Személyi Törl. csökkentő fiók'!$B$24='Személyi Törl. csökkentő fiók'!$T$5),0,'Személyi Törl. csökkentő fiók'!$J$12+'Személyi Törl. csökkentő fiók'!$J$13)","v":0},0,null,null,0,{"$f":"IRR($K$2:K326,0.05)","v":{"$error":"#VALUE!"}}]
[325,{"$error":"#VALUE!"},{"$f":"B327*'Személyi Törl. csökkentő fiók'!$B$27/12","v":{"$error":"#VALUE!"}},{"$f":"IF(A327>'Személyi Törl. csökkentő fiók'!$J$10,0,'Személyi Törl. csökkentő fiók'!$B$28)","v":0},{"$error":"#VALUE!"},{"$f":"IF(A327>'Személyi Törl. csökkentő fiók'!$J$10,0,'Személyi Törl. csökkentő fiók'!$J$11)","v":0},{"$f":"IF(OR(A327>'Személyi Törl. csökkentő fiók'!$J$10,'Személyi Törl. csökkentő fiók'!$B$24='Személyi Törl. csökkentő fiók'!$T$5),0,'Személyi Törl. csökkentő fiók'!$J$12+'Személyi Törl. csökkentő fiók'!$J$13)","v":0},0,null,null,0,{"$f":"IRR($K$2:K327,0.05)","v":{"$error":"#VALUE!"}}]
[326,{"$error":"#VALUE!"},{"$f":"B328*'Személyi Törl. csökkentő fiók'!$B$27/12","v":{"$error":"#VALUE!"}},{"$f":"IF(A328>'Személyi Törl. csökkentő fiók'!$J$10,0,'Személyi Törl. csökkentő fiók'!$B$28)","v":0},{"$error":"#VALUE!"},{"$f":"IF(A328>'Személyi Törl. csökkentő fiók'!$J$10,0,'Személyi Törl. csökkentő fiók'!$J$11)","v":0},{"$f":"IF(OR(A328>'Személyi Törl. csökkentő fiók'!$J$10,'Személyi Törl. csökkentő fiók'!$B$24='Személyi Törl. csökkentő fiók'!$T$5),0,'Személyi Törl. csökkentő fiók'!$J$12+'Személyi Törl. csökkentő fiók'!$J$13)","v":0},0,null,null,0,{"$f":"IRR($K$2:K328,0.05)","v":{"$error":"#VALUE!"}}]
[327,{"$error":"#VALUE!"},{"$f":"B329*'Személyi Törl. csökkentő fiók'!$B$27/12","v":{"$error":"#VALUE!"}},{"$f":"IF(A329>'Személyi Törl. csökkentő fiók'!$J$10,0,'Személyi Törl. csökkentő fiók'!$B$28)","v":0},{"$error":"#VALUE!"},{"$f":"IF(A329>'Személyi Törl. csökkentő fiók'!$J$10,0,'Személyi Törl. csökkentő fiók'!$J$11)","v":0},{"$f":"IF(OR(A329>'Személyi Törl. csökkentő fiók'!$J$10,'Személyi Törl. csökkentő fiók'!$B$24='Személyi Törl. csökkentő fiók'!$T$5),0,'Személyi Törl. csökkentő fiók'!$J$12+'Személyi Törl. csökkentő fiók'!$J$13)","v":0},0,null,null,0,{"$f":"IRR($K$2:K329,0.05)","v":{"$error":"#VALUE!"}}]
[328,{"$error":"#VALUE!"},{"$f":"B330*'Személyi Törl. csökkentő fiók'!$B$27/12","v":{"$error":"#VALUE!"}},{"$f":"IF(A330>'Személyi Törl. csökkentő fiók'!$J$10,0,'Személyi Törl. csökkentő fiók'!$B$28)","v":0},{"$error":"#VALUE!"},{"$f":"IF(A330>'Személyi Törl. csökkentő fiók'!$J$10,0,'Személyi Törl. csökkentő fiók'!$J$11)","v":0},{"$f":"IF(OR(A330>'Személyi Törl. csökkentő fiók'!$J$10,'Személyi Törl. csökkentő fiók'!$B$24='Személyi Törl. csökkentő fiók'!$T$5),0,'Személyi Törl. csökkentő fiók'!$J$12+'Személyi Törl. csökkentő fiók'!$J$13)","v":0},0,null,null,0,{"$f":"IRR($K$2:K330,0.05)","v":{"$error":"#VALUE!"}}]
[329,{"$error":"#VALUE!"},{"$f":"B331*'Személyi Törl. csökkentő fiók'!$B$27/12","v":{"$error":"#VALUE!"}},{"$f":"IF(A331>'Személyi Törl. csökkentő fiók'!$J$10,0,'Személyi Törl. csökkentő fiók'!$B$28)","v":0},{"$error":"#VALUE!"},{"$f":"IF(A331>'Személyi Törl. csökkentő fiók'!$J$10,0,'Személyi Törl. csökkentő fiók'!$J$11)","v":0},{"$f":"IF(OR(A331>'Személyi Törl. csökkentő fiók'!$J$10,'Személyi Törl. csökkentő fiók'!$B$24='Személyi Törl. csökkentő fiók'!$T$5),0,'Személyi Törl. csökkentő fiók'!$J$12+'Személyi Törl. csökkentő fiók'!$J$13)","v":0},0,null,null,0,{"$f":"IRR($K$2:K331,0.05)","v":{"$error":"#VALUE!"}}]
[330,{"$error":"#VALUE!"},{"$f":"B332*'Személyi Törl. csökkentő fiók'!$B$27/12","v":{"$error":"#VALUE!"}},{"$f":"IF(A332>'Személyi Törl. csökkentő fiók'!$J$10,0,'Személyi Törl. csökkentő fiók'!$B$28)","v":0},{"$error":"#VALUE!"},{"$f":"IF(A332>'Személyi Törl. csökkentő fiók'!$J$10,0,'Személyi Törl. csökkentő fiók'!$J$11)","v":0},{"$f":"IF(OR(A332>'Személyi Törl. csökkentő fiók'!$J$10,'Személyi Törl. csökkentő fiók'!$B$24='Személyi Törl. csökkentő fiók'!$T$5),0,'Személyi Törl. csökkentő fiók'!$J$12+'Személyi Törl. csökkentő fiók'!$J$13)","v":0},0,null,null,0,{"$f":"IRR($K$2:K332,0.05)","v":{"$error":"#VALUE!"}}]
[331,{"$error":"#VALUE!"},{"$f":"B333*'Személyi Törl. csökkentő fiók'!$B$27/12","v":{"$error":"#VALUE!"}},{"$f":"IF(A333>'Személyi Törl. csökkentő fiók'!$J$10,0,'Személyi Törl. csökkentő fiók'!$B$28)","v":0},{"$error":"#VALUE!"},{"$f":"IF(A333>'Személyi Törl. csökkentő fiók'!$J$10,0,'Személyi Törl. csökkentő fiók'!$J$11)","v":0},{"$f":"IF(OR(A333>'Személyi Törl. csökkentő fiók'!$J$10,'Személyi Törl. csökkentő fiók'!$B$24='Személyi Törl. csökkentő fiók'!$T$5),0,'Személyi Törl. csökkentő fiók'!$J$12+'Személyi Törl. csökkentő fiók'!$J$13)","v":0},0,null,null,0,{"$f":"IRR($K$2:K333,0.05)","v":{"$error":"#VALUE!"}}]
[332,{"$error":"#VALUE!"},{"$f":"B334*'Személyi Törl. csökkentő fiók'!$B$27/12","v":{"$error":"#VALUE!"}},{"$f":"IF(A334>'Személyi Törl. csökkentő fiók'!$J$10,0,'Személyi Törl. csökkentő fiók'!$B$28)","v":0},{"$error":"#VALUE!"},{"$f":"IF(A334>'Személyi Törl. csökkentő fiók'!$J$10,0,'Személyi Törl. csökkentő fiók'!$J$11)","v":0},{"$f":"IF(OR(A334>'Személyi Törl. csökkentő fiók'!$J$10,'Személyi Törl. csökkentő fiók'!$B$24='Személyi Törl. csökkentő fiók'!$T$5),0,'Személyi Törl. csökkentő fiók'!$J$12+'Személyi Törl. csökkentő fiók'!$J$13)","v":0},0,null,null,0,{"$f":"IRR($K$2:K334,0.05)","v":{"$error":"#VALUE!"}}]
[333,{"$error":"#VALUE!"},{"$f":"B335*'Személyi Törl. csökkentő fiók'!$B$27/12","v":{"$error":"#VALUE!"}},{"$f":"IF(A335>'Személyi Törl. csökkentő fiók'!$J$10,0,'Személyi Törl. csökkentő fiók'!$B$28)","v":0},{"$error":"#VALUE!"},{"$f":"IF(A335>'Személyi Törl. csökkentő fiók'!$J$10,0,'Személyi Törl. csökkentő fiók'!$J$11)","v":0},{"$f":"IF(OR(A335>'Személyi Törl. csökkentő fiók'!$J$10,'Személyi Törl. csökkentő fiók'!$B$24='Személyi Törl. csökkentő fiók'!$T$5),0,'Személyi Törl. csökkentő fiók'!$J$12+'Személyi Törl. csökkentő fiók'!$J$13)","v":0},0,null,null,0,{"$f":"IRR($K$2:K335,0.05)","v":{"$error":"#VALUE!"}}]
[334,{"$error":"#VALUE!"},{"$f":"B336*'Személyi Törl. csökkentő fiók'!$B$27/12","v":{"$error":"#VALUE!"}},{"$f":"IF(A336>'Személyi Törl. csökkentő fiók'!$J$10,0,'Személyi Törl. csökkentő fiók'!$B$28)","v":0},{"$error":"#VALUE!"},{"$f":"IF(A336>'Személyi Törl. csökkentő fiók'!$J$10,0,'Személyi Törl. csökkentő fiók'!$J$11)","v":0},{"$f":"IF(OR(A336>'Személyi Törl. csökkentő fiók'!$J$10,'Személyi Törl. csökkentő fiók'!$B$24='Személyi Törl. csökkentő fiók'!$T$5),0,'Személyi Törl. csökkentő fiók'!$J$12+'Személyi Törl. csökkentő fiók'!$J$13)","v":0},0,null,null,0,{"$f":"IRR($K$2:K336,0.05)","v":{"$error":"#VALUE!"}}]
[335,{"$error":"#VALUE!"},{"$f":"B337*'Személyi Törl. csökkentő fiók'!$B$27/12","v":{"$error":"#VALUE!"}},{"$f":"IF(A337>'Személyi Törl. csökkentő fiók'!$J$10,0,'Személyi Törl. csökkentő fiók'!$B$28)","v":0},{"$error":"#VALUE!"},{"$f":"IF(A337>'Személyi Törl. csökkentő fiók'!$J$10,0,'Személyi Törl. csökkentő fiók'!$J$11)","v":0},{"$f":"IF(OR(A337>'Személyi Törl. csökkentő fiók'!$J$10,'Személyi Törl. csökkentő fiók'!$B$24='Személyi Törl. csökkentő fiók'!$T$5),0,'Személyi Törl. csökkentő fiók'!$J$12+'Személyi Törl. csökkentő fiók'!$J$13)","v":0},0,null,null,0,{"$f":"IRR($K$2:K337,0.05)","v":{"$error":"#VALUE!"}}]
[336,{"$error":"#VALUE!"},{"$f":"B338*'Személyi Törl. csökkentő fiók'!$B$27/12","v":{"$error":"#VALUE!"}},{"$f":"IF(A338>'Személyi Törl. csökkentő fiók'!$J$10,0,'Személyi Törl. csökkentő fiók'!$B$28)","v":0},{"$error":"#VALUE!"},{"$f":"IF(A338>'Személyi Törl. csökkentő fiók'!$J$10,0,'Személyi Törl. csökkentő fiók'!$J$11)","v":0},{"$f":"IF(OR(A338>'Személyi Törl. csökkentő fiók'!$J$10,'Személyi Törl. csökkentő fiók'!$B$24='Személyi Törl. csökkentő fiók'!$T$5),0,'Személyi Törl. csökkentő fiók'!$J$12+'Személyi Törl. csökkentő fiók'!$J$13)","v":0},0,null,null,0,{"$f":"IRR($K$2:K338,0.05)","v":{"$error":"#VALUE!"}}]
[337,{"$error":"#VALUE!"},{"$f":"B339*'Személyi Törl. csökkentő fiók'!$B$27/12","v":{"$error":"#VALUE!"}},{"$f":"IF(A339>'Személyi Törl. csökkentő fiók'!$J$10,0,'Személyi Törl. csökkentő fiók'!$B$28)","v":0},{"$error":"#VALUE!"},{"$f":"IF(A339>'Személyi Törl. csökkentő fiók'!$J$10,0,'Személyi Törl. csökkentő fiók'!$J$11)","v":0},{"$f":"IF(OR(A339>'Személyi Törl. csökkentő fiók'!$J$10,'Személyi Törl. csökkentő fiók'!$B$24='Személyi Törl. csökkentő fiók'!$T$5),0,'Személyi Törl. csökkentő fiók'!$J$12+'Személyi Törl. csökkentő fiók'!$J$13)","v":0},0,null,null,0,{"$f":"IRR($K$2:K339,0.05)","v":{"$error":"#VALUE!"}}]
[338,{"$error":"#VALUE!"},{"$f":"B340*'Személyi Törl. csökkentő fiók'!$B$27/12","v":{"$error":"#VALUE!"}},{"$f":"IF(A340>'Személyi Törl. csökkentő fiók'!$J$10,0,'Személyi Törl. csökkentő fiók'!$B$28)","v":0},{"$error":"#VALUE!"},{"$f":"IF(A340>'Személyi Törl. csökkentő fiók'!$J$10,0,'Személyi Törl. csökkentő fiók'!$J$11)","v":0},{"$f":"IF(OR(A340>'Személyi Törl. csökkentő fiók'!$J$10,'Személyi Törl. csökkentő fiók'!$B$24='Személyi Törl. csökkentő fiók'!$T$5),0,'Személyi Törl. csökkentő fiók'!$J$12+'Személyi Törl. csökkentő fiók'!$J$13)","v":0},0,null,null,0,{"$f":"IRR($K$2:K340,0.05)","v":{"$error":"#VALUE!"}}]
[339,{"$error":"#VALUE!"},{"$f":"B341*'Személyi Törl. csökkentő fiók'!$B$27/12","v":{"$error":"#VALUE!"}},{"$f":"IF(A341>'Személyi Törl. csökkentő fiók'!$J$10,0,'Személyi Törl. csökkentő fiók'!$B$28)","v":0},{"$error":"#VALUE!"},{"$f":"IF(A341>'Személyi Törl. csökkentő fiók'!$J$10,0,'Személyi Törl. csökkentő fiók'!$J$11)","v":0},{"$f":"IF(OR(A341>'Személyi Törl. csökkentő fiók'!$J$10,'Személyi Törl. csökkentő fiók'!$B$24='Személyi Törl. csökkentő fiók'!$T$5),0,'Személyi Törl. csökkentő fiók'!$J$12+'Személyi Törl. csökkentő fiók'!$J$13)","v":0},0,null,null,0,{"$f":"IRR($K$2:K341,0.05)","v":{"$error":"#VALUE!"}}]
[340,{"$error":"#VALUE!"},{"$f":"B342*'Személyi Törl. csökkentő fiók'!$B$27/12","v":{"$error":"#VALUE!"}},{"$f":"IF(A342>'Személyi Törl. csökkentő fiók'!$J$10,0,'Személyi Törl. csökkentő fiók'!$B$28)","v":0},{"$error":"#VALUE!"},{"$f":"IF(A342>'Személyi Törl. csökkentő fiók'!$J$10,0,'Személyi Törl. csökkentő fiók'!$J$11)","v":0},{"$f":"IF(OR(A342>'Személyi Törl. csökkentő fiók'!$J$10,'Személyi Törl. csökkentő fiók'!$B$24='Személyi Törl. csökkentő fiók'!$T$5),0,'Személyi Törl. csökkentő fiók'!$J$12+'Személyi Törl. csökkentő fiók'!$J$13)","v":0},0,null,null,0,{"$f":"IRR($K$2:K342,0.05)","v":{"$error":"#VALUE!"}}]
[341,{"$error":"#VALUE!"},{"$f":"B343*'Személyi Törl. csökkentő fiók'!$B$27/12","v":{"$error":"#VALUE!"}},{"$f":"IF(A343>'Személyi Törl. csökkentő fiók'!$J$10,0,'Személyi Törl. csökkentő fiók'!$B$28)","v":0},{"$error":"#VALUE!"},{"$f":"IF(A343>'Személyi Törl. csökkentő fiók'!$J$10,0,'Személyi Törl. csökkentő fiók'!$J$11)","v":0},{"$f":"IF(OR(A343>'Személyi Törl. csökkentő fiók'!$J$10,'Személyi Törl. csökkentő fiók'!$B$24='Személyi Törl. csökkentő fiók'!$T$5),0,'Személyi Törl. csökkentő fiók'!$J$12+'Személyi Törl. csökkentő fiók'!$J$13)","v":0},0,null,null,0,{"$f":"IRR($K$2:K343,0.05)","v":{"$error":"#VALUE!"}}]
[342,{"$error":"#VALUE!"},{"$f":"B344*'Személyi Törl. csökkentő fiók'!$B$27/12","v":{"$error":"#VALUE!"}},{"$f":"IF(A344>'Személyi Törl. csökkentő fiók'!$J$10,0,'Személyi Törl. csökkentő fiók'!$B$28)","v":0},{"$error":"#VALUE!"},{"$f":"IF(A344>'Személyi Törl. csökkentő fiók'!$J$10,0,'Személyi Törl. csökkentő fiók'!$J$11)","v":0},{"$f":"IF(OR(A344>'Személyi Törl. csökkentő fiók'!$J$10,'Személyi Törl. csökkentő fiók'!$B$24='Személyi Törl. csökkentő fiók'!$T$5),0,'Személyi Törl. csökkentő fiók'!$J$12+'Személyi Törl. csökkentő fiók'!$J$13)","v":0},0,null,null,0,{"$f":"IRR($K$2:K344,0.05)","v":{"$error":"#VALUE!"}}]
[343,{"$error":"#VALUE!"},{"$f":"B345*'Személyi Törl. csökkentő fiók'!$B$27/12","v":{"$error":"#VALUE!"}},{"$f":"IF(A345>'Személyi Törl. csökkentő fiók'!$J$10,0,'Személyi Törl. csökkentő fiók'!$B$28)","v":0},{"$error":"#VALUE!"},{"$f":"IF(A345>'Személyi Törl. csökkentő fiók'!$J$10,0,'Személyi Törl. csökkentő fiók'!$J$11)","v":0},{"$f":"IF(OR(A345>'Személyi Törl. csökkentő fiók'!$J$10,'Személyi Törl. csökkentő fiók'!$B$24='Személyi Törl. csökkentő fiók'!$T$5),0,'Személyi Törl. csökkentő fiók'!$J$12+'Személyi Törl. csökkentő fiók'!$J$13)","v":0},0,null,null,0,{"$f":"IRR($K$2:K345,0.05)","v":{"$error":"#VALUE!"}}]
[344,{"$error":"#VALUE!"},{"$f":"B346*'Személyi Törl. csökkentő fiók'!$B$27/12","v":{"$error":"#VALUE!"}},{"$f":"IF(A346>'Személyi Törl. csökkentő fiók'!$J$10,0,'Személyi Törl. csökkentő fiók'!$B$28)","v":0},{"$error":"#VALUE!"},{"$f":"IF(A346>'Személyi Törl. csökkentő fiók'!$J$10,0,'Személyi Törl. csökkentő fiók'!$J$11)","v":0},{"$f":"IF(OR(A346>'Személyi Törl. csökkentő fiók'!$J$10,'Személyi Törl. csökkentő fiók'!$B$24='Személyi Törl. csökkentő fiók'!$T$5),0,'Személyi Törl. csökkentő fiók'!$J$12+'Személyi Törl. csökkentő fiók'!$J$13)","v":0},0,null,null,0,{"$f":"IRR($K$2:K346,0.05)","v":{"$error":"#VALUE!"}}]
[345,{"$error":"#VALUE!"},{"$f":"B347*'Személyi Törl. csökkentő fiók'!$B$27/12","v":{"$error":"#VALUE!"}},{"$f":"IF(A347>'Személyi Törl. csökkentő fiók'!$J$10,0,'Személyi Törl. csökkentő fiók'!$B$28)","v":0},{"$error":"#VALUE!"},{"$f":"IF(A347>'Személyi Törl. csökkentő fiók'!$J$10,0,'Személyi Törl. csökkentő fiók'!$J$11)","v":0},{"$f":"IF(OR(A347>'Személyi Törl. csökkentő fiók'!$J$10,'Személyi Törl. csökkentő fiók'!$B$24='Személyi Törl. csökkentő fiók'!$T$5),0,'Személyi Törl. csökkentő fiók'!$J$12+'Személyi Törl. csökkentő fiók'!$J$13)","v":0},0,null,null,0,{"$f":"IRR($K$2:K347,0.05)","v":{"$error":"#VALUE!"}}]
[346,{"$error":"#VALUE!"},{"$f":"B348*'Személyi Törl. csökkentő fiók'!$B$27/12","v":{"$error":"#VALUE!"}},{"$f":"IF(A348>'Személyi Törl. csökkentő fiók'!$J$10,0,'Személyi Törl. csökkentő fiók'!$B$28)","v":0},{"$error":"#VALUE!"},{"$f":"IF(A348>'Személyi Törl. csökkentő fiók'!$J$10,0,'Személyi Törl. csökkentő fiók'!$J$11)","v":0},{"$f":"IF(OR(A348>'Személyi Törl. csökkentő fiók'!$J$10,'Személyi Törl. csökkentő fiók'!$B$24='Személyi Törl. csökkentő fiók'!$T$5),0,'Személyi Törl. csökkentő fiók'!$J$12+'Személyi Törl. csökkentő fiók'!$J$13)","v":0},0,null,null,0,{"$f":"IRR($K$2:K348,0.05)","v":{"$error":"#VALUE!"}}]
[347,{"$error":"#VALUE!"},{"$f":"B349*'Személyi Törl. csökkentő fiók'!$B$27/12","v":{"$error":"#VALUE!"}},{"$f":"IF(A349>'Személyi Törl. csökkentő fiók'!$J$10,0,'Személyi Törl. csökkentő fiók'!$B$28)","v":0},{"$error":"#VALUE!"},{"$f":"IF(A349>'Személyi Törl. csökkentő fiók'!$J$10,0,'Személyi Törl. csökkentő fiók'!$J$11)","v":0},{"$f":"IF(OR(A349>'Személyi Törl. csökkentő fiók'!$J$10,'Személyi Törl. csökkentő fiók'!$B$24='Személyi Törl. csökkentő fiók'!$T$5),0,'Személyi Törl. csökkentő fiók'!$J$12+'Személyi Törl. csökkentő fiók'!$J$13)","v":0},0,null,null,0,{"$f":"IRR($K$2:K349,0.05)","v":{"$error":"#VALUE!"}}]
[348,{"$error":"#VALUE!"},{"$f":"B350*'Személyi Törl. csökkentő fiók'!$B$27/12","v":{"$error":"#VALUE!"}},{"$f":"IF(A350>'Személyi Törl. csökkentő fiók'!$J$10,0,'Személyi Törl. csökkentő fiók'!$B$28)","v":0},{"$error":"#VALUE!"},{"$f":"IF(A350>'Személyi Törl. csökkentő fiók'!$J$10,0,'Személyi Törl. csökkentő fiók'!$J$11)","v":0},{"$f":"IF(OR(A350>'Személyi Törl. csökkentő fiók'!$J$10,'Személyi Törl. csökkentő fiók'!$B$24='Személyi Törl. csökkentő fiók'!$T$5),0,'Személyi Törl. csökkentő fiók'!$J$12+'Személyi Törl. csökkentő fiók'!$J$13)","v":0},0,null,null,0,{"$f":"IRR($K$2:K350,0.05)","v":{"$error":"#VALUE!"}}]
[349,{"$error":"#VALUE!"},{"$f":"B351*'Személyi Törl. csökkentő fiók'!$B$27/12","v":{"$error":"#VALUE!"}},{"$f":"IF(A351>'Személyi Törl. csökkentő fiók'!$J$10,0,'Személyi Törl. csökkentő fiók'!$B$28)","v":0},{"$error":"#VALUE!"},{"$f":"IF(A351>'Személyi Törl. csökkentő fiók'!$J$10,0,'Személyi Törl. csökkentő fiók'!$J$11)","v":0},{"$f":"IF(OR(A351>'Személyi Törl. csökkentő fiók'!$J$10,'Személyi Törl. csökkentő fiók'!$B$24='Személyi Törl. csökkentő fiók'!$T$5),0,'Személyi Törl. csökkentő fiók'!$J$12+'Személyi Törl. csökkentő fiók'!$J$13)","v":0},0,null,null,0,{"$f":"IRR($K$2:K351,0.05)","v":{"$error":"#VALUE!"}}]
[350,{"$error":"#VALUE!"},{"$f":"B352*'Személyi Törl. csökkentő fiók'!$B$27/12","v":{"$error":"#VALUE!"}},{"$f":"IF(A352>'Személyi Törl. csökkentő fiók'!$J$10,0,'Személyi Törl. csökkentő fiók'!$B$28)","v":0},{"$error":"#VALUE!"},{"$f":"IF(A352>'Személyi Törl. csökkentő fiók'!$J$10,0,'Személyi Törl. csökkentő fiók'!$J$11)","v":0},{"$f":"IF(OR(A352>'Személyi Törl. csökkentő fiók'!$J$10,'Személyi Törl. csökkentő fiók'!$B$24='Személyi Törl. csökkentő fiók'!$T$5),0,'Személyi Törl. csökkentő fiók'!$J$12+'Személyi Törl. csökkentő fiók'!$J$13)","v":0},0,null,null,0,{"$f":"IRR($K$2:K352,0.05)","v":{"$error":"#VALUE!"}}]
[351,{"$error":"#VALUE!"},{"$f":"B353*'Személyi Törl. csökkentő fiók'!$B$27/12","v":{"$error":"#VALUE!"}},{"$f":"IF(A353>'Személyi Törl. csökkentő fiók'!$J$10,0,'Személyi Törl. csökkentő fiók'!$B$28)","v":0},{"$error":"#VALUE!"},{"$f":"IF(A353>'Személyi Törl. csökkentő fiók'!$J$10,0,'Személyi Törl. csökkentő fiók'!$J$11)","v":0},{"$f":"IF(OR(A353>'Személyi Törl. csökkentő fiók'!$J$10,'Személyi Törl. csökkentő fiók'!$B$24='Személyi Törl. csökkentő fiók'!$T$5),0,'Személyi Törl. csökkentő fiók'!$J$12+'Személyi Törl. csökkentő fiók'!$J$13)","v":0},0,null,null,0,{"$f":"IRR($K$2:K353,0.05)","v":{"$error":"#VALUE!"}}]
[352,{"$error":"#VALUE!"},{"$f":"B354*'Személyi Törl. csökkentő fiók'!$B$27/12","v":{"$error":"#VALUE!"}},{"$f":"IF(A354>'Személyi Törl. csökkentő fiók'!$J$10,0,'Személyi Törl. csökkentő fiók'!$B$28)","v":0},{"$error":"#VALUE!"},{"$f":"IF(A354>'Személyi Törl. csökkentő fiók'!$J$10,0,'Személyi Törl. csökkentő fiók'!$J$11)","v":0},{"$f":"IF(OR(A354>'Személyi Törl. csökkentő fiók'!$J$10,'Személyi Törl. csökkentő fiók'!$B$24='Személyi Törl. csökkentő fiók'!$T$5),0,'Személyi Törl. csökkentő fiók'!$J$12+'Személyi Törl. csökkentő fiók'!$J$13)","v":0},0,null,null,0,{"$f":"IRR($K$2:K354,0.05)","v":{"$error":"#VALUE!"}}]
[353,{"$error":"#VALUE!"},{"$f":"B355*'Személyi Törl. csökkentő fiók'!$B$27/12","v":{"$error":"#VALUE!"}},{"$f":"IF(A355>'Személyi Törl. csökkentő fiók'!$J$10,0,'Személyi Törl. csökkentő fiók'!$B$28)","v":0},{"$error":"#VALUE!"},{"$f":"IF(A355>'Személyi Törl. csökkentő fiók'!$J$10,0,'Személyi Törl. csökkentő fiók'!$J$11)","v":0},{"$f":"IF(OR(A355>'Személyi Törl. csökkentő fiók'!$J$10,'Személyi Törl. csökkentő fiók'!$B$24='Személyi Törl. csökkentő fiók'!$T$5),0,'Személyi Törl. csökkentő fiók'!$J$12+'Személyi Törl. csökkentő fiók'!$J$13)","v":0},0,null,null,0,{"$f":"IRR($K$2:K355,0.05)","v":{"$error":"#VALUE!"}}]
[354,{"$error":"#VALUE!"},{"$f":"B356*'Személyi Törl. csökkentő fiók'!$B$27/12","v":{"$error":"#VALUE!"}},{"$f":"IF(A356>'Személyi Törl. csökkentő fiók'!$J$10,0,'Személyi Törl. csökkentő fiók'!$B$28)","v":0},{"$error":"#VALUE!"},{"$f":"IF(A356>'Személyi Törl. csökkentő fiók'!$J$10,0,'Személyi Törl. csökkentő fiók'!$J$11)","v":0},{"$f":"IF(OR(A356>'Személyi Törl. csökkentő fiók'!$J$10,'Személyi Törl. csökkentő fiók'!$B$24='Személyi Törl. csökkentő fiók'!$T$5),0,'Személyi Törl. csökkentő fiók'!$J$12+'Személyi Törl. csökkentő fiók'!$J$13)","v":0},0,null,null,0,{"$f":"IRR($K$2:K356,0.05)","v":{"$error":"#VALUE!"}}]
[355,{"$error":"#VALUE!"},{"$f":"B357*'Személyi Törl. csökkentő fiók'!$B$27/12","v":{"$error":"#VALUE!"}},{"$f":"IF(A357>'Személyi Törl. csökkentő fiók'!$J$10,0,'Személyi Törl. csökkentő fiók'!$B$28)","v":0},{"$error":"#VALUE!"},{"$f":"IF(A357>'Személyi Törl. csökkentő fiók'!$J$10,0,'Személyi Törl. csökkentő fiók'!$J$11)","v":0},{"$f":"IF(OR(A357>'Személyi Törl. csökkentő fiók'!$J$10,'Személyi Törl. csökkentő fiók'!$B$24='Személyi Törl. csökkentő fiók'!$T$5),0,'Személyi Törl. csökkentő fiók'!$J$12+'Személyi Törl. csökkentő fiók'!$J$13)","v":0},0,null,null,0,{"$f":"IRR($K$2:K357,0.05)","v":{"$error":"#VALUE!"}}]
[356,{"$error":"#VALUE!"},{"$f":"B358*'Személyi Törl. csökkentő fiók'!$B$27/12","v":{"$error":"#VALUE!"}},{"$f":"IF(A358>'Személyi Törl. csökkentő fiók'!$J$10,0,'Személyi Törl. csökkentő fiók'!$B$28)","v":0},{"$error":"#VALUE!"},{"$f":"IF(A358>'Személyi Törl. csökkentő fiók'!$J$10,0,'Személyi Törl. csökkentő fiók'!$J$11)","v":0},{"$f":"IF(OR(A358>'Személyi Törl. csökkentő fiók'!$J$10,'Személyi Törl. csökkentő fiók'!$B$24='Személyi Törl. csökkentő fiók'!$T$5),0,'Személyi Törl. csökkentő fiók'!$J$12+'Személyi Törl. csökkentő fiók'!$J$13)","v":0},0,null,null,0,{"$f":"IRR($K$2:K358,0.05)","v":{"$error":"#VALUE!"}}]
[357,{"$error":"#VALUE!"},{"$f":"B359*'Személyi Törl. csökkentő fiók'!$B$27/12","v":{"$error":"#VALUE!"}},{"$f":"IF(A359>'Személyi Törl. csökkentő fiók'!$J$10,0,'Személyi Törl. csökkentő fiók'!$B$28)","v":0},{"$error":"#VALUE!"},{"$f":"IF(A359>'Személyi Törl. csökkentő fiók'!$J$10,0,'Személyi Törl. csökkentő fiók'!$J$11)","v":0},{"$f":"IF(OR(A359>'Személyi Törl. csökkentő fiók'!$J$10,'Személyi Törl. csökkentő fiók'!$B$24='Személyi Törl. csökkentő fiók'!$T$5),0,'Személyi Törl. csökkentő fiók'!$J$12+'Személyi Törl. csökkentő fiók'!$J$13)","v":0},0,null,null,0,{"$f":"IRR($K$2:K359,0.05)","v":{"$error":"#VALUE!"}}]
[358,{"$error":"#VALUE!"},{"$f":"B360*'Személyi Törl. csökkentő fiók'!$B$27/12","v":{"$error":"#VALUE!"}},{"$f":"IF(A360>'Személyi Törl. csökkentő fiók'!$J$10,0,'Személyi Törl. csökkentő fiók'!$B$28)","v":0},{"$error":"#VALUE!"},{"$f":"IF(A360>'Személyi Törl. csökkentő fiók'!$J$10,0,'Személyi Törl. csökkentő fiók'!$J$11)","v":0},{"$f":"IF(OR(A360>'Személyi Törl. csökkentő fiók'!$J$10,'Személyi Törl. csökkentő fiók'!$B$24='Személyi Törl. csökkentő fiók'!$T$5),0,'Személyi Törl. csökkentő fiók'!$J$12+'Személyi Törl. csökkentő fiók'!$J$13)","v":0},0,null,null,0,{"$f":"IRR($K$2:K360,0.05)","v":{"$error":"#VALUE!"}}]
[359,{"$error":"#VALUE!"},{"$f":"B361*'Személyi Törl. csökkentő fiók'!$B$27/12","v":{"$error":"#VALUE!"}},{"$f":"IF(A361>'Személyi Törl. csökkentő fiók'!$J$10,0,'Személyi Törl. csökkentő fiók'!$B$28)","v":0},{"$error":"#VALUE!"},{"$f":"IF(A361>'Személyi Törl. csökkentő fiók'!$J$10,0,'Személyi Törl. csökkentő fiók'!$J$11)","v":0},{"$f":"IF(OR(A361>'Személyi Törl. csökkentő fiók'!$J$10,'Személyi Törl. csökkentő fiók'!$B$24='Személyi Törl. csökkentő fiók'!$T$5),0,'Személyi Törl. csökkentő fiók'!$J$12+'Személyi Törl. csökkentő fiók'!$J$13)","v":0},0,null,null,0,{"$f":"IRR($K$2:K361,0.05)","v":{"$error":"#VALUE!"}}]
[360,{"$error":"#VALUE!"},{"$f":"B362*'Személyi Törl. csökkentő fiók'!$B$27/12","v":{"$error":"#VALUE!"}},{"$f":"IF(A362>'Személyi Törl. csökkentő fiók'!$J$10,0,'Személyi Törl. csökkentő fiók'!$B$28)","v":0},{"$error":"#VALUE!"},{"$f":"IF(A362>'Személyi Törl. csökkentő fiók'!$J$10,0,'Személyi Törl. csökkentő fiók'!$J$11)","v":0},{"$f":"IF(OR(A362>'Személyi Törl. csökkentő fiók'!$J$10,'Személyi Törl. csökkentő fiók'!$B$24='Személyi Törl. csökkentő fiók'!$T$5),0,'Személyi Törl. csökkentő fiók'!$J$12+'Személyi Törl. csökkentő fiók'!$J$13)","v":0},0,null,null,0,{"$f":"IRR($K$2:K362,0.05)","v":{"$error":"#VALUE!"}}]
[361,{"$error":"#VALUE!"},{"$f":"B363*'Személyi Törl. csökkentő fiók'!$B$27/12","v":{"$error":"#VALUE!"}},{"$f":"IF(A363>'Személyi Törl. csökkentő fiók'!$J$10,0,'Személyi Törl. csökkentő fiók'!$B$28)","v":0},{"$error":"#VALUE!"},{"$f":"IF(A363>'Személyi Törl. csökkentő fiók'!$J$10,0,'Személyi Törl. csökkentő fiók'!$J$11)","v":0},{"$f":"IF(OR(A363>'Személyi Törl. csökkentő fiók'!$J$10,'Személyi Törl. csökkentő fiók'!$B$24='Személyi Törl. csökkentő fiók'!$T$5),0,'Személyi Törl. csökkentő fiók'!$J$12+'Személyi Törl. csökkentő fiók'!$J$13)","v":0},0,null,null,0,{"$f":"IRR($K$2:K363,0.05)","v":{"$error":"#VALUE!"}}]
[362,{"$error":"#VALUE!"},{"$f":"B364*'Személyi Törl. csökkentő fiók'!$B$27/12","v":{"$error":"#VALUE!"}},{"$f":"IF(A364>'Személyi Törl. csökkentő fiók'!$J$10,0,'Személyi Törl. csökkentő fiók'!$B$28)","v":0},{"$error":"#VALUE!"},{"$f":"IF(A364>'Személyi Törl. csökkentő fiók'!$J$10,0,'Személyi Törl. csökkentő fiók'!$J$11)","v":0},{"$f":"IF(OR(A364>'Személyi Törl. csökkentő fiók'!$J$10,'Személyi Törl. csökkentő fiók'!$B$24='Személyi Törl. csökkentő fiók'!$T$5),0,'Személyi Törl. csökkentő fiók'!$J$12+'Személyi Törl. csökkentő fiók'!$J$13)","v":0},0,null,null,0,{"$f":"IRR($K$2:K364,0.05)","v":{"$error":"#VALUE!"}}]
[363,{"$error":"#VALUE!"},{"$f":"B365*'Személyi Törl. csökkentő fiók'!$B$27/12","v":{"$error":"#VALUE!"}},{"$f":"IF(A365>'Személyi Törl. csökkentő fiók'!$J$10,0,'Személyi Törl. csökkentő fiók'!$B$28)","v":0},{"$error":"#VALUE!"},{"$f":"IF(A365>'Személyi Törl. csökkentő fiók'!$J$10,0,'Személyi Törl. csökkentő fiók'!$J$11)","v":0},{"$f":"IF(OR(A365>'Személyi Törl. csökkentő fiók'!$J$10,'Személyi Törl. csökkentő fiók'!$B$24='Személyi Törl. csökkentő fiók'!$T$5),0,'Személyi Törl. csökkentő fiók'!$J$12+'Személyi Törl. csökkentő fiók'!$J$13)","v":0},0,null,null,0,{"$f":"IRR($K$2:K365,0.05)","v":{"$error":"#VALUE!"}}]
[364,{"$error":"#VALUE!"},{"$f":"B366*'Személyi Törl. csökkentő fiók'!$B$27/12","v":{"$error":"#VALUE!"}},{"$f":"IF(A366>'Személyi Törl. csökkentő fiók'!$J$10,0,'Személyi Törl. csökkentő fiók'!$B$28)","v":0},{"$error":"#VALUE!"},{"$f":"IF(A366>'Személyi Törl. csökkentő fiók'!$J$10,0,'Személyi Törl. csökkentő fiók'!$J$11)","v":0},{"$f":"IF(OR(A366>'Személyi Törl. csökkentő fiók'!$J$10,'Személyi Törl. csökkentő fiók'!$B$24='Személyi Törl. csökkentő fiók'!$T$5),0,'Személyi Törl. csökkentő fiók'!$J$12+'Személyi Törl. csökkentő fiók'!$J$13)","v":0},0,null,null,0,{"$f":"IRR($K$2:K366,0.05)","v":{"$error":"#VALUE!"}}]
[365,{"$error":"#VALUE!"},{"$f":"B367*'Személyi Törl. csökkentő fiók'!$B$27/12","v":{"$error":"#VALUE!"}},{"$f":"IF(A367>'Személyi Törl. csökkentő fiók'!$J$10,0,'Személyi Törl. csökkentő fiók'!$B$28)","v":0},{"$error":"#VALUE!"},{"$f":"IF(A367>'Személyi Törl. csökkentő fiók'!$J$10,0,'Személyi Törl. csökkentő fiók'!$J$11)","v":0},{"$f":"IF(OR(A367>'Személyi Törl. csökkentő fiók'!$J$10,'Személyi Törl. csökkentő fiók'!$B$24='Személyi Törl. csökkentő fiók'!$T$5),0,'Személyi Törl. csökkentő fiók'!$J$12+'Személyi Törl. csökkentő fiók'!$J$13)","v":0},0,null,null,0,{"$f":"IRR($K$2:K367,0.05)","v":{"$error":"#VALUE!"}}]
[366,{"$error":"#VALUE!"},{"$f":"B368*'Személyi Törl. csökkentő fiók'!$B$27/12","v":{"$error":"#VALUE!"}},{"$f":"IF(A368>'Személyi Törl. csökkentő fiók'!$J$10,0,'Személyi Törl. csökkentő fiók'!$B$28)","v":0},{"$error":"#VALUE!"},{"$f":"IF(A368>'Személyi Törl. csökkentő fiók'!$J$10,0,'Személyi Törl. csökkentő fiók'!$J$11)","v":0},{"$f":"IF(OR(A368>'Személyi Törl. csökkentő fiók'!$J$10,'Személyi Törl. csökkentő fiók'!$B$24='Személyi Törl. csökkentő fiók'!$T$5),0,'Személyi Törl. csökkentő fiók'!$J$12+'Személyi Törl. csökkentő fiók'!$J$13)","v":0},0,null,null,0,{"$f":"IRR($K$2:K368,0.05)","v":{"$error":"#VALUE!"}}]
[367,{"$error":"#VALUE!"},{"$f":"B369*'Személyi Törl. csökkentő fiók'!$B$27/12","v":{"$error":"#VALUE!"}},{"$f":"IF(A369>'Személyi Törl. csökkentő fiók'!$J$10,0,'Személyi Törl. csökkentő fiók'!$B$28)","v":0},{"$error":"#VALUE!"},{"$f":"IF(A369>'Személyi Törl. csökkentő fiók'!$J$10,0,'Személyi Törl. csökkentő fiók'!$J$11)","v":0},{"$f":"IF(OR(A369>'Személyi Törl. csökkentő fiók'!$J$10,'Személyi Törl. csökkentő fiók'!$B$24='Személyi Törl. csökkentő fiók'!$T$5),0,'Személyi Törl. csökkentő fiók'!$J$12+'Személyi Törl. csökkentő fiók'!$J$13)","v":0},0,null,null,0,{"$f":"IRR($K$2:K369,0.05)","v":{"$error":"#VALUE!"}}]
[368,{"$error":"#VALUE!"},{"$f":"B370*'Személyi Törl. csökkentő fiók'!$B$27/12","v":{"$error":"#VALUE!"}},{"$f":"IF(A370>'Személyi Törl. csökkentő fiók'!$J$10,0,'Személyi Törl. csökkentő fiók'!$B$28)","v":0},{"$error":"#VALUE!"},{"$f":"IF(A370>'Személyi Törl. csökkentő fiók'!$J$10,0,'Személyi Törl. csökkentő fiók'!$J$11)","v":0},{"$f":"IF(OR(A370>'Személyi Törl. csökkentő fiók'!$J$10,'Személyi Törl. csökkentő fiók'!$B$24='Személyi Törl. csökkentő fiók'!$T$5),0,'Személyi Törl. csökkentő fiók'!$J$12+'Személyi Törl. csökkentő fiók'!$J$13)","v":0},0,null,null,0,{"$f":"IRR($K$2:K370,0.05)","v":{"$error":"#VALUE!"}}]
[369,{"$error":"#VALUE!"},{"$f":"B371*'Személyi Törl. csökkentő fiók'!$B$27/12","v":{"$error":"#VALUE!"}},{"$f":"IF(A371>'Személyi Törl. csökkentő fiók'!$J$10,0,'Személyi Törl. csökkentő fiók'!$B$28)","v":0},{"$error":"#VALUE!"},{"$f":"IF(A371>'Személyi Törl. csökkentő fiók'!$J$10,0,'Személyi Törl. csökkentő fiók'!$J$11)","v":0},{"$f":"IF(OR(A371>'Személyi Törl. csökkentő fiók'!$J$10,'Személyi Törl. csökkentő fiók'!$B$24='Személyi Törl. csökkentő fiók'!$T$5),0,'Személyi Törl. csökkentő fiók'!$J$12+'Személyi Törl. csökkentő fiók'!$J$13)","v":0},0,null,null,0,{"$f":"IRR($K$2:K371,0.05)","v":{"$error":"#VALUE!"}}]
[370,{"$error":"#VALUE!"},{"$f":"B372*'Személyi Törl. csökkentő fiók'!$B$27/12","v":{"$error":"#VALUE!"}},{"$f":"IF(A372>'Személyi Törl. csökkentő fiók'!$J$10,0,'Személyi Törl. csökkentő fiók'!$B$28)","v":0},{"$error":"#VALUE!"},{"$f":"IF(A372>'Személyi Törl. csökkentő fiók'!$J$10,0,'Személyi Törl. csökkentő fiók'!$J$11)","v":0},{"$f":"IF(OR(A372>'Személyi Törl. csökkentő fiók'!$J$10,'Személyi Törl. csökkentő fiók'!$B$24='Személyi Törl. csökkentő fiók'!$T$5),0,'Személyi Törl. csökkentő fiók'!$J$12+'Személyi Törl. csökkentő fiók'!$J$13)","v":0},0,null,null,0,{"$f":"IRR($K$2:K372,0.05)","v":{"$error":"#VALUE!"}}]
[371,{"$error":"#VALUE!"},{"$f":"B373*'Személyi Törl. csökkentő fiók'!$B$27/12","v":{"$error":"#VALUE!"}},{"$f":"IF(A373>'Személyi Törl. csökkentő fiók'!$J$10,0,'Személyi Törl. csökkentő fiók'!$B$28)","v":0},{"$error":"#VALUE!"},{"$f":"IF(A373>'Személyi Törl. csökkentő fiók'!$J$10,0,'Személyi Törl. csökkentő fiók'!$J$11)","v":0},{"$f":"IF(OR(A373>'Személyi Törl. csökkentő fiók'!$J$10,'Személyi Törl. csökkentő fiók'!$B$24='Személyi Törl. csökkentő fiók'!$T$5),0,'Személyi Törl. csökkentő fiók'!$J$12+'Személyi Törl. csökkentő fiók'!$J$13)","v":0},0,null,null,0,{"$f":"IRR($K$2:K373,0.05)","v":{"$error":"#VALUE!"}}]
[372,{"$error":"#VALUE!"},{"$f":"B374*'Személyi Törl. csökkentő fiók'!$B$27/12","v":{"$error":"#VALUE!"}},{"$f":"IF(A374>'Személyi Törl. csökkentő fiók'!$J$10,0,'Személyi Törl. csökkentő fiók'!$B$28)","v":0},{"$error":"#VALUE!"},{"$f":"IF(A374>'Személyi Törl. csökkentő fiók'!$J$10,0,'Személyi Törl. csökkentő fiók'!$J$11)","v":0},{"$f":"IF(OR(A374>'Személyi Törl. csökkentő fiók'!$J$10,'Személyi Törl. csökkentő fiók'!$B$24='Személyi Törl. csökkentő fiók'!$T$5),0,'Személyi Törl. csökkentő fiók'!$J$12+'Személyi Törl. csökkentő fiók'!$J$13)","v":0},0,null,null,0,{"$f":"IRR($K$2:K374,0.05)","v":{"$error":"#VALUE!"}}]
[373,{"$error":"#VALUE!"},{"$f":"B375*'Személyi Törl. csökkentő fiók'!$B$27/12","v":{"$error":"#VALUE!"}},{"$f":"IF(A375>'Személyi Törl. csökkentő fiók'!$J$10,0,'Személyi Törl. csökkentő fiók'!$B$28)","v":0},{"$error":"#VALUE!"},{"$f":"IF(A375>'Személyi Törl. csökkentő fiók'!$J$10,0,'Személyi Törl. csökkentő fiók'!$J$11)","v":0},{"$f":"IF(OR(A375>'Személyi Törl. csökkentő fiók'!$J$10,'Személyi Törl. csökkentő fiók'!$B$24='Személyi Törl. csökkentő fiók'!$T$5),0,'Személyi Törl. csökkentő fiók'!$J$12+'Személyi Törl. csökkentő fiók'!$J$13)","v":0},0,null,null,0,{"$f":"IRR($K$2:K375,0.05)","v":{"$error":"#VALUE!"}}]
[374,{"$error":"#VALUE!"},{"$f":"B376*'Személyi Törl. csökkentő fiók'!$B$27/12","v":{"$error":"#VALUE!"}},{"$f":"IF(A376>'Személyi Törl. csökkentő fiók'!$J$10,0,'Személyi Törl. csökkentő fiók'!$B$28)","v":0},{"$error":"#VALUE!"},{"$f":"IF(A376>'Személyi Törl. csökkentő fiók'!$J$10,0,'Személyi Törl. csökkentő fiók'!$J$11)","v":0},{"$f":"IF(OR(A376>'Személyi Törl. csökkentő fiók'!$J$10,'Személyi Törl. csökkentő fiók'!$B$24='Személyi Törl. csökkentő fiók'!$T$5),0,'Személyi Törl. csökkentő fiók'!$J$12+'Személyi Törl. csökkentő fiók'!$J$13)","v":0},0,null,null,0,{"$f":"IRR($K$2:K376,0.05)","v":{"$error":"#VALUE!"}}]
[375,{"$error":"#VALUE!"},{"$f":"B377*'Személyi Törl. csökkentő fiók'!$B$27/12","v":{"$error":"#VALUE!"}},{"$f":"IF(A377>'Személyi Törl. csökkentő fiók'!$J$10,0,'Személyi Törl. csökkentő fiók'!$B$28)","v":0},{"$error":"#VALUE!"},{"$f":"IF(A377>'Személyi Törl. csökkentő fiók'!$J$10,0,'Személyi Törl. csökkentő fiók'!$J$11)","v":0},{"$f":"IF(OR(A377>'Személyi Törl. csökkentő fiók'!$J$10,'Személyi Törl. csökkentő fiók'!$B$24='Személyi Törl. csökkentő fiók'!$T$5),0,'Személyi Törl. csökkentő fiók'!$J$12+'Személyi Törl. csökkentő fiók'!$J$13)","v":0},0,null,null,0,{"$f":"IRR($K$2:K377,0.05)","v":{"$error":"#VALUE!"}}]
[376,{"$error":"#VALUE!"},{"$f":"B378*'Személyi Törl. csökkentő fiók'!$B$27/12","v":{"$error":"#VALUE!"}},{"$f":"IF(A378>'Személyi Törl. csökkentő fiók'!$J$10,0,'Személyi Törl. csökkentő fiók'!$B$28)","v":0},{"$error":"#VALUE!"},{"$f":"IF(A378>'Személyi Törl. csökkentő fiók'!$J$10,0,'Személyi Törl. csökkentő fiók'!$J$11)","v":0},{"$f":"IF(OR(A378>'Személyi Törl. csökkentő fiók'!$J$10,'Személyi Törl. csökkentő fiók'!$B$24='Személyi Törl. csökkentő fiók'!$T$5),0,'Személyi Törl. csökkentő fiók'!$J$12+'Személyi Törl. csökkentő fiók'!$J$13)","v":0},0,null,null,0,{"$f":"IRR($K$2:K378,0.05)","v":{"$error":"#VALUE!"}}]
[377,{"$error":"#VALUE!"},{"$f":"B379*'Személyi Törl. csökkentő fiók'!$B$27/12","v":{"$error":"#VALUE!"}},{"$f":"IF(A379>'Személyi Törl. csökkentő fiók'!$J$10,0,'Személyi Törl. csökkentő fiók'!$B$28)","v":0},{"$error":"#VALUE!"},{"$f":"IF(A379>'Személyi Törl. csökkentő fiók'!$J$10,0,'Személyi Törl. csökkentő fiók'!$J$11)","v":0},{"$f":"IF(OR(A379>'Személyi Törl. csökkentő fiók'!$J$10,'Személyi Törl. csökkentő fiók'!$B$24='Személyi Törl. csökkentő fiók'!$T$5),0,'Személyi Törl. csökkentő fiók'!$J$12+'Személyi Törl. csökkentő fiók'!$J$13)","v":0},0,null,null,0,{"$f":"IRR($K$2:K379,0.05)","v":{"$error":"#VALUE!"}}]
[378,{"$error":"#VALUE!"},{"$f":"B380*'Személyi Törl. csökkentő fiók'!$B$27/12","v":{"$error":"#VALUE!"}},{"$f":"IF(A380>'Személyi Törl. csökkentő fiók'!$J$10,0,'Személyi Törl. csökkentő fiók'!$B$28)","v":0},{"$error":"#VALUE!"},{"$f":"IF(A380>'Személyi Törl. csökkentő fiók'!$J$10,0,'Személyi Törl. csökkentő fiók'!$J$11)","v":0},{"$f":"IF(OR(A380>'Személyi Törl. csökkentő fiók'!$J$10,'Személyi Törl. csökkentő fiók'!$B$24='Személyi Törl. csökkentő fiók'!$T$5),0,'Személyi Törl. csökkentő fiók'!$J$12+'Személyi Törl. csökkentő fiók'!$J$13)","v":0},0,null,null,0,{"$f":"IRR($K$2:K380,0.05)","v":{"$error":"#VALUE!"}}]
[379,{"$error":"#VALUE!"},{"$f":"B381*'Személyi Törl. csökkentő fiók'!$B$27/12","v":{"$error":"#VALUE!"}},{"$f":"IF(A381>'Személyi Törl. csökkentő fiók'!$J$10,0,'Személyi Törl. csökkentő fiók'!$B$28)","v":0},{"$error":"#VALUE!"},{"$f":"IF(A381>'Személyi Törl. csökkentő fiók'!$J$10,0,'Személyi Törl. csökkentő fiók'!$J$11)","v":0},{"$f":"IF(OR(A381>'Személyi Törl. csökkentő fiók'!$J$10,'Személyi Törl. csökkentő fiók'!$B$24='Személyi Törl. csökkentő fiók'!$T$5),0,'Személyi Törl. csökkentő fiók'!$J$12+'Személyi Törl. csökkentő fiók'!$J$13)","v":0},0,null,null,0,{"$f":"IRR($K$2:K381,0.05)","v":{"$error":"#VALUE!"}}]
[380,{"$error":"#VALUE!"},{"$f":"B382*'Személyi Törl. csökkentő fiók'!$B$27/12","v":{"$error":"#VALUE!"}},{"$f":"IF(A382>'Személyi Törl. csökkentő fiók'!$J$10,0,'Személyi Törl. csökkentő fiók'!$B$28)","v":0},{"$error":"#VALUE!"},{"$f":"IF(A382>'Személyi Törl. csökkentő fiók'!$J$10,0,'Személyi Törl. csökkentő fiók'!$J$11)","v":0},{"$f":"IF(OR(A382>'Személyi Törl. csökkentő fiók'!$J$10,'Személyi Törl. csökkentő fiók'!$B$24='Személyi Törl. csökkentő fiók'!$T$5),0,'Személyi Törl. csökkentő fiók'!$J$12+'Személyi Törl. csökkentő fiók'!$J$13)","v":0},0,null,null,0,{"$f":"IRR($K$2:K382,0.05)","v":{"$error":"#VALUE!"}}]
[381,{"$error":"#VALUE!"},{"$f":"B383*'Személyi Törl. csökkentő fiók'!$B$27/12","v":{"$error":"#VALUE!"}},{"$f":"IF(A383>'Személyi Törl. csökkentő fiók'!$J$10,0,'Személyi Törl. csökkentő fiók'!$B$28)","v":0},{"$error":"#VALUE!"},{"$f":"IF(A383>'Személyi Törl. csökkentő fiók'!$J$10,0,'Személyi Törl. csökkentő fiók'!$J$11)","v":0},{"$f":"IF(OR(A383>'Személyi Törl. csökkentő fiók'!$J$10,'Személyi Törl. csökkentő fiók'!$B$24='Személyi Törl. csökkentő fiók'!$T$5),0,'Személyi Törl. csökkentő fiók'!$J$12+'Személyi Törl. csökkentő fiók'!$J$13)","v":0},0,null,null,0,{"$f":"IRR($K$2:K383,0.05)","v":{"$error":"#VALUE!"}}]
[382,{"$error":"#VALUE!"},{"$f":"B384*'Személyi Törl. csökkentő fiók'!$B$27/12","v":{"$error":"#VALUE!"}},{"$f":"IF(A384>'Személyi Törl. csökkentő fiók'!$J$10,0,'Személyi Törl. csökkentő fiók'!$B$28)","v":0},{"$error":"#VALUE!"},{"$f":"IF(A384>'Személyi Törl. csökkentő fiók'!$J$10,0,'Személyi Törl. csökkentő fiók'!$J$11)","v":0},{"$f":"IF(OR(A384>'Személyi Törl. csökkentő fiók'!$J$10,'Személyi Törl. csökkentő fiók'!$B$24='Személyi Törl. csökkentő fiók'!$T$5),0,'Személyi Törl. csökkentő fiók'!$J$12+'Személyi Törl. csökkentő fiók'!$J$13)","v":0},0,null,null,0,{"$f":"IRR($K$2:K384,0.05)","v":{"$error":"#VALUE!"}}]
[383,{"$error":"#VALUE!"},{"$f":"B385*'Személyi Törl. csökkentő fiók'!$B$27/12","v":{"$error":"#VALUE!"}},{"$f":"IF(A385>'Személyi Törl. csökkentő fiók'!$J$10,0,'Személyi Törl. csökkentő fiók'!$B$28)","v":0},{"$error":"#VALUE!"},{"$f":"IF(A385>'Személyi Törl. csökkentő fiók'!$J$10,0,'Személyi Törl. csökkentő fiók'!$J$11)","v":0},{"$f":"IF(OR(A385>'Személyi Törl. csökkentő fiók'!$J$10,'Személyi Törl. csökkentő fiók'!$B$24='Személyi Törl. csökkentő fiók'!$T$5),0,'Személyi Törl. csökkentő fiók'!$J$12+'Személyi Törl. csökkentő fiók'!$J$13)","v":0},0,null,null,0,{"$f":"IRR($K$2:K385,0.05)","v":{"$error":"#VALUE!"}}]
[384,{"$error":"#VALUE!"},{"$f":"B386*'Személyi Törl. csökkentő fiók'!$B$27/12","v":{"$error":"#VALUE!"}},{"$f":"IF(A386>'Személyi Törl. csökkentő fiók'!$J$10,0,'Személyi Törl. csökkentő fiók'!$B$28)","v":0},{"$error":"#VALUE!"},{"$f":"IF(A386>'Személyi Törl. csökkentő fiók'!$J$10,0,'Személyi Törl. csökkentő fiók'!$J$11)","v":0},{"$f":"IF(OR(A386>'Személyi Törl. csökkentő fiók'!$J$10,'Személyi Törl. csökkentő fiók'!$B$24='Személyi Törl. csökkentő fiók'!$T$5),0,'Személyi Törl. csökkentő fiók'!$J$12+'Személyi Törl. csökkentő fiók'!$J$13)","v":0},0,null,null,0,{"$f":"IRR($K$2:K386,0.05)","v":{"$error":"#VALUE!"}}]
[385,{"$error":"#VALUE!"},{"$f":"B387*'Személyi Törl. csökkentő fiók'!$B$27/12","v":{"$error":"#VALUE!"}},{"$f":"IF(A387>'Személyi Törl. csökkentő fiók'!$J$10,0,'Személyi Törl. csökkentő fiók'!$B$28)","v":0},{"$error":"#VALUE!"},{"$f":"IF(A387>'Személyi Törl. csökkentő fiók'!$J$10,0,'Személyi Törl. csökkentő fiók'!$J$11)","v":0},{"$f":"IF(OR(A387>'Személyi Törl. csökkentő fiók'!$J$10,'Személyi Törl. csökkentő fiók'!$B$24='Személyi Törl. csökkentő fiók'!$T$5),0,'Személyi Törl. csökkentő fiók'!$J$12+'Személyi Törl. csökkentő fiók'!$J$13)","v":0},0,null,null,0,{"$f":"IRR($K$2:K387,0.05)","v":{"$error":"#VALUE!"}}]
[386,{"$error":"#VALUE!"},{"$f":"B388*'Személyi Törl. csökkentő fiók'!$B$27/12","v":{"$error":"#VALUE!"}},{"$f":"IF(A388>'Személyi Törl. csökkentő fiók'!$J$10,0,'Személyi Törl. csökkentő fiók'!$B$28)","v":0},{"$f":"+B388+C388-D388","v":{"$error":"#VALUE!"}},{"$f":"IF(A388>'Személyi Törl. csökkentő fiók'!$J$10,0,'Személyi Törl. csökkentő fiók'!$J$11)","v":0},{"$f":"IF(OR(A388>'Személyi Törl. csökkentő fiók'!$J$10,'Személyi Törl. csökkentő fiók'!$B$24='Személyi Törl. csökkentő fiók'!$T$5),0,'Személyi Törl. csökkentő fiók'!$J$12+'Személyi Törl. csökkentő fiók'!$J$13)","v":0},0,null,null,{"$f":"D388+F388+G388","v":0},{"$f":"IRR($K$2:K388,0.05)","v":{"$error":"#VALUE!"}}]
[{"$f":"+A388+1","v":387},{"$f":"+E388","v":{"$error":"#VALUE!"}},{"$f":"B389*'Személyi Törl. csökkentő fiók'!$B$27/12","v":{"$error":"#VALUE!"}},{"$f":"IF(A389>'Személyi Törl. csökkentő fiók'!$J$10,0,'Személyi Törl. csökkentő fiók'!$B$28)","v":0},{"$error":"#VALUE!"},{"$f":"IF(A389>'Személyi Törl. csökkentő fiók'!$J$10,0,'Személyi Törl. csökkentő fiók'!$J$11)","v":0},{"$f":"IF(OR(A389>'Személyi Törl. csökkentő fiók'!$J$10,'Személyi Törl. csökkentő fiók'!$B$24='Személyi Törl. csökkentő fiók'!$T$5),0,'Személyi Törl. csökkentő fiók'!$J$12+'Személyi Törl. csökkentő fiók'!$J$13)","v":0},{"$f":"H388+(D389+F389+G389)/(1+$H$1)^(A389/12)","v":0},null,null,0,{"$f":"IRR($K$2:K389,0.05)","v":{"$error":"#VALUE!"}}]
[388,{"$error":"#VALUE!"},{"$f":"B390*'Személyi Törl. csökkentő fiók'!$B$27/12","v":{"$error":"#VALUE!"}},{"$f":"IF(A390>'Személyi Törl. csökkentő fiók'!$J$10,0,'Személyi Törl. csökkentő fiók'!$B$28)","v":0},{"$error":"#VALUE!"},{"$f":"IF(A390>'Személyi Törl. csökkentő fiók'!$J$10,0,'Személyi Törl. csökkentő fiók'!$J$11)","v":0},{"$f":"IF(OR(A390>'Személyi Törl. csökkentő fiók'!$J$10,'Személyi Törl. csökkentő fiók'!$B$24='Személyi Törl. csökkentő fiók'!$T$5),0,'Személyi Törl. csökkentő fiók'!$J$12+'Személyi Törl. csökkentő fiók'!$J$13)","v":0},0,null,null,0,{"$f":"IRR($K$2:K390,0.05)","v":{"$error":"#VALUE!"}}]
[389,{"$error":"#VALUE!"},{"$f":"B391*'Személyi Törl. csökkentő fiók'!$B$27/12","v":{"$error":"#VALUE!"}},{"$f":"IF(A391>'Személyi Törl. csökkentő fiók'!$J$10,0,'Személyi Törl. csökkentő fiók'!$B$28)","v":0},{"$error":"#VALUE!"},{"$f":"IF(A391>'Személyi Törl. csökkentő fiók'!$J$10,0,'Személyi Törl. csökkentő fiók'!$J$11)","v":0},{"$f":"IF(OR(A391>'Személyi Törl. csökkentő fiók'!$J$10,'Személyi Törl. csökkentő fiók'!$B$24='Személyi Törl. csökkentő fiók'!$T$5),0,'Személyi Törl. csökkentő fiók'!$J$12+'Személyi Törl. csökkentő fiók'!$J$13)","v":0},0,null,null,0,{"$f":"IRR($K$2:K391,0.05)","v":{"$error":"#VALUE!"}}]
[390,{"$error":"#VALUE!"},{"$f":"B392*'Személyi Törl. csökkentő fiók'!$B$27/12","v":{"$error":"#VALUE!"}},{"$f":"IF(A392>'Személyi Törl. csökkentő fiók'!$J$10,0,'Személyi Törl. csökkentő fiók'!$B$28)","v":0},{"$error":"#VALUE!"},{"$f":"IF(A392>'Személyi Törl. csökkentő fiók'!$J$10,0,'Személyi Törl. csökkentő fiók'!$J$11)","v":0},{"$f":"IF(OR(A392>'Személyi Törl. csökkentő fiók'!$J$10,'Személyi Törl. csökkentő fiók'!$B$24='Személyi Törl. csökkentő fiók'!$T$5),0,'Személyi Törl. csökkentő fiók'!$J$12+'Személyi Törl. csökkentő fiók'!$J$13)","v":0},0,null,null,0,{"$f":"IRR($K$2:K392,0.05)","v":{"$error":"#VALUE!"}}]
[391,{"$error":"#VALUE!"},{"$f":"B393*'Személyi Törl. csökkentő fiók'!$B$27/12","v":{"$error":"#VALUE!"}},{"$f":"IF(A393>'Személyi Törl. csökkentő fiók'!$J$10,0,'Személyi Törl. csökkentő fiók'!$B$28)","v":0},{"$error":"#VALUE!"},{"$f":"IF(A393>'Személyi Törl. csökkentő fiók'!$J$10,0,'Személyi Törl. csökkentő fiók'!$J$11)","v":0},{"$f":"IF(OR(A393>'Személyi Törl. csökkentő fiók'!$J$10,'Személyi Törl. csökkentő fiók'!$B$24='Személyi Törl. csökkentő fiók'!$T$5),0,'Személyi Törl. csökkentő fiók'!$J$12+'Személyi Törl. csökkentő fiók'!$J$13)","v":0},0,null,null,0,{"$f":"IRR($K$2:K393,0.05)","v":{"$error":"#VALUE!"}}]
[392,{"$error":"#VALUE!"},{"$f":"B394*'Személyi Törl. csökkentő fiók'!$B$27/12","v":{"$error":"#VALUE!"}},{"$f":"IF(A394>'Személyi Törl. csökkentő fiók'!$J$10,0,'Személyi Törl. csökkentő fiók'!$B$28)","v":0},{"$error":"#VALUE!"},{"$f":"IF(A394>'Személyi Törl. csökkentő fiók'!$J$10,0,'Személyi Törl. csökkentő fiók'!$J$11)","v":0},{"$f":"IF(OR(A394>'Személyi Törl. csökkentő fiók'!$J$10,'Személyi Törl. csökkentő fiók'!$B$24='Személyi Törl. csökkentő fiók'!$T$5),0,'Személyi Törl. csökkentő fiók'!$J$12+'Személyi Törl. csökkentő fiók'!$J$13)","v":0},0,null,null,0,{"$f":"IRR($K$2:K394,0.05)","v":{"$error":"#VALUE!"}}]
[393,{"$error":"#VALUE!"},{"$f":"B395*'Személyi Törl. csökkentő fiók'!$B$27/12","v":{"$error":"#VALUE!"}},{"$f":"IF(A395>'Személyi Törl. csökkentő fiók'!$J$10,0,'Személyi Törl. csökkentő fiók'!$B$28)","v":0},{"$error":"#VALUE!"},{"$f":"IF(A395>'Személyi Törl. csökkentő fiók'!$J$10,0,'Személyi Törl. csökkentő fiók'!$J$11)","v":0},{"$f":"IF(OR(A395>'Személyi Törl. csökkentő fiók'!$J$10,'Személyi Törl. csökkentő fiók'!$B$24='Személyi Törl. csökkentő fiók'!$T$5),0,'Személyi Törl. csökkentő fiók'!$J$12+'Személyi Törl. csökkentő fiók'!$J$13)","v":0},0,null,null,0,{"$f":"IRR($K$2:K395,0.05)","v":{"$error":"#VALUE!"}}]
[394,{"$error":"#VALUE!"},{"$f":"B396*'Személyi Törl. csökkentő fiók'!$B$27/12","v":{"$error":"#VALUE!"}},{"$f":"IF(A396>'Személyi Törl. csökkentő fiók'!$J$10,0,'Személyi Törl. csökkentő fiók'!$B$28)","v":0},{"$error":"#VALUE!"},{"$f":"IF(A396>'Személyi Törl. csökkentő fiók'!$J$10,0,'Személyi Törl. csökkentő fiók'!$J$11)","v":0},{"$f":"IF(OR(A396>'Személyi Törl. csökkentő fiók'!$J$10,'Személyi Törl. csökkentő fiók'!$B$24='Személyi Törl. csökkentő fiók'!$T$5),0,'Személyi Törl. csökkentő fiók'!$J$12+'Személyi Törl. csökkentő fiók'!$J$13)","v":0},0,null,null,0,{"$f":"IRR($K$2:K396,0.05)","v":{"$error":"#VALUE!"}}]
[395,{"$error":"#VALUE!"},{"$f":"B397*'Személyi Törl. csökkentő fiók'!$B$27/12","v":{"$error":"#VALUE!"}},{"$f":"IF(A397>'Személyi Törl. csökkentő fiók'!$J$10,0,'Személyi Törl. csökkentő fiók'!$B$28)","v":0},{"$error":"#VALUE!"},{"$f":"IF(A397>'Személyi Törl. csökkentő fiók'!$J$10,0,'Személyi Törl. csökkentő fiók'!$J$11)","v":0},{"$f":"IF(OR(A397>'Személyi Törl. csökkentő fiók'!$J$10,'Személyi Törl. csökkentő fiók'!$B$24='Személyi Törl. csökkentő fiók'!$T$5),0,'Személyi Törl. csökkentő fiók'!$J$12+'Személyi Törl. csökkentő fiók'!$J$13)","v":0},0,null,null,0,{"$f":"IRR($K$2:K397,0.05)","v":{"$error":"#VALUE!"}}]
[396,{"$error":"#VALUE!"},{"$f":"B398*'Személyi Törl. csökkentő fiók'!$B$27/12","v":{"$error":"#VALUE!"}},{"$f":"IF(A398>'Személyi Törl. csökkentő fiók'!$J$10,0,'Személyi Törl. csökkentő fiók'!$B$28)","v":0},{"$error":"#VALUE!"},{"$f":"IF(A398>'Személyi Törl. csökkentő fiók'!$J$10,0,'Személyi Törl. csökkentő fiók'!$J$11)","v":0},{"$f":"IF(OR(A398>'Személyi Törl. csökkentő fiók'!$J$10,'Személyi Törl. csökkentő fiók'!$B$24='Személyi Törl. csökkentő fiók'!$T$5),0,'Személyi Törl. csökkentő fiók'!$J$12+'Személyi Törl. csökkentő fiók'!$J$13)","v":0},0,null,null,0,{"$f":"IRR($K$2:K398,0.05)","v":{"$error":"#VALUE!"}}]
[397,{"$error":"#VALUE!"},{"$f":"B399*'Személyi Törl. csökkentő fiók'!$B$27/12","v":{"$error":"#VALUE!"}},{"$f":"IF(A399>'Személyi Törl. csökkentő fiók'!$J$10,0,'Személyi Törl. csökkentő fiók'!$B$28)","v":0},{"$error":"#VALUE!"},{"$f":"IF(A399>'Személyi Törl. csökkentő fiók'!$J$10,0,'Személyi Törl. csökkentő fiók'!$J$11)","v":0},{"$f":"IF(OR(A399>'Személyi Törl. csökkentő fiók'!$J$10,'Személyi Törl. csökkentő fiók'!$B$24='Személyi Törl. csökkentő fiók'!$T$5),0,'Személyi Törl. csökkentő fiók'!$J$12+'Személyi Törl. csökkentő fiók'!$J$13)","v":0},0,null,null,0,{"$f":"IRR($K$2:K399,0.05)","v":{"$error":"#VALUE!"}}]
[398,{"$error":"#VALUE!"},{"$f":"B400*'Személyi Törl. csökkentő fiók'!$B$27/12","v":{"$error":"#VALUE!"}},{"$f":"IF(A400>'Személyi Törl. csökkentő fiók'!$J$10,0,'Személyi Törl. csökkentő fiók'!$B$28)","v":0},{"$error":"#VALUE!"},{"$f":"IF(A400>'Személyi Törl. csökkentő fiók'!$J$10,0,'Személyi Törl. csökkentő fiók'!$J$11)","v":0},{"$f":"IF(OR(A400>'Személyi Törl. csökkentő fiók'!$J$10,'Személyi Törl. csökkentő fiók'!$B$24='Személyi Törl. csökkentő fiók'!$T$5),0,'Személyi Törl. csökkentő fiók'!$J$12+'Személyi Törl. csökkentő fiók'!$J$13)","v":0},0,null,null,0,{"$f":"IRR($K$2:K400,0.05)","v":{"$error":"#VALUE!"}}]
[399,{"$error":"#VALUE!"},{"$f":"B401*'Személyi Törl. csökkentő fiók'!$B$27/12","v":{"$error":"#VALUE!"}},{"$f":"IF(A401>'Személyi Törl. csökkentő fiók'!$J$10,0,'Személyi Törl. csökkentő fiók'!$B$28)","v":0},{"$error":"#VALUE!"},{"$f":"IF(A401>'Személyi Törl. csökkentő fiók'!$J$10,0,'Személyi Törl. csökkentő fiók'!$J$11)","v":0},{"$f":"IF(OR(A401>'Személyi Törl. csökkentő fiók'!$J$10,'Személyi Törl. csökkentő fiók'!$B$24='Személyi Törl. csökkentő fiók'!$T$5),0,'Személyi Törl. csökkentő fiók'!$J$12+'Személyi Törl. csökkentő fiók'!$J$13)","v":0},0,null,null,0,{"$f":"IRR($K$2:K401,0.05)","v":{"$error":"#VALUE!"}}]
[400,{"$error":"#VALUE!"},{"$f":"B402*'Személyi Törl. csökkentő fiók'!$B$27/12","v":{"$error":"#VALUE!"}},{"$f":"IF(A402>'Személyi Törl. csökkentő fiók'!$J$10,0,'Személyi Törl. csökkentő fiók'!$B$28)","v":0},{"$error":"#VALUE!"},{"$f":"IF(A402>'Személyi Törl. csökkentő fiók'!$J$10,0,'Személyi Törl. csökkentő fiók'!$J$11)","v":0},{"$f":"IF(OR(A402>'Személyi Törl. csökkentő fiók'!$J$10,'Személyi Törl. csökkentő fiók'!$B$24='Személyi Törl. csökkentő fiók'!$T$5),0,'Személyi Törl. csökkentő fiók'!$J$12+'Személyi Törl. csökkentő fiók'!$J$13)","v":0},0,null,null,0,{"$f":"IRR($K$2:K402,0.05)","v":{"$error":"#VALUE!"}}]
[401,{"$error":"#VALUE!"},{"$f":"B403*'Személyi Törl. csökkentő fiók'!$B$27/12","v":{"$error":"#VALUE!"}},{"$f":"IF(A403>'Személyi Törl. csökkentő fiók'!$J$10,0,'Személyi Törl. csökkentő fiók'!$B$28)","v":0},{"$error":"#VALUE!"},{"$f":"IF(A403>'Személyi Törl. csökkentő fiók'!$J$10,0,'Személyi Törl. csökkentő fiók'!$J$11)","v":0},{"$f":"IF(OR(A403>'Személyi Törl. csökkentő fiók'!$J$10,'Személyi Törl. csökkentő fiók'!$B$24='Személyi Törl. csökkentő fiók'!$T$5),0,'Személyi Törl. csökkentő fiók'!$J$12+'Személyi Törl. csökkentő fiók'!$J$13)","v":0},0,null,null,0,{"$f":"IRR($K$2:K403,0.05)","v":{"$error":"#VALUE!"}}]
[402,{"$error":"#VALUE!"},{"$f":"B404*'Személyi Törl. csökkentő fiók'!$B$27/12","v":{"$error":"#VALUE!"}},{"$f":"IF(A404>'Személyi Törl. csökkentő fiók'!$J$10,0,'Személyi Törl. csökkentő fiók'!$B$28)","v":0},{"$error":"#VALUE!"},{"$f":"IF(A404>'Személyi Törl. csökkentő fiók'!$J$10,0,'Személyi Törl. csökkentő fiók'!$J$11)","v":0},{"$f":"IF(OR(A404>'Személyi Törl. csökkentő fiók'!$J$10,'Személyi Törl. csökkentő fiók'!$B$24='Személyi Törl. csökkentő fiók'!$T$5),0,'Személyi Törl. csökkentő fiók'!$J$12+'Személyi Törl. csökkentő fiók'!$J$13)","v":0},0,null,null,0,{"$f":"IRR($K$2:K404,0.05)","v":{"$error":"#VALUE!"}}]
[403,{"$error":"#VALUE!"},{"$f":"B405*'Személyi Törl. csökkentő fiók'!$B$27/12","v":{"$error":"#VALUE!"}},{"$f":"IF(A405>'Személyi Törl. csökkentő fiók'!$J$10,0,'Személyi Törl. csökkentő fiók'!$B$28)","v":0},{"$error":"#VALUE!"},{"$f":"IF(A405>'Személyi Törl. csökkentő fiók'!$J$10,0,'Személyi Törl. csökkentő fiók'!$J$11)","v":0},{"$f":"IF(OR(A405>'Személyi Törl. csökkentő fiók'!$J$10,'Személyi Törl. csökkentő fiók'!$B$24='Személyi Törl. csökkentő fiók'!$T$5),0,'Személyi Törl. csökkentő fiók'!$J$12+'Személyi Törl. csökkentő fiók'!$J$13)","v":0},0,null,null,0,{"$f":"IRR($K$2:K405,0.05)","v":{"$error":"#VALUE!"}}]
[404,{"$error":"#VALUE!"},{"$f":"B406*'Személyi Törl. csökkentő fiók'!$B$27/12","v":{"$error":"#VALUE!"}},{"$f":"IF(A406>'Személyi Törl. csökkentő fiók'!$J$10,0,'Személyi Törl. csökkentő fiók'!$B$28)","v":0},{"$error":"#VALUE!"},{"$f":"IF(A406>'Személyi Törl. csökkentő fiók'!$J$10,0,'Személyi Törl. csökkentő fiók'!$J$11)","v":0},{"$f":"IF(OR(A406>'Személyi Törl. csökkentő fiók'!$J$10,'Személyi Törl. csökkentő fiók'!$B$24='Személyi Törl. csökkentő fiók'!$T$5),0,'Személyi Törl. csökkentő fiók'!$J$12+'Személyi Törl. csökkentő fiók'!$J$13)","v":0},0,null,null,0,{"$f":"IRR($K$2:K406,0.05)","v":{"$error":"#VALUE!"}}]
[405,{"$error":"#VALUE!"},{"$f":"B407*'Személyi Törl. csökkentő fiók'!$B$27/12","v":{"$error":"#VALUE!"}},{"$f":"IF(A407>'Személyi Törl. csökkentő fiók'!$J$10,0,'Személyi Törl. csökkentő fiók'!$B$28)","v":0},{"$error":"#VALUE!"},{"$f":"IF(A407>'Személyi Törl. csökkentő fiók'!$J$10,0,'Személyi Törl. csökkentő fiók'!$J$11)","v":0},{"$f":"IF(OR(A407>'Személyi Törl. csökkentő fiók'!$J$10,'Személyi Törl. csökkentő fiók'!$B$24='Személyi Törl. csökkentő fiók'!$T$5),0,'Személyi Törl. csökkentő fiók'!$J$12+'Személyi Törl. csökkentő fiók'!$J$13)","v":0},0,null,null,0,{"$f":"IRR($K$2:K407,0.05)","v":{"$error":"#VALUE!"}}]
[406,{"$error":"#VALUE!"},{"$f":"B408*'Személyi Törl. csökkentő fiók'!$B$27/12","v":{"$error":"#VALUE!"}},{"$f":"IF(A408>'Személyi Törl. csökkentő fiók'!$J$10,0,'Személyi Törl. csökkentő fiók'!$B$28)","v":0},{"$error":"#VALUE!"},{"$f":"IF(A408>'Személyi Törl. csökkentő fiók'!$J$10,0,'Személyi Törl. csökkentő fiók'!$J$11)","v":0},{"$f":"IF(OR(A408>'Személyi Törl. csökkentő fiók'!$J$10,'Személyi Törl. csökkentő fiók'!$B$24='Személyi Törl. csökkentő fiók'!$T$5),0,'Személyi Törl. csökkentő fiók'!$J$12+'Személyi Törl. csökkentő fiók'!$J$13)","v":0},0,null,null,0,{"$f":"IRR($K$2:K408,0.05)","v":{"$error":"#VALUE!"}}]
[407,{"$error":"#VALUE!"},{"$f":"B409*'Személyi Törl. csökkentő fiók'!$B$27/12","v":{"$error":"#VALUE!"}},{"$f":"IF(A409>'Személyi Törl. csökkentő fiók'!$J$10,0,'Személyi Törl. csökkentő fiók'!$B$28)","v":0},{"$error":"#VALUE!"},{"$f":"IF(A409>'Személyi Törl. csökkentő fiók'!$J$10,0,'Személyi Törl. csökkentő fiók'!$J$11)","v":0},{"$f":"IF(OR(A409>'Személyi Törl. csökkentő fiók'!$J$10,'Személyi Törl. csökkentő fiók'!$B$24='Személyi Törl. csökkentő fiók'!$T$5),0,'Személyi Törl. csökkentő fiók'!$J$12+'Személyi Törl. csökkentő fiók'!$J$13)","v":0},0,null,null,0,{"$f":"IRR($K$2:K409,0.05)","v":{"$error":"#VALUE!"}}]
[408,{"$error":"#VALUE!"},{"$f":"B410*'Személyi Törl. csökkentő fiók'!$B$27/12","v":{"$error":"#VALUE!"}},{"$f":"IF(A410>'Személyi Törl. csökkentő fiók'!$J$10,0,'Személyi Törl. csökkentő fiók'!$B$28)","v":0},{"$error":"#VALUE!"},{"$f":"IF(A410>'Személyi Törl. csökkentő fiók'!$J$10,0,'Személyi Törl. csökkentő fiók'!$J$11)","v":0},{"$f":"IF(OR(A410>'Személyi Törl. csökkentő fiók'!$J$10,'Személyi Törl. csökkentő fiók'!$B$24='Személyi Törl. csökkentő fiók'!$T$5),0,'Személyi Törl. csökkentő fiók'!$J$12+'Személyi Törl. csökkentő fiók'!$J$13)","v":0},0,null,null,0,{"$f":"IRR($K$2:K410,0.05)","v":{"$error":"#VALUE!"}}]
[409,{"$error":"#VALUE!"},{"$f":"B411*'Személyi Törl. csökkentő fiók'!$B$27/12","v":{"$error":"#VALUE!"}},{"$f":"IF(A411>'Személyi Törl. csökkentő fiók'!$J$10,0,'Személyi Törl. csökkentő fiók'!$B$28)","v":0},{"$error":"#VALUE!"},{"$f":"IF(A411>'Személyi Törl. csökkentő fiók'!$J$10,0,'Személyi Törl. csökkentő fiók'!$J$11)","v":0},{"$f":"IF(OR(A411>'Személyi Törl. csökkentő fiók'!$J$10,'Személyi Törl. csökkentő fiók'!$B$24='Személyi Törl. csökkentő fiók'!$T$5),0,'Személyi Törl. csökkentő fiók'!$J$12+'Személyi Törl. csökkentő fiók'!$J$13)","v":0},0,null,null,0,{"$f":"IRR($K$2:K411,0.05)","v":{"$error":"#VALUE!"}}]
[410,{"$error":"#VALUE!"},{"$f":"B412*'Személyi Törl. csökkentő fiók'!$B$27/12","v":{"$error":"#VALUE!"}},{"$f":"IF(A412>'Személyi Törl. csökkentő fiók'!$J$10,0,'Személyi Törl. csökkentő fiók'!$B$28)","v":0},{"$error":"#VALUE!"},{"$f":"IF(A412>'Személyi Törl. csökkentő fiók'!$J$10,0,'Személyi Törl. csökkentő fiók'!$J$11)","v":0},{"$f":"IF(OR(A412>'Személyi Törl. csökkentő fiók'!$J$10,'Személyi Törl. csökkentő fiók'!$B$24='Személyi Törl. csökkentő fiók'!$T$5),0,'Személyi Törl. csökkentő fiók'!$J$12+'Személyi Törl. csökkentő fiók'!$J$13)","v":0},0,null,null,0,{"$f":"IRR($K$2:K412,0.05)","v":{"$error":"#VALUE!"}}]
[411,{"$error":"#VALUE!"},{"$f":"B413*'Személyi Törl. csökkentő fiók'!$B$27/12","v":{"$error":"#VALUE!"}},{"$f":"IF(A413>'Személyi Törl. csökkentő fiók'!$J$10,0,'Személyi Törl. csökkentő fiók'!$B$28)","v":0},{"$error":"#VALUE!"},{"$f":"IF(A413>'Személyi Törl. csökkentő fiók'!$J$10,0,'Személyi Törl. csökkentő fiók'!$J$11)","v":0},{"$f":"IF(OR(A413>'Személyi Törl. csökkentő fiók'!$J$10,'Személyi Törl. csökkentő fiók'!$B$24='Személyi Törl. csökkentő fiók'!$T$5),0,'Személyi Törl. csökkentő fiók'!$J$12+'Személyi Törl. csökkentő fiók'!$J$13)","v":0},0,null,null,0,{"$f":"IRR($K$2:K413,0.05)","v":{"$error":"#VALUE!"}}]
[412,{"$error":"#VALUE!"},{"$f":"B414*'Személyi Törl. csökkentő fiók'!$B$27/12","v":{"$error":"#VALUE!"}},{"$f":"IF(A414>'Személyi Törl. csökkentő fiók'!$J$10,0,'Személyi Törl. csökkentő fiók'!$B$28)","v":0},{"$error":"#VALUE!"},{"$f":"IF(A414>'Személyi Törl. csökkentő fiók'!$J$10,0,'Személyi Törl. csökkentő fiók'!$J$11)","v":0},{"$f":"IF(OR(A414>'Személyi Törl. csökkentő fiók'!$J$10,'Személyi Törl. csökkentő fiók'!$B$24='Személyi Törl. csökkentő fiók'!$T$5),0,'Személyi Törl. csökkentő fiók'!$J$12+'Személyi Törl. csökkentő fiók'!$J$13)","v":0},0,null,null,0,{"$f":"IRR($K$2:K414,0.05)","v":{"$error":"#VALUE!"}}]
[413,{"$error":"#VALUE!"},{"$f":"B415*'Személyi Törl. csökkentő fiók'!$B$27/12","v":{"$error":"#VALUE!"}},{"$f":"IF(A415>'Személyi Törl. csökkentő fiók'!$J$10,0,'Személyi Törl. csökkentő fiók'!$B$28)","v":0},{"$error":"#VALUE!"},{"$f":"IF(A415>'Személyi Törl. csökkentő fiók'!$J$10,0,'Személyi Törl. csökkentő fiók'!$J$11)","v":0},{"$f":"IF(OR(A415>'Személyi Törl. csökkentő fiók'!$J$10,'Személyi Törl. csökkentő fiók'!$B$24='Személyi Törl. csökkentő fiók'!$T$5),0,'Személyi Törl. csökkentő fiók'!$J$12+'Személyi Törl. csökkentő fiók'!$J$13)","v":0},0,null,null,0,{"$f":"IRR($K$2:K415,0.05)","v":{"$error":"#VALUE!"}}]
[414,{"$error":"#VALUE!"},{"$f":"B416*'Személyi Törl. csökkentő fiók'!$B$27/12","v":{"$error":"#VALUE!"}},{"$f":"IF(A416>'Személyi Törl. csökkentő fiók'!$J$10,0,'Személyi Törl. csökkentő fiók'!$B$28)","v":0},{"$error":"#VALUE!"},{"$f":"IF(A416>'Személyi Törl. csökkentő fiók'!$J$10,0,'Személyi Törl. csökkentő fiók'!$J$11)","v":0},{"$f":"IF(OR(A416>'Személyi Törl. csökkentő fiók'!$J$10,'Személyi Törl. csökkentő fiók'!$B$24='Személyi Törl. csökkentő fiók'!$T$5),0,'Személyi Törl. csökkentő fiók'!$J$12+'Személyi Törl. csökkentő fiók'!$J$13)","v":0},0,null,null,0,{"$f":"IRR($K$2:K416,0.05)","v":{"$error":"#VALUE!"}}]
[415,{"$error":"#VALUE!"},{"$f":"B417*'Személyi Törl. csökkentő fiók'!$B$27/12","v":{"$error":"#VALUE!"}},{"$f":"IF(A417>'Személyi Törl. csökkentő fiók'!$J$10,0,'Személyi Törl. csökkentő fiók'!$B$28)","v":0},{"$error":"#VALUE!"},{"$f":"IF(A417>'Személyi Törl. csökkentő fiók'!$J$10,0,'Személyi Törl. csökkentő fiók'!$J$11)","v":0},{"$f":"IF(OR(A417>'Személyi Törl. csökkentő fiók'!$J$10,'Személyi Törl. csökkentő fiók'!$B$24='Személyi Törl. csökkentő fiók'!$T$5),0,'Személyi Törl. csökkentő fiók'!$J$12+'Személyi Törl. csökkentő fiók'!$J$13)","v":0},0,null,null,0,{"$f":"IRR($K$2:K417,0.05)","v":{"$error":"#VALUE!"}}]
[416,{"$error":"#VALUE!"},{"$f":"B418*'Személyi Törl. csökkentő fiók'!$B$27/12","v":{"$error":"#VALUE!"}},{"$f":"IF(A418>'Személyi Törl. csökkentő fiók'!$J$10,0,'Személyi Törl. csökkentő fiók'!$B$28)","v":0},{"$error":"#VALUE!"},{"$f":"IF(A418>'Személyi Törl. csökkentő fiók'!$J$10,0,'Személyi Törl. csökkentő fiók'!$J$11)","v":0},{"$f":"IF(OR(A418>'Személyi Törl. csökkentő fiók'!$J$10,'Személyi Törl. csökkentő fiók'!$B$24='Személyi Törl. csökkentő fiók'!$T$5),0,'Személyi Törl. csökkentő fiók'!$J$12+'Személyi Törl. csökkentő fiók'!$J$13)","v":0},0,null,null,0,{"$f":"IRR($K$2:K418,0.05)","v":{"$error":"#VALUE!"}}]
[417,{"$error":"#VALUE!"},{"$f":"B419*'Személyi Törl. csökkentő fiók'!$B$27/12","v":{"$error":"#VALUE!"}},{"$f":"IF(A419>'Személyi Törl. csökkentő fiók'!$J$10,0,'Személyi Törl. csökkentő fiók'!$B$28)","v":0},{"$error":"#VALUE!"},{"$f":"IF(A419>'Személyi Törl. csökkentő fiók'!$J$10,0,'Személyi Törl. csökkentő fiók'!$J$11)","v":0},{"$f":"IF(OR(A419>'Személyi Törl. csökkentő fiók'!$J$10,'Személyi Törl. csökkentő fiók'!$B$24='Személyi Törl. csökkentő fiók'!$T$5),0,'Személyi Törl. csökkentő fiók'!$J$12+'Személyi Törl. csökkentő fiók'!$J$13)","v":0},0,null,null,0,{"$f":"IRR($K$2:K419,0.05)","v":{"$error":"#VALUE!"}}]
[418,{"$error":"#VALUE!"},{"$f":"B420*'Személyi Törl. csökkentő fiók'!$B$27/12","v":{"$error":"#VALUE!"}},{"$f":"IF(A420>'Személyi Törl. csökkentő fiók'!$J$10,0,'Személyi Törl. csökkentő fiók'!$B$28)","v":0},{"$error":"#VALUE!"},{"$f":"IF(A420>'Személyi Törl. csökkentő fiók'!$J$10,0,'Személyi Törl. csökkentő fiók'!$J$11)","v":0},{"$f":"IF(OR(A420>'Személyi Törl. csökkentő fiók'!$J$10,'Személyi Törl. csökkentő fiók'!$B$24='Személyi Törl. csökkentő fiók'!$T$5),0,'Személyi Törl. csökkentő fiók'!$J$12+'Személyi Törl. csökkentő fiók'!$J$13)","v":0},0,null,null,0,{"$f":"IRR($K$2:K420,0.05)","v":{"$error":"#VALUE!"}}]
[419,{"$error":"#VALUE!"},{"$f":"B421*'Személyi Törl. csökkentő fiók'!$B$27/12","v":{"$error":"#VALUE!"}},{"$f":"IF(A421>'Személyi Törl. csökkentő fiók'!$J$10,0,'Személyi Törl. csökkentő fiók'!$B$28)","v":0},{"$error":"#VALUE!"},{"$f":"IF(A421>'Személyi Törl. csökkentő fiók'!$J$10,0,'Személyi Törl. csökkentő fiók'!$J$11)","v":0},{"$f":"IF(OR(A421>'Személyi Törl. csökkentő fiók'!$J$10,'Személyi Törl. csökkentő fiók'!$B$24='Személyi Törl. csökkentő fiók'!$T$5),0,'Személyi Törl. csökkentő fiók'!$J$12+'Személyi Törl. csökkentő fiók'!$J$13)","v":0},0,null,null,0,{"$f":"IRR($K$2:K421,0.05)","v":{"$error":"#VALUE!"}}]
[420,{"$error":"#VALUE!"},{"$f":"B422*'Személyi Törl. csökkentő fiók'!$B$27/12","v":{"$error":"#VALUE!"}},{"$f":"IF(A422>'Személyi Törl. csökkentő fiók'!$J$10,0,'Személyi Törl. csökkentő fiók'!$B$28)","v":0},{"$error":"#VALUE!"},{"$f":"IF(A422>'Személyi Törl. csökkentő fiók'!$J$10,0,'Személyi Törl. csökkentő fiók'!$J$11)","v":0},{"$f":"IF(OR(A422>'Személyi Törl. csökkentő fiók'!$J$10,'Személyi Törl. csökkentő fiók'!$B$24='Személyi Törl. csökkentő fiók'!$T$5),0,'Személyi Törl. csökkentő fiók'!$J$12+'Személyi Törl. csökkentő fiók'!$J$13)","v":0},0,null,null,0,{"$f":"IRR($K$2:K422,0.05)","v":{"$error":"#VALUE!"}}]