{"text_format":"1","workbook":"xlsx","n_sheets":20,"sheets":["Kezdő oldal","Ügyféladatok","Finanszírozás","Hiteladatok","NGM Tájékoztató","feladat","Új PD","Ind-Ált","Ind-Sz-MFL","Ind-Sz-OTK","Nyil-MFL","Nyil-OTK","Zálogkötelezetti","MFL","OTK","BB","Appl","kondíciók","BB-model","Közjegyzői-normál"],"not_rendered":{"charts":2,"images":7,"macros":1,"external_links":1,"defined_names":321,"comments":1,"pivot_tables":0},"unopened":[],"bounds":{"document_bytes":16777216,"sheet_cells":100000,"rows_first":2000,"rows_last":500,"rows_between":2000,"halvings":0,"cell_chars":16384,"cell_head_chars":4096},"cells_cut":0,"cells_raw":0,"read":"whole","date_system":"1900"}

{"sheet":"Kezdő oldal","index":0,"n_rows":48,"n_cols":19,"rows_kept":48,"cut":false,"hidden":false,"merged":[[1,18,1,22],[2,18,2,22],[41,0,43,5],[47,0,63,5],[28,0,28,3],[29,0,29,5],[31,0,31,3],[32,0,34,5],[36,0,36,3],[37,0,38,5],[46,0,46,5],[15,0,17,5],[18,0,18,3],[19,0,20,5],[21,0,21,5],[40,0,40,3],[26,0,26,5],[22,0,23,5],[14,0,14,3],[6,7,13,12],[9,0,9,5],[10,0,12,5],[0,1,0,5],[1,1,1,5],[2,1,2,5],[3,1,3,2],[3,3,3,5],[3,7,5,11],[5,0,7,0],[5,1,7,2],[5,3,5,4],[6,3,6,4]]}
["Hitelközvetítő neve (cégneve)",null,null,null,null,null,null,null,null,null,null,null,null,null,null,"Printer","\\\\hqprint\\HQBLACK a(z) Ne03: kimeneten"]
["Hitelközvetítő címe (székhelye)",null,null,null,null,null,null,null,null,null,null,null,null,null,null,null,null,null,"Fundamenta-Lakáskassza Pénzügyi Közvetítő Kft."]
["Közvetítő partner neve",null,null,null,null,null,null,null,null,null,null,null,null,null,null,null,"Automatikus",null,"H-1123 Budapest, Alkotás utca 55-61."]
["Telefonszám, e-mail",null,null,null,null,null,null,{"$f":"IF(OR(B6=\"\",B6=Q4),\"\",IF(OR(F6=\"\",F7=\"\"),\"\",Q19))","v":""},null,null,null,null,null,null,null,null,"Manuális"]
[]
["A személyre szóló tájékoztatóban a hitelközvetítő díjazásról milyen formában legyen tájékoztatás?","Automatikus",null,{"$f":"IF(B6=Q3,Q6,Q8)","v":"Szerzési jutalék"},null,null,null,null,null,null,null,null,null,null,null,null,"Szerzési jutalék"]
[null,null,null,{"$f":"IF(B6=Q3,Q7,Q8)","v":"Fenntartási jutalék"},null,null,null,{"$f":"IF(OR(B6=\"\",B6=Q4),\"\",IF(AND(F6=\"\",F7=\"\"),\"\",IF(OR(F6=\"\",F7=\"\"),Q16,CONCATENATE(Q20,Q21,Q22,Q23,Q24,Q25))))","v":""},null,null,null,null,null,null,null,null,"Fenntartási jutalék"]
[null,null,null,null,null,null,null,null,null,null,null,null,null,null,null,null,"üres"]
[]
["A hitelközvetítő díjazásról megjelenítendő tájékoztatás:",null,null,null,null,null,null,null,null,null,null,null,null,null,null,null,{"$f":"IF(B6=Q3,F6,Q8)","v":0}]
[" Szabadon kitölthető",null,null,null,null,null,null,null,null,null,null,null,null,null,null,null,{"$f":"IF(B6=Q3,F7,Q8)","v":0}]
[]
[null,null,null,null,null,null,null,null,null,null,null,null,null,null,null,null,{"$f":"IF(B6=Q4,A10,Q8)","v":"üres"}]
[null,null,null,null,null,null,null,null,null,null,null,null,null,null,null,null,{"$f":"IF(B6=Q4,A11,Q8)","v":"üres"}]
["1. Előzetes tájékoztatás és adatkezelési nyilatkozat"]
["Ez a tájékoztató hivatott arra, hogy a hitel iránt érdeklődők figyelmét felhívja arra, hogy a jövedelem és a havi teher aránya megváltozhat a kamatlábak vagy a jövedelem változása esetén.\nMinden dokumentum pdf fájlként készül el, közben ki kell választani azt a mappát, ahova el kívánjuk menteni. A fájl nevének felépítése: Adós neve_dokumentum típusa_dátum.pdf",null,null,null,null,null,null,null,null,null,null,null,null,null,null,null,"A szerzési és a fenntartási jutalék %-os mértékét is ki kell tölteni!"]
[]
[]
["2. Ügyfelek adatainak rögzítése",null,null,null,null,null,null,null,null,null,null,null,null,null,null,null,"A  személyre szóló tájékoztatóban a hitelközvetítő díjazásról a következő kerül feltüntetésre:"]
["Az indikatív ajánlat, a Kockázatfeltáró nyilatkozat és a Zálogkötelezetti tájékoztató aláírási adataihoz legalább a név, anyja neve, születési dátum és az állandó lakcím kitöltése szükséges.",null,null,null,null,null,null,null,null,null,null,null,null,null,null,null,{"$f":"TEXT(ROUND((Hiteladatok!B15+Hiteladatok!F15)*F6,0),\"# ##\")","v":""}]
[null,null,null,null,null,null,null,null,null,null,null,null,null,null,null,null,{"$f":"IF(F7=0,\" Ft szerzési jutalék, ami a kölcsön folyósításakor válik esedékessé.\",Q28)","v":" Ft szerzési jutalék, ami a kölcsön folyósításakor válik esedékessé."}]
["Az előzetes hitelképesség vizsgálathoz, a kockázati ármeghatározáshoz valamennyi adat kitöltése szükséges!",null,null,null,null,null,null,null,null,null,null,null,null,null,null,null,{"$f":"IF(F7=0,\"\",7)","v":""}]
["Amennyiben nincs pl. kiegészítő jövedelem, akkor nullát kell beírni, nem hagyható üresen az adatmező.",null,null,null,null,null,null,null,null,null,null,null,null,null,null,null,{"$f":"IF(F7=0,\"\",\" év - a 109/2010. Korm.r. szerint szabályozott időszak - alatt az első esedékességet követően évente, minden év január hónapi elszámoláskori esedékességgel a Hitelező és a Közvetítő közötti Megbízási szerződés szerint és módon, összességében  \")","v":""}]
[null,null,null,null,null,null,null,null,null,null,null,null,null,null,null,null,{"$f":"IF(F7=0,\"\",TEXT(ROUND((Hiteladatok!B15+Hiteladatok!F15)*F7,0),\"# ##\"))","v":""}]
[null,null,null,null,null,null,null,null,null,null,null,null,null,null,null,null,{"$f":"IF(F7=0,\"\",\" Ft összegben.\")","v":""}]
["3. Finanszírozás összetétele"]
["Itt kell megadni a hitelcél megvalósításához szükséges források összetételét, a rendelkezésre álló megtakarításokat, az igénybe vett állami támogatásokat, valamint a különböző hiteleket."]
[null,null,null,null,null,null,null,null,null,null,null,null,null,null,null,null," Ft szerzési jutalék, ami a kölcsön folyósításakor válik esedékessé, továbbá fenntartási jutalék, ami előtörlesztés hiányában a kölcsön szerződésszerű teljesítése esetén naptári évenként, egyenlő részletekben kerül kifizetésre, az első esedékességtől (az első esedékesség a szerzési jutalék számfejtést követő év első munkanapja) számított legfeljebb "]
["3. Hitelek alapvető adatainak, jellemzőinek megadása"]
["A finanszírozási összetétel alapján igényelt hitelek további paramétereienk megadása.\nAmennyiben az üzleti hitelnél a „Kockázati besorolás (árkategória)\" mezőben a „Kalkulált” érték kerül beállításra, a kalkulátor automatikusan határozza meg az ügylet paraméterei alapján annak kockázati besorolását. Lehetőség van manuálisan beállítani az egyes kockázati kategóriákat, azonban ebben az esetben a kalkuláció eredménye nem veszi figyelembe az ügylet paramétereit."]
[]
["4. Az indikatív ajánlat nyomtatása, aláíratása"]
["Az általános és a személyes tájékoztatót a fair bank szabályok értelmében külön dokumentumként kell kezelni, ezért külön kerül nyomtatásra és az ügyfeleknek külön kell aláírniuk is."]
[]
[]
[]
["5. A kockázatfeltáró nyilatkozat nyomtatása, aláíratása"]
["A Kockázatfeltáró nyilatkozatot a fair bank szabályok értelmében külön dokumentumként kell kezelni, ezért külön kerül nyomtatásra és az ügyfeleknek külön kell aláírniuk is."]
[]
[]
["6. A Zálogkötelezetti tájékoztató nyomtatása, aláíratása"]
["A Zálogkötelezetti tájékoztató kinyomtatható, így az ügyfeleknek teljeskörű tájékoztatás nyújtható és nem kell külön felkeresni a bankfiókot ezen nyilatkozat aláírása érdekében. "]
[]
[]
[]
[]
["Lehetséges szerepkörök az ügyletben:"]
["Jövedelmével bevont adós(társ) és zálogkötelezett:\nAz az adós(társ), akinek a jövedelmét vizsgáljuk és a fedezeti ingatlanban tulajdonos, vagy a hitelcél ingatlanban tulajdonos lesz.\nJövedelmével bevont adós(társ) és nem zálogkötelezett:\nAz az adós(társ), akinek a jövedelmét vizsgáljuk és a fedezeti ingatlanban nem tulajdonos, vagy a hitelcél ingatlanban nem lesz tulajdonos.\nJövedelme nélküli adós(társ) és zálogkötelezett:\nA jövedelme miatt bevont adós(társ) házastársa vagy élettársa, akinek a jövedelmével nem számolunk, viszont a hiteltartozásait rögzíteni szükséges, és a fedezeti ingatlanban tulajdonos, vagy a hitelcél ingatlanban leendő tulajdonos.\nJövedelme nélküli adós(társ) és nem zálogkötelezett:\nA jövedelme miatt bevont adós(társ) házastársa vagy élettársa, akinek a jövedelmével nem számolunk, viszont a hiteltartozásait rögzíteni szükséges, és a fedezeti ingatlanban nem tulajdonos, vagy a hitelcél ingatlanban nem lesz tulajdonos.\nCsak zálogkötelezett, nem adós(társ):\nAz a személy, akinek a jövedelmével és a hiteltartozásaival nem számolunk, azonban a fedezetként bevont ingatlan jelenlegi tulajdonosa."]

{"sheet":"Ügyféladatok","index":1,"n_rows":109,"n_cols":6,"rows_kept":109,"cut":false,"hidden":false,"merged":[]}
[null,"ADÓS","ADÓSTÁRS-1","ADÓSTÁRS-2","ADÓSTÁRS-3"]
[null,"Jövedelmével bevont adós(társ) és zálogkötelezett","Jövedelmével bevont adós(társ) és zálogkötelezett","Nincs","Nincs"]
["SZEMÉLYI ADATOK"]
["Név"]
["Születési név"]
["Anyja neve"]
["Születési dátum"]
["Családi állapot"]
["Legmagasabb iskolai végzettség"]
[]
["CÍMEK, TELEFONSZÁMOK"]
["Állandó lakcím: irányító szám"]
["Állandó lakcím: város"]
["Állandó lakcím: utca, házszám"]
["Értesítési cím: irányító szám"]
["Értesítési cím: város"]
["Értesítési cím: utca, házszám"]
["Jogviszony a jelenlegi tartózkodási helyen"]
["Mióta él jelenlegi lakcímén"]
[]
[]
["BANKKAPCSOLATOK"]
["Van hitele a K&H-nál minimum 6 hónapja?"]
["Van bankszámlája a K&H-nál minimum 6 hónapja?"]
["K&H-hoz érkezik majd a bérátutalás?"]
["Hitelkártya keretösszeg"]
["Folyószámla hitelkeret összege",null,null,null,null,"Több szereplő közös terhét csak az egyiknél kell feltüntetni!"]
["Összes havi rendszeres törlesztés",null,null,null,null,"Több szereplő közös terhét csak az egyiknél kell feltüntetni!"]
[]
["VAGYONI - PÉNZÜGYI ADATOK              "]
["Belföldi alkalmazotti munkabér - bankszámlára"]
["Belföldi alkalmazotti munkabér - készpénzben"]
["Külföldi alkalmazotti munkabér - bankszámlára"]
["Külföldi alkalmazotti munkabér - készpénzben"]
["Nyugdíj"]
["Vállalkozói jövedelem"]
["Anyasági támogatások (GYES, GYED, GYÁS)"]
["Egyéb jövedelem"]
[]
["Levonás/letiltás a jövedelemből"]
["Jövedelemmel rendelkezők száma"]
["Eltartott gyermekek száma a háztartásban",null,0]
[]
["MUNKAHELYI ADATOK"]
["Munkáltatói cégforma"]
["Gazdasági szektor"]
["Foglalkoztatás minősége"]
["Munkaviszony kezdete"]
["Van olyan jövedelemmel bevont szereplő, akinek van 150.000 Ft önállóan elfogadható jövedelme egy forrásból?"]
["adós, adóstárs?",{"$f":"IF(OR(B2=$E$83,B2=$E$84),0,1)","v":1},{"$f":"IF(OR(C2=$E$83,C2=$E$84),0,1)","v":1},0,0,{"$f":"SUM(B50:E50)","v":2}]
["hányadik adós, adóstárs?",{"$f":"IF(B50=0,0,SUM($B50:B$50))","v":1},{"$f":"IF(C50=0,0,SUM($B50:C$50))","v":2},{"$f":"IF(D50=0,0,SUM($B50:D$50))","v":0},{"$f":"IF(E50=0,0,SUM($B50:E$50))","v":0}]
["zálogkötelezett?",{"$f":"IF(OR(B2=$E$79,B2=$E$81,B2=$E$83),1,0)","v":1},{"$f":"IF(OR(C2=$E$79,C2=$E$81,C2=$E$83),1,0)","v":1},{"$f":"IF(OR(D2=$E$79,D2=$E$81,D2=$E$83),1,0)","v":0},{"$f":"IF(OR(E2=$E$79,E2=$E$81,E2=$E$83),1,0)","v":0},{"$f":"SUM(B52:E52)","v":2}]
["hányadik zálogkötelezett?",{"$f":"IF(B52=0,0,SUM($B$52:B52))","v":1},{"$f":"IF(C52=0,0,SUM($B$52:C52))","v":2},{"$f":"IF(D52=0,0,SUM($B$52:D52))","v":0},{"$f":"IF(E52=0,0,SUM($B$52:E52))","v":0}]
[null,{"$f":"IF(B4=\"\",\"\",B4)","v":""},{"$f":"IF(C4=\"\",\"\",C4)","v":""},{"$f":"IF(D4=\"\",\"\",D4)","v":""},{"$f":"IF(E4=\"\",\"\",E4)","v":""}]
[null,{"$f":"IF(B7=\"\",\"\",B7)","v":""},{"$f":"IF(C7=\"\",\"\",C7)","v":""},{"$f":"IF(D7=\"\",\"\",D7)","v":""},{"$f":"IF(E7=\"\",\"\",E7)","v":""}]
[null,{"$f":"IF(B6=\"\",\"\",B6)","v":""},{"$f":"IF(C6=\"\",\"\",C6)","v":""},{"$f":"IF(D6=\"\",\"\",D6)","v":""},{"$f":"IF(E6=\"\",\"\",E6)","v":""}]
[null,{"$f":"IF(OR(B12=\"\",B13=\"\",B14=\"\"),\"\",CONCATENATE(Ügyféladatok!B13,\", \",Ügyféladatok!B12,\" \",Ügyféladatok!B14))","v":""},{"$f":"IF(OR(C12=\"\",C13=\"\",C14=\"\"),\"\",CONCATENATE(Ügyféladatok!C13,\", \",Ügyféladatok!C12,\" \",Ügyféladatok!C14))","v":""},{"$f":"IF(OR(D12=\"\",D13=\"\",D14=\"\"),\"\",CONCATENATE(Ügyféladatok!D13,\", \",Ügyféladatok!D12,\" \",Ügyféladatok!D14))","v":""},{"$f":"IF(OR(E12=\"\",E13=\"\",E14=\"\"),\"\",CONCATENATE(Ügyféladatok!E13,\", \",Ügyféladatok!E12,\" \",Ügyféladatok!E14))","v":""}]
[null,"Egyedülálló","K&H Bank","Adminisztráció/könyvelés","Alkalmazott"]
[null,"Házas","AEGON Magyarország Hitel Zrt","Államigazgatás","GYES, GYED"]
[null,"Elvált","AXA Bank","Bányászat","Közalkalmazott"]
[null,"Élettársi viszony","Banco Popolare","Befektetés - osztalék","Köztisztviselő"]
[null,"Özvegy","Banco Primus S.A.","Biztosítási tevékenység","Külföldi alkalmazotti munkaviszony"]
[null,null,"Banif Plus Bank","Egészségügy","Nyugdíjas"]
[null,"Alapítvány","Bank of China Hitelintézet","Egyéb","Rokkantnyugdíjas"]
[null,"Állami részvénytársaság","BNP Paribas Hungária Bank","Élelmiszeripar","Szerződéses"]
[null,"Betéti társaság","Budapest Bank","Energiaszolgáltatás","Ügyvéd, közjegyző, szellemi szabadfoglalkozású"]
[null,"Egyéb  ","CIB Bank","Építőipar","Vállalkozó - nem KATA"]
[null,"Egyéb szövetkezet","Citibank","Erdő-, vad- és Halgazdálkodás","Vállalkozó - KATA"]
[null,"Egyéni vállakozó","Cofidis","Fa- és papíripar","Egyéb"]
[null,"Egyesülés","Commerzbank","Fegyveres testület"]
[null,"Gazdasági munkaközösség","Credigen Bank","Fémipar"]
[null,"Kamara","Credit Agricole Corporate And Investment Bank","Gép-, jármű- és műszergyártás"]
[null,"Korlátolt felelősségű társaság","Deutsche Bank","Gyógyszergyártás"]
[null,"Közalapítvány","DRB Dél-Dunántúli Regionális Bank","Informatika","Jövedelmével bevont szereplő"]
[null,"Közigazgatási szerv","egyéb","Infrastruktuális beruházás","Jövedelme nélküli szereplő"]
[null,"Közkereseti társaság","Erste Bank","Ingatlan bérbeadás","Nincs"]
[null,"Közös vállalat","FHB","Ingatlankereskedelem és beruházás"]
[null,"Közp. költségvetési intézmény tul. lévő kht","Gránit Bank","Kiadó, nyomda"]
[null,"Központi költségvetési intézmény","Hanwha Bank","Kiskereskedelem","Jövedelmével bevont adós(társ) és zálogkötelezett"]
[null,"Leányvállalat","ING Bank","Könnyűipar (egyéb)","Jövedelmével bevont adós(társ), nem zálogkötelezett"]
[null,"Részvénytársaság","KDB Bank","Kőolajfeldolgozás","Jövedelme nélküli adós(társ) és zálogkötelezett"]
[null,"Nem közp. költségvetési intézmény tul. lévő kht","Kinizsi Bank","Közigazgatás","Jövedelme nélküli adós(társ), nem zálogkötelezett"]
[null,"Non-profit társaság","Magnet Magyar Közösségi Bank","Külkereskedelem","Csak zálogkötelezett, nem adós(társ)"]
[null,"Önk. költségvetési intézmény","Magyar Cetelem","Marketing, hirdetés","Nincs"]
[null,"Pénzügyi szolgáltatást nem végző tak.szöv","Magyar Külkereskedelmi","Mezőgazdaság"]
[null,"Pénzügyi szolgáltatást végző takarékszövetkezet","Magyar Takarékszövetkezeti Bank","Nagyberuházás","VAGYONI - PÉNZÜGYI ADATOK              "]
[null,"Szövetkezet","Mohácsi Takarék Bank","Nagykereskedelem"]
[null,"Társadalmi szervezet","Oberbank AG","Nehézipar (egyéb)","Az ügylet nem hitelezhető, mert nincs olyan jövedelemmel bevont szereplő, akinek van 150.000 Ft önállóan elfogadható jövedelme egy forrásból."]
[null,"Ügyvéd, közjegyző","OTP Bank","Non-profit szektor (egyéb)","Van olyan jövedelemmel bevont szereplő, akinek van 150.000 Ft önállóan elfogadható jövedelme egy forrásból?"]
[null,"Egyéb  ","Pannon Takarék Bank","Oktatás - PHD ösztöndíj"]
[null,"Nincs info","Raiffeisen Bank","Oktatás, képzés",null,{"$f":"IF(A49=\"\",\"szines\",\"\")","v":""}]
[null,null,"Sopron Bank Burgenland","Pénzügyi szolgáltatás","Igen"]
[null,"8 általános vagy kevesebb","Széchenyi Kereskedelmi Bank","Ruha- és textilipar","Nem"]
[null,"Szakmunkás","Takarékszövetkezetek","Sporttevékenység"]
[null,"Szakközép","UniCredit Bank","Szállítás, raktározás, posta"]
[null,"Gimnázium","Volksbank","Szociális"]
[null,"Főiskola","WPB Capital, credit union","Szociális - életjáradék, jogdíjak"]
[null,"Egyetem","ZUNO BANK AG","Szociális - GYES, GYET, GYED, TGYÁS"]
[null,"Tudományos fokozat",null,"Szociális-személyi járadék vakok részére"]
[null,null,null,"Szolgáltatás - megbízásos alapon"]
[null,null,null,"Szolgáltatás (egyéb)"]
[null,"kevesebb, mint 1 éve","Tulajdonos","Szolgáltatás-jogi,ügyvéd,jogász,közjegyző"]
[null,"1 - 3 év","Társtulajdonos","Szórakozás, kultúra"]
[null,"4 - 10 év","Bérlő","Tanácsadás, audit"]
[null,"több, mint 10 éve","Albérlő","Telekommunikáció"]
[null,null,"Családdal él","Tömegközlekedés"]
[null,null,"Szolgálati lakás","Tudományos kutatás"]
[null,null,"Önkormányzati lakás","Turizmus, vendéglátás"]
[null,null,"Egyéb jogcím","Vegyipar"]

{"sheet":"Finanszírozás","index":2,"n_rows":19,"n_cols":10,"rows_kept":19,"cut":false,"hidden":false,"merged":[[5,5,7,5],[0,0,17,0]]}
["Finanszírozás összetétele","ingatlan vételára vagy építés/bővítés/korszerűsítés/felújítás költsége",null,null,"klasszikus önerő",{"$f":"SUMPRODUCT(C2:C17,E2:E17)","v":0},null,null,"saját forrás arány pd7-hez",{"$f":"C2","v":0}]
[null,"Készpénz, megtakarítás",{"$f":"C3+C4","v":0},null,1]
[null," - készpénz,  lakáscélú betét, LTP megtakarítás, 90 napon túl felvett babaváró"]
[null," - 2 évnél nem korábban vásárolt építési telek vételára"]
[null,"állami támogatások",{"$f":"C6+C7+C8","v":0}]
[null," - meglévő gyermek utáni CSOK",null,null,1,{"$f":"IF(C5=0,0,SUMPRODUCT(C6:C8,E6:E8)/C5)","v":0}]
[null," - vállalt gyermek utáni CSOK",null,null,0]
[null," - ÁFA-támogatás",null,null,1]
[null,"Munkáltatói, önkormányzati vissza nem térítendő támogatás",null,null,0]
[null,"Munkáltatói, önkormányzati visszatérítendő támogatás vagy hitel",null,null,1]
[null,"Babaváró hitel: 90 napon belül felvett",null,null,{"$f":"MIN(0.75,IF(C11=0,0,C12/C11))","v":0}]
[null," - ebből a hitelcélra fordítandó rész"]
[null,"Hitelfelvétel összesen",{"$f":"C14+C16+C17","v":0},null,null,"mind","MTG"]
[null,"Babaváró hitel",null,{"$f":"IF(AND(C11>0,C14>0),\"HIBA: Babaváró hitel csak egyszer vehető fel.\",\"\")","v":""},{"$f":"IF(C11+C12>0,0,MIN(0.75,IF(C14=0,0,C15/C14)))","v":0},{"$f":"IF(C15>0,1,0)","v":0}]
[null," - ebből a hitelcélra fordítandó rész"]
[null,"OTK Extra hitel",null,null,0,{"$f":"IF(C16>0,1,0)","v":0},{"$f":"F16","v":0}]
[null,"Minősített Fogyasztóbarát vagy Üzleti feltételű hitel",null,null,0,0,{"$f":"F17","v":0}]
[null,"Összesen",{"$f":"C2+C5+C9+C12+IF(C12+C11>0,0,C15)+C16+C17+C10","v":0},null,null,{"$f":"SUM(F14:F17)","v":0},{"$f":"SUM(G14:G17)","v":0}]
[null,null,{"$f":"IF(C1=0,\"\",IF(F19<0.2,\"Kevés a figyelembe vehető önerő.\",IF(ISERR('Új PD'!G52)=FALSE,\"\",IF('Új PD'!G52<>\"OK\",\"Kevés a figyelembe vehető önerő.\",\"\"))))","v":""},null,"figyelembe vett önerő",{"$f":"F1/C1","v":{"$error":"#DIV/0!"}},{"$f":"IF(F19<0.2,\"Kevés\",\"OK\")","v":{"$error":"#DIV/0!"}},null,null,{"$f":"J1/C1","v":{"$error":"#DIV/0!"}}]

{"sheet":"Hiteladatok","index":3,"n_rows":73,"n_cols":28,"rows_kept":73,"cut":false,"hidden":false,"merged":[[36,24,36,27],[37,24,37,27],[38,24,38,27],[26,24,26,27],[25,24,25,27],[24,24,24,27],[28,24,28,25],[28,26,28,27],[0,24,0,26],[15,24,15,26],[16,24,16,27],[17,24,17,25],[17,26,17,27],[13,7,13,8],[13,3,13,5],[13,0,13,1],[20,0,20,1],[5,5,5,7],[19,3,19,4],[15,3,15,4],[5,0,5,2],[14,3,14,4],[7,0,7,2],[8,0,8,2],[9,0,9,2],[10,0,10,2],[11,0,11,2],[20,3,20,5],[17,3,17,4],[42,14,42,17],[27,0,28,0],[27,1,28,1],[25,2,25,6],[35,3,35,4],[33,3,33,4],[34,3,34,4],[29,3,29,4],[30,3,30,4],[32,3,32,4],[18,3,18,4],[30,0,31,0],[37,7,37,8],[37,3,37,5],[37,0,37,1],[30,1,31,1],[36,3,36,4],[0,16,0,18],[10,5,10,7],[11,5,11,7],[4,5,4,7],[1,5,1,7],[6,5,6,7],[7,5,7,7],[8,5,8,7],[9,5,9,7],[0,0,0,8],[3,5,3,7],[2,5,2,7],[1,1,1,3],[2,0,2,2],[3,0,3,2],[4,0,4,2]]}
["Az igényelt hitel(ek) alapadatai",null,null,null,null,null,null,null,null,null,null,null,null,null,null,null,"ÉB díjak öszesen",null,null,null,"ebből helyszíni szemle",null,null,null,"ÉB",null,null,"Szemle"]
["Hitelcél",null,null,null,null,"Fedezet becsült forgalmi értéke",null,null,null,null,null,null,"I","Hitelcél","MFL?","lehet OTK?","Társasházi lakás","Családi ház","Telek",null,null,null,null,"Hitelcél","Társasházi lakás","Családi ház","Telek"]
["Fedezet típusa",null,null,null,null,"Fedezetre bejegyzett és fennmaradó terhek",null,null,0,null,null,null,"N","Használt lakás/ház vásárlása",{"$f":"IF(B17=R23,\"üzleti\",\"MFL\")","v":"MFL"},"Y",{"$f":"kondíciók!G13","v":30480},{"$f":"kondíciók!G14","v":34290},null,null,null,null,null,"Használt lakás/ház vásárlása",{"$f":"kondíciók!G13","v":30480},{"$f":"kondíciók!G14","v":34290}]
["Törlesztési dátumok hónapon belül",null,null,15,null,"Fedezeti ingatlan irányítószáma",null,null,null,null,null,null,null,"Új lak./ház vásárlása (kulcsrakész)",{"$f":"IF(B17=R23,\"üzleti\",\"MFL\")","v":"MFL"},"Y",{"$f":"kondíciók!G11","v":31750},{"$f":"kondíciók!G11","v":31750},null,null,null,null,null,"Új lak./ház vásárlása (kulcsrakész)",{"$f":"kondíciók!G11","v":31750},{"$f":"kondíciók!G11","v":31750}]
["Hitelkérelem befogadásának dátuma",null,null,"2021-07-31",null,"Fedezeti ingatlan helyrajzi száma",null,null,null,null,null,null,null,"Lakásépítés","üzleti","Y",{"$f":"kondíciók!G11+kondíciók!G12","v":53340},{"$f":"kondíciók!G11+kondíciók!G12","v":53340},null,null,1,null,null,"Lakásépítés",{"$f":"kondíciók!G11","v":31750},{"$f":"kondíciók!G11","v":31750},null,{"$f":"kondíciók!$G$12","v":21590}]
["K&H hiteltörlesztő számla? (ingyenes számla) I/N",null,null,"N",null,"Folyószámla havi számlavezetési díj",null,null,383,null,null,null,null,"Felújítás; Bővítés; Korszerűsítés","üzleti","N",{"$f":"kondíciók!G11+kondíciók!G12","v":53340},{"$f":"kondíciók!G11+kondíciók!G12","v":53340},null,null,1,null,null,"Felújítás; Bővítés; Korszerűsítés",{"$f":"kondíciók!G11","v":31750},{"$f":"kondíciók!G11","v":31750},null,{"$f":"kondíciók!$G$12","v":21590}]
[null,null,null,null,null,"Csoportos beszedés díja",null,null,0,null,null,null,null,"Közmű bevezetése","üzleti","N",{"$f":"kondíciók!G11+kondíciók!G12","v":53340},{"$f":"kondíciók!G11+kondíciók!G12","v":53340},null,null,1,null,null,"Közmű bevezetése",{"$f":"kondíciók!G11","v":31750},{"$f":"kondíciók!G11","v":31750},null,{"$f":"kondíciók!$G$12","v":21590}]
["Értékbecslések, helyszíni szemlék díja összesen",null,null,{"$f":"B34+F34","v":0},null,"Kockázati életbiztosítás gyakoriság szerinti díja",null,null,0,null,null,null,null,"Szerkezetkész ingatlan megvásárlása","üzleti","N",{"$f":"kondíciók!G13","v":30480},{"$f":"kondíciók!G14","v":34290},null,null,null,null,null,"Szerkezetkész ingatlan megvásárlása",{"$f":"kondíciók!G13","v":30480},{"$f":"kondíciók!G14","v":34290}]
["Takarnet díjak összesen",null,null,{"$f":"B35+F35","v":0},null,"Kockázati életbiztosítás gyakorisága",null,null,null,null,null,null,null,"Egyéb ingatlan vásárlása","üzleti","N",{"$f":"kondíciók!G13","v":30480},{"$f":"kondíciók!G14","v":34290},null,null,null,null,null,"Egyéb ingatlan vásárlása",{"$f":"kondíciók!G13","v":30480},{"$f":"kondíciók!G14","v":34290}]
["Tulajdoni hányad ellenőrzés díja",null,null,{"$f":"F36","v":0},null,"Kockázati életbiztosítás díjfizetési módja",null,null,null,null,null,null,null,"Egyéb ingatlan építés","üzleti","N",{"$f":"kondíciók!G11+kondíciók!G12","v":53340},{"$f":"kondíciók!G11+kondíciók!G12","v":53340},null,null,1,null,null,"Egyéb ingatlan építés",{"$f":"kondíciók!G11","v":31750},{"$f":"kondíciók!G11","v":31750},null,{"$f":"kondíciók!$G$12","v":21590}]
["Szerződéskötési díj, folyósítási díj",null,null,{"$f":"B33+F33+I33","v":0},null,"Kockázati életbiztosítás egyszeri díja",null,null,0,null,null,null,null,"Építési telek vásárlása","üzleti","N",null,null,{"$f":"kondíciók!G15","v":25400},null,null,null,null,"Építési telek vásárlása",null,null,{"$f":"kondíciók!G15","v":25400}]
["Földhivatali ügyintézési díj",null,null,{"$f":"IF(B15+F15>0,kondíciók!G10,0)","v":0},null,"Ügyfél által a hitelközvetítőnek fizetett díj",null,null,0,null,null,null,null,"Földvásárlás","üzleti","N",null,null,{"$f":"kondíciók!G15","v":25400},null,null,null,null,"Földvásárlás",null,null,{"$f":"kondíciók!G15","v":25400}]
[null,null,null,null,null,null,null,null,null,null,null,null,null,"Belf. pénzintézet által nyújtott lakáshitel kiváltása",{"$f":"IF(B17=R23,\"üzleti\",\"MFL\")","v":"MFL"},"N",{"$f":"kondíciók!G13","v":30480},{"$f":"kondíciók!G14","v":34290},null,null,null,null,null,"Belf. pénzintézet által nyújtott lakáshitel kiváltása",{"$f":"kondíciók!G13","v":30480},{"$f":"kondíciók!G14","v":34290}]
[{"$f":"IF(O16=\"MFL\",IF(B15=0,N44,N43),IF(B15=0,N46,N45))","v":{"$error":"#N/A"}},null,null,{"$f":"IF(F15=0,N48,N47)","v":"Nem kér OTK Extra lakáshitelt"},null,null,null,{"$f":"IF(I15=0,N50,N49)","v":"Nem kér Babaváró hitelt"},null,null,null,null,null,"Külf. pénzintézet által nyújtott lakáshitel kiváltása","üzleti","N",{"$f":"kondíciók!G13","v":30480},{"$f":"kondíciók!G14","v":34290},null,null,null,null,null,"Külf. pénzintézet által nyújtott lakáshitel kiváltása",{"$f":"kondíciók!G13","v":30480},{"$f":"kondíciók!G14","v":34290}]
["Hitelösszeg",{"$f":"Finanszírozás!C17","v":0},null,"Hitelösszeg",null,{"$f":"Finanszírozás!C16","v":0},null,"Hitelösszeg",{"$f":"Finanszírozás!C14","v":0},null,null,null,null,"Egyéb","üzleti","N",{"$f":"kondíciók!G11+kondíciók!G12","v":53340},{"$f":"kondíciók!G11+kondíciók!G12","v":53340},null,null,1,null,null,"Egyéb",{"$f":"kondíciók!G11","v":31750},{"$f":"kondíciók!G11","v":31750},null,{"$f":"kondíciók!$G$12","v":21590}]
["Futamidő (hónap)",240,null,"Futamidő (hónap)",null,240,null,"Futamidő (hónap)",240,null,null,null,null,"most",{"$f":"VLOOKUP(B2,$N$3:$P$15,2,FALSE)","v":{"$error":"#N/A"}},{"$f":"VLOOKUP(B2,$N$3:$P$15,3,FALSE)","v":{"$error":"#N/A"}},{"$f":"VLOOKUP($B$2,$N$3:$S$15,4,FALSE)","v":{"$error":"#N/A"}},{"$f":"VLOOKUP($B$2,$N$3:$S$15,5,FALSE)","v":{"$error":"#N/A"}},{"$f":"VLOOKUP($B$2,$N$3:$S$15,6,FALSE)","v":{"$error":"#N/A"}},{"$f":"V16-U16","v":{"$error":"#N/A"}},{"$f":"VLOOKUP(B2,N3:U15,8,FALSE)*kondíciók!G12","v":{"$error":"#N/A"}},{"$f":"HLOOKUP(D3,Q2:S16,15,FALSE)","v":{"$error":"#N/A"}},null,"most",{"$f":"IF(D3=Y2,VLOOKUP(B2,X3:AA15,2,FALSE),IF(D3=Z2,VLOOKUP(B2,X3:AA15,3,FALSE),AA11))","v":25400},null,null,{"$f":"VLOOKUP(B2,X3:AB15,5,FALSE)","v":{"$error":"#N/A"}}]
["Kamatperiódus","10 év",{"$f":"IF(AND(B15>0,B16<>S29,OR(B17=R26,B17=R27,B17=R28)),\"Végig fix kamat esetén a futamidőnek egyeznie kell a kamatfixálás időtartamával\",IF(AND(B15>0,B16>S29),\"Túl hosszú futamidő\",IF(AND(B15>0,B16<T29),\"Túl rövid futamidő\",\"\")))","v":""},null,null,null,null,null,null,null,null,null,null,null,"Tul.lap","Térkép",null,null,null,"ÉB","helyszíni","total",null,"alapesetben, kedvezmény nélkül",{"$f":"Y16+AB16","v":{"$error":"#N/A"}}]
["Folyósítás várható dátuma",{"$f":"IF(OR(B15=0,D5=\"\"),\"\",$P$46)","v":""},null,"Folyósítás várható dátuma",null,{"$f":"IF(OR(F15=0,D5=\"\"),\"\",$P$46)","v":""},null,"Folyósítás várható dátuma",{"$f":"IF(OR(I15=0,D5=\"\"),\"\",D5+14)","v":""},null,null,null,null,"Társasházi lakás",{"$f":"IF(OR(B2=N13,B2=N14),3,2)","v":2},0,null,null,"MFL",{"$f":"IF(B15=0,0,IF(F15>0,T16/2,T16))","v":0},{"$f":"IF(B15=0,0,IF(F15>0,U16/2,U16))","v":0},{"$f":"SUM(T18:U18)","v":0},null,null,"MFL",null,"OTK"]
["Törlesztés kezdete",{"$f":"IF(OR(B15=0,D5=\"\"),\"\",$R$47)","v":""},null,"Törlesztés kezdete",null,{"$f":"IF(OR(F15=0,D5=\"\"),\"\",$R$47)","v":""},null,"Törlesztés kezdete",{"$f":"IF(OR(I15=0,D5=\"\"),\"\",$R$55)","v":""},null,null,null,null,"Családi ház",{"$f":"IF(OR(B2=N13,B2=N14),3,2)","v":2},1,null,null,"OTK",{"$f":"IF(F15=0,0,IF(B15>0,T16/2,T16))","v":0},{"$f":"IF(F15=0,0,IF(B15>0,U16/2,U16))","v":0},{"$f":"SUM(T19:U19)","v":0},null,null,"ÉB","szemle","ÉB","szemle"]
["Kampánykedvezmény","Díjkedvezmény 100%",null,"Kampánykedvezmény",null,"Díjkedvezmény 100%",null,null,null,null,null,null,null,"Telek",{"$f":"IF(OR(B2=N13,B2=N14),3,2)","v":2},1,null,null,null,null,null,null,null,"Kampány vagy JT alapján",{"$f":"IF(OR(D6=M2,B20=R31),Y16,0)","v":0},{"$f":"IF(OR(D6=M2,B20=R31),AB16,0)","v":0},{"$f":"IF(OR(D6=M2,F20=R31),Y16,0)","v":0},{"$f":"IF(OR(D6=M2,F20=R31),AB16,0)","v":0}]
["Kamatkedvezmények (I/N)",null,null,"Gyermekek száma",null,null,null,null,null,null,null,null,null,"most",{"$f":"VLOOKUP(D3,$N$18:$P$20,2,FALSE)","v":{"$error":"#N/A"}},{"$f":"VLOOKUP(D3,$N$18:$P$20,3,FALSE)","v":{"$error":"#N/A"}},null,null,null,null,null,null,null,"Több hitel vagy egy?",{"$f":"IF(B15=0,0,IF(F15=0,1,0.5))","v":0},{"$f":"IF(B15=0,0,IF(F15=0,1,0.5))","v":0},{"$f":"IF(F15=0,0,IF(B15=0,1,0.5))","v":0},{"$f":"IF(F15=0,0,IF(B15=0,1,0.5))","v":0}]
["Átutalási (havi 150 eFt)","I",null," - Meglévő",null,null,null,null,null,null,null,null,null,null,null,null,null,null,"max","min","kamper",null,null,"Melyik hitelnél lehet vagy kedvezőbb?",{"$f":"IF(Y21=0,\"N\",IF(OR(Y21=1,Y20<AA20),\"Y\",IF(Y20=AA20,\"E\",\"N\")))","v":"N"},{"$f":"IF(Z21=0,\"N\",IF(OR(Z21=1,Z20<AB20),\"Y\",IF(Z20=AB20,\"E\",\"N\")))","v":"N"},{"$f":"IF(AA21=0,\"N\",IF(OR(AA21=1,AA20<Y20),\"Y\",IF(AA20=Y20,\"E\",\"N\")))","v":"N"},{"$f":"IF(AB21=0,\"N\",IF(OR(AB21=1,AB20<Z20),\"Y\",IF(AB20=Z20,\"E\",\"N\")))","v":"N"}]
["Vagyonbiztosítási","I",null," - Magzat (min 12 hetes)",null,null,null,null,null,null,null,null,null,null,null,null,null,"1 év",360,60,12,null,null,"kedvezőbb választása után",{"$f":"IF(Y22=\"N\",0,Y20)","v":0},{"$f":"IF(Z22=\"N\",0,Z20)","v":0},{"$f":"IF(AA22=\"Y\",AA20,0)","v":0},{"$f":"IF(AB22=\"Y\",AB20,0)","v":0}]
["Törlesztési biztosítás","N",null," - Vállalt",null,null,null,null,null,null,null,null,null,null,null,null,null,"5 év",360,60,60,"H3K5",null,"a kedvezőbb szétosztása után",{"$f":"(Y23+AA23)*Y21","v":0},{"$f":"(Z23+AB23)*Z21","v":0},{"$f":"(Y23+AA23)*AA21","v":0},{"$f":"(Z23+AB23)*AB21","v":0}]
["Életbiztosítás","N",null,null,null,null,null,null,null,null,null,null,null,null,null,null,null,"10 év",360,120,120,"H3K10",null,"ÉB",{"$f":"Y24+AA24","v":0}]
["Prémium ügyfél","N",{"$f":"IF(F15=0,\"\",IF(P16=\"N\",N32,IF(AND(F22=\"\",F23=\"\",F24=\"\"),\"\",IF(SUM(F22:F24)<2,N29,IF(F15/1000000>O30,CONCATENATE(N30,O30,\" MFt hitelre!\"),N31)))))","v":""},null,null,null,null,null,null,null,null,null,null,null,null,null,null,"10 évre fix",120,120,120,"H3K10",null,"szemle",{"$f":"Z24+AB24","v":0}]
["Kamatkedvezmény",{"$f":"'Új PD'!O8","v":{"$error":"#N/A"}},null,null,null,null,null,null,null,null,null,null,null,null,null,null,null,"15 évre fix",180,180,180,"H3K15",null,"Total",{"$f":"SUM(Y24:AB24)","v":0}]
["Kockázati besorolás (árkategória)","Kalkulált: ",null,null,null,null,null,null,null,null,null,null,null,null,null,null,null,"20 évre fix",240,240,240,"H3K15"]
[null,null,null,null,null,null,null,null,null,null,null,null,null,"Nem jogosult erre a hitelre!",null,null,null,null,{"$f":"IF(B17=\"\",MAX(S23:S28),VLOOKUP(B17,R23:S28,2,FALSE))","v":360},{"$f":"IF(B17=\"\",MIN(T23:T28),VLOOKUP(B17,R23:T28,3,FALSE))","v":120},{"$f":"VLOOKUP(B17,R23:U28,4,FALSE)","v":120},{"$f":"VLOOKUP(B17,R23:V28,5,FALSE)","v":"H3K10"},null,null,"MFL",null,"OTK"]
[{"$f":"CONCATENATE(\"Induló kamatláb: \",IF(O68=\"N\",\"\",'Új PD'!C13))","v":{"$error":"#DIV/0!"}},{"$f":"IF(OR('Új PD'!G13=\"hamis\",B28=\"\",A42=N62,A42=N64),\"\",'Új PD'!D13)","v":{"$error":"#DIV/0!"}},null,"Kamatláb támogatással",null,{"$f":"OTK!B3","v":0.03},null,"Kamatláb támogatással",{"$f":"BB!B32","v":0},null,null,null,null,"Gyerekszám alapján jogosult, de csak ",{"$f":"IF(SUM(F22:F24)>2,15,IF(SUM(F22:F24)<2,0,10))","v":0},null,null,null,null,null,null,null,null,null,"Tul. lap","térkép","Tul. lap","térkép"]
[{"$f":"IF(AND(B15>=0,A42=N63,B22=\"I\"),\"A hitel kezdeti kamatlába egyedi kedvezménnyel\",\"\")","v":{"$error":"#DIV/0!"}},null,null,"Kamatláb támogatás nélkül",null,{"$f":"OTK!D3","v":5.3790000000000004E-2},null,"Kamatláb támogatás nélkül",{"$f":"BB!B33","v":4.3800000000000006E-2},null,null,null,null,"Gyerekszám alapján jogosult a hitelre.",null,null,null,"Nem kampány",null,"hány hitel?",null,null,null,"listaár",{"$f":"kondíciók!K16","v":1000},{"$f":"kondíciók!K17","v":3000},{"$f":"kondíciók!L16","v":3000},{"$f":"kondíciók!L17","v":4000}]
[null,null,null,null,null,null,null,null,null,null,null,null,null,"Erre a hitelcélra ez a hitel nem igényelhető!",null,null,null,"Díjkedvezmény 100%",null,null,null,null,null,"Kampány vagy JT alapján",{"$f":"IF(OR(D6=M2,B20=R31),O21*Y31,0)","v":0},{"$f":"IF(OR(D6=M2,B20=R31),P21*Z31,0)","v":0},{"$f":"IF(OR(D6=M2,F20=R31),O21*AA31,0)","v":0},{"$f":"IF(OR(D6=M2,F20=R31),P21*AB31,0)","v":0}]
[{"$f":"IF(O16<>\"MFL\",\"Szerződéskötési díj\",\"Folyósítási díj\")","v":{"$error":"#N/A"}},{"$f":"IF(OR(D6=M2,B20=R31),MIN(kondíciók!K10,kondíciók!J10*Hiteladatok!B15),IF(B20=R33,0.5*MIN(kondíciók!K10,kondíciók!J10*Hiteladatok!B15),0))","v":0},null,"Szerződéskötési díj",null,{"$f":"IF(OR(D6=M2,F20=R31),MIN(kondíciók!K12,kondíciók!J12*Hiteladatok!F15),IF(F20=R33,0.5*MIN(kondíciók!K12,kondíciók!J12*Hiteladatok!F15),0))","v":0},null,"Szerződéskötési díj",0,null,null,null,null,"csoportos beszedéssel","kamatláb",{"$f":"IF(AND(B31<>\"\",B31>0,A42=N63),P35,P34)","v":{"$error":"#DIV/0!"}},null,"Díjkedvezmény 50%",null,null,null,null,null,"Több hitel vagy egy?",{"$f":"Y21","v":0},{"$f":"Z21","v":0},0,0]
["Értékbecslési díjak",{"$f":"Y24+Z24","v":0},null,"Értékbecslési díjak",null,{"$f":"AA24+AB24","v":0},null,null,null,null,null,null,null,"bankkártyával","hirdetmény",{"$f":"B30","v":{"$error":"#DIV/0!"}},null,null,null,null,null,null,null,"Melyik hitelnél lehet vagy kedvezőbb?",{"$f":"IF(Y33=0,\"N\",IF(OR(Y33=1,Y32<AA32),\"Y\",IF(Y32=AA32,\"E\",\"N\")))","v":"N"},{"$f":"IF(Z33=0,\"N\",IF(OR(Z33=1,Z32<AB32),\"Y\",IF(Z32=AB32,\"E\",\"N\")))","v":"N"},{"$f":"IF(AA33=0,\"N\",IF(OR(AA33=1,AA32<Y32),\"Y\",IF(AA32=Y32,\"E\",\"N\")))","v":"N"},{"$f":"IF(AB33=0,\"N\",IF(OR(AB33=1,AB32<Z32),\"Y\",IF(AB32=Z32,\"E\",\"N\")))","v":"N"}]
["Takarnet díjak",{"$f":"Y36+Z36","v":0},null,"Takarnet díjak",null,{"$f":"AA36+AB36","v":0},null,null,null,null,null,null,null,"csekken","egyedi",{"$f":"B31","v":0},null,"Kalkulált: ",null,null,null,null,null,"kedvezőbb választása után",{"$f":"IF(Y34=\"N\",0,Y32)","v":0},{"$f":"IF(Z34=\"N\",0,Z32)","v":0},{"$f":"IF(AA34=\"Y\",AA32,0)","v":0},{"$f":"IF(AB34=\"Y\",AB32,0)","v":0}]
[null,null,null,"Tulajdoni hányad ellenőrzés",null,{"$f":"IF(F15=0,0,IF(OR(D6=M2,F20=R31),kondíciók!L18,0))","v":0},null,null,null,null,null,null,null,null,"min",{"$f":"'Új PD'!I8","v":4.2900000000000001E-2},null,"Manuális: K1",null,"havi",12,null,null,"a kedvezőbb szétosztása után",{"$f":"(Y35+AA35)*Y33","v":0},{"$f":"(Z35+AB35)*Z33","v":0},{"$f":"(Y35+AA35)*AA33","v":0},{"$f":"(Z35+AB35)*AB33","v":0}]
["Kezdő részlet: ",{"$f":"IF(B15=0,\"\",MFL!B10)","v":""},null,"Kezdő részlet: ",null,{"$f":"IF(F15=0,\"\",OTK!B10)","v":""},null,"Kezdő részlet: ",{"$f":"IF(I15=0,\"\",'BB-model'!D11)","v":""},null,null,null,null,"Kattints a Kalkuláció indító gombra",null,null,null,"Manuális: K2",null,"negyedéves",4,null,null,"Tul. lap",{"$f":"Y36+AA36","v":0}]
[{"$f":"IF(B15=0,\"\",IF(OR('Új PD'!O78<>0,ROUND(MFL!O6,1)<>0),N37,CONCATENATE(\"   THM:  \",TEXT(ROUND(100*MFL!O1,1),\"# ##,0\"),\"%\")))","v":""},null,null,{"$f":"IF(F15=0,\"\",IF(OR(C26<>N31,'Új PD'!O78<>0,ROUND(OTK!T4,1)<>0),N37,CONCATENATE(\"    THM:  \",TEXT(ROUND(100*OTK!T1,1),\"# ##,0\"),\"%\")))","v":""},null,null,null,{"$f":"IF(I15=0,\"\",IF(OR('Új PD'!O78<>0,ROUND(BB!AM22,1)<>0),N37,CONCATENATE(\"   THM:  \",IF(100*BB!AL21<1,\"0\",\"\"),TEXT(ROUND(100*BB!AL21,1),\"# ##,0\"),\"%\")))","v":""},null,null,null,null,null,"részlet BB minősítéshez",{"$f":"'BB-model'!E11","v":0},null,null,"Manuális: K3",null,"féléves",2,null,null,"térkép",{"$f":"Z36+AB36","v":0}]
[null,null,null,null,null,null,null,null,null,null,null,null,null,null,null,null,null,"Manuális: K4",null,"éves",1,null,null,"Total",{"$f":"SUM(Y36:AB36)","v":0}]
[{"$f":"IF(B15+F15=0,\"\",IF(AND(B15+F15>0,'Új PD'!F10=\"kevés adat\"),\"\",IF('Új PD'!G52<>\"OK\",N58,N57)))","v":""},null,null,null,null,null,null,null,null,null,null,null,null,null,null,null,null,"Manuális: K5",null,"most",{"$f":"IF(I9=\"\",0,VLOOKUP(I9,T36:U39,2,FALSE))","v":0}]
[{"$f":"IF(B15+F15=0,N59,IF(AND(B15+F15>0,'Új PD'!F10=\"kevés adat\"),\"\",IF('Új PD'!D20<>\"OK\",N61,N60)))","v":"Nincs szükség ingatlanfedezetre."},null,null,null,null,null,null,null,null,null,null,null,null,null,null,null,null,"Manuális: K6"]
[{"$f":"IF(OR(A41=N61,A40=N58,ISERR('Új PD'!G52)=TRUE,AND(B15>0,ISERR('Új PD'!C13*100)=FALSE)),\"\",Hiteladatok!N66)","v":{"$error":"#DIV/0!"}}]
[null,null,null,null,null,null,null,null,null,null,null,null,null,"Minősített Fogyasztóbarát lakáshitel","Dátumok"]
[null,null,null,null,null,null,null,null,null,null,null,null,null,"Nem kér Minősített Fogyasztóbarát lakáshitelt","Lakáshitelnél"]
[null,null,null,null,null,null,null,null,null,null,null,null,null,"Üzleti feltételű lakáshitel","igénylés",{"$f":"$D$5","v":"2021-07-31"}]
[null,null,null,null,null,null,null,null,null,null,null,null,null,"Nem kér Üzleti feltételű lakáshitelt","folyósítás",{"$f":"WORKDAY(P45,Q46)","v":"2021-09-03"},25]
[null,null,null,null,null,null,null,null,null,null,null,null,null,"OTK Extra lakáshitel","törlesztés",{"$f":"WORKDAY(P46,Q47)","v":"2021-09-17"},10,{"$f":"DATE(Q50,Q49,Q48)","v":"2021-10-15"}]
[null,null,null,null,null,null,null,null,null,null,null,null,null,"Nem kér OTK Extra lakáshitelt","nap",{"$f":"DAY(P47)","v":17},{"$f":"D4","v":15}]
[null,null,"Előzetes tájékoztatás és adatkezelési nyilatkozat",null,null,null,null,null,null,null,null,null,null,"Babaváró hitel","hónap",{"$f":"MONTH(P47)","v":9},{"$f":"IF(P48<=Q48,P49,IF(P49=12,1,P49+1))","v":10}]
[null,null,null,null,null,null,null,null,null,null,null,null,null,"Nem kér Babaváró hitelt","év",{"$f":"YEAR(P47)","v":2021},{"$f":"IF(AND(P49=12,Q49=1),P50+1,P50)","v":2021}]
[]
[null,null,null,null,null,null,null,null,null,null,null,null,null,null,"Babavárónál"]
[null,null,"Általános tájékoztatás a jelzáloghitelekről",null,null,null,null,null,null,null,null,null,null,null,"igénylés",{"$f":"$D$5","v":"2021-07-31"}]
[null,null,null,null,null,null,null,null,null,null,null,null,null,null,"folyósítás",{"$f":"WORKDAY(P53,Q54)","v":"2021-08-19"},14]
[null,null,null,null,null,null,null,null,null,null,null,null,null,null,"törlesztés",{"$f":"WORKDAY(P54,Q55)","v":"2021-09-02"},10,{"$f":"DATE(Q58,Q57,Q56)","v":"2021-09-15"}]
[null,null,null,null,null,null,null,null,null,null,null,null,null,null,"nap",{"$f":"DAY(P55)","v":2},{"$f":"D4","v":15}]
[null,null,{"$f":"IF(B15=0,\"Nem kér Üzleti feltételű lakáshitelt\",CONCATENATE(\"Személyes tájékoztatás - \",A14))","v":"Nem kér Üzleti feltételű lakáshitelt"},null,null,null,null,null,null,null,null,null,null,"Az önerőkalkuláció eredménye: megfelelő.","hónap",{"$f":"MONTH(P55)","v":9},{"$f":"IF(P56<=Q56,P57,IF(P57=12,1,P57+1))","v":9}]
[null,null,null,null,null,null,null,null,null,null,null,null,null,"Az önerőkalkuláció eredménye: nem megfelelő.","év",{"$f":"YEAR(P55)","v":2021},{"$f":"IF(AND(P57=12,Q57=1),P58+1,P58)","v":2021}]
[null,null,null,null,null,null,null,null,null,null,null,null,null,"Nincs szükség ingatlanfedezetre."]
[null,null,null,null,null,null,null,null,null,null,null,null,null,"A fedezetkalkuláció eredménye: a fedezet elegendő."]
[null,null,{"$f":"IF(F15=0,D14,\"Személyes tájékoztatás - OTK Extra lakáshitel\")","v":"Nem kér OTK Extra lakáshitelt"},null,null,null,null,null,null,null,null,null,null,"A fedezetkalkuláció eredménye: a fedezet nem elegendő!"]
[null,null,null,null,null,null,null,null,null,null,null,null,null,"Minősítés eredménye: az ügylet hitelezhetőségének pontos megállapításához ügyfélponti előminősítés javasolt."]
[null,null,null,null,null,null,null,null,null,null,null,null,null,{"$f":"IF(Finanszírozás!F18=1,\"Minősítés eredménye: a hitel nyújtható.\",\"Minősítés eredménye: a hitelek nyújthatóak.\")","v":"Minősítés eredménye: a hitelek nyújthatóak."}]
[null,null,null,null,null,null,null,null,null,null,null,null,null,"A jövedelem nem elegendő! Javasolt futamidő hosszabbítás és/vagy hitelösszeg csökkentés és/vagy jövedelemmel rendelkező adóstárs bevonása."]
[null,null,{"$f":"IF(B15=0,\"Nem kér Üzleti feltételű lakáshitelt\",CONCATENATE(\"Kockázatfeltáró nyilatkozat - \",A14))","v":"Nem kér Üzleti feltételű lakáshitelt"}]
[null,null,null,null,null,null,null,null,null,null,null,null,null,{"$f":"IF(AND(A41=N59,'Új PD'!D47=\"OK\"),Hiteladatok!N63,IF(AND(A41=N59,'Új PD'!D47=\"nem OK\"),N62,IF(OR(AND(B15>0,B28=\"\"),AND(B15>0,B28=R35,ISERROR('Új PD'!C11)=TRUE),AND(B15+F15>0,'Új PD'!F10=\"kevés adat\")),\"\",IF('Új PD'!D47<>\"OK\",Hiteladatok!N64,IF('Új PD'!D52<>\"OK\",Hiteladatok!N62,Hiteladatok!N63)))))","v":{"$error":"#DIV/0!"}}]
[]
[null,null,null,null,null,null,null,null,null,null,null,null,null,"THM számolás indulhat?",{"$f":"IF(AND(A40<>N58,A41<>N61,A42=N63),\"Y\",\"N\")","v":{"$error":"#DIV/0!"}}]
[null,null,{"$f":"IF(F15=0,D14,\"Kockázatfeltáró nyilatkozat - OTK Extra lakáshitel\")","v":"Nem kér OTK Extra lakáshitelt"}]
[]
[]
[]
[null,null,{"$f":"IF(B15+F15=0,\"Nem kér jelzáloghitelt\",\"Zálogkötelezetti tájékoztató\")","v":"Nem kér jelzáloghitelt"}]

{"sheet":"NGM Tájékoztató","index":4,"n_rows":59,"n_cols":15,"rows_kept":59,"cut":false,"hidden":true,"merged":[[57,0,57,2],[57,3,57,8],[57,9,57,14],[58,0,58,2],[58,3,58,8],[51,7,51,9],[55,0,55,2],[55,3,55,8],[55,9,55,14],[56,0,56,2],[56,3,56,8],[56,9,56,14],[46,0,46,14],[47,0,47,14],[48,0,48,14],[54,0,54,2],[54,3,54,8],[54,9,54,14],[42,12,42,14],[43,3,43,4],[43,6,43,7],[43,9,43,10],[43,12,43,13],[45,0,45,14],[41,0,43,0],[41,1,43,1],[41,2,43,2],[42,3,42,5],[42,6,42,8],[42,9,42,11],[31,12,31,13],[30,9,30,11],[38,0,40,0],[38,1,40,1],[38,2,40,2],[39,3,39,5],[39,6,39,8],[35,0,37,0],[35,1,37,1],[35,2,37,2],[36,3,36,5],[36,6,36,8],[39,9,39,11],[39,12,39,14],[40,3,40,4],[40,6,40,7],[40,9,40,10],[40,12,40,13],[36,12,36,14],[37,3,37,4],[37,6,37,7],[37,9,37,10],[37,12,37,13],[36,9,36,11],[25,6,25,7],[25,9,25,10],[25,12,25,13],[24,9,24,11],[32,0,34,0],[32,1,34,1],[32,2,34,2],[33,3,33,5],[33,6,33,8],[29,0,31,0],[29,1,31,1],[29,2,31,2],[30,3,30,5],[30,6,30,8],[33,9,33,11],[33,12,33,14],[34,3,34,4],[34,6,34,7],[34,9,34,10],[34,12,34,13],[30,12,30,14],[31,3,31,4],[31,6,31,7],[31,9,31,10],[21,0,22,2],[21,3,21,14],[22,3,22,5],[22,6,22,8],[22,9,22,11],[22,12,22,14],[26,0,28,0],[26,1,28,1],[26,2,28,2],[27,3,27,5],[27,6,27,8],[23,0,25,0],[23,1,25,1],[23,2,25,2],[24,3,24,5],[24,6,24,8],[27,9,27,11],[27,12,27,14],[28,3,28,4],[28,6,28,7],[28,9,28,10],[28,12,28,13],[24,12,24,14],[25,3,25,4],[12,0,12,14],[13,0,13,14],[14,0,14,14],[15,0,15,14],[16,0,16,14],[17,3,17,14],[18,3,18,14],[19,3,19,14],[20,3,20,4],[20,5,20,14]]}
[]
[]
[]
[]
[]
[]
["K&H Bank Zrt."]
[]
["1095 Budapest, Lechner Ödön fasor 9. "]
["Telefon: (06 1) 328 9000, (06 30) 761 9000"]
["Fax: (06 1) 328 9696"]
["www.kh.hu • bank@kh.hu"]
[]
["Nyilatkozat hitelszerződés megkötését megelőző tájékoztatásról"]
["Kérjük, a jelölőnégyzetek kipipálásával szíveskedjen jelezni, \namennyiben az adott tájékoztatás megtörtént! "]
["Alulírott kijelentem, hogy hitelfelvétel iránti érdeklődésem és annak felmérése során, miszerint az igénybe venni tervezett hitel megfelel-e az igényeimnek és a pénzügyi teljesítőképességemnek, az általam kiválasztott termékhez kapcsolódóan az következőkre kiterjedő tájékoztatást kaptam:\n a vonatkozó MNB rendelet értelmében mekkora lehet a figyelembe vehető jövedelmemhez képest a törlesztőrészlet összege és ezt hogyan kell kiszámítani\n ingatlanra alapított jelzálog fedezete mellett nyújtott kölcsön esetén az ingatlan forgalmi értéke arányában mekkora lehet a hitel összege\n igényeim, lehetőségeim és szükségleteim felmérését követően az előnyben részesített termék legfontosabb jellemzőiről (az igényelhető hitel lehetséges összegéről, a kamatozás módjáról és a kamat módosításának lehetőségéről, a reprezentatívnak tekinthető teljes hiteldíj mutatóról, a törlesztőrészletek összegéről és a törlesztés gyakoriságáról, a hitel választható futamidejéről)\n a kamat változásának a törlesztőrészletre gyakorolt hatásáról\n a hitelszerződés megkötésekor felelős döntést kell hoznom, hiszen a hitelfelvétellel járó törlesztési kötelezettség hosszabb távon befolyásolja a pénzügyi helyzetemet, teljesítőképességem, a megjelenő teher milyen további kockázatokkal járhat (pl. kamat emelkedése folytán), a fizetések elmulasztása milyen következményekkel járhat (pl. késedelmi kamat, szerződés felmondása, azonnali teljes összegű visszafizetési kötelezettség)\n az általam előnyben részesített termék törlesztőrészlet, illetőleg a jövedelem változásának lehetséges hatásairól az alábbi táblázat alapján:"]
[]
["A hitel típusa:",null,null,"Jelzáloghitel"]
["A hitel összege: ",null,null,"5.000.000 forint"]
["A hitel futamideje:",null,null,"240 hónap"]
["A hitel kamata:",null,null,{"$f":"kondíciók!D19","v":4.5899999999999996E-2}]
["Rendszeres jövedelem változása",null,null,"Kamat emelkedése"]
[null,null,null,0,null,null,0.01,null,null,0.02,null,null,0.03]
["–30% változás",{"$f":"kondíciók!B44*0.7","v":187883.5},"forint","JTM:",{"$f":"D26/$B24*100","v":16.965774709402311},"%","JTM:",{"$f":"G26/$B24*100","v":18.441757675116975},"%","JTM:",{"$f":"J26/$B24*100","v":19.982625819917072},"%","JTM:",{"$f":"M26/$B24*100","v":21.585325906608546},"%"]
[null,null,null,"Törlesztőrészlet:",null,null,"Törlesztőrészlet:",null,null,"Törlesztőrészlet:",null,null,"Törlesztőrészlet:"]
[null,null,null,{"$f":"PMT(($D$21+D$23)/12,240,-5000000)","v":31875.891326139888},null,"forint",{"$f":"PMT(($D$21+G$23)/12,240,-5000000)","v":34649.019781528405},null,"forint",{"$f":"PMT(($D$21+J$23)/12,240,-5000000)","v":37544.056782363892},null,"forint",{"$f":"PMT(($D$21+M$23)/12,240,-5000000)","v":40555.265799742869},null,"forint"]
["–20% változás",{"$f":"kondíciók!B44*0.8","v":214724},"forint","JTM:",{"$f":"D29/$B27*100","v":14.845052870727022},"%","JTM:",{"$f":"G29/$B27*100","v":16.136537965727353},"%","JTM:",{"$f":"J29/$B27*100","v":17.484797592427437},"%","JTM:",{"$f":"M29/$B27*100","v":18.887160168282481},"%"]
[null,null,null,"Törlesztőrészlet:",null,null,"Törlesztőrészlet:",null,null,"Törlesztőrészlet:",null,null,"Törlesztőrészlet:"]
[null,null,null,{"$f":"PMT(($D$21+D$23)/12,240,-5000000)","v":31875.891326139888},null,"forint",{"$f":"PMT(($D$21+G$23)/12,240,-5000000)","v":34649.019781528405},null,"forint",{"$f":"PMT(($D$21+J$23)/12,240,-5000000)","v":37544.056782363892},null,"forint",{"$f":"PMT(($D$21+M$23)/12,240,-5000000)","v":40555.265799742869},null,"forint"]
["–10% változás",{"$f":"kondíciók!B44*0.9","v":241564.5},"forint","JTM:",{"$f":"D32/$B30*100","v":13.195602551757352},"%","JTM:",{"$f":"G32/$B30*100","v":14.343589302868759},"%","JTM:",{"$f":"J32/$B30*100","v":15.542042304379944},"%","JTM:",{"$f":"M32/$B30*100","v":16.78858681625109},"%"]
[null,null,null,"Törlesztőrészlet:",null,null,"Törlesztőrészlet:",null,null,"Törlesztőrészlet:",null,null,"Törlesztőrészlet:"]
[null,null,null,{"$f":"PMT(($D$21+D$23)/12,240,-5000000)","v":31875.891326139888},null,"forint",{"$f":"PMT(($D$21+G$23)/12,240,-5000000)","v":34649.019781528405},null,"forint",{"$f":"PMT(($D$21+J$23)/12,240,-5000000)","v":37544.056782363892},null,"forint",{"$f":"PMT(($D$21+M$23)/12,240,-5000000)","v":40555.265799742869},null,"forint"]
["0% változás",{"$f":"kondíciók!B44","v":268405},"forint","JTM:",{"$f":"D35/$B33*100","v":11.876042296581616},"%","JTM:",{"$f":"G35/$B33*100","v":12.909230372581884},"%","JTM:",{"$f":"J35/$B33*100","v":13.987838073941949},"%","JTM:",{"$f":"M35/$B33*100","v":15.109728134625982},"%"]
[null,null,null,"Törlesztőrészlet:",null,null,"Törlesztőrészlet:",null,null,"Törlesztőrészlet:",null,null,"Törlesztőrészlet:"]
[null,null,null,{"$f":"PMT(($D$21+D$23)/12,240,-5000000)","v":31875.891326139888},null,"forint",{"$f":"PMT(($D$21+G$23)/12,240,-5000000)","v":34649.019781528405},null,"forint",{"$f":"PMT(($D$21+J$23)/12,240,-5000000)","v":37544.056782363892},null,"forint",{"$f":"PMT(($D$21+M$23)/12,240,-5000000)","v":40555.265799742869},null,"forint"]
["+10% változás",{"$f":"kondíciók!B44*1.1","v":295245.5},"forint","JTM:",{"$f":"D38/$B36*100","v":10.79640208780147},"%","JTM:",{"$f":"G38/$B36*100","v":11.73566397507444},"%","JTM:",{"$f":"J38/$B36*100","v":12.716216430856321},"%","JTM:",{"$f":"M38/$B36*100","v":13.736116486023619},"%"]
[null,null,null,"Törlesztőrészlet:",null,null,"Törlesztőrészlet:",null,null,"Törlesztőrészlet:",null,null,"Törlesztőrészlet:"]
[null,null,null,{"$f":"PMT(($D$21+D$23)/12,240,-5000000)","v":31875.891326139888},null,"forint",{"$f":"PMT(($D$21+G$23)/12,240,-5000000)","v":34649.019781528405},null,"forint",{"$f":"PMT(($D$21+J$23)/12,240,-5000000)","v":37544.056782363892},null,"forint",{"$f":"PMT(($D$21+M$23)/12,240,-5000000)","v":40555.265799742869},null,"forint"]
["+20% változás",{"$f":"kondíciók!B44*1.2","v":322086},"forint","JTM:",{"$f":"D41/$B39*100","v":9.8967019138180135},"%","JTM:",{"$f":"G41/$B39*100","v":10.75769197715157},"%","JTM:",{"$f":"J41/$B39*100","v":11.656531728284959},"%","JTM:",{"$f":"M41/$B39*100","v":12.591440112188318},"%"]
[null,null,null,"Törlesztőrészlet:",null,null,"Törlesztőrészlet:",null,null,"Törlesztőrészlet:",null,null,"Törlesztőrészlet:"]
[null,null,null,{"$f":"PMT(($D$21+D$23)/12,240,-5000000)","v":31875.891326139888},null,"forint",{"$f":"PMT(($D$21+G$23)/12,240,-5000000)","v":34649.019781528405},null,"forint",{"$f":"PMT(($D$21+J$23)/12,240,-5000000)","v":37544.056782363892},null,"forint",{"$f":"PMT(($D$21+M$23)/12,240,-5000000)","v":40555.265799742869},null,"forint"]
["+30% változás",{"$f":"kondíciók!B44*1.3","v":348926.5},"forint","JTM:",{"$f":"D44/$B42*100","v":9.1354171512166271},"%","JTM:",{"$f":"G44/$B42*100","v":9.9301772096783711},"%","JTM:",{"$f":"J44/$B42*100","v":10.759875441493808},"%","JTM:",{"$f":"M44/$B42*100","v":11.62286779586614},"%"]
[null,null,null,"Törlesztőrészlet:",null,null,"Törlesztőrészlet:",null,null,"Törlesztőrészlet:",null,null,"Törlesztőrészlet:"]
[null,null,null,{"$f":"PMT(($D$21+D$23)/12,240,-5000000)","v":31875.891326139888},null,"forint",{"$f":"PMT(($D$21+G$23)/12,240,-5000000)","v":34649.019781528405},null,"forint",{"$f":"PMT(($D$21+J$23)/12,240,-5000000)","v":37544.056782363892},null,"forint",{"$f":"PMT(($D$21+M$23)/12,240,-5000000)","v":40555.265799742869},null,"forint"]
[]
["Jelen táblázat az 56/2014. (XII. 31.) NGM rendelet (továbbiakban: Rendelet) 1. számú melléklete alapján készült."]
[]
["Magyarázat a táblázatban szereplő értékekhez\nA hitel típusa: A Rendelet szerint az igényelt hitel jellege alapján lakástakarék pénztár által nyújtott hitel, jelzáloghitel vagy az előző két csoportba nem tartozó hitel lehet.\nA hitel összege: A Rendelet alapján meghatározott összeg.\nA hitel futamideje: A Rendelet alapján meghatározott futamidő.\nA hitel kamata: A Rendelet alapján meghatározható reprezentatív kamat (jelen esetben: 5 éves kamatperiódushoz tartozó, K3 kategória szerint).\nRendszeres jövedelem: A Rendelet alapján meghatározott, KSH szerinti átlagos havi nettó jövedelem.\nJTM (Jövedelemarányos Törlesztési Mutató): A 34/2014. MNB rendelet alapján meghatározott mutató százalékos értéke a Kamat emelkedése blokkban.\nTörlesztőrészlet: A Rendszeres jövedelem, Kamat és Jövedelemarányos Törlesztési Mutató alapján kalkulált, havonta fizetendő összeg.\n"]
["Hozzájárulok, hogy a jelen dokumentáció, valamint a K&H Banktól kapott további, aláírásommal ellátott dokumentumok egy példányát a tájékoztatás megtörténtének igazolása, továbbá az általam választott hitelügylet megvalósulása, az ahhoz kapcsolódó adatkezelés és –feldolgozás, valamint kapcsolattartás céljából a K&H Bank Zrt. megőrizze, a benne foglalt adatokat a létrejövő hiteljogviszony fennállása alatt, illetve a jogviszony létrejöttének meghiúsulása esetén a nyilatkozat keltétől számított 6 hónapig kezelje."]
[]
[]
["Kelt: …………………………………….………………, ",null,null,null,null,null,null,{"$f":"TODAY()","v":"2021-07-09"}]
[]
[]
[null,null,null,"Érdeklődő:",null,null,null,null,null,"Érdeklődő:"]
["Név:"]
["Lakcím:"]
["Telefonszám:"]
["Aláírás:"]

{"sheet":"feladat","index":5,"n_rows":7,"n_cols":1,"rows_kept":7,"cut":false,"hidden":true,"merged":[]}
[]
[]
[]
[]
["Kérdések:"]
[]
["OTK-nál az igazgatás szolgáltatási díj a THM része? Most bele van számolva, de a word szerint nem része. És kampány?"]

{"sheet":"Új PD","index":6,"n_rows":165,"n_cols":25,"rows_kept":165,"cut":false,"hidden":true,"merged":[[21,3,24,3],[39,3,42,3],[66,0,66,5],[60,9,60,14]]}
[null,"Kamatok","1 év","5 év","10 év","10 évre fix","15 évre fix","20 évre fix","most"]
[2,"K1",{"$f":"kondíciók!C17","v":4.1399999999999999E-2},{"$f":"kondíciók!D17","v":4.2899999999999994E-2},{"$f":"kondíciók!E17","v":4.8899999999999999E-2},{"$f":"kondíciók!F17","v":4.8899999999999999E-2},{"$f":"kondíciók!G17","v":5.1900000000000002E-2},{"$f":"kondíciók!H17","v":5.5899999999999998E-2},{"$f":"HLOOKUP(Hiteladatok!$B$17,'Új PD'!$C$1:$H$7,A2,FALSE)","v":4.8899999999999999E-2},null,"kamatkedvezmények",null,null,null,{"$f":"SUM(O3:O7)","v":-6.0000000000000001E-3}]
[3,"K2",{"$f":"kondíciók!C18","v":4.24E-2},{"$f":"kondíciók!D18","v":4.3899999999999995E-2},{"$f":"kondíciók!E18","v":4.99E-2},{"$f":"kondíciók!F18","v":4.99E-2},{"$f":"kondíciók!G18","v":5.2900000000000003E-2},{"$f":"kondíciók!H18","v":5.6900000000000006E-2},{"$f":"HLOOKUP(Hiteladatok!$B$17,'Új PD'!$C$1:$H$7,A3,FALSE)","v":4.99E-2},null,"Átutalási (havi 150 eFt)",null,null,{"$f":"Hiteladatok!B22","v":"I"},{"$f":"IF(AND(Hiteladatok!$D$6=\"N\",N3=\"I\"),kondíciók!D31,0)","v":-5.0000000000000001E-3}]
[4,"K3",{"$f":"kondíciók!C19","v":4.4400000000000002E-2},{"$f":"kondíciók!D19","v":4.5899999999999996E-2},{"$f":"kondíciók!E19","v":5.1900000000000002E-2},{"$f":"kondíciók!F19","v":5.1900000000000002E-2},{"$f":"kondíciók!G19","v":5.4900000000000004E-2},{"$f":"kondíciók!H19","v":5.8900000000000008E-2},{"$f":"HLOOKUP(Hiteladatok!$B$17,'Új PD'!$C$1:$H$7,A4,FALSE)","v":5.1900000000000002E-2},null,"Vagyonbiztosítási",null,null,{"$f":"Hiteladatok!B23","v":"I"},{"$f":"IF(AND(Hiteladatok!$D$6=\"N\",N4=\"I\"),kondíciók!D32,0)","v":-1E-3}]
[5,"K4",{"$f":"kondíciók!C20","v":4.6400000000000004E-2},{"$f":"kondíciók!D20","v":4.7899999999999998E-2},{"$f":"kondíciók!E20","v":5.3900000000000003E-2},{"$f":"kondíciók!F20","v":5.3900000000000003E-2},{"$f":"kondíciók!G20","v":5.6900000000000006E-2},{"$f":"kondíciók!H20","v":6.090000000000001E-2},{"$f":"HLOOKUP(Hiteladatok!$B$17,'Új PD'!$C$1:$H$7,A5,FALSE)","v":5.3900000000000003E-2},null,"Törlesztési biztosítás",null,null,{"$f":"Hiteladatok!B24","v":"N"},{"$f":"IF(AND(Hiteladatok!$D$6=\"N\",N5=\"I\"),kondíciók!D33,0)","v":0}]
[6,"K5",{"$f":"kondíciók!C21","v":4.9399999999999999E-2},{"$f":"kondíciók!D21","v":5.0900000000000001E-2},{"$f":"kondíciók!E21","v":5.6900000000000006E-2},{"$f":"kondíciók!F21","v":5.6900000000000006E-2},{"$f":"kondíciók!G21","v":5.9900000000000009E-2},{"$f":"kondíciók!H21","v":6.3899999999999998E-2},{"$f":"HLOOKUP(Hiteladatok!$B$17,'Új PD'!$C$1:$H$7,A6,FALSE)","v":5.6900000000000006E-2},null,"Életbiztosítás",null,null,{"$f":"Hiteladatok!B25","v":"N"},{"$f":"IF(AND(Hiteladatok!$D$6=\"N\",N6=\"I\",N5<>\"I\"),kondíciók!D34,0)","v":0}]
[7,"K6",{"$f":"kondíciók!C22","v":5.8400000000000001E-2},{"$f":"kondíciók!D22","v":5.5100000000000003E-2},{"$f":"kondíciók!E22","v":6.3200000000000006E-2},{"$f":"kondíciók!F22","v":6.3200000000000006E-2},{"$f":"kondíciók!G22","v":6.770000000000001E-2},{"$f":"kondíciók!H22","v":6.88E-2},{"$f":"HLOOKUP(Hiteladatok!$B$17,'Új PD'!$C$1:$H$7,A7,FALSE)","v":6.3200000000000006E-2},null,"Prémium ügyfél",null,null,{"$f":"Hiteladatok!B26","v":"N"},{"$f":"IF(AND(Hiteladatok!$D$6=\"N\",N7=\"I\"),kondíciók!D35,0)","v":0}]
[8,"min",{"$f":"kondíciók!C23","v":3.5400000000000001E-2},{"$f":"kondíciók!D23","v":3.6899999999999995E-2},{"$f":"kondíciók!E23","v":4.2900000000000001E-2},{"$f":"kondíciók!F23","v":4.2900000000000001E-2},{"$f":"kondíciók!G23","v":4.5900000000000003E-2},{"$f":"kondíciók!H23","v":4.99E-2},{"$f":"HLOOKUP(Hiteladatok!$B$17,'Új PD'!$C$1:$H$8,A8,FALSE)","v":4.2900000000000001E-2},null,"elért kedvezmény",null,null,null,{"$f":"D13-VLOOKUP(C13,B2:I7,8,FALSE)","v":{"$error":"#N/A"}},null,null,"PTI (JTM) szabályok"]
[null,null,null,"üzleti",null,null,null,null,null,null,"egyedi kedvezmény",null,null,null,{"$f":"D14-D13","v":{"$error":"#DIV/0!"}},null,null,null,"1 év","5 év","10 év","10 évre fix","15 évre fix","20 évre fix","most"]
["iterációhoz használt",null,"K3",{"$f":"MAX(I8,VLOOKUP(C10,B2:I7,8,FALSE)+O2)","v":4.5900000000000003E-2},null,{"$f":"IF(ISERROR(F53)=TRUE,\"Kevés adat\",\"elég adat\")","v":"Kevés adat"},null,null,null,null,null,null,null,null,null,null,null,0,0.25,0.35,0.5,0.5,0.5,0.5,{"$f":"IF(B17=0,X10,HLOOKUP(Hiteladatok!$B$17,'Új PD'!$S$9:$X$11,2,FALSE))","v":0.5}]
["pd alapján",null,{"$f":"F53","v":{"$error":"#N/A"}},{"$f":"MAX(I8,VLOOKUP(C11,B2:I7,8,FALSE)+O2)","v":{"$error":"#N/A"}},null,null,null,null,"késedelmi kamat",null,null,null,null,null,null,null,null,500000,0.3,0.4,0.6,0.6,0.6,0.6,{"$f":"IF(B17=0,X11,HLOOKUP(Hiteladatok!$B$17,'Új PD'!$S$9:$X$11,3,FALSE))","v":0.6}]
["kalkulált v manuális",{"$f":"Hiteladatok!B28","v":"Kalkulált: "},{"$f":"RIGHT(B12,2)","v":": "},{"$f":"MAX(I8,VLOOKUP(C12,B2:I7,8,FALSE)+O2)","v":{"$error":"#N/A"}},null,null,null,null,null,"MFL",{"$f":"D14*1.5+3%","v":{"$error":"#DIV/0!"}},{"$f":"kondíciók!I1+24%","v":0.249},{"$f":"ROUND(MIN(K12:L12),4)","v":{"$error":"#DIV/0!"}},null,null,null,null,null,null,null,null,null,null,null,{"$f":"IF(B31>=R11,Y11,Y10)+IF(P31>0,-10%,0%)","v":0.5}]
["végső kamatláb",null,{"$f":"IF(Hiteladatok!B28=Hiteladatok!R35,C11,C12)","v":{"$error":"#N/A"}},{"$f":"IF(Hiteladatok!B28=Hiteladatok!R35,D11,D12)","v":{"$error":"#N/A"}},null,"kiírjuk?",{"$f":"ISERR('Új PD'!C13*100)","v":false},null,null,"OTK",{"$f":"kondíciók!G5*1.5+3%","v":7.4999999999999997E-2},{"$f":"L12","v":0.249},{"$f":"ROUND(MIN(K13:L13),4)","v":7.4999999999999997E-2}]
["végső kamatláb egyedivel",null,null,{"$f":"Hiteladatok!P33","v":{"$error":"#DIV/0!"}}]
[null,null,null,null,null,null,null,null,null,null,null,null,null,null,null,null,null,null,null,"OTK-hoz"]
["forgalmi érték",{"$f":"Hiteladatok!I2","v":0},"min:",3500000,null,null,null,null,null,null,null,"Adós","A1","A2","A3",null,null,null,null,"el is hitt gyerekszám",{"$f":"Hiteladatok!F22+Hiteladatok!F23","v":0}]
["kért üzleti hitel",{"$f":"Hiteladatok!B15","v":0},null,null,null,null,null,null,null,null,"melyik ügyfél számít?",{"$f":"Ügyféladatok!B7","v":"00:00:00"},{"$f":"Ügyféladatok!C7","v":"00:00:00"},{"$f":"Ügyféladatok!D7","v":"00:00:00"},{"$f":"Ügyféladatok!E7","v":"00:00:00"},"1900-01-01",null,null,null,"már 3 gyerek","vállalt gyerek"]
["kért OTK",{"$f":"Hiteladatok!F15","v":0},null,null,null,null,null,null,null,null,"legnagyobb összes jövedelmű",{"$f":"IF(L47=MAX($L$47:$O$47),1,0)","v":1},{"$f":"IF(M47=MAX($L$47:$O$47),1,0)","v":1},1,1,null,null,null,null,"3%-kal","ÁKK130%+3%-kal"]
["maradó terhek",{"$f":"Hiteladatok!I3","v":0},null,null,null,null,null,null,null,null,null,{"$f":"IF(L18=1,L17,$P$17)","v":"00:00:00"},{"$f":"IF(M18=1,M17,$P$17)","v":"00:00:00"},{"$f":"IF(N18=1,N17,$P$17)","v":"00:00:00"},{"$f":"IF(O18=1,O17,$P$17)","v":"00:00:00"},null,null,null,null,{"$f":"OTK!D6","v":0},{"$f":"OTK!D7","v":0}]
["terhek",{"$f":"SUM(B17:B19)","v":0},null,{"$f":"IF(OR(B16<D16,B21>D21),\"Hard KO\",\"OK\")","v":{"$error":"#DIV/0!"}},null,null,null,null,null,null,"azonos összes jövedelemnél a fiatalabb kiválasztása",{"$f":"IF(L19=MAX($L$19:$O$19),1,0)","v":1},{"$f":"IF(M19=MAX($L$19:$O$19),1,0)","v":1},1,1]
["LTV",{"$f":"B20/B16","v":{"$error":"#DIV/0!"}},"min:",0.8,null,null,null,null,null,null,null,{"$f":"SUMPRODUCT(L19:O19,L20:O20)","v":"00:00:00"},{"$f":"YEAR(L21)","v":1900},{"$f":"MONTH(L21)","v":1},{"$f":"DAY(L21)","v":0}]
["LTV <= 35% ",82,{"$f":"IF($B$21<=35%,1,0)","v":{"$error":"#DIV/0!"}},{"$f":"SUMPRODUCT(B22:B25,C22:C25)","v":{"$error":"#DIV/0!"}},null,null,null,null,null,null,"18 éves ekkor",{"$f":"DATE(M21+18,N21,O21)","v":"1917-12-31"},"PPI-ra jó?"]
["LTV > 35% and LTV <= 50%",74,{"$f":"IF(AND($B$21>35%,$B$21<=50%),1,0)","v":{"$error":"#DIV/0!"}},null,null,null,null,null,null,null,"61 éves 30 napon belül",{"$f":"DATE(M21+61,N21,O21)-30","v":"1960-12-01"},"kor alapján",{"$f":"IF(AND(L22<O23,L23>O23),\"OK\",\"nem OK\")","v":"nem OK"},{"$f":"TODAY()","v":"2021-07-09"}]
["LTV > 50% and LTV <= 65%",63,{"$f":"IF(AND($B$21>50%,$B$21<=65%),1,0)","v":{"$error":"#DIV/0!"}},null,null,null,null,null,null,null,null,null,"munka alapján",{"$f":"IF(OR(P25=Ügyféladatok!$E$59,P25=Ügyféladatok!$E$63,P25=Ügyféladatok!$E$69),\"nem OK\",\"OK\")","v":"OK"}]
["LTV > 65% ",60,{"$f":"IF($B$21>65%,1,0)","v":{"$error":"#DIV/0!"}},null,null,null,null,null,null,null,null,{"$f":"Ügyféladatok!B47","v":0},{"$f":"Ügyféladatok!C47","v":0},{"$f":"Ügyféladatok!D47","v":0},{"$f":"Ügyféladatok!E47","v":0},{"$f":"HLOOKUP(1,L20:O25,6,FALSE)","v":0}]
[null,null,null,null,null,null,null,null,null,null,null,null,"hitelcél alapján",{"$f":"IF(OR(Hiteladatok!B2=Hiteladatok!N5,Hiteladatok!B2=Hiteladatok!N6,Hiteladatok!B2=Hiteladatok!N7,Hiteladatok!B2=Hiteladatok!N10),\"nem OK\",\"OK\")","v":"OK"},"Van PPI?",{"$f":"IF(AND(N23=\"OK\",N24=\"OK\",N26=\"OK\",Hiteladatok!B24=\"I\"),\"PPI\",\"nincs PPI\")","v":"nincs PPI"}]
[null,"scoringhoz","törvényihez",null,null,null,null,null,null,null,null,null,null,null,null,null,null,null,null,"megélhetési költség"]
["Elsődleges",{"$f":"P44","v":0},{"$f":"P44","v":0},null,null,null,null,null,null,null,null,null,null,null,null,null,null,null,null,"főadós alapján",{"$f":"IF(Ügyféladatok!B15=\"\",Ügyféladatok!B12,Ügyféladatok!B15)","v":0}]
["Kiegészítő szumma",{"$f":"P45+P46","v":0},{"$f":"P45","v":0},null,null,null,null,null,null,null,"Túl van a próbaidőn?",{"$f":"IF(Appl!A9>3,1,0)","v":1},{"$f":"IF(Appl!A10>3,1,0)","v":1},{"$f":"IF(Appl!A11>3,1,0)","v":1},{"$f":"IF(Appl!A12>3,1,0)","v":1},null,null,null,null,"családi állapot",null,{"$f":"Ügyféladatok!B8","v":0}]
["Levonások",{"$f":"P48","v":0},{"$f":"P48","v":0},null,null,null,null,null,null,null,null,null,null,null,null,"Hány KATA-s van a jövedelemmel bevontak között?",null,null,null,"eltartott gyermekek",null,{"$f":"Ügyféladatok!B42","v":0}]
["Jövedelem",{"$f":"B28+B29-B30","v":0},{"$f":"C28+C29-C30","v":0},null,null,null,null,null,null,null,null,{"$f":"IF(Ügyféladatok!B47=Ügyféladatok!$E$68,1,0)","v":0},{"$f":"IF(Ügyféladatok!C47=Ügyféladatok!$E$68,1,0)","v":0},{"$f":"IF(Ügyféladatok!D47=Ügyféladatok!$E$68,1,0)","v":0},{"$f":"IF(Ügyféladatok!E47=Ügyféladatok!$E$68,1,0)","v":0},{"$f":"SUMPRODUCT(L31:O31,L33:O33)","v":0},null,null,null,"Háztartás súlya",null,{"$f":"IF(OR(V29=Ügyféladatok!B59,V29=Ügyféladatok!B61),1.5,1)+V30*0.3","v":1}]
[null,null,"Adós","A1","A2","A3",null,null,null,null,null,"Adós","A1","A2","A3",null,null,null,null,"Budapest",118000]
["cc",{"$f":"SUM(C33:F33)*0.05","v":0},{"$f":"IF(OR(Ügyféladatok!B$2=Ügyféladatok!$E$83,Ügyféladatok!B$2=Ügyféladatok!$E$84),0,Ügyféladatok!B26)","v":0},{"$f":"IF(OR(Ügyféladatok!C$2=Ügyféladatok!$E$83,Ügyféladatok!C$2=Ügyféladatok!$E$84),0,Ügyféladatok!C26)","v":0},{"$f":"IF(OR(Ügyféladatok!D$2=Ügyféladatok!$E$83,Ügyféladatok!D$2=Ügyféladatok!$E$84),0,Ügyféladatok!D26)","v":0},{"$f":"IF(OR(Ügyféladatok!E$2=Ügyféladatok!$E$83,Ügyféladatok!E$2=Ügyféladatok!$E$84),0,Ügyféladatok!E26)","v":0},null,null,null,null,"jövedelemmel bevont?",{"$f":"IF(OR(Ügyféladatok!B$2=Ügyféladatok!$E$79,Ügyféladatok!B$2=Ügyféladatok!$E$80),1,0)*L29","v":1},{"$f":"IF(OR(Ügyféladatok!C$2=Ügyféladatok!$E$79,Ügyféladatok!C$2=Ügyféladatok!$E$80),1,0)","v":1},{"$f":"IF(OR(Ügyféladatok!D$2=Ügyféladatok!$E$79,Ügyféladatok!D$2=Ügyféladatok!$E$80),1,0)*N29","v":0},{"$f":"IF(OR(Ügyféladatok!E$2=Ügyféladatok!$E$79,Ügyféladatok!E$2=Ügyféladatok!$E$80),1,0)*O29","v":0},null,null,null,null,"Vidék",106000]
["od",{"$f":"SUM(C34:F34)*0.05","v":0},{"$f":"IF(OR(Ügyféladatok!B$2=Ügyféladatok!$E$83,Ügyféladatok!B$2=Ügyféladatok!$E$84),0,Ügyféladatok!B27)","v":0},{"$f":"IF(OR(Ügyféladatok!C$2=Ügyféladatok!$E$83,Ügyféladatok!C$2=Ügyféladatok!$E$84),0,Ügyféladatok!C27)","v":0},{"$f":"IF(OR(Ügyféladatok!D$2=Ügyféladatok!$E$83,Ügyféladatok!D$2=Ügyféladatok!$E$84),0,Ügyféladatok!D27)","v":0},{"$f":"IF(OR(Ügyféladatok!E$2=Ügyféladatok!$E$83,Ügyféladatok!E$2=Ügyféladatok!$E$84),0,Ügyféladatok!E27)","v":0},null,null,null,null,"Belf. bér - számlára",{"$f":"IF(OR(Ügyféladatok!B$2=Ügyféladatok!$E$79,Ügyféladatok!B$2=Ügyféladatok!$E$80),Ügyféladatok!B31,0)*L$29","v":0},{"$f":"IF(OR(Ügyféladatok!C$2=Ügyféladatok!$E$79,Ügyféladatok!C$2=Ügyféladatok!$E$80),Ügyféladatok!C31,0)*M$29","v":0},{"$f":"IF(OR(Ügyféladatok!D$2=Ügyféladatok!$E$79,Ügyféladatok!D$2=Ügyféladatok!$E$80),Ügyféladatok!D31,0)*N$29","v":0},{"$f":"IF(OR(Ügyféladatok!E$2=Ügyféladatok!$E$79,Ügyféladatok!E$2=Ügyféladatok!$E$80),Ügyféladatok!E31,0)*O$29","v":0},null,{"$f":"MAX(L34:O34)","v":0},null,null,"Bp/vidék",{"$f":"IF(U28>1999,T33,T32)","v":"Budapest"},{"$f":"VLOOKUP(U34,T32:U33,2,FALSE)","v":118000}]
["törlesztés",{"$f":"SUM(C35:F35)","v":0},{"$f":"IF(OR(Ügyféladatok!B$2=Ügyféladatok!$E$83,Ügyféladatok!B$2=Ügyféladatok!$E$84),0,Ügyféladatok!B28)","v":0},{"$f":"IF(OR(Ügyféladatok!C$2=Ügyféladatok!$E$83,Ügyféladatok!C$2=Ügyféladatok!$E$84),0,Ügyféladatok!C28)","v":0},{"$f":"IF(OR(Ügyféladatok!D$2=Ügyféladatok!$E$83,Ügyféladatok!D$2=Ügyféladatok!$E$84),0,Ügyféladatok!D28)","v":0},{"$f":"IF(OR(Ügyféladatok!E$2=Ügyféladatok!$E$83,Ügyféladatok!E$2=Ügyféladatok!$E$84),0,Ügyféladatok!E28)","v":0},null,null,null,null,"Belf. bér - készpénz",{"$f":"IF(OR(Ügyféladatok!B$2=Ügyféladatok!$E$79,Ügyféladatok!B$2=Ügyféladatok!$E$80),Ügyféladatok!B32,0)*L$29","v":0},{"$f":"IF(OR(Ügyféladatok!C$2=Ügyféladatok!$E$79,Ügyféladatok!C$2=Ügyféladatok!$E$80),Ügyféladatok!C32,0)*M$29","v":0},{"$f":"IF(OR(Ügyféladatok!D$2=Ügyféladatok!$E$79,Ügyféladatok!D$2=Ügyféladatok!$E$80),Ügyféladatok!D32,0)*N$29","v":0},{"$f":"IF(OR(Ügyféladatok!E$2=Ügyféladatok!$E$79,Ügyféladatok!E$2=Ügyféladatok!$E$80),Ügyféladatok!E32,0)*O$29","v":0},null,null,null,null,"Cost of living",null,{"$f":"V31*V34","v":118000}]
[null,"összes","Üzleti","OTK","BB",null,null,null,null,null,"Külf. bér - számlára",{"$f":"IF(OR(Ügyféladatok!B$2=Ügyféladatok!$E$79,Ügyféladatok!B$2=Ügyféladatok!$E$80),Ügyféladatok!B33,0)*L$29","v":0},{"$f":"IF(OR(Ügyféladatok!C$2=Ügyféladatok!$E$79,Ügyféladatok!C$2=Ügyféladatok!$E$80),Ügyféladatok!C33,0)*M$29","v":0},{"$f":"IF(OR(Ügyféladatok!D$2=Ügyféladatok!$E$79,Ügyféladatok!D$2=Ügyféladatok!$E$80),Ügyféladatok!D33,0)*N$29","v":0},{"$f":"IF(OR(Ügyféladatok!E$2=Ügyféladatok!$E$79,Ügyféladatok!E$2=Ügyféladatok!$E$80),Ügyféladatok!E33,0)*O$29","v":0},null,null,null,null,"korrigált",null,{"$f":"V35*V45","v":118000}]
["új hitel",{"$f":"SUM(C37:E37)","v":0},{"$f":"IF(Hiteladatok!B15=0,0,PMT(D10/12,Hiteladatok!B16,-Hiteladatok!B15))","v":0},{"$f":"IF(U16<2,MAX(T19:U19),T19)","v":0},{"$f":"IF(Hiteladatok!I15=0,0,'BB-model'!E11)","v":0},null,null,null,null,null,"Külf. bér - készpénz",{"$f":"IF(OR(Ügyféladatok!B$2=Ügyféladatok!$E$79,Ügyféladatok!B$2=Ügyféladatok!$E$80),Ügyféladatok!B34,0)*L$29","v":0},{"$f":"IF(OR(Ügyféladatok!C$2=Ügyféladatok!$E$79,Ügyféladatok!C$2=Ügyféladatok!$E$80),Ügyféladatok!C34,0)*M$29","v":0},{"$f":"IF(OR(Ügyféladatok!D$2=Ügyféladatok!$E$79,Ügyféladatok!D$2=Ügyféladatok!$E$80),Ügyféladatok!D34,0)*N$29","v":0},{"$f":"IF(OR(Ügyféladatok!E$2=Ügyféladatok!$E$79,Ügyféladatok!E$2=Ügyféladatok!$E$80),Ügyféladatok!E34,0)*O$29","v":0},null,null,null,null,null,"terhek",{"$f":"B46","v":0}]
["Terhek",{"$f":"SUM(B33:B37)","v":0},null,null,null,null,null,null,null,null,"Nyugdíj",{"$f":"IF(OR(Ügyféladatok!B$2=Ügyféladatok!$E$79,Ügyféladatok!B$2=Ügyféladatok!$E$80),Ügyféladatok!B35,0)*L$29","v":0},{"$f":"IF(OR(Ügyféladatok!C$2=Ügyféladatok!$E$79,Ügyféladatok!C$2=Ügyféladatok!$E$80),Ügyféladatok!C35,0)*M$29","v":0},{"$f":"IF(OR(Ügyféladatok!D$2=Ügyféladatok!$E$79,Ügyféladatok!D$2=Ügyféladatok!$E$80),Ügyféladatok!D35,0)*N$29","v":0},{"$f":"IF(OR(Ügyféladatok!E$2=Ügyféladatok!$E$79,Ügyféladatok!E$2=Ügyféladatok!$E$80),Ügyféladatok!E35,0)*O$29","v":0},null,null,null,null,null,"jövedelem",{"$f":"B31","v":0}]
["PTI az alappal scoringhoz",{"$f":"B38/B31","v":{"$error":"#DIV/0!"}},null,null,null,null,null,null,null,null,"Vállalkozói jövedelem",{"$f":"IF(OR(Ügyféladatok!B$2=Ügyféladatok!$E$79,Ügyféladatok!B$2=Ügyféladatok!$E$80),Ügyféladatok!B36,0)*L$29","v":0},{"$f":"IF(OR(Ügyféladatok!C$2=Ügyféladatok!$E$79,Ügyféladatok!C$2=Ügyféladatok!$E$80),Ügyféladatok!C36,0)*M$29","v":0},{"$f":"IF(OR(Ügyféladatok!D$2=Ügyféladatok!$E$79,Ügyféladatok!D$2=Ügyféladatok!$E$80),Ügyféladatok!D36,0)*N$29","v":0},{"$f":"IF(OR(Ügyféladatok!E$2=Ügyféladatok!$E$79,Ügyféladatok!E$2=Ügyféladatok!$E$80),Ügyféladatok!E36,0)*O$29","v":0},null,null,null,null,null,"marad",{"$f":"V38-V37-V36","v":-118000}]
["PTI <= 15%",79,{"$f":"IF($B$39<=15%,1,0)","v":{"$error":"#DIV/0!"}},{"$f":"SUMPRODUCT(B40:B43,C40:C43)","v":{"$error":"#DIV/0!"}},null,null,null,null,null,null,"Anyasági tám",{"$f":"IF(OR(Ügyféladatok!B$2=Ügyféladatok!$E$79,Ügyféladatok!B$2=Ügyféladatok!$E$80),Ügyféladatok!B37,0)*L$29","v":0},{"$f":"IF(OR(Ügyféladatok!C$2=Ügyféladatok!$E$79,Ügyféladatok!C$2=Ügyféladatok!$E$80),Ügyféladatok!C37,0)*M$29","v":0},{"$f":"IF(OR(Ügyféladatok!D$2=Ügyféladatok!$E$79,Ügyféladatok!D$2=Ügyféladatok!$E$80),Ügyféladatok!D37,0)*N$29","v":0},{"$f":"IF(OR(Ügyféladatok!E$2=Ügyféladatok!$E$79,Ügyféladatok!E$2=Ügyféladatok!$E$80),Ügyféladatok!E37,0)*O$29","v":0}]
["PTI > 15% and PTI <= 25%",73,{"$f":"IF(AND($B$39>15%,$B$39<=25%),1,0)","v":{"$error":"#DIV/0!"}},null,null,null,null,null,null,null,"Egyéb jövedelem",{"$f":"IF(OR(Ügyféladatok!B$2=Ügyféladatok!$E$79,Ügyféladatok!B$2=Ügyféladatok!$E$80),Ügyféladatok!B38,0)*L$29","v":0},{"$f":"IF(OR(Ügyféladatok!C$2=Ügyféladatok!$E$79,Ügyféladatok!C$2=Ügyféladatok!$E$80),Ügyféladatok!C38,0)*M$29","v":0},{"$f":"IF(OR(Ügyféladatok!D$2=Ügyféladatok!$E$79,Ügyféladatok!D$2=Ügyféladatok!$E$80),Ügyféladatok!D38,0)*N$29","v":0},{"$f":"IF(OR(Ügyféladatok!E$2=Ügyféladatok!$E$79,Ügyféladatok!E$2=Ügyféladatok!$E$80),Ügyféladatok!E38,0)*O$29","v":0},null,"elvárt minimum",null,null,"Az adós házas/élettárs és nincs más szereplő jövedelemmel?"]
["PTI > 25% and PTI <= 35%",69,{"$f":"IF(AND($B$39>25%,$B$39<=35%),1,0)","v":{"$error":"#DIV/0!"}},null,null,null,null,null,null,null,"Van 150 eFt egy elsődlegesből?",{"$f":"IF(OR(L34>=$Q$42,L36*0.7>=$Q$42,L38>=$Q$42,L39>=$Q$42),1,0)","v":0},{"$f":"IF(OR(M34>=$Q$42,M36*0.7>=$Q$42,M38>=$Q$42,M39>=$Q$42),1,0)","v":0},{"$f":"IF(OR(N34>=$Q$42,N36*0.7>=$Q$42,N38>=$Q$42,N39>=$Q$42),1,0)","v":0},{"$f":"IF(OR(O34>=$Q$42,O36*0.7>=$Q$42,O38>=$Q$42,O39>=$Q$42),1,0)","v":0},{"$f":"MAX(L42:O42)","v":0},150000,null,null,{"$f":"Ügyféladatok!A8","v":"Családi állapot"},{"$f":"Ügyféladatok!B8","v":0},null,"ADÓSTÁRS-1","ADÓSTÁRS-2","ADÓSTÁRS-3"]
["PTI > 35%",55,{"$f":"IF($B$39>35%,1,0)","v":{"$error":"#DIV/0!"}},null,null,null,null,null,null,null,"figyelembe vehető",null,null,null,null,null,null,null,null,"van más szereplő?",null,null,{"$f":"Ügyféladatok!C2","v":"Jövedelmével bevont adós(társ) és zálogkötelezett"},{"$f":"Ügyféladatok!D2","v":"Nincs"},{"$f":"Ügyféladatok!E2","v":"Nincs"}]
[null,null,null,null,null,null,null,null,null,null,"Elsődleges",{"$f":"L34+L36*0.7+L38+L39","v":0},{"$f":"M34+M36*0.7+M38+M39","v":0},{"$f":"N34+N36*0.7+N38+N39","v":0},{"$f":"O34+O36*0.7+O38+O39","v":0},{"$f":"SUM(L44:O44)","v":0},null,null,null,null,{"$f":"IF(V44=0,\"Nincs\",\"van\")","v":"van"},{"$f":"SUM(W44:Y44)","v":1},{"$f":"M33","v":1},{"$f":"N33","v":0},{"$f":"O33","v":0}]
[null,null,"Üzleti","OTK","BB",null,null,null,null,null,"Anyasági",{"$f":"IF($P$42=1,L40,0)","v":0},{"$f":"IF($P$42=1,M40,0)","v":0},{"$f":"IF($P$42=1,N40,0)","v":0},{"$f":"IF($P$42=1,O40,0)","v":0},{"$f":"SUM(L45:O45)","v":0},null,null,null,null,null,{"$f":"IF(AND(V44=0,OR(U42=Ügyféladatok!$B$59,U42=Ügyféladatok!$B$61)),70%,100%)","v":1}]
["Terhek a tényleges kamattlábbal",{"$f":"SUM(B33:B35)+SUM(C46:E46)","v":0},{"$f":"IF(B17=0,0,PMT(D13/12,Hiteladatok!B16,-Hiteladatok!B15))","v":0},{"$f":"D37","v":0},{"$f":"E37","v":0},null,null,null,null,null,"Egyéb jövedelem",{"$f":"L41","v":0},{"$f":"M41","v":0},0,0,{"$f":"SUM(L46:O46)","v":0}]
["PTI a ténylegessel törvényihez",{"$f":"B46/C31","v":{"$error":"#DIV/0!"}},null,{"$f":"IF(OR(B47>Y12,V39<0),\"hard KO\",\"OK\")","v":{"$error":"#DIV/0!"}},null,null,null,null,null,null,"Összes jövedelem",{"$f":"L44+L45+L46","v":0},{"$f":"M44+M45+M46","v":0},0,0,{"$f":"SUM(L47:O47)","v":0}]
[null,null,null,null,null,null,null,null,null,null,"levonások",{"$f":"IF(OR(Ügyféladatok!B$2=Ügyféladatok!$E$79,Ügyféladatok!B$2=Ügyféladatok!$E$80),Ügyféladatok!B40,0)","v":0},{"$f":"IF(OR(Ügyféladatok!C$2=Ügyféladatok!$E$79,Ügyféladatok!C$2=Ügyféladatok!$E$80),Ügyféladatok!C40,0)","v":0},{"$f":"IF(OR(Ügyféladatok!D$2=Ügyféladatok!$E$79,Ügyféladatok!D$2=Ügyféladatok!$E$80),Ügyféladatok!D40,0)","v":0},{"$f":"IF(OR(Ügyféladatok!E$2=Ügyféladatok!$E$79,Ügyféladatok!E$2=Ügyféladatok!$E$80),Ügyféladatok!E40,0)","v":0},{"$f":"SUM(L48:O48)","v":0}]
["Tenor",{"$f":"IF(Hiteladatok!B16>240,44,IF(Hiteladatok!B16<=120,86,70))","v":70}]
["Appl",{"$f":"Appl!A2","v":{"$error":"#N/A"}}]
["KHR",61,null,null,null,null,"önerő elég?"]
[null,{"$f":"SUM(B49:B51)+D40+D22","v":{"$error":"#N/A"}},null,{"$f":"IF(B52>C63,\"OK\",\"hard KO\")","v":{"$error":"#N/A"}},null,null,{"$f":"IF(OR(AND(E53<7,Finanszírozás!F19>=0.2),AND(E53>=7,Finanszírozás!J19>=0.2)),\"OK\",\"hard KO\")","v":{"$error":"#N/A"}}]
[null,null,null,null,{"$f":"VLOOKUP(1,$D$55:$F$63,2,FALSE)","v":{"$error":"#N/A"}},{"$f":"VLOOKUP(1,$D$55:$F$63,3,FALSE)","v":{"$error":"#N/A"}}]
[null,null,null,null,"pd Housing","Housing",null,null,"Döntés","LTV","JTM","pd"]
[null,758,780,{"$f":"IF($B$52>=B55,1,0)","v":{"$error":"#N/A"}},1,"K1",null,null,"csak BB",null,{"$f":"$D$47","v":{"$error":"#DIV/0!"}},null,{"$f":"IF(K55=\"OK\",\"OK\",\"hard KO\")","v":{"$error":"#DIV/0!"}}]
[null,736,{"$f":"B55-1","v":757},{"$f":"IF(AND($B$52>=B56,$B$52<=C56),1,0)","v":{"$error":"#N/A"}},2,"K1",null,null,"egyéb",{"$f":"$D$20","v":{"$error":"#DIV/0!"}},{"$f":"$D$47","v":{"$error":"#DIV/0!"}},{"$f":"$D$52","v":{"$error":"#N/A"}},{"$f":"IF(AND(J56=\"OK\",K56=\"OK\",L56=\"OK\"),\"OK\",\"hard KO\")","v":{"$error":"#DIV/0!"}}]
[null,726,735,{"$error":"#N/A"},3,"K2"]
[null,716,725,{"$error":"#N/A"},4,"K2"]
[null,696,715,{"$error":"#N/A"},5,"K3"]
[null,676,695,{"$error":"#N/A"},6,"K4"]
[null,656,675,{"$error":"#N/A"},7,"K5",null,{"$f":"SUM(H62:H75)","v":14},null,"ADAT MÓDOSÍTÁS"]
[null,635,655,{"$error":"#N/A"},8,"K6",null,{"$f":"IF(Finanszírozás!C1=\"\",1,0)","v":1},"vételár",{"$f":"Finanszírozás!C1","v":0},null,null,null,null,null,60000000,null,null,null,null,{"$f":"IF(J62=P62,0,1)","v":1}]
[null,0,634,{"$error":"#N/A"},9,"K6",null,{"$f":"IF(Finanszírozás!C3=\"\",1,0)","v":1},"kp, LTP",{"$f":"Finanszírozás!C3","v":0},null,null,null,null,null,7500000,null,null,null,null,{"$f":"IF(J63=P63,0,1)","v":1}]
[null,null,null,null,null,null,null,{"$f":"IF(Finanszírozás!C4=\"\",1,0)","v":1},"telek",{"$f":"Finanszírozás!C4","v":0},null,null,null,null,null,0,null,null,null,null,0]
[null,null,null,null,null,null,null,{"$f":"IF(Finanszírozás!C6=\"\",1,0)","v":1},"CSOK1",{"$f":"Finanszírozás!C6","v":0},null,null,null,null,null,10000000,null,null,null,null,1]
[null,null,null,null,null,null,null,{"$f":"IF(Finanszírozás!C7=\"\",1,0)","v":1},"CSOK2",{"$f":"Finanszírozás!C7","v":0},null,null,null,null,null,0,null,null,null,null,0]
["ADATKITÖLTÉS",null,null,null,null,null,null,{"$f":"IF(Finanszírozás!C8=\"\",1,0)","v":1},"ÁFA",{"$f":"Finanszírozás!C8","v":0},null,null,null,null,null,0,null,null,null,null,0]
["ügynök",{"$f":"SUM(B69:B75)","v":7},null,null,null,null,null,{"$f":"IF(Finanszírozás!C9=\"\",1,0)","v":1},"M tám",{"$f":"Finanszírozás!C9","v":0},null,null,null,null,null,0,null,null,null,null,0]
["Hitelközvetítő neve (cégneve)",{"$f":"IF('Kezdő oldal'!B1=\"\",1,0)","v":1},null,null,null,null,null,{"$f":"IF(Finanszírozás!C10=\"\",1,0)","v":1},"M hitel",{"$f":"Finanszírozás!C10","v":0},null,null,null,null,null,0,null,null,null,null,0]
["Hitelközvetítő címe (székhelye)",{"$f":"IF('Kezdő oldal'!B2=\"\",1,0)","v":1},null,null,null,null,null,{"$f":"IF(Finanszírozás!C11=\"\",1,0)","v":1},"BB90",{"$f":"Finanszírozás!C11","v":0},null,null,null,null,null,0,null,null,null,null,0]
["Közvetítő partner neve",{"$f":"IF('Kezdő oldal'!B3=\"\",1,0)","v":1},null,null,null,null,null,{"$f":"IF(Finanszírozás!C12=\"\",1,0)","v":1},"BB90H",{"$f":"Finanszírozás!C12","v":0},null,null,null,null,null,0,null,null,null,null,0]
["Telefonszám",{"$f":"IF('Kezdő oldal'!B4=\"\",1,0)","v":1},null,null,null,null,null,{"$f":"IF(Finanszírozás!C14=\"\",1,0)","v":1},"BB új",{"$f":"Finanszírozás!C14","v":0},null,null,null,null,null,0,null,null,null,null,0]
["e-mail",{"$f":"IF('Kezdő oldal'!D4=\"\",1,0)","v":1},null,null,null,null,null,{"$f":"IF(Finanszírozás!C15=\"\",1,0)","v":1},"BB új H",{"$f":"Finanszírozás!C15","v":0},null,null,null,null,null,0,null,null,null,null,0]
["Szerzési jutalék",{"$f":"IF(AND('Kezdő oldal'!B6='Kezdő oldal'!Q3,'Kezdő oldal'!F6=\"\"),1,0)","v":1},null,null,null,null,null,{"$f":"IF(Finanszírozás!C16=\"\",1,0)","v":1},"OTK",{"$f":"Finanszírozás!C16","v":0},null,null,null,null,null,15000000,null,null,null,null,1]
["Fenntartási jutalék",{"$f":"IF(AND('Kezdő oldal'!B6='Kezdő oldal'!Q3,'Kezdő oldal'!F7=\"\"),1,0)","v":1},null,null,null,null,null,{"$f":"IF(Finanszírozás!C17=\"\",1,0)","v":1},"MFL",{"$f":"Finanszírozás!C17","v":0},null,null,null,null,null,27500000,null,null,null,null,1]
[]
["ügyfél","Adós",1,2,3,null,"cells(78, 7)",null,null,"Adós",1,2,3,null,"cells(78, 15)","Adós",1,2,3]
[null,{"$f":"Ügyféladatok!B2","v":"Jövedelmével bevont adós(társ) és zálogkötelezett"},{"$f":"Ügyféladatok!C2","v":"Jövedelmével bevont adós(társ) és zálogkötelezett"},{"$f":"Ügyféladatok!D2","v":"Nincs"},{"$f":"Ügyféladatok!E2","v":"Nincs"},null,{"$f":"B68+F80+F88+F100+F108+F122+B129","v":22},null,null,{"$f":"Ügyféladatok!B2","v":"Jövedelmével bevont adós(társ) és zálogkötelezett"},{"$f":"Ügyféladatok!C2","v":"Jövedelmével bevont adós(társ) és zálogkötelezett"},{"$f":"Ügyféladatok!D2","v":"Nincs"},{"$f":"Ügyféladatok!E2","v":"Nincs"},null,{"$f":"SUM(U78:X113)+SUM(U114:U149)+SUM(U62:U75)","v":61},"Jövedelmével bevont adós(társ) és zálogkötelezett","Jövedelmével bevont adós(társ) és zálogkötelezett","Nincs","Nincs",null,{"$f":"IF(J78=P78,0,1)","v":0},{"$f":"IF(K78=Q78,0,1)","v":0},0,0]
[null,{"$f":"IF(B78=Ügyféladatok!$E$84,0,1)","v":1},{"$f":"IF(C78=Ügyféladatok!$E$84,0,1)","v":1},{"$f":"IF(D78=Ügyféladatok!$E$84,0,1)","v":0},{"$f":"IF(E78=Ügyféladatok!$E$84,0,1)","v":0},{"$f":"SUM(C79:E79)","v":1},"Adóstársak száma",null,"Név",{"$f":"Ügyféladatok!B4","v":0},{"$f":"IF(K$78=\"Nincs\",\"\",Ügyféladatok!C4)","v":0},{"$f":"IF(L$78=\"Nincs\",\"\",Ügyféladatok!D4)","v":""},{"$f":"IF(M$78=\"Nincs\",\"\",Ügyféladatok!E4)","v":""},null,null,"Adós Neve","adóstárs-1 neve","","",null,{"$f":"IF(J79=P79,0,1)","v":1},{"$f":"IF(K79=Q79,0,1)","v":1},{"$f":"IF(L79=R79,0,1)","v":0},{"$f":"IF(M79=S79,0,1)","v":0}]
["SZEMÉLYI ADATOK",{"$f":"IF(OR(B79=0,SUM(B81:B86)=0),0,1)","v":1},{"$f":"IF(OR(C79=0,SUM(C81:C86)=0),0,1)","v":1},0,0,{"$f":"SUM(B80:E80)","v":2},null,null,"Születési név",{"$f":"Ügyféladatok!B5","v":0},{"$f":"IF(K$78=\"Nincs\",\"\",Ügyféladatok!C5)","v":0},{"$f":"IF(L$78=\"Nincs\",\"\",Ügyféladatok!D5)","v":""},{"$f":"IF(M$78=\"Nincs\",\"\",Ügyféladatok!E5)","v":""},null,null,"adós születési neve","adóstárs-1 szül neve","","",null,1,1,0,0]
["Név",{"$f":"IF(Ügyféladatok!B4=\"\",1,0)","v":1},{"$f":"IF(Ügyféladatok!C4=\"\",1,0)","v":1},{"$f":"IF(Ügyféladatok!D4=\"\",1,0)","v":1},{"$f":"IF(Ügyféladatok!E4=\"\",1,0)","v":1},null,null,null,"Anyja neve",{"$f":"Ügyféladatok!B6","v":0},{"$f":"IF(K$78=\"Nincs\",\"\",Ügyféladatok!C6)","v":0},{"$f":"IF(L$78=\"Nincs\",\"\",Ügyféladatok!D6)","v":""},{"$f":"IF(M$78=\"Nincs\",\"\",Ügyféladatok!E6)","v":""},null,null,"adós anyja","adóstárs-1 anyja","","",null,1,1,0,0]
["Születési név",null,null,null,null,null,null,null,"Születési dátum",{"$f":"Ügyféladatok!B7","v":"00:00:00"},{"$f":"IF(K$78=\"Nincs\",\"\",Ügyféladatok!C7)","v":"00:00:00"},{"$f":"IF(L$78=\"Nincs\",\"\",Ügyféladatok!D7)","v":""},{"$f":"IF(M$78=\"Nincs\",\"\",Ügyféladatok!E7)","v":""},null,null,"1980-05-05","1982-03-03","","",null,1,1,0,0]
["Anyja neve",{"$f":"IF(Ügyféladatok!B6=\"\",1,0)","v":1},{"$f":"IF(Ügyféladatok!C6=\"\",1,0)","v":1},{"$f":"IF(Ügyféladatok!D6=\"\",1,0)","v":1},{"$f":"IF(Ügyféladatok!E6=\"\",1,0)","v":1},null,null,null,"Családi állapot",{"$f":"Ügyféladatok!B8","v":0},{"$f":"IF(K$78=\"Nincs\",\"\",Ügyféladatok!C8)","v":0},{"$f":"IF(L$78=\"Nincs\",\"\",Ügyféladatok!D8)","v":""},{"$f":"IF(M$78=\"Nincs\",\"\",Ügyféladatok!E8)","v":""},null,null,"Házas","Házas","","",null,1,1,0,0]
["Születési dátum",{"$f":"IF(Ügyféladatok!B7=\"\",1,0)","v":1},{"$f":"IF(Ügyféladatok!C7=\"\",1,0)","v":1},{"$f":"IF(Ügyféladatok!D7=\"\",1,0)","v":1},{"$f":"IF(Ügyféladatok!E7=\"\",1,0)","v":1},null,null,null,"Legmagasabb iskolai végzettség",{"$f":"Ügyféladatok!B9","v":0},{"$f":"IF(K$78=\"Nincs\",\"\",Ügyféladatok!C9)","v":0},{"$f":"IF(L$78=\"Nincs\",\"\",Ügyféladatok!D9)","v":""},{"$f":"IF(M$78=\"Nincs\",\"\",Ügyféladatok!E9)","v":""},null,null,"Főiskola","egyetem","","",null,1,1,0,0]
["Családi állapot",{"$f":"IF(Ügyféladatok!B8=\"\",1,0)","v":1},{"$f":"IF(Ügyféladatok!C8=\"\",1,0)","v":1},{"$f":"IF(Ügyféladatok!D8=\"\",1,0)","v":1},{"$f":"IF(Ügyféladatok!E8=\"\",1,0)","v":1},null,null,null,"Állandó lakcím: irányító szám",{"$f":"Ügyféladatok!B12","v":0},{"$f":"IF(K$78=\"Nincs\",\"\",Ügyféladatok!C12)","v":0},{"$f":"IF(L$78=\"Nincs\",\"\",Ügyféladatok!D12)","v":""},{"$f":"IF(M$78=\"Nincs\",\"\",Ügyféladatok!E12)","v":""},null,null,3333,2222,"","",null,1,1,0,0]
["Legmagasabb iskolai végzettség",{"$f":"IF(Ügyféladatok!B9=\"\",1,0)","v":1},{"$f":"IF(Ügyféladatok!C9=\"\",1,0)","v":1},{"$f":"IF(Ügyféladatok!D9=\"\",1,0)","v":1},{"$f":"IF(Ügyféladatok!E9=\"\",1,0)","v":1},null,null,null,"Állandó lakcím: város",{"$f":"Ügyféladatok!B13","v":0},{"$f":"IF(K$78=\"Nincs\",\"\",Ügyféladatok!C13)","v":0},{"$f":"IF(L$78=\"Nincs\",\"\",Ügyféladatok!D13)","v":""},{"$f":"IF(M$78=\"Nincs\",\"\",Ügyféladatok!E13)","v":""},null,null,"oiuztrew","kjhgfds","","",null,1,1,0,0]
[null,null,null,null,null,null,null,null,"Állandó lakcím: utca, házszám",{"$f":"Ügyféladatok!B14","v":0},{"$f":"IF(K$78=\"Nincs\",\"\",Ügyféladatok!C14)","v":0},{"$f":"IF(L$78=\"Nincs\",\"\",Ügyféladatok!D14)","v":""},{"$f":"IF(M$78=\"Nincs\",\"\",Ügyféladatok!E14)","v":""},null,null,"i876ujzhtgewfd","élkuj5zht4egwq","","",null,1,1,0,0]
["CÍMEK, TELEFONSZÁMOK",{"$f":"IF(OR(B79=0,SUM(B89:B96)=0),0,1)","v":1},{"$f":"IF(OR(C79=0,SUM(C89:C96)=0),0,1)","v":1},0,0,{"$f":"SUM(B88:E88)","v":2},null,null,"Értesítési cím: irányító szám",{"$f":"Ügyféladatok!B15","v":0},{"$f":"IF(K$78=\"Nincs\",\"\",Ügyféladatok!C15)","v":0},{"$f":"IF(L$78=\"Nincs\",\"\",Ügyféladatok!D15)","v":""},{"$f":"IF(M$78=\"Nincs\",\"\",Ügyféladatok!E15)","v":""},null,null,0,0,"","",null,0,0,0,0]
["Állandó lakcím: irányító szám",{"$f":"IF(Ügyféladatok!B12=\"\",1,0)","v":1},{"$f":"IF(Ügyféladatok!C12=\"\",1,0)","v":1},{"$f":"IF(Ügyféladatok!D12=\"\",1,0)","v":1},{"$f":"IF(Ügyféladatok!E12=\"\",1,0)","v":1},null,null,null,"Értesítési cím: város",{"$f":"Ügyféladatok!B16","v":0},{"$f":"IF(K$78=\"Nincs\",\"\",Ügyféladatok!C16)","v":0},{"$f":"IF(L$78=\"Nincs\",\"\",Ügyféladatok!D16)","v":""},{"$f":"IF(M$78=\"Nincs\",\"\",Ügyféladatok!E16)","v":""},null,null,0,0,"","",null,0,0,0,0]
["Állandó lakcím: város",{"$f":"IF(Ügyféladatok!B13=\"\",1,0)","v":1},{"$f":"IF(Ügyféladatok!C13=\"\",1,0)","v":1},{"$f":"IF(Ügyféladatok!D13=\"\",1,0)","v":1},{"$f":"IF(Ügyféladatok!E13=\"\",1,0)","v":1},null,null,null,"Értesítési cím: utca, házszám",{"$f":"Ügyféladatok!B17","v":0},{"$f":"IF(K$78=\"Nincs\",\"\",Ügyféladatok!C17)","v":0},{"$f":"IF(L$78=\"Nincs\",\"\",Ügyféladatok!D17)","v":""},{"$f":"IF(M$78=\"Nincs\",\"\",Ügyféladatok!E17)","v":""},null,null,0,0,"","",null,0,0,0,0]
["Állandó lakcím: utca, házszám",{"$f":"IF(Ügyféladatok!B14=\"\",1,0)","v":1},{"$f":"IF(Ügyféladatok!C14=\"\",1,0)","v":1},{"$f":"IF(Ügyféladatok!D14=\"\",1,0)","v":1},{"$f":"IF(Ügyféladatok!E14=\"\",1,0)","v":1},null,null,null,"Jogviszony a jelenlegi tartózkodási helyen",{"$f":"Ügyféladatok!B18","v":0},{"$f":"IF(K$78=\"Nincs\",\"\",Ügyféladatok!C18)","v":0},{"$f":"IF(L$78=\"Nincs\",\"\",Ügyféladatok!D18)","v":""},{"$f":"IF(M$78=\"Nincs\",\"\",Ügyféladatok!E18)","v":""},null,null,"Társtulajdonos","Társtulajdonos","","",null,1,1,0,0]
["Értesítési cím: irányító szám",null,null,null,null,null,null,null,"Mióta él jelenlegi lakcímén",{"$f":"Ügyféladatok!B19","v":"00:00:00"},{"$f":"IF(K$78=\"Nincs\",\"\",Ügyféladatok!C19)","v":"00:00:00"},{"$f":"IF(L$78=\"Nincs\",\"\",Ügyféladatok!D19)","v":""},{"$f":"IF(M$78=\"Nincs\",\"\",Ügyféladatok!E19)","v":""},null,null,"2011-04-05","2011-04-05","","",null,1,1,0,0]
["Értesítési cím: város",null,null,null,null,null,null,null,"Van hitele a K&H-nál minimum 6 hónapja?",{"$f":"Ügyféladatok!B23","v":0},{"$f":"IF(K$78=\"Nincs\",\"\",Ügyféladatok!C23)","v":0},{"$f":"IF(L$78=\"Nincs\",\"\",Ügyféladatok!D23)","v":""},{"$f":"IF(M$78=\"Nincs\",\"\",Ügyféladatok!E23)","v":""},null,null,"Nem","Nem","","",null,1,1,0,0]
["Értesítési cím: utca, házszám",null,null,null,null,null,null,null,"Van bankszámlája a K&H-nál minimum 6 hónapja?",{"$f":"Ügyféladatok!B24","v":0},{"$f":"IF(K$78=\"Nincs\",\"\",Ügyféladatok!C24)","v":0},{"$f":"IF(L$78=\"Nincs\",\"\",Ügyféladatok!D24)","v":""},{"$f":"IF(M$78=\"Nincs\",\"\",Ügyféladatok!E24)","v":""},null,null,"Igen","Igen","","",null,1,1,0,0]
["Jogviszony a jelenlegi tartózkodási helyen",{"$f":"IF(Ügyféladatok!B18=\"\",1,0)","v":1},{"$f":"IF(Ügyféladatok!C18=\"\",1,0)","v":1},{"$f":"IF(Ügyféladatok!D18=\"\",1,0)","v":1},{"$f":"IF(Ügyféladatok!E18=\"\",1,0)","v":1},null,null,null,"K&H-hoz érkezik majd a bérátutalás?",{"$f":"Ügyféladatok!B25","v":0},{"$f":"IF(K$78=\"Nincs\",\"\",Ügyféladatok!C25)","v":0},{"$f":"IF(L$78=\"Nincs\",\"\",Ügyféladatok!D25)","v":""},{"$f":"IF(M$78=\"Nincs\",\"\",Ügyféladatok!E25)","v":""},null,null,"Igen","Igen","","",null,1,1,0,0]
["Mióta él jelenlegi lakcímén",{"$f":"IF(Ügyféladatok!B19=\"\",1,0)","v":1},{"$f":"IF(Ügyféladatok!C19=\"\",1,0)","v":1},{"$f":"IF(Ügyféladatok!D19=\"\",1,0)","v":1},{"$f":"IF(Ügyféladatok!E19=\"\",1,0)","v":1},null,null,null,"Hitelkártya keretösszeg",{"$f":"Ügyféladatok!B26","v":0},{"$f":"IF(K$78=\"Nincs\",\"\",Ügyféladatok!C26)","v":0},{"$f":"IF(L$78=\"Nincs\",\"\",Ügyféladatok!D26)","v":""},{"$f":"IF(M$78=\"Nincs\",\"\",Ügyféladatok!E26)","v":""},null,null,0,0,"","",null,0,0,0,0]
[null,null,null,null,null,null,null,null,"Folyószámla hitelkeret összege",{"$f":"Ügyféladatok!B27","v":0},{"$f":"IF(K$78=\"Nincs\",\"\",Ügyféladatok!C27)","v":0},{"$f":"IF(L$78=\"Nincs\",\"\",Ügyféladatok!D27)","v":""},{"$f":"IF(M$78=\"Nincs\",\"\",Ügyféladatok!E27)","v":""},null,null,100000,0,"","",null,1,0,0,0]
["NEVEK, CÍMEK",{"$f":"IF(OR(B79=0,SUM(B89:B91)+SUM(B81:B84)=0),0,1)","v":1},{"$f":"IF(OR(C79=0,SUM(C89:C91)+SUM(C81:C84)=0),0,1)","v":1},0,0,{"$f":"SUM(B98:E98)","v":2},null,null,"Összes havi rendszeres törlesztés",{"$f":"Ügyféladatok!B28","v":0},{"$f":"IF(K$78=\"Nincs\",\"\",Ügyféladatok!C28)","v":0},{"$f":"IF(L$78=\"Nincs\",\"\",Ügyféladatok!D28)","v":""},{"$f":"IF(M$78=\"Nincs\",\"\",Ügyféladatok!E28)","v":""},null,null,0,0,"","",null,0,0,0,0]
[null,null,null,null,null,null,null,null,"Belföldi alkalmazotti munkabér - bankszámlára",{"$f":"Ügyféladatok!B31","v":0},{"$f":"IF(K$78=\"Nincs\",\"\",Ügyféladatok!C31)","v":0},{"$f":"IF(L$78=\"Nincs\",\"\",Ügyféladatok!D31)","v":""},{"$f":"IF(M$78=\"Nincs\",\"\",Ügyféladatok!E31)","v":""},null,null,360000,150000,"","",null,1,1,0,0]
["BANKKAPCSOLATOK",{"$f":"IF(OR(B79=0,SUM(B101:B106)=0),0,1)","v":1},{"$f":"IF(OR(C79=0,SUM(C101:C106)=0),0,1)","v":1},0,0,{"$f":"SUM(B100:E100)","v":2},null,null,"Belföldi alkalmazotti munkabér - készpénzben",{"$f":"Ügyféladatok!B32","v":0},{"$f":"IF(K$78=\"Nincs\",\"\",Ügyféladatok!C32)","v":0},{"$f":"IF(L$78=\"Nincs\",\"\",Ügyféladatok!D32)","v":""},{"$f":"IF(M$78=\"Nincs\",\"\",Ügyféladatok!E32)","v":""},null,null,0,0,"","",null,0,0,0,0]
["Van hitele a K&H-nál minimum 6 hónapja?",{"$f":"IF(Ügyféladatok!B23=\"\",1,0)","v":1},{"$f":"IF(Ügyféladatok!C23=\"\",1,0)","v":1},{"$f":"IF(Ügyféladatok!D23=\"\",1,0)","v":1},{"$f":"IF(Ügyféladatok!E23=\"\",1,0)","v":1},null,null,null,"Külföldi alkalmazotti munkabér - bankszámlára",{"$f":"Ügyféladatok!B33","v":0},{"$f":"IF(K$78=\"Nincs\",\"\",Ügyféladatok!C33)","v":0},{"$f":"IF(L$78=\"Nincs\",\"\",Ügyféladatok!D33)","v":""},{"$f":"IF(M$78=\"Nincs\",\"\",Ügyféladatok!E33)","v":""},null,null,0,0,"","",null,0,0,0,0]
["Van bankszámlája a K&H-nál minimum 6 hónapja?",{"$f":"IF(Ügyféladatok!B24=\"\",1,0)","v":1},{"$f":"IF(Ügyféladatok!C24=\"\",1,0)","v":1},{"$f":"IF(Ügyféladatok!D24=\"\",1,0)","v":1},{"$f":"IF(Ügyféladatok!E24=\"\",1,0)","v":1},null,null,null,"Külföldi alkalmazotti munkabér - készpénzben",{"$f":"Ügyféladatok!B34","v":0},{"$f":"IF(K$78=\"Nincs\",\"\",Ügyféladatok!C34)","v":0},{"$f":"IF(L$78=\"Nincs\",\"\",Ügyféladatok!D34)","v":""},{"$f":"IF(M$78=\"Nincs\",\"\",Ügyféladatok!E34)","v":""},null,null,0,0,"","",null,0,0,0,0]
["K&H-hoz érkezik majd a bérátutalás?",{"$f":"IF(Ügyféladatok!B25=\"\",1,0)","v":1},{"$f":"IF(Ügyféladatok!C25=\"\",1,0)","v":1},{"$f":"IF(Ügyféladatok!D25=\"\",1,0)","v":1},{"$f":"IF(Ügyféladatok!E25=\"\",1,0)","v":1},null,null,null,"Nyugdíj",{"$f":"Ügyféladatok!B35","v":0},{"$f":"IF(K$78=\"Nincs\",\"\",Ügyféladatok!C35)","v":0},{"$f":"IF(L$78=\"Nincs\",\"\",Ügyféladatok!D35)","v":""},{"$f":"IF(M$78=\"Nincs\",\"\",Ügyféladatok!E35)","v":""},null,null,0,0,"","",null,0,0,0,0]
["Hitelkártya keretösszeg",{"$f":"IF(Ügyféladatok!B26=\"\",1,0)","v":1},{"$f":"IF(Ügyféladatok!C26=\"\",1,0)","v":1},{"$f":"IF(Ügyféladatok!D26=\"\",1,0)","v":1},{"$f":"IF(Ügyféladatok!E26=\"\",1,0)","v":1},null,null,null,"Vállalkozói jövedelem",{"$f":"Ügyféladatok!B36","v":0},{"$f":"IF(K$78=\"Nincs\",\"\",Ügyféladatok!C36)","v":0},{"$f":"IF(L$78=\"Nincs\",\"\",Ügyféladatok!D36)","v":""},{"$f":"IF(M$78=\"Nincs\",\"\",Ügyféladatok!E36)","v":""},null,null,0,0,"","",null,0,0,0,0]
["Folyószámla hitelkeret összege",{"$f":"IF(Ügyféladatok!B27=\"\",1,0)","v":1},{"$f":"IF(Ügyféladatok!C27=\"\",1,0)","v":1},{"$f":"IF(Ügyféladatok!D27=\"\",1,0)","v":1},{"$f":"IF(Ügyféladatok!E27=\"\",1,0)","v":1},null,null,null,"Anyasági támogatások (GYES, GYED, GYÁS)",{"$f":"Ügyféladatok!B37","v":0},{"$f":"IF(K$78=\"Nincs\",\"\",Ügyféladatok!C37)","v":0},{"$f":"IF(L$78=\"Nincs\",\"\",Ügyféladatok!D37)","v":""},{"$f":"IF(M$78=\"Nincs\",\"\",Ügyféladatok!E37)","v":""},null,null,20000,0,"","",null,1,0,0,0]
["Összes havi rendszeres törlesztés",{"$f":"IF(Ügyféladatok!B28=\"\",1,0)","v":1},{"$f":"IF(Ügyféladatok!C28=\"\",1,0)","v":1},{"$f":"IF(Ügyféladatok!D28=\"\",1,0)","v":1},{"$f":"IF(Ügyféladatok!E28=\"\",1,0)","v":1},null,null,null,"Egyéb jövedelem",{"$f":"Ügyféladatok!B38","v":0},{"$f":"IF(K$78=\"Nincs\",\"\",Ügyféladatok!C38)","v":0},{"$f":"IF(L$78=\"Nincs\",\"\",Ügyféladatok!D38)","v":""},{"$f":"IF(M$78=\"Nincs\",\"\",Ügyféladatok!E38)","v":""},null,null,0,0,"","",null,0,0,0,0]
[null,null,null,null,null,null,null,null,"Levonás/letiltás a jövedelemből",{"$f":"Ügyféladatok!B40","v":0},{"$f":"IF(K$78=\"Nincs\",\"\",Ügyféladatok!C40)","v":0},{"$f":"IF(L$78=\"Nincs\",\"\",Ügyféladatok!D40)","v":""},{"$f":"IF(M$78=\"Nincs\",\"\",Ügyféladatok!E40)","v":""},null,null,0,0,"","",null,0,0,0,0]
["VAGYONI - PÉNZÜGYI ADATOK              ",{"$f":"IF(OR(B79=0,SUM(B109:B120)=0),0,1)","v":1},{"$f":"IF(OR(C79=0,SUM(C109:C120)=0),0,1)","v":1},0,0,{"$f":"SUM(B108:E108)","v":2},null,null,"Jövedelemmel rendelkezők száma",{"$f":"Ügyféladatok!B41","v":0},{"$f":"IF(K$78=\"Nincs\",\"\",Ügyféladatok!C41)","v":0},{"$f":"IF(L$78=\"Nincs\",\"\",Ügyféladatok!D41)","v":""},{"$f":"IF(M$78=\"Nincs\",\"\",Ügyféladatok!E41)","v":""},null,null,2,2,"","",null,1,1,0,0]
["Belföldi alkalmazotti munkabér - bankszámlára",{"$f":"IF(Ügyféladatok!B31=\"\",1,0)","v":1},{"$f":"IF(Ügyféladatok!C31=\"\",1,0)","v":1},{"$f":"IF(Ügyféladatok!D31=\"\",1,0)","v":1},{"$f":"IF(Ügyféladatok!E31=\"\",1,0)","v":1},null,null,null,"Eltartott gyermekek száma a háztartásban",{"$f":"Ügyféladatok!B42","v":0},{"$f":"IF(K$78=\"Nincs\",\"\",Ügyféladatok!C42)","v":0},{"$f":"IF(L$78=\"Nincs\",\"\",Ügyféladatok!D42)","v":""},{"$f":"IF(M$78=\"Nincs\",\"\",Ügyféladatok!E42)","v":""},null,null,2,0,"","",null,1,0,0,0]
["Belföldi alkalmazotti munkabér - készpénzben",{"$f":"IF(Ügyféladatok!B32=\"\",1,0)","v":1},{"$f":"IF(Ügyféladatok!C32=\"\",1,0)","v":1},{"$f":"IF(Ügyféladatok!D32=\"\",1,0)","v":1},{"$f":"IF(Ügyféladatok!E32=\"\",1,0)","v":1},null,null,null,"Munkáltatói cégforma",{"$f":"Ügyféladatok!B45","v":0},{"$f":"IF(K$78=\"Nincs\",\"\",Ügyféladatok!C45)","v":0},{"$f":"IF(L$78=\"Nincs\",\"\",Ügyféladatok!D45)","v":""},{"$f":"IF(M$78=\"Nincs\",\"\",Ügyféladatok!E45)","v":""},null,null,"Egyéb  ","Egyéb  ","","",null,1,1,0,0]
["Külföldi alkalmazotti munkabér - bankszámlára",{"$f":"IF(Ügyféladatok!B33=\"\",1,0)","v":1},{"$f":"IF(Ügyféladatok!C33=\"\",1,0)","v":1},{"$f":"IF(Ügyféladatok!D33=\"\",1,0)","v":1},{"$f":"IF(Ügyféladatok!E33=\"\",1,0)","v":1},null,null,null,"Gazdasági szektor",{"$f":"Ügyféladatok!B46","v":0},{"$f":"IF(K$78=\"Nincs\",\"\",Ügyféladatok!C46)","v":0},{"$f":"IF(L$78=\"Nincs\",\"\",Ügyféladatok!D46)","v":""},{"$f":"IF(M$78=\"Nincs\",\"\",Ügyféladatok!E46)","v":""},null,null,"Bányászat","Bányászat","","",null,1,1,0,0]
["Külföldi alkalmazotti munkabér - készpénzben",{"$f":"IF(Ügyféladatok!B34=\"\",1,0)","v":1},{"$f":"IF(Ügyféladatok!C34=\"\",1,0)","v":1},{"$f":"IF(Ügyféladatok!D34=\"\",1,0)","v":1},{"$f":"IF(Ügyféladatok!E34=\"\",1,0)","v":1},null,null,null,"Foglalkoztatás minősége",{"$f":"Ügyféladatok!B47","v":0},{"$f":"IF(K$78=\"Nincs\",\"\",Ügyféladatok!C47)","v":0},{"$f":"IF(L$78=\"Nincs\",\"\",Ügyféladatok!D47)","v":""},{"$f":"IF(M$78=\"Nincs\",\"\",Ügyféladatok!E47)","v":""},null,null,"Alkalmazott","Közalkalmazott","","",null,1,1,0,0]
["Nyugdíj",{"$f":"IF(Ügyféladatok!B35=\"\",1,0)","v":1},{"$f":"IF(Ügyféladatok!C35=\"\",1,0)","v":1},{"$f":"IF(Ügyféladatok!D35=\"\",1,0)","v":1},{"$f":"IF(Ügyféladatok!E35=\"\",1,0)","v":1},null,null,null,"Munkaviszony kezdete",{"$f":"Ügyféladatok!B48","v":"00:00:00"},{"$f":"IF(K$78=\"Nincs\",\"\",Ügyféladatok!C48)","v":"00:00:00"},{"$f":"IF(L$78=\"Nincs\",\"\",Ügyféladatok!D48)","v":""},{"$f":"IF(M$78=\"Nincs\",\"\",Ügyféladatok!E48)","v":""},null,null,"2020-05-06","2020-04-03","","",null,1,1,0,0]
["Vállalkozói jövedelem",{"$f":"IF(Ügyféladatok!B36=\"\",1,0)","v":1},{"$f":"IF(Ügyféladatok!C36=\"\",1,0)","v":1},{"$f":"IF(Ügyféladatok!D36=\"\",1,0)","v":1},{"$f":"IF(Ügyféladatok!E36=\"\",1,0)","v":1},null,null,null,"Hitelcél",{"$f":"Hiteladatok!B2","v":0},null,null,null,null,null,"Használt lakás/ház vásárlása",null,null,null,null,1]
["Anyasági támogatások (GYES, GYED, GYÁS)",{"$f":"IF(Ügyféladatok!B37=\"\",1,0)","v":1},{"$f":"IF(Ügyféladatok!C37=\"\",1,0)","v":1},{"$f":"IF(Ügyféladatok!D37=\"\",1,0)","v":1},{"$f":"IF(Ügyféladatok!E37=\"\",1,0)","v":1},null,null,null,"Fedezet típusa",{"$f":"Hiteladatok!D3","v":0},null,null,null,null,null,"Társasházi lakás",null,null,null,null,1]
["Egyéb jövedelem",{"$f":"IF(Ügyféladatok!B38=\"\",1,0)","v":1},{"$f":"IF(Ügyféladatok!C38=\"\",1,0)","v":1},{"$f":"IF(Ügyféladatok!D38=\"\",1,0)","v":1},{"$f":"IF(Ügyféladatok!E38=\"\",1,0)","v":1},null,null,null,"Törlesztési dátumok hónapon belül",{"$f":"Hiteladatok!D4","v":15},null,null,null,null,null,5,null,null,null,null,1]
[null,null,null,null,null,null,null,null,"Hitelkérelem befogadásának dátuma",{"$f":"Hiteladatok!D5","v":"2021-07-31"},null,null,null,null,null,"2021-07-01",null,null,null,null,1]
["Levonás/letiltás a jövedelemből",{"$f":"IF(Ügyféladatok!B40=\"\",1,0)","v":1},{"$f":"IF(Ügyféladatok!C40=\"\",1,0)","v":1},{"$f":"IF(Ügyféladatok!D40=\"\",1,0)","v":1},{"$f":"IF(Ügyféladatok!E40=\"\",1,0)","v":1},null,null,null,"K&H hiteltörlesztő számla? (ingyenes számla) I/N",{"$f":"Hiteladatok!D6","v":"N"},null,null,null,null,null,"N",null,null,null,null,0]
["Jövedelemmel rendelkezők száma",{"$f":"IF(Ügyféladatok!B41=\"\",1,0)","v":1},{"$f":"IF(Ügyféladatok!C41=\"\",1,0)","v":1},{"$f":"IF(Ügyféladatok!D41=\"\",1,0)","v":1},{"$f":"IF(Ügyféladatok!E41=\"\",1,0)","v":1},null,null,null,"Fedezet becsült forgalmi értéke",{"$f":"Hiteladatok!I2","v":0},null,null,null,null,null,60000000,null,null,null,null,1]
["Eltartott gyermekek száma a háztartásban",{"$f":"IF(Ügyféladatok!B42=\"\",1,0)","v":1},{"$f":"IF(Ügyféladatok!C42=\"\",1,0)","v":0},{"$f":"IF(Ügyféladatok!D42=\"\",1,0)","v":1},{"$f":"IF(Ügyféladatok!E42=\"\",1,0)","v":1},null,null,null,"Fedezetre bejegyzett és fennmaradó terhek",{"$f":"Hiteladatok!I3","v":0},null,null,null,null,null,0,null,null,null,null,0]
[null,null,null,null,null,null,null,null,"Fedezeti ingatlan irányítószáma",{"$f":"Hiteladatok!I4","v":0},null,null,null,null,null,1111,null,null,null,null,1]
["MUNKAHELYI ADATOK",{"$f":"IF(OR(B79=0,SUM(B123:B126)=0),0,1)","v":1},{"$f":"IF(OR(C79=0,SUM(C123:C126)=0),0,1)","v":1},0,0,{"$f":"SUM(B122:E122)","v":2},null,null,"Fedezeti ingatlan helyrajzi száma",{"$f":"Hiteladatok!I5","v":0},null,null,null,null,null,"1234",null,null,null,null,1]
["Munkáltatói cégforma",{"$f":"IF(Ügyféladatok!B45=\"\",1,0)","v":1},{"$f":"IF(Ügyféladatok!C45=\"\",1,0)","v":1},{"$f":"IF(Ügyféladatok!D45=\"\",1,0)","v":1},{"$f":"IF(Ügyféladatok!E45=\"\",1,0)","v":1},null,null,null,"Folyószámla havi számlavezetési díj",{"$f":"Hiteladatok!I6","v":383},null,null,null,null,null,557,null,null,null,null,1]
["Gazdasági szektor",{"$f":"IF(Ügyféladatok!B46=\"\",1,0)","v":1},{"$f":"IF(Ügyféladatok!C46=\"\",1,0)","v":1},{"$f":"IF(Ügyféladatok!D46=\"\",1,0)","v":1},{"$f":"IF(Ügyféladatok!E46=\"\",1,0)","v":1},null,null,null,"Csoportos beszedés díja",{"$f":"Hiteladatok!I7","v":0},null,null,null,null,null,0,null,null,null,null,0]
["Foglalkoztatás minősége",{"$f":"IF(Ügyféladatok!B47=\"\",1,0)","v":1},{"$f":"IF(Ügyféladatok!C47=\"\",1,0)","v":1},{"$f":"IF(Ügyféladatok!D47=\"\",1,0)","v":1},{"$f":"IF(Ügyféladatok!E47=\"\",1,0)","v":1},null,null,null,"Kockázati életbiztosítás gyakoriság szerinti díja",{"$f":"Hiteladatok!I8","v":0},null,null,null,null,null,0,null,null,null,null,0]
["Munkaviszony kezdete",{"$f":"IF(Ügyféladatok!B48=\"\",1,0)","v":1},{"$f":"IF(Ügyféladatok!C48=\"\",1,0)","v":1},{"$f":"IF(Ügyféladatok!D48=\"\",1,0)","v":1},{"$f":"IF(Ügyféladatok!E48=\"\",1,0)","v":1},null,null,null,"Kockázati életbiztosítás gyakorisága",{"$f":"Hiteladatok!I9","v":0},null,null,null,null,null,0,null,null,null,null,0]
[null,null,null,null,null,null,null,null,"Kockázati életbiztosítás díjfizetési módja",{"$f":"Hiteladatok!I10","v":0},null,null,null,null,null,0,null,null,null,null,0]
[null,null,null,null,null,null,null,null,"Kockázati életbiztosítás egyszeri díja",{"$f":"Hiteladatok!I11","v":0},null,null,null,null,null,0,null,null,null,null,0]
["Hiteladatok",{"$f":"SUM(B130:B165)","v":5},null,null,null,null,null,null,"Ügyfél által a hitelközvetítőnek fizetett díj",{"$f":"Hiteladatok!I12","v":0},null,null,null,null,null,0,null,null,null,null,0]
["Hitelcél",{"$f":"IF(Hiteladatok!B2=\"\",1,0)","v":1},null,null,null,null,null,null,"Hitelösszeg",{"$f":"Hiteladatok!B15","v":0},null,null,null,null,null,27500000,null,null,null,null,1]
["Fedezet típusa",{"$f":"IF(Hiteladatok!D3=\"\",1,0)","v":1},null,null,null,null,null,null,"Futamidő (hónap)",{"$f":"Hiteladatok!B16","v":240},null,null,null,null,null,240,null,null,null,null,0]
["Törlesztési dátumok hónapon belül",{"$f":"IF(Hiteladatok!D4=\"\",1,0)","v":0},null,null,null,null,null,null,"Kamatperiódus",{"$f":"Hiteladatok!B17","v":"10 év"},null,null,null,null,null,"10 év",null,null,null,null,0]
["Hitelkérelem befogadásának dátuma",{"$f":"IF(Hiteladatok!D5=\"\",1,0)","v":0},null,null,null,null,null,null,"Kampánykedvezmény",{"$f":"Hiteladatok!B20","v":"Díjkedvezmény 100%"},null,null,null,null,null,"Díjkedvezmény 100%",null,null,null,null,0]
["K&H hiteltörlesztő számla? (ingyenes számla) I/N",{"$f":"IF(Hiteladatok!D6=\"\",1,0)","v":0},null,null,null,null,null,null,"Átutalási (havi 150 eFt)",{"$f":"Hiteladatok!B22","v":"I"},null,null,null,null,null,"I",null,null,null,null,0]
["Fedezet becsült forgalmi értéke",{"$f":"IF(Hiteladatok!I2=\"\",1,0)","v":1},null,null,null,null,null,null,"Vagyonbiztosítási",{"$f":"Hiteladatok!B23","v":"I"},null,null,null,null,null,"I",null,null,null,null,0]
["Fedezetre bejegyzett és fennmaradó terhek",{"$f":"IF(Hiteladatok!I3=\"\",1,0)","v":0},null,null,null,null,null,null,"Törlesztési biztosítás",{"$f":"Hiteladatok!B24","v":"N"},null,null,null,null,null,"N",null,null,null,null,0]
["Fedezeti ingatlan irányítószáma",{"$f":"IF(Hiteladatok!I4=\"\",1,0)","v":1},null,null,null,null,null,null,"Életbiztosítás",{"$f":"Hiteladatok!B25","v":"N"},null,null,null,null,null,"N",null,null,null,null,0]
["Fedezeti ingatlan helyrajzi száma",{"$f":"IF(Hiteladatok!I5=\"\",1,0)","v":1},null,null,null,null,null,null,"Prémium ügyfél",{"$f":"Hiteladatok!B26","v":"N"},null,null,null,null,null,"N",null,null,null,null,0]
["Folyószámla havi számlavezetési díj",{"$f":"IF(Hiteladatok!I6=\"\",1,0)","v":0},null,null,null,null,null,null,"Kockázati besorolás (árkategória)",{"$f":"Hiteladatok!B28","v":"Kalkulált: "},null,null,null,null,null,"Kalkulált: ",null,null,null,null,0]
["Csoportos beszedés díja",{"$f":"IF(AND(Hiteladatok!B25=\"i\",Hiteladatok!I7=\"\"),1,0)","v":0},null,null,null,null,null,null,"Induló kamatláb:",null,null,null,null,null,null,null,null,null,null,null,0]
["Kockázati életbiztosítás gyakoriság szerinti díja",{"$f":"IF(AND(Hiteladatok!B25=\"i\",Hiteladatok!I8=\"\"),1,0)","v":0},null,null,null,null,null,null,"A hitel kezdeti kamatlába egyedi kedvezménnyel",{"$f":"IF(Hiteladatok!B31=\"\",\"\",Hiteladatok!B31)","v":""},null,null,null,null,null,"",null,null,null,null,0]
["Kockázati életbiztosítás gyakorisága",{"$f":"IF(AND(Hiteladatok!$I$8>0,Hiteladatok!I9=\"\"),1,0)","v":0},null,null,null,null,null,null,"Hitelösszeg",{"$f":"Hiteladatok!F15","v":0},null,null,null,null,null,15000000,null,null,null,null,1]
["Kockázati életbiztosítás díjfizetési módja",{"$f":"IF(AND(Hiteladatok!$I$8>0,Hiteladatok!I10=\"\"),1,0)","v":0},null,null,null,null,null,null,"Futamidő (hónap)",{"$f":"Hiteladatok!F16","v":240},null,null,null,null,null,240,null,null,null,null,{"$f":"IF(J143=P143,0,1)","v":0}]
["Kockázati életbiztosítás egyszeri díja",{"$f":"IF(Hiteladatok!I11=\"\",1,0)","v":0},null,null,null,null,null,null,"Kampánykedvezmény",{"$f":"Hiteladatok!F20","v":"Díjkedvezmény 100%"},null,null,null,null,null,"Díjkedvezmény 100%",null,null,null,null,0]
["Ügyfél által a hitelközvetítőnek fizetett díj",{"$f":"IF(Hiteladatok!I12=\"\",1,0)","v":0},null,null,null,null,null,null," - Meglévő",{"$f":"Hiteladatok!F22","v":0},null,null,null,null,null,1,null,null,null,null,1]
["Hitelösszeg",null,null,null,null,null,null,null," - Magzat (min 12 hetes)",{"$f":"Hiteladatok!F23","v":0},null,null,null,null,null,1,null,null,null,null,1]
["Futamidő (hónap)",{"$f":"IF(AND(Hiteladatok!B15>0,Hiteladatok!B16=\"\"),1,0)","v":0},null,null,null,null,null,null," - Vállalt",{"$f":"Hiteladatok!F24","v":0},null,null,null,null,null,1,null,null,null,null,1]
["Kamatperiódus",{"$f":"IF(AND(Hiteladatok!B15>0,Hiteladatok!B17=\"\"),1,0)","v":0},null,null,null,null,null,null,"Hitelösszeg",{"$f":"Hiteladatok!I15","v":0},null,null,null,null,null,0,null,null,null,null,0]
["Kampánykedvezmény",{"$f":"IF(AND(Hiteladatok!B15>0,Hiteladatok!B20=\"\"),1,0)","v":0},null,null,null,null,null,null,"Futamidő (hónap)",{"$f":"Hiteladatok!I16","v":240},null,null,null,null,null,240,null,null,null,null,0]
["Átutalási (havi 150 eFt)",{"$f":"IF(AND(Hiteladatok!B15>0,Hiteladatok!B22=\"\"),1,0)","v":0}]
["Vagyonbiztosítási",{"$f":"IF(AND(Hiteladatok!B15>0,Hiteladatok!B23=\"\"),1,0)","v":0}]
["Törlesztési biztosítás",{"$f":"IF(AND(Hiteladatok!B15>0,Hiteladatok!B24=\"\"),1,0)","v":0}]
["Életbiztosítás",{"$f":"IF(AND(Hiteladatok!B15>0,Hiteladatok!B25=\"\"),1,0)","v":0}]
["Prémium ügyfél",{"$f":"IF(AND(Hiteladatok!B15>0,Hiteladatok!B26=\"\"),1,0)","v":0}]
["Kockázati besorolás (árkategória)",{"$f":"IF(AND(Hiteladatok!B15>0,Hiteladatok!B28=\"\"),1,0)","v":0}]
["Induló kamatláb:"]
["A hitel kezdeti kamatlába egyedi kedvezménnyel"]
["Hitelösszeg"]
["Futamidő (hónap)",{"$f":"IF(AND(Hiteladatok!F15>0,Hiteladatok!F16=\"\"),1,0)","v":0}]
["Kampánykedvezmény",{"$f":"IF(AND(Hiteladatok!F15>0,Hiteladatok!F20=\"\"),1,0)","v":0}]
[" - Meglévő",{"$f":"IF(AND(Hiteladatok!F15>0,Hiteladatok!F22=\"\"),1,0)","v":0}]
[" - Magzat (min 12 hetes)",{"$f":"IF(AND(Hiteladatok!F15>0,Hiteladatok!F23=\"\"),1,0)","v":0}]
[" - Vállalt",{"$f":"IF(AND(Hiteladatok!F15>0,Hiteladatok!F24=\"\"),1,0)","v":0}]
["Hitelösszeg"]
["Futamidő (hónap)",{"$f":"IF(AND(Hiteladatok!I15>0,Hiteladatok!I16=\"\"),1,0)","v":0}]

{"sheet":"Ind-Ált","index":7,"n_rows":83,"n_cols":13,"rows_kept":83,"cut":false,"hidden":true,"merged":[[80,0,80,6],[5,4,6,6],[23,0,23,6],[20,3,20,6],[77,0,77,6],[9,0,9,6],[10,3,10,6],[11,3,11,6],[12,3,12,6],[13,3,13,6],[27,0,32,2],[33,0,33,2],[34,0,34,2],[38,2,38,6],[39,2,39,6],[38,0,38,1],[1,0,1,6],[2,0,2,6],[8,0,8,6],[3,0,3,6],[4,0,4,6],[7,0,7,6],[10,0,10,2],[11,0,14,2],[15,0,18,2],[19,0,20,2],[26,0,26,2],[24,0,24,6],[25,0,25,6],[22,0,22,6],[21,0,21,6],[14,3,14,6],[15,3,15,6],[16,3,16,6],[17,3,17,6],[18,3,18,6],[19,3,19,6],[27,5,29,5],[42,0,42,6],[40,2,40,6],[43,0,43,6],[44,0,44,6],[40,0,40,1],[41,2,41,6],[39,0,39,1],[41,0,41,1],[35,0,35,6],[37,0,37,6],[36,0,36,6],[45,0,45,6],[46,0,46,6],[47,0,47,6],[48,0,48,6],[49,0,49,6],[51,0,51,6],[52,0,52,6],[54,0,54,6],[55,0,55,6],[57,0,57,6],[58,0,58,6],[60,0,60,6],[61,0,61,6],[72,0,72,6],[73,0,73,6],[75,0,75,6],[76,0,76,6],[63,0,63,6],[64,0,64,6],[66,0,66,6],[67,0,67,6],[70,0,70,6],[69,0,69,6]]}
[null,null,null,null,null,null,null,null,null,null,{"$f":"Ügyféladatok!B4","v":0},"sormagasság",12.75]
["I. Általános tájékoztatás a jelzáloghitelekről\n",null,null,null,null,null,null,null,null,null,{"$f":"TODAY()","v":"2021-07-09"},3,{"$f":"L2*$M$1","v":38.25}]
["1.  A hitelezővel kapcsolatos adatok: ",null,null,null,null,null,null,null,null,null,{"$f":"NOW()","v":"2021-07-09T12:13:34.440"},1,{"$f":"L3*$M$1","v":12.75}]
["  1.1 a hitelező neve (cégneve) és címe (székhelye): K&H Bank Zrt., H-1095 Budapest, Lechner Ödön fasor 9. ",null,null,null,null,null,null,null,null,null,{"$f":"TEXT(K3,\"éééé.hh.nn ó-pp-mm\")","v":"2021.07.09 12-13-34"},1,12.75]
[null,null,null,null,null,null,null,null,null,null,null,1,12.75]
["  1.2 a hitelközvetítő neve (cégneve) és címe (székhelye):",null,null,null,{"$f":"IF('Kezdő oldal'!B1=\"\",\"\",CONCATENATE('Kezdő oldal'!B1,\", \",'Kezdő oldal'!B2))","v":""},null,null,null,null,null,null,1,12.75]
[null,null,null,null,null,null,null,null,null,null,null,1,12.75]
[null,null,null,null,null,null,null,null,null,null,null,0.7,8.9249999999999989]
["2. A jelzáloghitellel kapcsolatos adatok:",null,null,null,null,null,null,null,null,null,null,1,12.75]
["  2.1 felhasználási célok, amelyre a hitel fordítható:",null,null,null,null,null,null,null,null,null,null,1,12.75]
["Termék elnevezése",null,null,"Felhasználási célok",null,null,null,null,null,null,null,1,12.75]
["K&H Üzleti feltételű lakáshitel esetén: ",null,null,"• lakó vagy üdülő ingatlan vásárlásra,",null,null,null,null,null,null,null,1,12.75]
[null,null,null,"• építésre,",null,null,null,null,null,null,null,1,12.75]
[null,null,null,"• bővítésre, korszerűsítésre, felújításra",null,null,null,null,null,null,null,1,12.75]
[null,null,null,"• lakáscélú hitelek refinanszírozására",null,null,null,null,null,null,null,1,12.75]
["K&H Minősített Fogyasztóbarát Lakáshitel esetén: ",null,null,"• új, használatbavételi engedéllyel rendelkező lakás/lakóház/üdülő vásárlása",null,null,null,null,null,null,null,1,12.75]
[null,null,null,"• használat lakás/lakóház/üdülő vásárlása",null,null,null,null,null,null,null,1,12.75]
[null,null,null,"• igazoltan lakáscélú jelzáloghitel kiváltása",null,null,null,null,null,null,null,1,12.75]
[null,null,null,"• a kölcsönnel érintett ingatlanhoz tartozó gépkocsi tároló, tároló vásárlása",null,null,null,null,null,null,null,1,12.75]
["K&H  lakáscélú  hitelek  állami támogatással extra esetén:",null,null,"• új lakás építése,",null,null,null,null,null,null,null,1,12.75]
[null,null,null,"• új vagy használt lakás vásárlása",null,null,null,null,null,null,null,1,12.75]
[null,null,null,null,null,null,null,null,null,null,null,0.7,8.9249999999999989]
["  2.1 felhasználási célok, amelyre a hitel fordítható:",null,null,null,null,null,null,null,null,null,null,1,12.75]
["• ingatlanon alapított önálló zálogjog, és annak biztosítására jogszabályon vagy a kölcsönszerződésen alapuló elidegenítési és terhelési tilalom \n• amennyiben a hitel visszafizetésének biztosításához szükséges, óvadékba helyezett pénzösszeg",null,null,null,null,null,null,null,null,null,null,3,38.25]
[null,null,null,null,null,null,null,null,null,null,null,0.7,8.9249999999999989]
["  2.3 a hitel lehetséges futamideje: ",null,null,null,null,null,null,null,null,null,null,1,12.75]
["Termék elnevezése",null,null,"Kamatperiódus hossza","Minimum futamidő","Maximum futamidő","Törlesztőrészletek száma",null,null,null,null,2,25.5]
["- K&H Üzleti feltételű lakáshitel\n- K&H Minősített Fogyasztóbarát lakáshitel",null,null,"12 hónap*",12,360,"12 - 360",null,null,null,null,1,12.75]
[null,null,null,"5 év",60,null,"60 - 360",null,null,null,null,1,12.75]
[null,null,null,"10 év",180,null,"180 - 360",null,null,null,null,1,12.75]
[null,null,null,"fix 10 éves kamat - fix futamidővel",120,120,120,null,null,null,null,2,25.5]
[null,null,null,"fix 15 éves kamat - fix futamidővel",180,180,180,null,null,null,null,2,25.5]
[null,null,null,"fix 20 éves kamat - fix futamidővel",240,240,240,null,null,null,null,2,25.5]
["- K&H lakáscélú hitelek állami támogatással extra",null,null,"5 év",61,300,"61 - 300",null,null,null,null,1,12.75]
["- K&H felújítási hitel állami támogatással",null,null,"5 év",61,120,"61 - 120",null,null,null,null,1,12.75]
["* K&H Minősített Fogyasztóbarát Lakáshitel esetén nem választható kamatperiódus",null,null,null,null,null,null,null,null,null,null,1,12.75]
[null,null,null,null,null,null,null,null,null,null,null,0.7,8.9249999999999989]
["  2.4 a K&H Bank Zrt. által kínált jelzáloghitelek típusai és kamatozása",null,null,null,null,null,null,null,null,null,null,1,12.75]
["Termék elnevezése",null,"Kamatozás",null,null,null,null,null,null,null,null,2,25.5]
["K&H Üzleti feltételű lakáshitel",null,"• Változó kamatozással (ügyfél választása szerint 12 havi BUBOR referenciakamathoz kötött, illetve 5, vagy akár 10 éves kamatperiódusokban rögzített, kamatperiódusonként változó kamatozással), induló díjas konstrukcióban\n• Rögzített (fix) kamatozással a futamidő végéig (ügyfél választása szerint fix 10-15-20 éves futamidővel)",null,null,null,null,null,null,null,null,5,63.75]
["K&H Minősített Fogyasztóbarát Lakáshitel",null,"• 5 vagy 10 éves kamatperiódusokban rögzített, kamatperiódusonként változó kamatozással, induló díjas konstrukcióban\n• Rögzített (fix) kamatozással a futamidő végéig (ügyfél választása szerint fix 10-15-20 éves futamidővel)",null,null,null,null,null,null,null,null,4,51]
["K&H lakáscélú hitelek állami támogatással extra ",null,"• változó, a kamattámogatás időszaka alatt az ÁKK Zrt. által havi rendszerességgel közzétett, a közzétételt megelőző három naptári hónapban tartott öt éves névleges futamidejű államkötvény aukción kialakult átlaghozamok adott aukción elfogadott mennyiségekkel súlyozott számtani átlagától függő kamatozású, a támogatási időszak leteltét követően az adósnak az állami kamattámogatás nélküli bruttó kamatot kell a Bank felé visszafizetnie. ",null,null,null,null,null,null,null,null,6,76.5]
[null,null,null,null,null,null,null,null,null,null,null,1,12.75]
["Rögzített kamatozású hitel: A 2009. évi CLXII. törvény 3.§ 18. pontja alapján a hitelszerződésben annak megkötésekor meghatározott, a hitelszerződés teljes futamidejére vonatkozó egy, vagy a futamidő részeire vonatkozó több, százalékos mérték használatával meghatározott hitelkamat; a hitelkamat kizárólag arra az időszakra tekinthető rögzítettnek, amelyre vonatkozóan a hitelszerződésben a százalékos mértéke meghatározásra került.",null,null,null,null,null,null,null,null,null,null,5,63.75]
["Változó kamatozású hitel: A 2009. évi CLXII. törvény 3.§ 21. pontja alapján minden olyan kamat, ami nem minősül rögzített hitelkamatnak.",null,null,null,null,null,null,null,null,null,null,3,38.25]
["A rögzített és a változó kamatozású hitelek közötti különbség, hogy amíg a rögzített kamatozású hitel esetében a kölcsön devizanemében a teljes futamidő alatt az Ön törlesztőrészlete változatlan. A változó kamatozású hitelek esetében a hitelkamat az alapul szolgáló referenciakamat változásához igazodik, továbbá a Bank a hitelkamatot az előre meghatározott kamatváltoztatási mutatónak megfelelően módosíthatja a mindenkor hatályos jogszabályoknak megfelelően. ",null,null,null,null,null,null,null,null,null,null,4,51]
[null,null,null,null,null,null,null,null,null,null,null,0.7,8.9249999999999989]
["  2.5 alkalmazott referenciamutatók és azok kezelői, valamint következményei a fogyasztóra nézve ",null,null,null,null,null,null,null,null,null,null,1,12.75]
["• 12 havi kamatperiódus esetén az alkalmazott referenciamutató: \n- a 2009. évi CLXII törvény alapján: BUBOR, \n- kezelője: Magyar Nemzeti Bank \n- a referenciamutató változásának következményei: a referenciamutató változása a kamatperiódus forduló alkalmával, azonos mértékben kerül érvényesítésre, amely az ügyleti kamat és a havonta fizetendő törlesztőrészlet változását eredményezi.",null,null,null,null,null,null,null,null,null,null,5,63.75]
["• 5 éves- és 10 éves kamatperiódus esetén kamatváltoztatási mutató: \n- a 2009. évi CLXII törvény alapján: H3K, \n- kezelője: Magyar Nemzeti Bank \n- változás következményei: Az alkalmazott kamatváltoztatási mutató a kamatperiódusnak megfelelő ÁKK referenciahozam alapján számított mutató, mely a lehetséges kamatváltozás mértékét fejezi ki. A mutató értékét kamatperiódus forduló alkalmával kell alkalmazni és az ügyleti kamat és a havonta fizetendő törlesztőrészlet változását eredményezi.",null,null,null,null,null,null,null,null,null,null,6,76.5]
[null,null,null,null,null,null,null,null,null,null,null,0.7,8.9249999999999989]
["  2.6 reprezentatív példa lakossági jelzáloghitelhez K&H Minősített Fogyasztóbarát Lakáshitel esetén – 5 éves kamatperiódussal",null,null,null,null,null,null,null,null,null,null,2,25.5]
["5 millió forint összegű kölcsön esetén, 240 hónapos futamidővel, átutalási és vagyonbiztosítási kamatkedvezménnyel számított, éves 3,79% kamatláb mellett a havi törlesztőrészlet 29 749 forint, a teljes visszafizetendő összeg 7 286 040 forint, a hiteldíj 2 286 040 forint, ebből a hiteldíjban foglalt díjak, költségek összege 146 280 forint, THM: 4,1%. Törlesztőrészletek száma: 240 db",null,null,null,null,null,null,null,null,null,null,3,38.25]
[null,null,null,null,null,null,null,null,null,null,null,0.7,8.9249999999999989]
["  2.7 a hitel teljes díjába bele nem számított költségek és díjak:",null,null,null,null,null,null,null,null,null,null,1,12.75]
["          • adminisztratív költségek (például: behajtással kapcsolatos levelezés díja) \n          • jogi és közvetítői költségek,  ",null,null,null,null,null,null,null,null,null,null,2,25.5]
[null,null,null,null,null,null,null,null,null,null,null,0.7,8.9249999999999989]
["  2.8 az előtörlesztés lehetősége és annak feltételei: ",null,null,null,null,null,null,null,null,null,null,1,12.75]
["Az Adós a Tőketartozást a lejárat előtt részben, vagy teljes egészében előtörlesztheti, amennyiben erre irányuló szándékát a Bank felé írásban jelzi. A banki munkanapokon 15:00 óráig befogadott előtörlesztési kérelmet a Bank a benyújtás napján végrehajtja, amennyiben annak fedezete a törlesztő számlán rendelkezésre áll. A 15:00 óra után benyújtott előtörlesztési nyilatkozatot a Bank csak a következő banki munkanapra fogadja be. Az esedékesség előtt visszafizetett tőkerésszel csökkentett tartozás alapján a hátralévő Futamidőnek megfelelő átértékelt Törlesztőrészlet összegéről a Bank az Adóst írásban értesíti. A Végtörlesztés szándékának bejelentése önmagában nem minősül a Kölcsönszerződés Adós általi felmondásának. Elő- és végtörlesztés esetén az Adós köteles az Elő- és Végtörlesztés napjáig megszolgált kamatokat és díjakat maradéktalanul megfizetni. Amennyiben az Adóstárs kíván Előtörlesztést végrehajtani, akkor az Adóstárs az Adós törlesztő számlája felett kizárólag a befizetett összeg törlesztésre fordítása tárgyában rendelkezhet. Az Adós elismeri, hogy az Adóstárs, Kezes, zálogkötelezett, és a kölcsön biztosítékát nyújtó, vagy annak visszafizetéséért bármilyen személyes vagy dologi kötelezettséget vállaló harmadik fél olyan személynek minősül, akinek a kölcsön visszafizetéséhez törvényes érdeke fűződik, ezért az általuk felajánlott teljesítést a Bank az Adós hozzájárulása nélkül is jogosult elfogadni. \nA Bank jogosult az előtörlesztés miatt felmerült költségei megtérítésére, amelynek pontos mértékét a termékre vonatkozó Hirdetmény tartalmazza.",null,null,null,null,null,null,null,null,null,null,14,178.5]
[null,null,null,null,null,null,null,null,null,null,null,0.7,8.9249999999999989]
["  2.9  K&H Bank Zrt. által kínált törlesztési lehetőségek:",null,null,null,null,null,null,null,null,null,null,1,12.75]
["Törlesztési lehetőségek: K&H banknál vezetett folyószámláról, vagy Hiteltörlesztő számláról \nTörlesztő részletek száma: 12-360 db, de a Törlesztőrészletek száma kamatperiódusonként eltérő lehet. Az adott hiteltermékhez és kamatperiódushoz/fix kamatozáshoz kapcsolódó minimális és maximális kamatperiódust jelen tájékoztató 2.3. pontja részletesen tartalmazza. \nTörlesztőrészletek összege: A havi törlesztőrészlet tartalmazza a tőketörlesztésre, kamatfizetésre és minden egyéb havonta fizetendő díj, jutalék és költség megfizetésére szolgáló összeget. \nTörlesztés gyakorisága: havonta",null,null,null,null,null,null,null,null,null,null,7,89.25]
[null,null,null,null,null,null,null,null,null,null,null,0.7,8.9249999999999989]
["  2.10 a fedezetül szolgáló ingatlan értékelése: ",null,null,null,null,null,null,null,null,null,null,1,12.75]
["Minden esetben kötelező, amelyet – minősített fogyasztóbarát lakáshitel esetén amennyiben a befogadást megelőzően nem áll rendelkezésre 25/1997.(VIII.1.). PM rendeletnek maradéktalanul megfelelő értékbecslés - a K&H Bank Zrt. által kijelölt értékbecslő cég végez el. Az értékbecslés díja a mindenkor érvényes lakossági hitelhirdetményben található.",null,null,null,null,null,null,null,null,null,null,3,38.25]
[null,null,null,null,null,null,null,null,null,null,null,0.7,8.9249999999999989]
["  2.11 hitelfelvételhez kapcsolódó szolgáltatások: ",null,null,null,null,null,null,null,null,null,null,1,12.75]
["• Törlesztőrészletek megfizetésének biztosítására K&H Bank Zrt-nél vezetett bankszámla, vagy Hiteltörlesztő számla megléte. \n• Vagyonbiztosítás megléte a fedezetül felajánlott ingatlanra vonatkozóan. A vagyonbiztosítás megköthető a K&H Biztosító Zrt-nél, illetve bármely más biztosító társaságnál, amennyiben a biztosítás azzal egyenértékű. \n• Adott esetben előírható, hogy a hitelfelvevő rendelkezzen a hitelszerződéshez kapcsolódóan a K&H Bank Zrt. által közvetített életbiztosítással, vagy legalább ezzel egyenértékű életbiztosítással. \n• Amennyiben a hitelfelvevő(k) a hiteligényléskor K&H jelzáloghitel törlesztési és hitelfedezeti biztosítást igényelt(ek), vagy a K&H Bank Zrt. a hitelfelvétel feltételeként előírja az ilyen típusú biztosítást, akkor ennek vagy legalább ezzel egyenértékű biztosításnak a megléte illetve fenntartása. ",null,null,null,null,null,null,null,null,null,null,8,102]
[null,null,null,null,null,null,null,null,null,null,null,0.7,8.9249999999999989]
["  2.12 hitelszerződés be nem tartásának lehetséges következményei: ",null,null,null,null,null,null,null,null,null,null,1,12.75]
["A K&H Bank Zrt. a Kölcsönszerződést azonnali hatállyal jogosult felmondani, amennyiben a lakossági hitelekre vonatkozó ÁSZF-ben megtalálható Súlyos Szerződésszegési Események bekövetkeznek (pl. nemteljesítés, fizetési késedelem, fedezet elvonás, biztosítéki szerződésszegés). A felmondás hatályosulásával a teljes tartozás lejárttá és közvetlen végrehajtás, vagy egyéb törvényes úton  egyösszegben követelhetővé válik, mely esetben az adott értéknapon nyilvántartott lejárt tartozásra a Bank jogosult késedelmi kamatot felszámítani. A központi hitelinformációs rendszerről szóló 2011. évi CXXII. törvényben meghatározott esetekben a fogyasztó felkerül a KHR-be. A biztosítékul felajánlott ingatlan/ok végrehajtás alá kerülhet. A Bank jogosult a követelést harmadik személy részére engedményezni.",null,null,null,null,null,null,null,null,null,null,7,89.25]
[null,null,null,null,null,null,null,null,null,null,null,0.7,8.9249999999999989]
["  2.13 A lakáshitelek törlesztéséhez kapcsolódó adókedvezmény és egyéb állami támogatás a jelenleg hatályos jogszabályok alapján vehető igénybe: ",null,null,null,null,null,null,null,null,null,null,2,25.5]
["A K&H Bank a 134/2009. Korm. rendelet  és 341/2011. Korm.rendelet alapján nyújtható Kamattámogatott hitelt nem értékesíti.  \nA K&H Bank a  16/2016. és a 17/2016. Korm. rendeletek alapján nyújtható Kamattámogatott hitelt értékesíti. Bővebb információ az igényelhető állami támogatásokról elérhető a bank honlapján és fiókhálózatában.",null,null,null,null,null,null,null,null,null,null,4,51]
[null,null,null,null,null,null,null,null,null,null,null,0.7,8.9249999999999989]
["  2.14 hitelbírálat időtartama: ",null,null,null,null,null,null,null,null,null,null,1,12.75]
["Az értékbecslés rendelkezésre állásától illetve előrehozott értékbecslés esetén a befogadás napjától számított 15 munkanap. \n\n \nJelen tájékoztató a 3/2016 NGM Rendelet 1. számú melléklete alapján készült.  \n \nA Bank a fogyasztóknak nyújtott hitelről szóló 2009. évi CLXII. törvény 5., 7., 12. §-a szerinti dokumentációt/ felvilágosítást, a részletes igényfelmérést követően, a jogszabályokban meghatározott időrendi sorrendben, részletezettségben és formában nyújtja/adja át. ",null,null,null,null,null,null,null,null,null,null,11,140.25]
[{"$f":"CONCATENATE(\"Kelt: …………………………………...……… ,    \",TEXT(TODAY(),\"éééé.hhhh.nn\"))","v":"Kelt: …………………………………...……… ,    2021.július.09"},null,null,null,null,null,null,null,null,null,null,1,12.75]
[null,"……………………………….",null,null,null,{"$f":"IF(Ügyféladatok!$F$50>1,\"……………………………….\",\"\")","v":"………………………………."},null,null,null,null,null,3,38.25]
[null,{"$f":"HLOOKUP(1,Ügyféladatok!$B$51:$E$57,4,FALSE)","v":""},null,null,null,{"$f":"IF(Ügyféladatok!$F$50>1,HLOOKUP(2,Ügyféladatok!$B$51:$E$57,4,FALSE),\"\")","v":""},null,null,null,null,null,1,12.75]
[null,null,null,null,null,null,null,null,null,null,null,1,12.75]
[null,{"$f":"IF(Ügyféladatok!$F$50>2,\"……………………………….\",\"\")","v":""},null,null,null,{"$f":"IF(Ügyféladatok!$F$50>3,\"……………………………….\",\"\")","v":""},null,null,null,null,null,{"$f":"IF(AND(Ügyféladatok!$D$2=\"nincs\",Ügyféladatok!$E$2=\"nincs\"),0,3)","v":0},0]
[null,{"$f":"IF(Ügyféladatok!$F$50>2,HLOOKUP(3,Ügyféladatok!$B$51:$E$57,4,FALSE),\"\")","v":""},null,null,null,{"$f":"IF(Ügyféladatok!$F$50>3,HLOOKUP(4,Ügyféladatok!$B$51:$E$57,4,FALSE),\"\")","v":""},null,null,null,null,null,{"$f":"IF(AND(Ügyféladatok!$D$2=\"nincs\",Ügyféladatok!$E$2=\"nincs\"),0,1)","v":0},0]

{"sheet":"Ind-Sz-MFL","index":8,"n_rows":218,"n_cols":27,"rows_kept":218,"cut":false,"hidden":true,"merged":[[175,2,175,5],[176,2,176,5],[177,2,177,5],[178,2,178,5],[175,8,175,11],[176,8,176,11],[177,8,177,11],[178,8,178,11],[174,2,174,5],[174,8,174,11],[175,0,175,1],[176,0,176,1],[177,0,177,1],[178,0,178,1],[163,0,163,11],[164,0,164,11],[165,0,165,11],[166,0,166,11],[167,0,167,11],[168,0,168,11],[169,2,169,5],[169,8,169,11],[170,0,170,1],[171,0,171,1],[172,0,172,1],[173,0,173,1],[173,2,173,5],[172,2,172,5],[171,2,171,5],[170,2,170,5],[170,8,170,11],[171,8,171,11],[172,8,172,11],[173,8,173,11],[140,6,140,7],[141,6,141,7],[142,6,142,7],[143,6,143,7],[145,0,145,11],[146,0,146,11],[131,6,131,7],[132,6,132,7],[133,6,133,7],[134,6,134,7],[135,6,135,7],[136,6,136,7],[137,6,137,7],[138,6,138,7],[139,6,139,7],[132,10,132,11],[133,10,133,11],[134,10,134,11],[135,10,135,11],[136,10,136,11],[137,10,137,11],[138,10,138,11],[139,10,139,11],[140,10,140,11],[122,6,122,7],[123,6,123,7],[124,6,124,7],[125,6,125,7],[126,6,126,7],[127,6,127,7],[128,6,128,7],[129,6,129,7],[130,6,130,7],[123,10,123,11],[124,10,124,11],[125,10,125,11],[126,10,126,11],[127,10,127,11],[128,10,128,11],[129,10,129,11],[130,10,130,11],[131,10,131,11],[114,6,114,7],[114,10,114,11],[115,10,115,11],[116,10,116,11],[117,10,117,11],[118,10,118,11],[119,10,119,11],[120,10,120,11],[121,10,121,11],[114,8,114,9],[115,8,115,9],[116,8,116,9],[117,8,117,9],[118,8,118,9],[119,8,119,9],[120,8,120,9],[121,8,121,9],[115,6,115,7],[116,6,116,7],[117,6,117,7],[118,6,118,7],[119,6,119,7],[120,6,120,7],[121,6,121,7],[132,4,132,5],[133,4,133,5],[134,4,134,5],[135,4,135,5],[136,4,136,5],[137,4,137,5],[138,4,138,5],[139,4,139,5],[140,4,140,5],[123,4,123,5],[124,4,124,5],[125,4,125,5],[126,4,126,5],[127,4,127,5],[128,4,128,5],[129,4,129,5],[130,4,130,5],[131,4,131,5],[114,4,114,5],[115,4,115,5],[116,4,116,5],[117,4,117,5],[118,4,118,5],[119,4,119,5],[120,4,120,5],[121,4,121,5],[122,4,122,5],[132,8,132,9],[133,8,133,9],[134,8,134,9],[135,8,135,9],[136,8,136,9],[137,8,137,9],[138,8,138,9],[139,8,139,9],[140,8,140,9],[123,8,123,9],[124,8,124,9],[125,8,125,9],[126,8,126,9],[127,8,127,9],[128,8,128,9],[129,8,129,9],[130,8,130,9],[131,8,131,9],[105,8,105,9],[106,8,106,9],[107,8,107,9],[108,8,108,9],[109,8,109,9],[110,8,110,9],[111,8,111,9],[122,8,122,9],[106,10,106,11],[107,10,107,11],[108,10,108,11],[109,10,109,11],[110,10,110,11],[111,10,111,11],[112,10,112,11],[113,10,113,11],[112,8,112,9],[113,8,113,9],[122,10,122,11],[106,6,106,7],[107,6,107,7],[108,6,108,7],[109,6,109,7],[110,6,110,7],[111,6,111,7],[112,6,112,7],[113,6,113,7],[103,4,103,5],[104,4,104,5],[105,4,105,5],[106,4,106,5],[107,4,107,5],[108,4,108,5],[109,4,109,5],[110,4,110,5],[111,4,111,5],[112,4,112,5],[113,4,113,5],[78,0,78,11],[79,0,79,11],[80,0,80,11],[81,0,81,11],[82,0,82,11],[83,0,83,11],[84,0,84,11],[85,0,85,11],[103,6,103,7],[103,10,103,11],[91,0,91,11],[92,0,92,11],[93,0,93,11],[94,0,94,11],[95,0,95,11],[86,0,86,11],[87,0,87,11],[88,0,88,11],[89,0,89,11],[90,0,90,11],[102,6,102,7],[102,8,102,9],[102,10,102,11],[103,0,103,1],[69,0,69,11],[70,0,70,11],[71,0,71,11],[72,0,72,11],[73,0,73,11],[74,0,74,11],[75,0,75,11],[76,0,76,11],[77,0,77,11],[60,0,60,11],[61,0,61,11],[62,0,62,11],[63,0,63,11],[64,0,64,11],[65,0,65,11],[66,0,66,11],[67,0,67,11],[68,0,68,11],[51,0,51,11],[52,0,52,11],[53,0,53,11],[54,0,54,11],[55,0,55,11],[56,0,56,11],[57,0,57,11],[58,0,58,11],[59,0,59,11],[10,0,10,11],[1,0,1,11],[2,0,2,11],[3,0,3,11],[4,0,4,11],[5,0,5,11],[6,0,6,11],[7,0,7,11],[8,0,8,11],[9,0,9,11],[16,0,16,11],[17,0,17,11],[18,0,18,11],[20,0,20,11],[21,0,21,11],[11,0,11,11],[12,0,12,11],[13,0,13,11],[14,0,14,11],[15,0,15,11],[28,0,28,11],[30,0,30,11],[31,0,31,11],[32,0,32,11],[19,0,19,11],[22,0,22,11],[23,0,23,11],[24,0,24,11],[25,0,25,11],[26,0,26,11],[27,0,27,11],[29,0,29,11],[47,0,47,11],[48,0,48,11],[49,0,49,11],[50,0,50,11],[45,0,45,11],[40,0,40,11],[41,0,41,11],[42,0,42,11],[43,0,43,11],[44,0,44,11],[39,0,39,11],[33,0,33,11],[35,0,35,11],[34,0,34,6],[34,7,34,11],[36,0,36,11],[37,0,37,11],[38,0,38,11],[46,0,46,11],[96,0,96,11],[97,0,97,11],[98,0,98,11],[99,0,99,11],[104,6,104,7],[105,6,105,7],[104,10,104,11],[105,10,105,11],[102,0,102,1],[102,2,102,3],[102,4,102,5],[100,0,100,1],[100,2,100,3],[100,4,100,5],[100,6,100,7],[100,8,100,9],[100,10,100,11],[101,0,101,1],[101,2,101,3],[101,4,101,5],[101,6,101,7],[101,8,101,9],[103,8,103,9],[104,8,104,9],[111,0,111,1],[112,0,112,1],[113,0,113,1],[106,0,106,1],[107,0,107,1],[108,0,108,1],[109,0,109,1],[110,0,110,1],[104,0,104,1],[105,0,105,1],[128,0,128,1],[129,0,129,1],[130,0,130,1],[101,10,101,11],[121,0,121,1],[122,0,122,1],[123,0,123,1],[124,0,124,1],[125,0,125,1],[116,0,116,1],[117,0,117,1],[118,0,118,1],[119,0,119,1],[120,0,120,1],[116,2,116,3],[117,2,117,3],[118,2,118,3],[119,2,119,3],[120,2,120,3],[121,2,121,3],[122,2,122,3],[123,2,123,3],[124,2,124,3],[125,2,125,3],[112,2,112,3],[113,2,113,3],[114,2,114,3],[115,2,115,3],[136,0,136,1],[137,0,137,1],[138,0,138,1],[126,2,126,3],[127,2,127,3],[128,2,128,3],[129,2,129,3],[130,2,130,3],[114,0,114,1],[115,0,115,1],[136,2,136,3],[137,2,137,3],[138,2,138,3],[131,0,131,1],[132,0,132,1],[133,0,133,1],[134,0,134,1],[135,0,135,1],[126,0,126,1],[127,0,127,1],[103,2,103,3],[104,2,104,3],[105,2,105,3],[106,2,106,3],[107,2,107,3],[108,2,108,3],[109,2,109,3],[110,2,110,3],[111,2,111,3],[139,2,139,3],[140,2,140,3],[131,2,131,3],[132,2,132,3],[133,2,133,3],[134,2,134,3],[135,2,135,3],[144,0,144,1],[144,2,144,3],[139,0,139,1],[140,0,140,1],[144,4,144,5],[144,6,144,7],[144,8,144,9],[144,10,144,11],[141,2,141,3],[142,2,142,3],[143,2,143,3],[141,0,141,1],[142,0,142,1],[143,0,143,1],[141,8,141,9],[142,8,142,9],[143,8,143,9],[141,4,141,5],[142,4,142,5],[143,4,143,5],[141,10,141,11],[142,10,142,11],[143,10,143,11],[156,0,156,11],[157,0,157,11],[158,0,158,11],[159,0,159,11],[160,0,160,11],[161,0,161,11],[162,0,162,11],[147,0,147,11],[148,0,148,11],[149,0,149,11],[150,0,150,11],[151,0,151,11],[152,0,152,11],[153,0,153,11],[154,0,154,11],[155,0,155,11],[179,0,179,11],[184,8,184,11],[184,0,184,7],[185,0,185,3],[185,4,185,7],[186,8,186,10],[185,8,185,10],[186,4,186,7],[186,0,186,3],[187,0,187,3],[188,0,188,3],[187,4,187,7],[188,4,188,7],[187,8,187,10],[188,8,188,10],[189,0,189,3],[190,0,190,3],[189,4,189,7],[190,4,190,7],[189,8,189,10],[190,8,190,10],[191,8,191,11],[192,8,192,10],[193,8,193,11],[194,8,194,10],[195,8,196,10],[197,8,198,10],[191,0,191,3],[192,0,192,3],[193,0,193,3],[194,0,194,3],[191,4,191,7],[193,4,193,7],[192,4,192,7],[194,4,194,7],[199,8,199,11],[201,0,201,7],[202,0,202,7],[201,8,201,11],[202,8,202,11],[204,0,204,5],[204,6,204,11],[205,0,205,5],[195,0,195,3],[196,0,196,3],[197,0,197,3],[198,0,198,3],[195,4,195,7],[196,4,196,7],[197,4,197,7],[198,4,198,7],[199,0,199,3],[199,4,199,7],[206,0,206,5],[207,0,207,5],[208,0,208,5],[209,0,209,5],[209,6,209,8],[208,6,208,8],[207,6,207,8],[206,6,206,8],[205,6,205,8],[216,0,216,11],[217,0,217,11],[210,0,210,5],[210,6,210,8],[211,0,211,11],[213,0,213,5],[214,0,214,5],[215,0,215,5],[213,6,213,11],[214,6,214,11],[215,6,215,11]]}
[null,null,null,null,null,null,null,null,null,null,null,null,null,null,null,"sormagasság",12.75,null,null,null,null,{"$f":"V22","v":{"$error":"#N/A"}}]
["II. Személyes tájékoztatás a jelzáloghitelről\n",null,null,null,null,null,null,null,null,null,null,null,null,null,null,3,{"$f":"P2*$Q$1","v":38.25},null,{"$f":"DAY(TODAY())","v":9},1,"-én"]
["Bevezető szöveg",null,null,null,null,null,null,null,null,null,null,null,null,null,null,1,{"$f":"P3*$Q$1","v":12.75},null,null,{"$f":"T2+1","v":2},"-án"]
[{"$f":"CONCATENATE(\"Ez a dokumentum \",TEXT(TODAY(),\"éééé.hh.nn\"),VLOOKUP(S2,T2:U32,2,FALSE),\" \",Ügyféladatok!B4,\" részére készült.\")","v":"Ez a dokumentum 2021.07.09-én  részére készült."},null,null,null,null,null,null,null,null,null,null,null,null,null,null,1,{"$f":"P4*$Q$1","v":12.75},null,null,{"$f":"T3+1","v":3},"-án"]
["Ez a dokumentum az Ön által ezidáig megadott adatok és a jelenlegi pénzügyi piaci feltételek alapján készült.",null,null,null,null,null,null,null,null,null,null,null,null,null,null,1,{"$f":"P5*$Q$1","v":12.75},null,null,4,"-én"]
[{"$f":"CONCATENATE(\"Az alábbi tájékoztatás a kamat és egyéb költségek kivételével \",TEXT(TODAY()+30,\"éééé.hh.nn\"),\"-ig érvényes. Ezt követően a piaci feltételek függvényében, a Bank mindenkor hatályos hirdetményében foglalt feltételekkel változhat.\")","v":"Az alábbi tájékoztatás a kamat és egyéb költségek kivételével 2021.08.08-ig érvényes. Ezt követően a piaci feltételek függvényében, a Bank mindenkor hatályos hirdetményében foglalt feltételekkel változhat."},null,null,null,null,null,null,null,null,null,null,null,null,null,null,2,{"$f":"P6*$Q$1","v":25.5},null,null,5,"-én"]
["Ez a dokumentum nem kötelezi a K&H Bank Zrt-t arra, hogy hitelt nyújtson Önnek.",null,null,null,null,null,null,null,null,null,null,null,null,null,null,2,25.5,null,null,{"$f":"T6+1","v":6},"-án"]
["1. Hitelező:\nA hitelező neve (cégneve): K&H Bank Zrt \nTelefonszám: (06 1/20/30/70) 335 3355\nLevelezési címe: 1095 Budapest, Lechner Ödön fasor 9.\nInternet címe: www.kh.hu\nA hitelező hiteltanácsadási tevékenységet nem végez.",null,null,null,null,null,null,null,null,null,null,null,null,null,null,7,89.25,null,null,{"$f":"T7+1","v":7},"-én"]
["2. Hitelközvetítő:",null,null,null,null,null,null,null,null,null,null,null,null,null,null,1,12.75,null,null,{"$f":"T8+1","v":8},"-án"]
[{"$f":"CONCATENATE(\"Hitelközvetítő neve (cégneve): \",'Kezdő oldal'!B1)","v":"Hitelközvetítő neve (cégneve): "},null,null,null,null,null,null,null,null,null,null,null,null,null,null,1,12.75,null,null,{"$f":"T9+1","v":9},"-én"]
[{"$f":"CONCATENATE(\"Telefonszám: \",'Kezdő oldal'!B4)","v":"Telefonszám: "},null,null,null,null,null,null,null,null,null,null,null,null,null,null,1,12.75,null,null,{"$f":"T10+1","v":10},"-én"]
[{"$f":"CONCATENATE(\"Levelezési címe: \",'Kezdő oldal'!B2)","v":"Levelezési címe: "},null,null,null,null,null,null,null,null,null,null,null,null,null,null,1,12.75,null,null,11,"-én"]
[{"$f":"CONCATENATE(\"Díjazás: \",IF(AND('Kezdő oldal'!B6='Kezdő oldal'!Q3,OR('Kezdő oldal'!F6=\"\",'Kezdő oldal'!F7=\"\")),L30,IF('Kezdő oldal'!B6='Kezdő oldal'!Q3,'Kezdő oldal'!H7,IF('Kezdő oldal'!B6='Kezdő oldal'!Q4,'Kezdő oldal'!A11,L30))))","v":"Díjazás: "},null,null,null,null,null,null,null,null,null,null,null,null,null,null,6,76.5,null,null,12,"-én","Nincs kiválasztva a díjazás megjelenítésének formája vagy nincs kitöltve a jutalékszint"]
["A Hitelközvetítő a Hitelező megbízásából hiteltanácsadási tevékenységet nem végez.",null,null,null,null,null,null,null,null,null,null,null,null,null,null,2,25.5,null,null,13,"-án","Díjazás: Nincs kiválasztva a díjazás megjelenítésének formája vagy nincs kitöltve a jutalékszint"]
["3. A hitel fő jellemzői",null,null,null,null,null,null,null,null,null,null,null,null,null,null,1,12.75,null,null,14,"-én"]
[{"$f":"CONCATENATE(\"A hitel összege és pénzneme: \",TEXT(ROUND(Hiteladatok!B15,0),\"# ##\"),\" Ft\")","v":"A hitel összege és pénzneme:  Ft"},null,null,null,null,null,null,null,null,null,null,null,null,null,null,1,12.75,null,null,15,"-én"]
[{"$f":"CONCATENATE(\"A futamidő: \",Hiteladatok!B16,\" hónap\")","v":"A futamidő: 240 hónap"},null,null,null,null,null,null,null,null,null,null,null,null,null,null,1,12.75,null,null,16,"-án","MFL",9,"K&H Minősített Fogyasztóbarát lakáshitelt használt vagy új, már használatbavételi engedéllyel vagy hatósági bizonyítvánnyal rendelkező lakó- vagy üdülő, hétvégi ház, apartman típusú ingatlan vásárlásra, illetve igazoltan lakáscélú hitelek refinanszírozására nyújtjuk. K&H Minősített Fogyasztóbarát Lakáshitel esetén a fedezetül szolgáló ingatlan vonatkozásában az ingatlan-nyilvántartásba önálló zálogjog, valamint ennek biztosítására elidegenítési és terhelési tilalom kerül bejegyzésre a K&H Bank Zrt., mint Zálogjogosult javára.\nA hitel törlesztése során a tőketartozást a Bank havonta a K&H Banknál vezetett K&H forint lakossági bankszámláról/Hiteltörlesztő számláról szedi be a kamattal együtt. Annuitásos törlesztésű hitel, mely esetén az adós minden kamatperiódusban azonos összegű törlesztő részletet fizet, folyamatosan csökkenő kamat-, és növekvő tőketartalommal. A hitel felvétele nem függ harmadik fél által vállalt kezességtől."]
["A hitel típusa:",null,null,null,null,null,null,null,null,null,null,null,null,null,null,1,12.75,null,null,17,"-én","üzleti",8,"K&H üzleti feltételű lakáshitelt lakó- vagy üdülő ingatlan vásárlásra, építésre, bővítésre, korszerűsítésre, felújításra, illetve lakáscélú hitelek refinanszírozására nyújtjuk. K&H üzleti feltételű lakáshitel esetén a fedezetül szolgáló ingatlan vonatkozásában az ingatlan-nyilvántartásba önálló zálogjog, valamint ennek biztosítására elidegenítési és terhelési tilalom kerül bejegyzésre a K&H Bank Zrt., mint Zálogjogosult javára.\nA hitel törlesztése során a tőketartozást a Bank havonta a K&H Banknál vezetett K&H forint lakossági bankszámláról/Hiteltörlesztő számláról szedi be a kamattal együtt. Annuitásos törlesztésű hitel, mely esetén az adós minden kamatperiódusban azonos összegű törlesztő részletet fizet, folyamatosan csökkenő kamat-, és növekvő tőketartalommal. A hitel felvétele nem függ harmadik fél által vállalt kezességtől.","A fogyasztóknak nyújtott hitelről szóló 2009. évi CLXII. törvény (továbbiakban Fhtv.) 21/C. § alapján Önnek lehetősége van az Ön számára idegen pénznemben fennálló tartozása átváltására egyoldalú jognyilatkozattal. A tartozás idegen pénznemre történő átváltása nem minősül szerződésmódosításnak. Az idegen pénznemre történő átváltás részletes szabályait, devizanemre vonatkozó Fhtv. 21/C.§ (4) bekezdésén alapuló korlátozását, az átváltás eredményeképp a kölcsön kamatának Fhtv. 21/D.§-a szerinti változására vonatkozó rendelkezéseket a mindenkor hatályos vonatkozó Hirdetmény 8. számú függeléke tartalmazza."]
[{"$f":"VLOOKUP(Hiteladatok!O16,'Ind-Sz-MFL'!V17:X18,3,FALSE)","v":{"$error":"#N/A"}},null,null,null,null,null,null,null,null,null,null,null,null,null,null,{"$f":"VLOOKUP(Hiteladatok!O16,V17:W18,2,FALSE)","v":{"$error":"#N/A"}},{"$error":"#N/A"},null,null,18,"-án"]
[{"$f":"VLOOKUP(Hiteladatok!O16,'Ind-Sz-MFL'!V17:Y18,4,FALSE)","v":{"$error":"#N/A"}},null,null,null,null,null,null,null,null,null,null,null,null,null,null,{"$f":"IF(Hiteladatok!O16='Ind-Sz-MFL'!V18,6,0)","v":{"$error":"#N/A"}},{"$error":"#N/A"},null,null,19,"-én"]
["Az alkalmazandó kamatláb típusa:",null,null,null,null,null,null,null,null,null,null,null,null,null,null,1,12.75,null,null,20,"-án","kamatperiódus típusa"]
["Kölcsön referencia kamatlába: a kamatperiódus kezdetét megelőző hónap utolsó munkanapja előtt 2 nappal érvényes 12 havi BUBOR",null,null,null,null,null,null,null,null,null,null,null,null,null,"rövid",{"$f":"IF($V$22=1,2,0)","v":{"$error":"#N/A"}},{"$error":"#N/A"},null,null,21,"-én",{"$f":"IF(AND(Hiteladatok!$O$16=$V$18,Hiteladatok!$B$17=Hiteladatok!$R$23),1,IF(OR(Hiteladatok!$B$17=Hiteladatok!$R$24,Hiteladatok!$B$17=Hiteladatok!$R$25),2,3))","v":{"$error":"#N/A"}}]
[{"$f":"AA23","v":"A Bank tájékoztatja az Adóst, hogy az irányadó referenciakamat mértéke 2021.7. hónapra vonatkozóan 1,34%."},null,null,null,null,null,null,null,null,null,null,null,null,null,"rövid",{"$f":"IF($V$22=1,1,0)","v":{"$error":"#N/A"}},{"$error":"#N/A"},null,null,22,"-én","A Bank tájékoztatja az Adóst, hogy az irányadó referenciakamat mértéke ",{"$f":"CONCATENATE(YEAR(TODAY()),\".\",MONTH(TODAY()))","v":"2021.7"},". hónapra vonatkozóan ",{"$f":"kondíciók!B5*100","v":1.34},"%.",{"$f":"CONCATENATE(V23,W23,X23,Y23,Z23)","v":"A Bank tájékoztatja az Adóst, hogy az irányadó referenciakamat mértéke 2021.7. hónapra vonatkozóan 1,34%."}]
["Kölcsön referencia kamatlábának mindenkori aktuális mértéke megtekinthető a Bank honlapján (www.kh.hu).",null,null,null,null,null,null,null,null,null,null,null,null,null,"rövid",{"$f":"IF($V$22=1,1.5,0)","v":{"$error":"#N/A"}},{"$error":"#N/A"},null,null,23,"-án"]
["Kölcsön ügyleti kamata: változó, mértéke évi: Kölcsön referencia kamatlába + fix kamatfelár, amely a futamidő alatt nem változik.",null,null,null,null,null,null,null,null,null,null,null,null,null,"rövid",{"$f":"IF($V$22=1,2,0)","v":{"$error":"#N/A"}},{"$error":"#N/A"},null,null,24,"-én"]
["A Kölcsön ügyleti kamata a 12 havi BUBOR mértékét legfeljebb az aktuális Hirdetményben meghatározott eltéréssel haladja meg.",null,null,null,null,null,null,null,null,null,null,null,null,null,"rövid",{"$f":"IF($V$22=1,2,0)","v":{"$error":"#N/A"}},{"$error":"#N/A"},null,null,25,"-én"]
["A kölcsön ügyleti kamata: kamatperióduson belül rögzített. Fix kamatozású hitelek esetén a hitelező a hitelkamatot legfeljebb az MNB honlapján közzétett kamatváltoztatási mutató alkalmazásával számított mértékig módosíthatja.",null,null,null,null,null,null,null,null,null,null,null,null,null,"hosszú",{"$f":"IF($V$22=2,2,0)","v":{"$error":"#N/A"}},{"$error":"#N/A"},null,null,26,"-án"]
["Az alkalmazott kamatváltoztatási mutató:",null,null,null,null,null,null,null,null,null,null,null,null,null,"hosszú",{"$f":"IF($V$22=2,1,0)","v":{"$error":"#N/A"}},{"$error":"#N/A"},null,null,27,"-én"]
[{"$f":"CONCATENATE(Hiteladatok!B17,\"es kamatperiódus esetén: \",VLOOKUP(Hiteladatok!B17,Hiteladatok!R23:V28,5,FALSE))","v":"10 éves kamatperiódus esetén: H3K10"},null,null,null,null,null,null,null,null,null,null,null,null,null,"hosszú",{"$f":"IF($V$22=2,1,0)","v":{"$error":"#N/A"}},{"$error":"#N/A"},null,null,28,"-án"]
["A mutató a 3 havi átlagos ÁKK referenciahozam különbsége két egymást követő kamatperiódus között. A magyar állam kockázati felára, mely korrelál a Magyarországon tevékenykedő pénzintézetek forrásszerzési költségével.\nKépletben: H3K = ákkt+1 - ákkt, ahol\nt: a kamatperiódust jelöli, mely maximum 6 lehet (5 darab kamatváltoztatás). Egészen pontosan a kamatperiódus fordulónapja előtti 120. nap hónapját megelőző 3 hónapban az ÁKK referenciakamat 3-havi számtani átlaga.",null,null,null,null,null,null,null,null,null,null,null,null,null,"hosszú",{"$f":"IF($V$22=2,5.5,0)","v":{"$error":"#N/A"}},{"$error":"#N/A"},null,null,29,"-én"]
["ákk: Az Államadósság Kezelő Központ Zrt. (ÁKK) által havi rendszerességgel közzétett, az elsődleges forgalmazók árjegyzési kötelezettsége alapján 5 éves névleges futamidejű államkötvényre vonatkozóan kereskedési naponként számított és közzétett referenciahozamok értéke. ",null,null,null,null,null,null,null,null,null,null,null,null,null,"hosszú",{"$f":"IF(AND($V$22=2,Hiteladatok!B17=Hiteladatok!R24),3,0)","v":{"$error":"#N/A"}},{"$error":"#N/A"},null,null,30,"-án"]
["ákk: Az Államadósság Kezelő Központ Zrt. (ÁKK) által havi rendszerességgel közzétett, az elsődleges forgalmazók árjegyzési kötelezettsége alapján 10 éves névleges futamidejű államkötvényre vonatkozóan kereskedési naponként számított és közzétett referenciahozamok értéke. ",null,null,null,null,null,null,null,null,null,null,null,null,null,"hosszú",{"$f":"IF(AND($V$22=2,Hiteladatok!B17=Hiteladatok!R25),3,0)","v":{"$error":"#N/A"}},{"$error":"#N/A"},null,null,31,"-én"]
[{"$f":"CONCATENATE(\"További részletek az MNB honlapján: https://www.mnb.hu/penzugyi-stabilitas/fair-bank \",IF(Hiteladatok!O16='Ind-Sz-MFL'!V17,\"és http://www.minositetthitel.hu\",\"\"))","v":{"$error":"#N/A"}},null,null,null,null,null,null,null,null,null,null,null,null,null,"hosszú",{"$f":"IF($V$22=2,2,0)","v":{"$error":"#N/A"}},{"$error":"#N/A"}]
["Az ügyleti kamat a következő kamatperiódus vonatkozásában a szerződésben rögzített kamatváltoztatási mutató alapján, az irányadó szerződési feltételeknek megfelelően, a mindenkori hatályos Hirdetmény szerint változhat, melyről a Bank írásban tájékoztatja Adóst.",null,null,null,null,null,null,null,null,null,null,null,null,null,"hosszú",{"$f":"IF($V$22=2,4,0)","v":{"$error":"#N/A"}},{"$error":"#N/A"}]
["A kölcsön ügyleti kamata: a Kölcsön teljes futamideje alatt rögzített, ",null,null,null,null,null,null,{"$f":"'Új PD'!D14","v":{"$error":"#DIV/0!"}},null,null,null,null,null,null,"fix",{"$f":"IF($V$22=3,2,0)","v":{"$error":"#N/A"}},{"$error":"#N/A"}]
[{"$f":"CONCATENATE(\"Alkalmazott kamatváltoztatási mutató: \",VLOOKUP(Hiteladatok!B17,Hiteladatok!R23:V28,5,FALSE))","v":"Alkalmazott kamatváltoztatási mutató: H3K10"},null,null,null,null,null,null,null,null,null,null,null,null,null,"fix",{"$f":"IF(AND($V$22=3,Hiteladatok!$O$16='Ind-Sz-MFL'!$V$17),1,0)","v":{"$error":"#N/A"}},{"$error":"#N/A"}]
["A fix kamatozású (10 éves futamidővel) konstrukció esetén a kamatváltoztatási mutató és annak kalkulációjára vonatkozó képlete kizárólag arra tekintettel kerül feltüntetésre, mert a kölcsönhöz tartozó maximális kamatszint megállapításához kerül felhasználásra, viszont a kölcsön kamata fix, az a futamidő alatt állandó (kivéve a kamatkedvezmények hirdetményben meghatározott esetekben és módon történő megvonását).",null,null,null,null,null,null,null,null,null,null,null,null,null,"fix",{"$f":"IF(AND(Hiteladatok!$B$16=120,$V$22=3,Hiteladatok!$O$16='Ind-Sz-MFL'!$V$17,Hiteladatok!$V$29=Hiteladatok!$V$26),4,0)","v":{"$error":"#N/A"}},{"$error":"#N/A"}]
["A fix kamatozású (15 éves futamidővel) konstrukció esetén a kamatváltoztatási mutató és annak kalkulációjára vonatkozó képlete kizárólag arra tekintettel kerül feltüntetésre, mert a kölcsönhöz tartozó maximális kamatszint megállapításához kerül felhasználásra, viszont a kölcsön kamata fix, az a futamidő alatt állandó (kivéve a kamatkedvezmények hirdetményben meghatározott esetekben és módon történő megvonását).",null,null,null,null,null,null,null,null,null,null,null,null,null,"fix",{"$f":"IF(AND(Hiteladatok!$B$16=180,$V$22=3,Hiteladatok!$O$16='Ind-Sz-MFL'!$V$17,Hiteladatok!$V$29=Hiteladatok!$V$27),4,0)","v":{"$error":"#N/A"}},{"$error":"#N/A"}]
["A fix kamatozású (20 éves futamidővel) konstrukció esetén a kamatváltoztatási mutató és annak kalkulációjára vonatkozó képlete kizárólag arra tekintettel kerül feltüntetésre, mert a kölcsönhöz tartozó maximális kamatszint megállapításához kerül felhasználásra, viszont a kölcsön kamata fix, az a futamidő alatt állandó (kivéve a kamatkedvezmények hirdetményben meghatározott esetekben és módon történő megvonását).",null,null,null,null,null,null,null,null,null,null,null,null,null,"fix",{"$f":"IF(AND(Hiteladatok!$B$16=240,$V$22=3,Hiteladatok!$O$16='Ind-Sz-MFL'!$V$17,Hiteladatok!$V$29=Hiteladatok!$V$28),4,0)","v":{"$error":"#N/A"}},{"$error":"#N/A"}]
["A mutató a 3 havi átlagos ÁKK referenciahozam különbsége két egymást követő kamatperiódus között. A magyar állam kockázati felára, mely korrelál a Magyarországon tevékenykedő pénzintézetek forrásszerzési költségével.\nKépletben: H3K = ákkt+1 - ákkt, ahol\nt: a kamatperiódust jelöli, mely maximum 6 lehet (5 darab kamatváltoztatás). Egészen pontosan a kamatperiódus fordulónapja előtti 120. nap hónapját megelőző 3 hónapban az ÁKK referenciakamat 3-havi számtani átlaga.",null,null,null,null,null,null,null,null,null,null,null,null,null,"fix",{"$f":"IF(AND($V$22=3,Hiteladatok!$O$16='Ind-Sz-MFL'!$V$17),5.5,0)","v":{"$error":"#N/A"}},{"$error":"#N/A"}]
["ákk: Az Államadósság Kezelő Központ Zrt. (ÁKK) által havi rendszerességgel közzétett, az elsődleges forgalmazók árjegyzési kötelezettsége alapján 10 éves névleges futamidejű államkötvényre vonatkozóan kereskedési naponként számított és közzétett referenciahozamok értéke. ",null,null,null,null,null,null,null,null,null,null,null,null,null,"fix",{"$f":"IF(AND(Hiteladatok!$B$16=120,$V$22=3,Hiteladatok!$O$16='Ind-Sz-MFL'!$V$17,Hiteladatok!$V$29=Hiteladatok!$V$26),3,0)","v":{"$error":"#N/A"}},{"$error":"#N/A"}]
["ákk: Az Államadósság Kezelő Központ Zrt. (ÁKK) által havi rendszerességgel közzétett, az elsődleges forgalmazók árjegyzési kötelezettsége alapján 15 éves névleges futamidejű államkötvényre vonatkozóan kereskedési naponként számított és közzétett referenciahozamok értéke. ",null,null,null,null,null,null,null,null,null,null,null,null,null,"fix",{"$f":"IF(AND(Hiteladatok!$B$16=180,$V$22=3,Hiteladatok!$O$16='Ind-Sz-MFL'!$V$17,Hiteladatok!$V$29=Hiteladatok!$V$27),3,0)","v":{"$error":"#N/A"}},{"$error":"#N/A"}]
["ákk: Az Államadósság Kezelő Központ Zrt. (ÁKK) által havi rendszerességgel közzétett, az elsődleges forgalmazók árjegyzési kötelezettsége alapján 15 éves névleges futamidejű államkötvényre vonatkozóan kereskedési naponként számított és közzétett referenciahozamok értéke. ",null,null,null,null,null,null,null,null,null,null,null,null,null,"fix",{"$f":"IF(AND(Hiteladatok!$B$16=240,$V$22=3,Hiteladatok!$O$16='Ind-Sz-MFL'!$V$17,Hiteladatok!$V$29=Hiteladatok!$V$28),3,0)","v":{"$error":"#N/A"}},{"$error":"#N/A"}]
["További részletek az MNB honlapján: https://www.mnb.hu/penzugyi-stabilitas/fair-bank és http://www.minositetthitel.hu",null,null,null,null,null,null,null,null,null,null,null,null,null,"fix",{"$f":"IF(AND($V$22=3,Hiteladatok!$O$16='Ind-Sz-MFL'!$V$17),2,0)","v":{"$error":"#N/A"}},{"$error":"#N/A"},null,null,"1 év",12,"Tizenkettő (12)"]
["Kamatperiódus:",null,null,null,null,null,null,null,null,null,null,null,null,null,"r v h",{"$f":"IF($V$22<>3,1,0)","v":{"$error":"#N/A"}},{"$error":"#N/A"},null,null,"5 év",60,"Hatvan (60)"]
[{"$f":"IF($V$22<>3,W47,0)","v":{"$error":"#N/A"}},null,null,null,null,null,null,null,null,null,null,null,null,null,"r v h",{"$f":"IF($V$22<>3,7,0)","v":{"$error":"#N/A"}},{"$error":"#N/A"},null,null,"10 év",120,"Százhúsz (120)"]
["Fix kamatozás:",null,null,null,null,null,null,null,null,null,null,null,null,null,"fix",{"$f":"IF($V$22=3,1,0)","v":{"$error":"#N/A"}},{"$error":"#N/A"},"Kamatperiódus: ",{"$f":"VLOOKUP(Hiteladatok!B17,'Ind-Sz-MFL'!T44:V46,3,FALSE)","v":"Százhúsz (120)"}," hónap kivéve az első kamatperiódust, amely a Folyósítás Napjától a ",{"$f":"VLOOKUP(Hiteladatok!B17,'Ind-Sz-MFL'!T44:V46,2,FALSE)","v":120},". esedékességig tart.\nA Kamatperiódus a Kölcsön ügyleti kamatára vonatkozó azon időszak, amely alatt az ügyleti kamat mértéke állandó. Kivételt képez ez alól, ha az Adós elveszíti vagy visszanyeri valamely kamatkedvezményre való jogosultságát, amely következtében az ügyleti kamat a jogosultság megszűnését, illetőleg visszanyerését követő esedékességtől módosulhat.\nA Kamatperiódus megváltoztatása a mindenkori hatályos Hirdetményben rögzített határidők és feltételek teljesülése mellett, az Adós által benyújtott módosítási igény  alapján lehetséges.",{"$f":"CONCATENATE(S47,T47,U47,V47)","v":"Százhúsz (120) hónap kivéve az első kamatperiódust, amely a Folyósítás Napjától a 120. esedékességig tart.\nA Kamatperiódus a Kölcsön ügyleti kamatára vonatkozó azon időszak, amely alatt az ügyleti kamat mértéke állandó. Kivételt képez ez alól, ha az Adós elveszíti vagy visszanyeri valamely kamatkedvezményre való jogosultságát, amely következtében az ügyleti kamat a jogosultság megszűnését, illetőleg visszanyerését követő esedékességtől módosulhat.\nA Kamatperiódus megváltoztatása a mindenkori hatályos Hirdetményben rögzített határidők és feltételek teljesülése mellett, az Adós által benyújtott módosítási igény  alapján lehetséges."}]
["A kölcsön ügyleti kamata a kölcsön futamideje alatt állandó, az a futamidő alatt nem változtatható. Kivételt képez ez alól, ha az Adós elveszíti vagy visszanyeri valamely kamatkedvezményre való jogosultságát, amely következtében az ügyleti kamat a jogosultság megszűnését, illetőleg visszanyerését követő esedékességtől módosulhat.",null,null,null,null,null,null,null,null,null,null,null,null,null,"fix",{"$f":"IF($V$22=3,4,0)","v":{"$error":"#N/A"}},{"$error":"#N/A"}]
["A Bank a Szerződésben meghatározott kamatot, díjat és költséget az ÁSZF-ben meghatározottak szerint jogosult módosítani.\nHa az Adós a módosítás ellen, annak hatályba lépéséig írásban nem tiltakozik, azt általa elfogadottnak kell tekinteni. A kamat, díj vagy költség Adós számára kedvezőtlen módosítása esetén - referencia kamatlábhoz kötött kamat esetén a referencia-kamatláb változásából eredő kamatváltozás kivételével – az Adós a módosítás hatálybalépése előtt jogosult a Szerződés díjmentes felmondására.",null,null,null,null,null,null,null,null,null,null,null,null,null,null,7,89.25]
[{"$f":"CONCATENATE(\"Az Ön által fizetendő teljes összeg: \",TEXT(ROUND(MFL!I4,0),\"# ##\"),\" forint\")","v":{"$error":"#DIV/0!"}},null,null,null,null,null,null,null,null,null,null,null,null,null,null,1,12.75]
[{"$f":"CONCATENATE(\"Ez azt jelenti, hogy a \",TEXT(ROUND(Hiteladatok!B15,0),\"# ##\"),\" forintért, amelyet hitelként felvesz \",TEXT(ROUND(MFL!I4,0),\"# ##\"),\" forint összeget kell visszafizetnie.\")","v":{"$error":"#DIV/0!"}},null,null,null,null,null,null,null,null,null,null,null,null,null,null,1,12.75]
[{"$f":"CONCATENATE(\"Ennek a tájékoztatásnak az elkészítéséhez az ingatlan értékét \",TEXT(ROUND(Hiteladatok!I2,0),\"# ##\"),\" forintnak tekintettük.\")","v":"Ennek a tájékoztatásnak az elkészítéséhez az ingatlan értékét  forintnak tekintettük."},null,null,null,null,null,null,null,null,null,null,null,null,null,null,1,12.75]
[{"$f":"CONCATENATE(\"A maximálisan igénybe vehető hitelösszeg az ingatlan értékéhez viszonyítva \",TEXT(ROUND(Hiteladatok!I2*0.8,0),\"# ##\"),\" Ft.\")","v":"A maximálisan igénybe vehető hitelösszeg az ingatlan értékéhez viszonyítva  Ft."},null,null,null,null,null,null,null,null,null,null,null,null,null,null,1,12.75]
[{"$f":"CONCATENATE(\"Az Ön által megadott ingatlanfedezet címe:   helyrajzi szám: \",Hiteladatok!I5, \", irányítószám: \",Hiteladatok!I4)","v":"Az Ön által megadott ingatlanfedezet címe:   helyrajzi szám: , irányítószám: "},null,null,null,null,null,null,null,null,null,null,null,null,null,null,2,25.5]
["4. Kamat és egyéb költségek:",null,null,null,null,null,null,null,null,null,null,null,null,null,null,1,12.75]
["A teljes hiteldíj mutató (THM) a hitel teljes éves díját mutatja meg százalékban kifejezve. A THM a különböző ajánlatok összehasonlítását szolgálja.",null,null,null,null,null,null,null,null,null,null,null,null,null,null,2,25.5]
[{"$f":"IF(ROUND(MFL!O6,1)<>0,\"A THM értékének megállapításához még le kell futtatni a kalkulációt!\",CONCATENATE(\"Az ön hitelére érvényes THM:  \",TEXT(ROUND(100*MFL!O1,1),\"# ##,0\"),\"%\"))","v":{"$error":"#DIV/0!"}},null,null,null,null,null,null,null,null,null,null,null,null,null,null,1,12.75]
["A THM az alábbiakat tartalmazza:",null,null,null,null,null,null,null,null,null,null,null,null,null,null,1,12.75]
[{"$f":"IF(V22=1,CONCATENATE(\"Kamatláb: \",TEXT(ROUND(100*kondíciók!B5,2),\"# ##,00\"),\"% +\",TEXT(ROUND(100*('Új PD'!D14-kondíciók!B5),2),\"# ##,00\"),\"% = \",TEXT(ROUND(100*'Új PD'!D14,2),\"# ##,00\"),\"%\"),CONCATENATE(\"Kamatláb: \",TEXT(ROUND(100*'Új PD'!D14,2),\"# ##,00\"),\"%\"))","v":{"$error":"#N/A"}},null,null,null,null,null,null,null,null,null,null,null,null,null,null,1,12.75]
["A feltűntetett kamatláb az Ön által igényelt, alábbi kamatkedvezményekkel csökkentett érték:",null,null,null,null,null,null,null,null,null,null,null,null,null,null,{"$f":"IF(AND('Új PD'!O8=0,'Új PD'!O9=0),0,1)","v":{"$error":"#N/A"}},{"$error":"#N/A"}]
[{"$f":"CONCATENATE(\"     • Átutalási kamatkedvezmény miatt 0\",TEXT(ROUND(-100*'Új PD'!O3,2),\"# ##,00\"),\"%\")","v":"     • Átutalási kamatkedvezmény miatt 0,50%"},null,null,null,null,null,null,null,null,null,null,null,null,null,null,{"$f":"IF('Új PD'!O3=0,0,1)","v":1},12.75]
[{"$f":"CONCATENATE(\"     • K&H lakásbiztosítási kamatkedvezmény miatt 0\",TEXT(ROUND(-100*'Új PD'!O4,2),\"# ##,00\"),\"%\")","v":"     • K&H lakásbiztosítási kamatkedvezmény miatt 0,10%"},null,null,null,null,null,null,null,null,null,null,null,null,null,null,{"$f":"IF('Új PD'!O4=0,0,1)","v":1},12.75]
[{"$f":"CONCATENATE(\"     • K&H jelzáloghitel törlesztési és hitelfedezeti biztosítási kamatkedvezmény miatt 0\",TEXT(ROUND(-100*'Új PD'!O5,2),\"# ##,00\"),\"%\")","v":"     • K&H jelzáloghitel törlesztési és hitelfedezeti biztosítási kamatkedvezmény miatt 0,00%"},null,null,null,null,null,null,null,null,null,null,null,null,null,null,{"$f":"IF('Új PD'!O5=0,0,1)","v":0},0]
[{"$f":"CONCATENATE(\"     • K&H életbiztosítási kamatkedvezmény miatt 0\",TEXT(ROUND(-100*'Új PD'!O6,2),\"# ##,00\"),\"%\")","v":"     • K&H életbiztosítási kamatkedvezmény miatt 0,00%"},null,null,null,null,null,null,null,null,null,null,null,null,null,null,{"$f":"IF('Új PD'!O6=0,0,1)","v":0},0]
[{"$f":"CONCATENATE(\"     • Prémium banki kamatkedvezmény miatt 0\",TEXT(ROUND(-100*'Új PD'!O7,2),\"# ##,00\"),\"%\")","v":"     • Prémium banki kamatkedvezmény miatt 0,00%"},null,null,null,null,null,null,null,null,null,null,null,null,null,null,{"$f":"IF('Új PD'!O7=0,0,1)","v":0},0,null,"Amennyiben Adóst több jogcímen is kamatkedvezmény illeti meg, a kamatkedvezmények összeadódnak, azonban a kamatfelár nem lehet alacsonyabb, mint "]
[{"$f":"CONCATENATE(\"     • Egyedi kamatkedvezmény miatt 0\",TEXT(ROUND(-100*'Új PD'!O9,2),\"# ##,00\"),\"% (a kedvezmény – ha nem történik szerződésmódosítás – a teljes futamidőre jár)\")","v":{"$error":"#DIV/0!"}},null,null,null,null,null,null,null,null,null,null,null,null,null,null,{"$f":"IF('Új PD'!O9=0,0,1)","v":{"$error":"#DIV/0!"}},{"$error":"#DIV/0!"},null,"Amennyiben Adóst több jogcímen is kamatkedvezmény illeti meg, a kamatkedvezmények összeadódnak, azonban a kamat nem lehet alacsonyabb, mint "]
[{"$f":"CONCATENATE(\"A kamatkedvezményekkel csökkentett ügyleti kamat mértéke nem lehet alacsonyabb, mint 12 havi BUBOR + \",kondíciók!B23*100,\"% a 12 hónapos kamatperiódus esetén, illetve 5 éves kamatperiódusnál \",kondíciók!D23*100,\"%, 10 éves kamatperiódusnál \",kondíciók!E23*100,\"%, 10 éves fix kamatozású hitel esetén: \",kondíciók!F23*100,\"%, 15 éves fix kamatozású hitel esetén: \",kondíciók!G23*100,\"%, 20 éves fix kamatozású hitel esetén: \",kondíciók!H23*100,\"%.\")","v":"A kamatkedvezményekkel csökkentett ügyleti kamat mértéke nem lehet alacsonyabb, mint 12 havi BUBOR + 2,2% a 12 hónapos kamatperiódus esetén, illetve 5 éves kamatperiódusnál 3,69%, 10 éves kamatperiódusnál 4,29%, 10 éves fix kamatozású hitel esetén: 4,29%, 15 éves fix kamatozású hitel esetén: 4,59%, 20 éves fix kamatozású hitel esetén: 4,99%."},null,null,null,null,null,null,null,null,null,null,null,null,null,null,3,38.25,null,"az aktuális Hirdetményben meghatározott százalékos érték."]
[{"$f":"CONCATENATE(IF(V22=1,S65,S66),IF(P66=1,S68,S67))","v":{"$error":"#N/A"}},null,null,null,null,null,null,null,null,null,null,null,null,null,null,{"$f":"P66+3","v":{"$error":"#DIV/0!"}},{"$error":"#DIV/0!"},null,"az egyedi kamatkedvezmény által kialakult és jelen Ajánlatban megjelölt ügyleti kamat, amennyiben az alacsonyabb az aktuális Hirdetményben meghatározott százalékos értéknél."]
[{"$f":"CONCATENATE(\"Az Ön kérelme minősítése: \",'Új PD'!C13)","v":{"$error":"#N/A"}},null,null,null,null,null,null,null,null,null,null,null,null,null,null,1,12.75]
["Jelen ajánlatban szereplő „K” kategória az Ön által megadott adatok alapján került meghatározásra, mely a végleges minősítés során változhat.\nA kérelem megfelelő \"K\" kategóriába sorolása a K&H Bank által végzett minősítésének eredménye, mely a kamatláb mértékét határozza meg.",null,null,null,null,null,null,null,null,null,null,null,null,null,null,2,25.5]
["A THM egyéb összetevői:\nEgyszer  fizetendő költségek:",null,null,null,null,null,null,null,null,null,null,null,null,null,null,2,25.5]
[{"$f":"IF(Hiteladatok!O16=S73,T73,T72)","v":{"$error":"#N/A"}},null,null,null,null,null,null,null,null,null,null,null,null,null,null,1,12.75,null,"üzleti",{"$f":"IF(Hiteladatok!B33=0,\"- szerződéskötési díj: 0 forint\",CONCATENATE(\"- szerződéskötési díj: \",TEXT(ROUND(Hiteladatok!B33,0),\"# ##\"),\" forint\"))","v":"- szerződéskötési díj: 0 forint"}]
[{"$f":"IF(Hiteladatok!Y24=0,\"- ingatlan értékbecslési díj: 0 forint\",CONCATENATE(\"- ingatlan értékbecslési díj: \",TEXT(ROUND(Hiteladatok!Y24,0),\"# ##\"),\" forint\"))","v":"- ingatlan értékbecslési díj: 0 forint"},null,null,null,null,null,null,null,null,null,null,null,null,null,null,1,12.75,null,"MFL",{"$f":"IF(Hiteladatok!B33=0,\"- folyósítási díj: 0 forint\",CONCATENATE(\"- folyósítási díj: \",TEXT(ROUND(Hiteladatok!B33,0),\"# ##\"),\" forint\"))","v":"- folyósítási díj: 0 forint"}]
[{"$f":"IF(Hiteladatok!Z24=0,\"- ingatlan műszaki ellenőrzési díj: 0 forint\",CONCATENATE(\"- ingatlan műszaki ellenőrzési díj: \",TEXT(ROUND(Hiteladatok!Z24,0),\"# ##\"),T74))","v":"- ingatlan műszaki ellenőrzési díj: 0 forint"},null,null,null,null,null,null,null,null,null,null,null,null,null,null,{"$f":"IF(Hiteladatok!Z24=0,1,3)","v":1},12.75,null,null," forint.  Ezen díjtétel a kölcsön ügyfélnek történő kifizetési időszaka során többszöri alkalommal is felszámításra kerülhet részkifizetést megelőzően. Ennek mértéke a kifizetésre irányuló kérelem benyújtásakor érvényes vonatkozó Hirdetmény tartalmazza."]
["- ügyintézési díj I. (TakarNet rendszerből lekért tulajdoni lapért): 1 000 forint / lekérdezés / fedezet (felajánlott fedezetek számától függően, egy hiteligénylés során 2 lekérdezés szükséges. Tehermentesítő hitel esetén 3 db lekérdezés.)\n- ügyintézési díj II. (TakarNet rendszerből lekért térképmásolatért): 3 000 forint / lekérdezés / fedezet\n- jelzálogjog bejegyzés díja ingatlanonként: 12 600 Ft",null,null,null,null,null,null,null,null,null,null,null,null,null,null,4,{"$f":"P75*$Q$1","v":51}]
["THM számítás részét nem képző egyszeri díj:",null,null,null,null,null,null,null,null,null,null,null,null,null,null,1,12.75]
[{"$f":"CONCATENATE(\"- közjegyzői díj: \",TEXT(ROUND('Közjegyzői-normál'!D32,0),\"# ##\"),\" forint*\")","v":"- közjegyzői díj: 16 960 forint*"},null,null,null,null,null,null,null,null,null,null,null,null,null,null,1,12.75]
["* bankunk érdekkörén kívül felmerülő költség. A közjegyzői díj pontos mértéke a közjegyzői díjszabásról szóló 22/2018. (VIII.23.) IM rendelet alapján kerül a közjegyző által meghatározásra. A díj előzetes kalkulációja során a Bank a vonatkozó IM rendelet 38/A § teljesülését feltételezte.",null,null,null,null,null,null,null,null,null,null,null,null,null,null,3,38.25]
["Rendszeresen fizetendő költségek:",null,null,null,null,null,null,null,null,null,null,null,null,null,null,1,12.75,null,null,"A K&H jelzáloghitel törlesztési és hitelfedezeti biztosítás rendszeres havi díja a hitel aktuális havi törlesztőrészletének "]
[{"$f":"CONCATENATE(\"- a fizetési számlához kapcsolódóan havonta fizetendő számlavezetési vagy számlacsomag díj: \",kondíciók!G9,\" forint, amely egy alap számlacsomag szerinti havidíj\",IF(Hiteladatok!B27<0,\".\",\", vagy Hiteltörlesztő számla, mely ingyenes.\"))","v":{"$error":"#N/A"}},null,null,null,null,null,null,null,null,null,null,null,null,null,null,2,25.5,null,null,{"$f":"kondíciók!I2*100","v":6.4}]
["A fizetési számla alapdíját kivéve az ajánlat nem függ attól, hogy a kölcsönhöz kapcsolódó szolgáltatásokat a fogyasztó a K&H Bankon keresztül veszi-e igénybe.",null,null,null,null,null,null,null,null,null,null,null,null,null,null,2,25.5,null,null,"%-a, amely a havi törlesztőrészletekkel arányosan "]
[{"$f":"CONCATENATE(T79,T80,T81,T82,T83)","v":{"$error":"#DIV/0!"}},null,null,null,null,null,null,null,null,null,null,null,null,null,null,{"$f":"IF('Új PD'!P26=\"PPI\",3,0)","v":0},0,null,null,{"$f":"TEXT(MFL!K8,\"# ##\")","v":{"$error":"#DIV/0!"}}]
["Ez a THM a kamatlábra vonatkozó feltételezések alapján került kiszámításra.",null,null,null,null,null,null,null,null,null,null,null,null,null,null,1,12.75,null,null," Ft. Az első törlesztőrészlettel arányosan a K&H jelzáloghitel törlesztési és hitelfedezeti biztosítás első havi díjának összege is eltérhet a biztosítás fent feltüntetett havi díjától."]
[{"$f":"IF(V22=3,T85,CONCATENATE(T86,T87,T88,T89,T90))","v":{"$error":"#N/A"}},null,null,null,null,null,null,null,null,null,null,null,null,null,null,3,38.25]
["Tájékoztatjuk, hogy a bemutatott THM azzal a feltételezéssel került kiszámításra, hogy a kamatláb a szerződés teljes időtartama alatt a kezdeti időszakra rögzített szinten marad.",null,null,null,null,null,null,null,null,null,null,null,null,null,null,2,25.5,null,null,"Mivel az Ön hitele rögzített kamatlábú hitel, így az hiteléhez tartozó kamatláb a kölcsön futamideje alatt nem változik, amennyiben a kölcsönszerződés szerinti konstrukció az Ön kérésére nem kerül módosításra."]
["Az alábbi költségek nem ismertek a hitelező számára, és így azokat a THM nem foglalja magában: \n- A fedezetként bevonásra kerülő ingatlan(ok) tekintetében kötelező az ingatlanra vagyonbiztosítás kötése és annak fenntartása, valamint a felmerülő biztosítási díj megfizetése. Ennek költsége jelen tájékoztatásnál nem ismert, így a THM nem tartalmazza!\n\nKérjük, tájékozódjon az ehhez a hitelhez kapcsolódó minden egyéb illetékről és költségről.",null,null,null,null,null,null,null,null,null,null,null,null,null,null,7,89.25,null,null,"Mivel az Ön hitele változó kamatlábú hitel, a mindenkori THM eltérhet az előbbiekben meghatározott THM mértékétől, ha a hitel kamatlába változik. Például amennyiben a kamatláb "]
["5. A törlesztések száma és gyakorisága ",null,null,null,null,null,null,null,null,null,null,null,null,null,null,1,12.75,null,null,{"$f":"MFL!R4*100","v":{"$error":"#DIV/0!"}}]
["Kamat fizetés gyakorisága: havonta",null,null,null,null,null,null,null,null,null,null,null,null,null,null,1,12.75,null,null,"%-ra emelkedne, a THM "]
["Tőketörlesztés gyakorisága: havonta",null,null,null,null,null,null,null,null,null,null,null,null,null,null,1,12.75,null,null,{"$f":"MFL!W4*100","v":9.9}]
[{"$f":"CONCATENATE(\"A törlesztőrészletek száma: \",Hiteladatok!B16,\" db\")","v":"A törlesztőrészletek száma: 240 db"},null,null,null,null,null,null,null,null,null,null,null,null,null,null,2,25.5,null,null,"%-ra nőhet."]
["6. Az egyes törlesztőrészletek összege:",null,null,null,null,null,null,null,null,null,null,null,null,null,null,1,12.75]
["Állandó (annuitásos) törlesztés esetén az egyes törlesztőrészletek összege: ",null,null,null,null,null,null,null,null,null,null,null,null,null,null,1,12.75]
[{"$f":"CONCATENATE(\"Első törlesztőrészlet összege: \",TEXT(ROUND(MFL!I7,0),\"# ##\"),\" forint\")","v":{"$error":"#DIV/0!"}},null,null,null,null,null,null,null,null,null,null,null,null,null,null,1,12.75]
["Az első törlesztőrészlet összege a folyósítás időpontja és az első esedékesség között eltelt napok számától függően eltérhet a további törlesztőrészletek összegétől.",null,null,null,null,null,null,null,null,null,null,null,null,null,null,2,25.5]
[{"$f":"CONCATENATE(\"További törlesztőrészletek összege: \",TEXT(ROUND(MFL!I8,0),\"# ##\"),\" forint\")","v":{"$error":"#DIV/0!"}},null,null,null,null,null,null,null,null,null,null,null,null,null,null,1,12.75]
[{"$f":"IF(V22=3,T96,CONCATENATE(T96,T97))","v":{"$error":"#N/A"}},null,null,null,null,null,null,null,null,null,null,null,null,null,null,{"$f":"IF(V22=3,2,4)","v":{"$error":"#N/A"}},{"$error":"#N/A"},null,null,"Az Ön jövedelme változhat. Kérjük, gondolja át, hogy a jövedelme csökkenése esetén is képes lesz-e törleszteni a havi részleteket."]
[{"$f":"IF(V22=3,\"\",CONCATENATE(T98,T99,T100,T101,T102))","v":{"$error":"#N/A"}},null,null,null,null,null,null,null,null,null,null,null,null,null,null,{"$f":"IF(V22=3,0,3)","v":{"$error":"#N/A"}},{"$error":"#N/A"},null,null,{"$f":"CONCATENATE(\"\nKezdeti törlesztőrészletének mértéke az első kamatperiódusban, azaz az első \",Hiteladatok!B17,\" időtartama alatt változatlan, azt követően pedig kamatperiódusonként a kamatperiódus fordulónapján változhat.\")","v":"\nKezdeti törlesztőrészletének mértéke az első kamatperiódusban, azaz az első 10 év időtartama alatt változatlan, azt követően pedig kamatperiódusonként a kamatperiódus fordulónapján változhat."}]
["7. Szemléltető törlesztési táblázat:",null,null,null,null,null,null,null,null,null,null,null,null,null,null,1,12.75,null,null,"E hitelnek a kamata változhat. Ez azt jelenti, hogy az Ön által fizetendő törlesztőrészletek összege nőhet vagy csökkenhet. Például amennyiben a kamat "]
["Ebben a táblázatban a havonta fizetendő összeg látható.\nA törlesztőrészletek (2. oszlop) a fizetendő kamat (4. oszlop), a fizetendő tőke (3. oszlop) és adott esetben az egyéb költségek (5. oszlop) összegéből állnak. A fennmaradó tőke (6. oszlop) az egyes törlesztőrészletek után még törlesztendő hitelösszeg.",null,null,null,null,null,null,null,null,null,null,null,null,null,null,3,38.25,null,null,{"$f":"T87","v":{"$error":"#DIV/0!"}}]
[{"$f":"IF(V22=3,U102,U101)","v":{"$error":"#N/A"}},null,null,null,null,null,null,null,null,null,null,null,null,null,null,{"$f":"IF(V22=3,3,4)","v":{"$error":"#N/A"}},{"$error":"#N/A"},null,null,"%-ra emelkedne, az Ön által fizetendő részlet "]
["1.",null,"2.",null,"3.",null,"4.",null,"5.",null,"6.",null,null,null,null,1,12.75,null,null,{"$f":"TEXT(ROUND(MFL!S4,0),\"# ##\")","v":{"$error":"#DIV/0!"}},"A lenti táblázat szemléltetés céljából készült, továbbá felhívjuk a figyelmet arra, hogy az ajánlott hitel kamata kamatperiódusonként változhat.\nKamatperiódus fordulónapját követően, valamint amennyiben előtörleszt, a szemléltető táblázatot a módosított feltételek szerint újraszámolva a rendelkezésére bocsátja a K&H Bank Zrt."]
["Törlesztés ütemezése",null,"Törlesztőrészlet összege",null,"Törlesztőrészleten-\nként fizetendő tőke",null,"Törlesztőrészleten-\nként fizetendő kamat",null,"Törlesztőrészlet-\nben foglalt egyéb költségek",null,"Az egyes törlesztőrészletek után fennmaradó tőke",null,null,null,null,4,51,null,null,"Ft-ra nőne.","A lenti táblázat szemléltetés céljából készült.\nAmennyiben előtörleszt, a szemléltető táblázatot a módosított feltételek szerint újraszámolva a rendelkezésére bocsátja a K&H Bank Zrt."]
[{"$f":"CONCATENATE(T103,\". hó\")","v":"1. hó"},null,{"$f":"MFL!I7","v":{"$error":"#DIV/0!"}},null,{"$f":"C103-G103","v":{"$error":"#DIV/0!"}},null,{"$f":"MFL!H7","v":{"$error":"#DIV/0!"}},null,{"$f":"C103-E103-G103","v":{"$error":"#DIV/0!"}},null,{"$f":"MFL!J7","v":{"$error":"#DIV/0!"}},null,null,null,null,1,12.75,null,null,1]
[{"$f":"CONCATENATE(T104,\". hó\")","v":"2. hó"},null,{"$f":"MFL!I8","v":{"$error":"#DIV/0!"}},null,{"$f":"C104-G104","v":{"$error":"#DIV/0!"}},null,{"$f":"MFL!H8","v":{"$error":"#DIV/0!"}},null,{"$f":"C104-E104-G104","v":{"$error":"#DIV/0!"}},null,{"$f":"MFL!J8","v":{"$error":"#DIV/0!"}},null,null,null,null,{"$f":"IF(T104>Hiteladatok!$B$16,0,1)","v":1},12.75,null,null,{"$f":"T103+1","v":2}]
["3. hó",null,{"$f":"MFL!I9","v":{"$error":"#DIV/0!"}},null,{"$f":"C105-G105","v":{"$error":"#DIV/0!"}},null,{"$f":"MFL!H9","v":{"$error":"#DIV/0!"}},null,{"$error":"#DIV/0!"},null,{"$f":"MFL!J9","v":{"$error":"#DIV/0!"}},null,null,null,null,{"$f":"IF(T105>Hiteladatok!$B$16,0,1)","v":1},{"$f":"P105*$Q$1","v":12.75},null,null,{"$f":"T104+1","v":3}]
["4. hó",null,{"$f":"MFL!I10","v":{"$error":"#DIV/0!"}},null,{"$error":"#DIV/0!"},null,{"$f":"MFL!H10","v":{"$error":"#DIV/0!"}},null,{"$error":"#DIV/0!"},null,{"$f":"MFL!J10","v":{"$error":"#DIV/0!"}},null,null,null,null,{"$f":"IF(T106>Hiteladatok!$B$16,0,1)","v":1},12.75,null,null,4]
["5. hó",null,{"$f":"MFL!I11","v":{"$error":"#DIV/0!"}},null,{"$error":"#DIV/0!"},null,{"$f":"MFL!H11","v":{"$error":"#DIV/0!"}},null,{"$error":"#DIV/0!"},null,{"$f":"MFL!J11","v":{"$error":"#DIV/0!"}},null,null,null,null,{"$f":"IF(T107>Hiteladatok!$B$16,0,1)","v":1},12.75,null,null,5]
["6. hó",null,{"$f":"MFL!I12","v":{"$error":"#DIV/0!"}},null,{"$error":"#DIV/0!"},null,{"$f":"MFL!H12","v":{"$error":"#DIV/0!"}},null,{"$error":"#DIV/0!"},null,{"$f":"MFL!J12","v":{"$error":"#DIV/0!"}},null,null,null,null,{"$f":"IF(T108>Hiteladatok!$B$16,0,1)","v":1},12.75,null,null,6]
["7. hó",null,{"$f":"MFL!I13","v":{"$error":"#DIV/0!"}},null,{"$error":"#DIV/0!"},null,{"$f":"MFL!H13","v":{"$error":"#DIV/0!"}},null,{"$error":"#DIV/0!"},null,{"$f":"MFL!J13","v":{"$error":"#DIV/0!"}},null,null,null,null,{"$f":"IF(T109>Hiteladatok!$B$16,0,1)","v":1},12.75,null,null,7]
["8. hó",null,{"$f":"MFL!I14","v":{"$error":"#DIV/0!"}},null,{"$error":"#DIV/0!"},null,{"$f":"MFL!H14","v":{"$error":"#DIV/0!"}},null,{"$error":"#DIV/0!"},null,{"$f":"MFL!J14","v":{"$error":"#DIV/0!"}},null,null,null,null,{"$f":"IF(T110>Hiteladatok!$B$16,0,1)","v":1},12.75,null,null,8]
["9. hó",null,{"$f":"MFL!I15","v":{"$error":"#DIV/0!"}},null,{"$error":"#DIV/0!"},null,{"$f":"MFL!H15","v":{"$error":"#DIV/0!"}},null,{"$error":"#DIV/0!"},null,{"$f":"MFL!J15","v":{"$error":"#DIV/0!"}},null,null,null,null,{"$f":"IF(T111>Hiteladatok!$B$16,0,1)","v":1},12.75,null,null,9]
["10. hó",null,{"$f":"MFL!I16","v":{"$error":"#DIV/0!"}},null,{"$error":"#DIV/0!"},null,{"$f":"MFL!H16","v":{"$error":"#DIV/0!"}},null,{"$error":"#DIV/0!"},null,{"$f":"MFL!J16","v":{"$error":"#DIV/0!"}},null,null,null,null,{"$f":"IF(T112>Hiteladatok!$B$16,0,1)","v":1},12.75,null,null,10]
["11. hó",null,{"$f":"MFL!I17","v":{"$error":"#DIV/0!"}},null,{"$error":"#DIV/0!"},null,{"$f":"MFL!H17","v":{"$error":"#DIV/0!"}},null,{"$error":"#DIV/0!"},null,{"$f":"MFL!J17","v":{"$error":"#DIV/0!"}},null,null,null,null,{"$f":"IF(T113>Hiteladatok!$B$16,0,1)","v":1},12.75,null,null,11]
["12. hó",null,{"$f":"MFL!I18","v":{"$error":"#DIV/0!"}},null,{"$error":"#DIV/0!"},null,{"$f":"MFL!H18","v":{"$error":"#DIV/0!"}},null,{"$error":"#DIV/0!"},null,{"$f":"MFL!J18","v":{"$error":"#DIV/0!"}},null,null,null,null,{"$f":"IF(T114>Hiteladatok!$B$16,0,1)","v":1},12.75,null,null,12]
[{"$f":"CONCATENATE(T115,\". év összesen:\")","v":"1. év összesen:"},null,{"$f":"SUMIF(MFL!$Y$7:$Y$366,T115,MFL!$I$7:$I$366)","v":{"$error":"#DIV/0!"}},null,{"$f":"C115-G115","v":{"$error":"#DIV/0!"}},null,{"$f":"SUMIF(MFL!$Y$7:$Y$366,T115,MFL!$H$7:$H$366)","v":{"$error":"#DIV/0!"}},null,{"$f":"C115-E115-G115","v":{"$error":"#DIV/0!"}},null,{"$f":"K114","v":{"$error":"#DIV/0!"}},null,null,null,null,1,12.75,null,null,1]
[{"$f":"CONCATENATE(T116,\". év összesen:\")","v":"2. év összesen:"},null,{"$f":"SUMIF(MFL!$Y$7:$Y$366,T116,MFL!$I$7:$I$366)","v":{"$error":"#DIV/0!"}},null,{"$error":"#DIV/0!"},null,{"$f":"SUMIF(MFL!$Y$7:$Y$366,T116,MFL!$H$7:$H$366)","v":{"$error":"#DIV/0!"}},null,{"$error":"#DIV/0!"},null,{"$f":"K115-E116","v":{"$error":"#DIV/0!"}},null,null,null,null,{"$f":"IF((T116-1)*12>=Hiteladatok!$B$16,0,1)","v":1},12.75,null,null,2]
["3. év összesen:",null,{"$f":"SUMIF(MFL!$Y$7:$Y$366,T117,MFL!$I$7:$I$366)","v":{"$error":"#DIV/0!"}},null,{"$error":"#DIV/0!"},null,{"$f":"SUMIF(MFL!$Y$7:$Y$366,T117,MFL!$H$7:$H$366)","v":{"$error":"#DIV/0!"}},null,{"$error":"#DIV/0!"},null,{"$f":"K116-E117","v":{"$error":"#DIV/0!"}},null,null,null,null,{"$f":"IF((T117-1)*12>=Hiteladatok!$B$16,0,1)","v":1},{"$f":"P117*$Q$1","v":12.75},null,null,3]
["4. év összesen:",null,{"$f":"SUMIF(MFL!$Y$7:$Y$366,T118,MFL!$I$7:$I$366)","v":{"$error":"#DIV/0!"}},null,{"$error":"#DIV/0!"},null,{"$f":"SUMIF(MFL!$Y$7:$Y$366,T118,MFL!$H$7:$H$366)","v":{"$error":"#DIV/0!"}},null,{"$error":"#DIV/0!"},null,{"$error":"#DIV/0!"},null,null,null,null,{"$f":"IF((T118-1)*12>=Hiteladatok!$B$16,0,1)","v":1},12.75,null,null,4]
[{"$f":"CONCATENATE(T119,\". év összesen:\")","v":"5. év összesen:"},null,{"$f":"SUMIF(MFL!$Y$7:$Y$366,T119,MFL!$I$7:$I$366)","v":{"$error":"#DIV/0!"}},null,{"$error":"#DIV/0!"},null,{"$f":"SUMIF(MFL!$Y$7:$Y$366,T119,MFL!$H$7:$H$366)","v":{"$error":"#DIV/0!"}},null,{"$error":"#DIV/0!"},null,{"$error":"#DIV/0!"},null,null,null,null,{"$f":"IF((T119-1)*12>=Hiteladatok!$B$16,0,1)","v":1},12.75,null,null,5]
["6. év összesen:",null,{"$f":"SUMIF(MFL!$Y$7:$Y$366,T120,MFL!$I$7:$I$366)","v":{"$error":"#DIV/0!"}},null,{"$error":"#DIV/0!"},null,{"$f":"SUMIF(MFL!$Y$7:$Y$366,T120,MFL!$H$7:$H$366)","v":{"$error":"#DIV/0!"}},null,{"$error":"#DIV/0!"},null,{"$error":"#DIV/0!"},null,null,null,null,{"$f":"IF((T120-1)*12>=Hiteladatok!$B$16,0,1)","v":1},12.75,null,null,6]
["7. év összesen:",null,{"$f":"SUMIF(MFL!$Y$7:$Y$366,T121,MFL!$I$7:$I$366)","v":{"$error":"#DIV/0!"}},null,{"$error":"#DIV/0!"},null,{"$f":"SUMIF(MFL!$Y$7:$Y$366,T121,MFL!$H$7:$H$366)","v":{"$error":"#DIV/0!"}},null,{"$error":"#DIV/0!"},null,{"$error":"#DIV/0!"},null,null,null,null,{"$f":"IF((T121-1)*12>=Hiteladatok!$B$16,0,1)","v":1},12.75,null,null,7]
["8. év összesen:",null,{"$f":"SUMIF(MFL!$Y$7:$Y$366,T122,MFL!$I$7:$I$366)","v":{"$error":"#DIV/0!"}},null,{"$error":"#DIV/0!"},null,{"$f":"SUMIF(MFL!$Y$7:$Y$366,T122,MFL!$H$7:$H$366)","v":{"$error":"#DIV/0!"}},null,{"$error":"#DIV/0!"},null,{"$error":"#DIV/0!"},null,null,null,null,{"$f":"IF((T122-1)*12>=Hiteladatok!$B$16,0,1)","v":1},12.75,null,null,8]
["9. év összesen:",null,{"$f":"SUMIF(MFL!$Y$7:$Y$366,T123,MFL!$I$7:$I$366)","v":{"$error":"#DIV/0!"}},null,{"$error":"#DIV/0!"},null,{"$f":"SUMIF(MFL!$Y$7:$Y$366,T123,MFL!$H$7:$H$366)","v":{"$error":"#DIV/0!"}},null,{"$error":"#DIV/0!"},null,{"$error":"#DIV/0!"},null,null,null,null,{"$f":"IF((T123-1)*12>=Hiteladatok!$B$16,0,1)","v":1},12.75,null,null,9]
["10. év összesen:",null,{"$f":"SUMIF(MFL!$Y$7:$Y$366,T124,MFL!$I$7:$I$366)","v":{"$error":"#DIV/0!"}},null,{"$error":"#DIV/0!"},null,{"$f":"SUMIF(MFL!$Y$7:$Y$366,T124,MFL!$H$7:$H$366)","v":{"$error":"#DIV/0!"}},null,{"$error":"#DIV/0!"},null,{"$error":"#DIV/0!"},null,null,null,null,{"$f":"IF((T124-1)*12>=Hiteladatok!$B$16,0,1)","v":1},12.75,null,null,10]
["11. év összesen:",null,{"$f":"SUMIF(MFL!$Y$7:$Y$366,T125,MFL!$I$7:$I$366)","v":{"$error":"#DIV/0!"}},null,{"$error":"#DIV/0!"},null,{"$f":"SUMIF(MFL!$Y$7:$Y$366,T125,MFL!$H$7:$H$366)","v":{"$error":"#DIV/0!"}},null,{"$error":"#DIV/0!"},null,{"$error":"#DIV/0!"},null,null,null,null,{"$f":"IF((T125-1)*12>=Hiteladatok!$B$16,0,1)","v":1},12.75,null,null,11]
["12. év összesen:",null,{"$f":"SUMIF(MFL!$Y$7:$Y$366,T126,MFL!$I$7:$I$366)","v":{"$error":"#DIV/0!"}},null,{"$error":"#DIV/0!"},null,{"$f":"SUMIF(MFL!$Y$7:$Y$366,T126,MFL!$H$7:$H$366)","v":{"$error":"#DIV/0!"}},null,{"$error":"#DIV/0!"},null,{"$error":"#DIV/0!"},null,null,null,null,{"$f":"IF((T126-1)*12>=Hiteladatok!$B$16,0,1)","v":1},12.75,null,null,12]
["13. év összesen:",null,{"$f":"SUMIF(MFL!$Y$7:$Y$366,T127,MFL!$I$7:$I$366)","v":{"$error":"#DIV/0!"}},null,{"$error":"#DIV/0!"},null,{"$f":"SUMIF(MFL!$Y$7:$Y$366,T127,MFL!$H$7:$H$366)","v":{"$error":"#DIV/0!"}},null,{"$error":"#DIV/0!"},null,{"$error":"#DIV/0!"},null,null,null,null,{"$f":"IF((T127-1)*12>=Hiteladatok!$B$16,0,1)","v":1},12.75,null,null,13]
["14. év összesen:",null,{"$f":"SUMIF(MFL!$Y$7:$Y$366,T128,MFL!$I$7:$I$366)","v":{"$error":"#DIV/0!"}},null,{"$error":"#DIV/0!"},null,{"$f":"SUMIF(MFL!$Y$7:$Y$366,T128,MFL!$H$7:$H$366)","v":{"$error":"#DIV/0!"}},null,{"$error":"#DIV/0!"},null,{"$error":"#DIV/0!"},null,null,null,null,{"$f":"IF((T128-1)*12>=Hiteladatok!$B$16,0,1)","v":1},12.75,null,null,14]
["15. év összesen:",null,{"$f":"SUMIF(MFL!$Y$7:$Y$366,T129,MFL!$I$7:$I$366)","v":{"$error":"#DIV/0!"}},null,{"$error":"#DIV/0!"},null,{"$f":"SUMIF(MFL!$Y$7:$Y$366,T129,MFL!$H$7:$H$366)","v":{"$error":"#DIV/0!"}},null,{"$error":"#DIV/0!"},null,{"$error":"#DIV/0!"},null,null,null,null,{"$f":"IF((T129-1)*12>=Hiteladatok!$B$16,0,1)","v":1},12.75,null,null,15]
["16. év összesen:",null,{"$f":"SUMIF(MFL!$Y$7:$Y$366,T130,MFL!$I$7:$I$366)","v":{"$error":"#DIV/0!"}},null,{"$error":"#DIV/0!"},null,{"$f":"SUMIF(MFL!$Y$7:$Y$366,T130,MFL!$H$7:$H$366)","v":{"$error":"#DIV/0!"}},null,{"$error":"#DIV/0!"},null,{"$error":"#DIV/0!"},null,null,null,null,{"$f":"IF((T130-1)*12>=Hiteladatok!$B$16,0,1)","v":1},12.75,null,null,16]
["17. év összesen:",null,{"$f":"SUMIF(MFL!$Y$7:$Y$366,T131,MFL!$I$7:$I$366)","v":{"$error":"#DIV/0!"}},null,{"$error":"#DIV/0!"},null,{"$f":"SUMIF(MFL!$Y$7:$Y$366,T131,MFL!$H$7:$H$366)","v":{"$error":"#DIV/0!"}},null,{"$error":"#DIV/0!"},null,{"$error":"#DIV/0!"},null,null,null,null,{"$f":"IF((T131-1)*12>=Hiteladatok!$B$16,0,1)","v":1},12.75,null,null,17]
["18. év összesen:",null,{"$f":"SUMIF(MFL!$Y$7:$Y$366,T132,MFL!$I$7:$I$366)","v":{"$error":"#DIV/0!"}},null,{"$error":"#DIV/0!"},null,{"$f":"SUMIF(MFL!$Y$7:$Y$366,T132,MFL!$H$7:$H$366)","v":{"$error":"#DIV/0!"}},null,{"$error":"#DIV/0!"},null,{"$error":"#DIV/0!"},null,null,null,null,{"$f":"IF((T132-1)*12>=Hiteladatok!$B$16,0,1)","v":1},12.75,null,null,18]
["19. év összesen:",null,{"$f":"SUMIF(MFL!$Y$7:$Y$366,T133,MFL!$I$7:$I$366)","v":{"$error":"#DIV/0!"}},null,{"$error":"#DIV/0!"},null,{"$f":"SUMIF(MFL!$Y$7:$Y$366,T133,MFL!$H$7:$H$366)","v":{"$error":"#DIV/0!"}},null,{"$error":"#DIV/0!"},null,{"$error":"#DIV/0!"},null,null,null,null,{"$f":"IF((T133-1)*12>=Hiteladatok!$B$16,0,1)","v":1},12.75,null,null,19]
["20. év összesen:",null,{"$f":"SUMIF(MFL!$Y$7:$Y$366,T134,MFL!$I$7:$I$366)","v":{"$error":"#DIV/0!"}},null,{"$error":"#DIV/0!"},null,{"$f":"SUMIF(MFL!$Y$7:$Y$366,T134,MFL!$H$7:$H$366)","v":{"$error":"#DIV/0!"}},null,{"$error":"#DIV/0!"},null,{"$error":"#DIV/0!"},null,null,null,null,{"$f":"IF((T134-1)*12>=Hiteladatok!$B$16,0,1)","v":1},12.75,null,null,20]
["21. év összesen:",null,{"$f":"SUMIF(MFL!$Y$7:$Y$366,T135,MFL!$I$7:$I$366)","v":0},null,0,null,{"$f":"SUMIF(MFL!$Y$7:$Y$366,T135,MFL!$H$7:$H$366)","v":0},null,0,null,{"$error":"#DIV/0!"},null,null,null,null,{"$f":"IF((T135-1)*12>=Hiteladatok!$B$16,0,1)","v":0},0,null,null,21]
["22. év összesen:",null,{"$f":"SUMIF(MFL!$Y$7:$Y$366,T136,MFL!$I$7:$I$366)","v":0},null,0,null,{"$f":"SUMIF(MFL!$Y$7:$Y$366,T136,MFL!$H$7:$H$366)","v":0},null,0,null,{"$error":"#DIV/0!"},null,null,null,null,{"$f":"IF((T136-1)*12>=Hiteladatok!$B$16,0,1)","v":0},0,null,null,22]
[{"$f":"CONCATENATE(T137,\". év összesen:\")","v":"23. év összesen:"},null,{"$f":"SUMIF(MFL!$Y$7:$Y$366,T137,MFL!$I$7:$I$366)","v":0},null,0,null,{"$f":"SUMIF(MFL!$Y$7:$Y$366,T137,MFL!$H$7:$H$366)","v":0},null,0,null,{"$error":"#DIV/0!"},null,null,null,null,{"$f":"IF((T137-1)*12>=Hiteladatok!$B$16,0,1)","v":0},0,null,null,23]
["24. év összesen:",null,{"$f":"SUMIF(MFL!$Y$7:$Y$366,T138,MFL!$I$7:$I$366)","v":0},null,0,null,{"$f":"SUMIF(MFL!$Y$7:$Y$366,T138,MFL!$H$7:$H$366)","v":0},null,0,null,{"$error":"#DIV/0!"},null,null,null,null,{"$f":"IF((T138-1)*12>=Hiteladatok!$B$16,0,1)","v":0},0,null,null,24]
["25. év összesen:",null,{"$f":"SUMIF(MFL!$Y$7:$Y$366,T139,MFL!$I$7:$I$366)","v":0},null,0,null,{"$f":"SUMIF(MFL!$Y$7:$Y$366,T139,MFL!$H$7:$H$366)","v":0},null,0,null,{"$error":"#DIV/0!"},null,null,null,null,{"$f":"IF((T139-1)*12>=Hiteladatok!$B$16,0,1)","v":0},0,null,null,25]
["26. év összesen:",null,{"$f":"SUMIF(MFL!$Y$7:$Y$366,T140,MFL!$I$7:$I$366)","v":0},null,0,null,{"$f":"SUMIF(MFL!$Y$7:$Y$366,T140,MFL!$H$7:$H$366)","v":0},null,0,null,{"$error":"#DIV/0!"},null,null,null,null,{"$f":"IF((T140-1)*12>=Hiteladatok!$B$16,0,1)","v":0},0,null,null,26]
["27. év összesen:",null,{"$f":"SUMIF(MFL!$Y$7:$Y$366,T141,MFL!$I$7:$I$366)","v":0},null,0,null,{"$f":"SUMIF(MFL!$Y$7:$Y$366,T141,MFL!$H$7:$H$366)","v":0},null,0,null,{"$error":"#DIV/0!"},null,null,null,null,{"$f":"IF((T141-1)*12>=Hiteladatok!$B$16,0,1)","v":0},0,null,null,27]
["28. év összesen:",null,{"$f":"SUMIF(MFL!$Y$7:$Y$366,T142,MFL!$I$7:$I$366)","v":0},null,0,null,{"$f":"SUMIF(MFL!$Y$7:$Y$366,T142,MFL!$H$7:$H$366)","v":0},null,0,null,{"$error":"#DIV/0!"},null,null,null,null,{"$f":"IF((T142-1)*12>=Hiteladatok!$B$16,0,1)","v":0},0,null,null,28]
["29. év összesen:",null,{"$f":"SUMIF(MFL!$Y$7:$Y$366,T143,MFL!$I$7:$I$366)","v":0},null,0,null,{"$f":"SUMIF(MFL!$Y$7:$Y$366,T143,MFL!$H$7:$H$366)","v":0},null,0,null,{"$error":"#DIV/0!"},null,null,null,null,{"$f":"IF((T143-1)*12>=Hiteladatok!$B$16,0,1)","v":0},0,null,null,29]
["30. év összesen:",null,{"$f":"SUMIF(MFL!$Y$7:$Y$366,T144,MFL!$I$7:$I$366)","v":0},null,0,null,{"$f":"SUMIF(MFL!$Y$7:$Y$366,T144,MFL!$H$7:$H$366)","v":0},null,0,null,{"$error":"#DIV/0!"},null,null,null,null,{"$f":"IF((T144-1)*12>=Hiteladatok!$B$16,0,1)","v":0},0,null,null,30]
["Mindösszesen:",null,{"$f":"SUM(C115:D144)","v":{"$error":"#DIV/0!"}},null,{"$f":"SUM(E115:F144)","v":{"$error":"#DIV/0!"}},null,{"$f":"SUM(G115:H144)","v":{"$error":"#DIV/0!"}},null,{"$f":"SUM(I115:J144)","v":{"$error":"#DIV/0!"}},null,{"$f":"K144","v":{"$error":"#DIV/0!"}},null,null,null,null,1,12.75]
["A fenti táblázatban szereplő összegek kerekítésre kerültek, így előfordulhat eltérés azok külön-külön történő összeadása során. A megjelenített összegek tájékoztatási célt szolgálnak. A pontos havi törlesztőrészlet összegéről a Bank a jogszabályi előírásoknak megfelelően előzetesen tájékoztatja Önt.",null,null,null,null,null,null,null,null,null,null,null,null,null,null,4,51]
["8. További kötelezettségek:",null,null,null,null,null,null,null,null,null,null,null,null,null,null,1,12.75]
["Önnek a következő kötelezettségeket kell teljesítenie ahhoz, hogy az ebben a dokumentumban ismertetett feltételekkel juthasson hitelhez:\nA hitel folyósítási feltétele, hogy Ön vagy a hitelügylet más kötelezettje rendelkezzen élő, díjrendezett vagyonbiztosítással a fedezetül felajánlott ingatlanra vonatkozóan a hitel lejáratáig. A vagyonbiztosítás megköthető a K&H Biztosító Zrt-nél, illetve bármely más biztosító társaságnál. A vagyonbiztosítás díja a Bank számára nem ismert, így a THM nem tartalmazza, annak díját az Ön és a Biztosító között létrejött vagyonbiztosítási szerződés tartalmazza.\nTörlesztőrészletek megfizetésének biztosítására Önnek rendelkeznie kell a K&H Bank Zrt.-nál vezetett bankszámlával, vagy Hiteltörlesztő számlával a hitel lejáratáig.",null,null,null,null,null,null,null,null,null,null,null,null,null,null,8,102]
["Felhívjuk figyelmét, hogy akció keretében a K&H Bank által a mindenkor hatályos Hirdetményben megjelölt elengedett, átvállalt illetve visszatérített díjak és költségek visszatérítendők, amennyiben lakástakarékpénztári megtakarítástól eltérő forrásból a szerződéskötéstől számított 2 éven belül (amennyiben a hitel futamideje kevesebb, mint 2 év, akkor ezen futamidőn belül) a hitel végtörlesztésre-, vagy a kölcsönösszeg legalább 50%-ig előtörlesztésre- illetve Bankon kívül álló okokból felmondásra kerül.",null,null,null,null,null,null,null,null,null,null,null,null,null,null,5,63.75]
["Kamatkedvezményre való jogosultság feltételeinek nem teljesítése esetén, felhívjuk figyelmét, hogy a kamatkedvezményt a K&H Bank Zrt. visszavonja, így a kamatláb változhat, amennyiben Ön nem tesz eleget e kötelezettségeknek.\nFelhívjuk figyelmét, hogy ha később eláll a hitelhez kapcsolódó bármely kapcsolódó szolgáltatás igénybevételétől, az az alábbi következményekkel járhat:",null,null,null,null,null,null,null,null,null,null,null,null,null,null,4,51]
["A hitelszerződés felmondásra kerülhet, amennyiben a hitel futamideje alatt:\n- Ha a Kölcsönszerződés alapján a K&H Bank Zrt. által megkövetelt vagyonbiztosítás díját az arra kötelezett nem, vagy csak részben fizeti meg, vagy e biztosítási szerződés valamely lényeges rendelkezését a szerződő a Bankra nézve hátrányosan megváltoztatja. \n- Ha az Adós K&H Banknál vezetett, és az Ügyfélszerződésben törlesztő számlaként megjelölt lakossági bankszámlája, vagy Hiteltörlesztő számlája bármely okból megszűnik.",null,null,null,null,null,null,null,null,null,null,null,null,null,null,7,89.25]
["9. Előtörlesztés:",null,null,null,null,null,null,null,null,null,null,null,null,null,null,1,12.75]
["Ön jogosult a hitel részleges vagy teljes előtörlesztésére.\n- Az Adós a Tőketartozást a lejárat előtt részben, vagy teljes egészében előtörlesztheti, amennyiben erre irányuló szándékát a Bank felé írásban jelzi A banki munkanapokon 15:00 óráig befogadott előtörlesztési kérelmet a Bank a benyújtás napján végrehajtja, amennyiben annak fedezete a törlesztő számlán rendelkezésre áll. A 15:00 óra után benyújtott előtörlesztési nyilatkozatot a Bank csak a következő banki munkanapra fogadja be. Az esedékesség előtt visszafizetett tőkerésszel csökkentett tartozás alapján a hátralévő Futamidőnek megfelelő átértékelt Törlesztőrészlet összegéről a Bank az Adóst írásban értesíti. A Végtörlesztés szándékának bejelentése önmagában nem minősül a Kölcsönszerződés Adós általi felmondásának. Elő- és végtörlesztés esetén az Adós köteles az Elő- és Végtörlesztés napjáig megszolgált kamatokat és díjakat maradéktalanul megfizetni. ",null,null,null,null,null,null,null,null,null,null,null,null,null,null,9,114.75]
["- Amennyiben az Adóstárs kíván Előtörlesztést végrehajtani, akkor az Adóstárs az Adós törlesztő számlája felett kizárólag a befizetett összeg törlesztésre fordítása tárgyában rendelkezhet. Az Adós elismeri, hogy az Adóstárs, Kezes, zálogkötelezett, és a kölcsön biztosítékát nyújtó, vagy annak visszafizetéséért bármilyen személyes vagy dologi kötelezettséget vállaló harmadik fél olyan személynek minősül, akinek a kölcsön visszafizetéséhez törvényes érdeke fűződik, ezért az általuk felajánlott teljesítést a Bank az Adós hozzájárulása nélkül is jogosult elfogadni.",null,null,null,null,null,null,null,null,null,null,null,null,null,null,5,63.75]
["A Bank jogosult az előtörlesztéssel kapcsolatban felmerült költségei megtérítésére, az előtörlesztés díjának mértékét a mindenkor hatályos lakossági hitelekre vonatkozó Hirdetmény tartalmazza, de jelzáloghitel előtörlesztése esetén legfeljebb az előtörlesztett összeg 1 százaléka. A bármely lakástakarék-pénztári, a lakástakarék-pénztári szerződésben rögzített összegű havi betét befizetésével a teljes vagy részleges előtörlesztés időpontjáig szerződés szerint elérhető megtakarításból, a hozzá kapcsolódó állami támogatásból és az azokra jóváírt kamatból finanszírozott teljes vagy részleges előtörlesztés annak lejáratakor díjmentes. A további díjmentességi feltételeket a vonatkozó, mindenkor hatályos Hirdetmény tartalmazza.",null,null,null,null,null,null,null,null,null,null,null,null,null,null,7,89.25]
["10. Rugalmas elemek:",null,null,null,null,null,null,null,null,null,null,null,null,null,null,1,12.75]
["Az ügyfél írásos formában kérheti a szerződés módosítását (pl. ügyleti szereplőben, fedezetek körében történő változás). A K&H Bank Zrt. minden esetben fenntartja a szükséges dokumentumok bekérésének, és a kérelem elbírálásának jogát. A szerződésmódosítások díja a mindenkor hatályos lakossági hitelekre vonatkozó Hirdetményben megtalálható.\nÖnnek lehetősége van ezt a hitelt más hitelezőhöz átvinni, melynek feltételei a végtörlesztés feltételeivel azonosak.\nAmennyiben fizetési nehézségei támadnak a havi törlesztőrészletek fizetésével kapcsolatban, kérjük, haladéktalanuk keressen meg minket,, hogy megoldást találjunk problémájára a törlesztéskönnyítő lehetőségek közül.",null,null,null,null,null,null,null,null,null,null,null,null,null,null,7,89.25]
["11. A fogyasztó egyéb jogai:",null,null,null,null,null,null,null,null,null,null,null,null,null,null,1,12.75]
["15 nap gondolkodási idő áll a rendelkezésére a hitel felvételéről szóló döntéshez. Miután kézhez kapta a hitelszerződés tervezetét a hitelezőtől, csak 3 nap eltelte után fogadhatja el az ajánlatot.\nÖnnek az alábbi esetben van joga elállni a hitelügylettől:\n• szerződés aláírását megelőzően (kérelem visszavonás),\n• szerződés aláírását követően, a folyósítást megelőzően (szerződéstől elállás).\nAz elállásra vonatkozó igényét írásban nyújthatja be a bankfiókban.\nSzerződéskötést követően köteles a Bank részére visszatéríteni azokat a díjakat, melyek a konstrukció hirdetményi adottságainál fogva is az Ügyfelet terhelnék \nFolyósítást követően Ön nem jogosult elállni a hitelügylettől, a kölcsön csak végtörlesztéssel szüntethető meg.\nAmennyiben úgy dönt, hogy él az elállás jogával, kérjük, ellenőrizze, hogy továbbra is vonatkoznak-e Önre a 8. pontban említett, a hitelhez kapcsolódó egyéb kötelezettségek (vagyonbiztosítás, törlesztő számla).",null,null,null,null,null,null,null,null,null,null,null,null,null,null,12,153]
["12. Panaszok:",null,null,null,null,null,null,null,null,null,null,null,null,null,null,1,12.75]
["Amennyiben panasza van, kérjük vegye fel a kapcsolatot a Lakossági Panaszkezelési Csoporttal. Felmerülő panaszát benyújthatja bármely bankfiókunkban, vagy a TeleCenteren a (06 1/20/30/70) 335 3355 telefonszámon keresztül illetve a bank@kh.hu email címen.\nA panasz kezelésére rendelkezésre álló idő legfeljebb 30 nap.\nAmennyiben a panaszára Ön nem kap számára kielégítő választ, a következő szervezetekhez is fordulhat: Pénzügyi Békéltető Testület, vagy amennyiben Ön más tagállamban lakóhellyel rendelkezik, kapcsolatba léphet a FIN-NET (http://ec.europa.eu/internal_market/fin-net/) hálózattal, amelytől elkérheti az Ön országában ezzel egyenértékű szerv adatait. \n",null,null,null,null,null,null,null,null,null,null,null,null,null,null,8,102]
["13. A hitelhez kapcsolódó kötelezettségeknek való nem megfelelés következményei a fogyasztóra nézve:",null,null,null,null,null,null,null,null,null,null,null,null,null,null,1,12.75]
["A K&H Bank Zrt. a Kölcsönszerződést azonnali hatállyal jogosult felmondani, amennyiben a lakossági hitelekre vonatkozó ÁSZF-ben megtalálható Súlyos Szerződésszegési Események bekövetkeznek (pl. nemteljesítés, fizetési késedelem, fedezet elvonás, biztosítéki szerződésszegés). A felmondás hatályosulásával a teljes tartozás lejárttá és közvetlen végrehajtás, vagy egyéb törvényes úton egyösszegben követelhetővé válik, mely esetben az adott értéknapon nyilvántartott lejárt tartozásra a Bank jogosult késedelmi kamatot felszámítani. A központi hitelinformációs rendszerről szóló 2011. évi CXXII. törvényben meghatározott esetekben a fogyasztó felkerül a KHR-be. A biztosítékul felajánlott ingatlan/ok végrehajtás alá kerülhet. A Bank jogosult a követelést harmadik személy részére engedményezni. \nAmennyiben nehézségei támadnak a havi törlesztőrészletek fizetésével kapcsolatban, kérjük, mielőbb keressen meg minket, hogy megfelelő megoldást találjunk a problémára. A részletfizetések elmaradása esetén otthona végső esetben végrehajtás alá kerülhet.",null,null,null,null,null,null,null,null,null,null,null,null,null,null,11,140.25]
["14. Felügyelet:",null,null,null,null,null,null,null,null,null,null,null,null,null,null,1,12.75]
["A K&H Bank Zrt, hitelező a Magyar Nemzeti Bank, http://www.mnb.hu/ felügyelete alá tartozik.\nA hitelközvetítő a Magyar Nemzeti Bank, http://www.mnb.hu/ felügyelete alá tartozik.",null,null,null,null,null,null,null,null,null,null,null,null,null,null,2,25.5]
[null,null,null,null,null,null,null,null,null,null,null,null,null,null,null,1,12.75]
["Jelen tájékoztató a 3/2016 NGM Rendelet 2. számú melléklete alapján készült. Jelen tájékoztatóban szereplő díjak, költségek, hitel teljes díja mértéke és/vagy összegszerűsége az aktuális kondíciók változatlansága esetén érvényes!",null,null,null,null,null,null,null,null,null,null,null,null,null,null,3,38.25]
["Aláírásommal igazolom, hogy a Személyes tájékoztatás a jelzáloghitelekről formanyomtatvány egy példányát átvettem és a 2009. évi CLXII. törvény 5., 7., 12., 13. §-a szerinti felvilágosítást a jogszabályokban meghatározott időrendi sorrendben, részletezettségben és formában megkaptam.",null,null,null,null,null,null,null,null,null,null,null,null,null,null,5,63.75]
[{"$f":"CONCATENATE(\"Kelt: …………………………………...……… ,    \",TEXT(TODAY(),\"éééé.hh.nn\"))","v":"Kelt: …………………………………...……… ,    2021.07.09"},null,null,null,null,null,null,null,null,null,null,null,null,null,null,1,12.75]
[null,null,"……………………………….",null,null,null,null,null,{"$f":"IF(Ügyféladatok!$F$50>1,\"……………………………….\",\"\")","v":"………………………………."},null,null,null,null,null,null,4,51]
["Ügyfél neve:",null,{"$f":"HLOOKUP(1,Ügyféladatok!$B$51:$E$57,4,FALSE)","v":""},null,null,null,null,null,{"$f":"IF(Ügyféladatok!$F$50>1,HLOOKUP(2,Ügyféladatok!$B$51:$E$57,4,FALSE),\"\")","v":""},null,null,null,null,null,null,1,12.75]
["Születési dátum:",null,{"$f":"HLOOKUP(1,Ügyféladatok!$B$51:$E$57,5,FALSE)","v":""},null,null,null,null,null,{"$f":"IF(Ügyféladatok!$F$50>1,HLOOKUP(2,Ügyféladatok!$B$51:$E$57,5,FALSE),\"\")","v":""},null,null,null,null,null,null,1,12.75]
["Anyja neve:",null,{"$f":"HLOOKUP(1,Ügyféladatok!$B$51:$E$57,6,FALSE)","v":""},null,null,null,null,null,{"$f":"IF(Ügyféladatok!$F$50>1,HLOOKUP(2,Ügyféladatok!$B$51:$E$57,6,FALSE),\"\")","v":""},null,null,null,null,null,null,1,12.75]
["Lakcím:",null,{"$f":"HLOOKUP(1,Ügyféladatok!$B$51:$E$57,7,FALSE)","v":""},null,null,null,null,null,{"$f":"IF(Ügyféladatok!$F$50>1,HLOOKUP(2,Ügyféladatok!$B$51:$E$57,7,FALSE),\"\")","v":""},null,null,null,null,null,null,2,25.5]
[null,null,{"$f":"IF(Ügyféladatok!$F$50>2,\"……………………………….\",\"\")","v":""},null,null,null,null,null,{"$f":"IF(Ügyféladatok!$F$50>3,\"……………………………….\",\"\")","v":""},null,null,null,null,null,null,{"$f":"IF(Ügyféladatok!$F$50>2,4,0)","v":0},0]
[{"$f":"IF(Ügyféladatok!$F$52>2,A171,\"\")","v":""},null,{"$f":"IF(Ügyféladatok!$F$50>2,HLOOKUP(3,Ügyféladatok!$B$51:$E$57,4,FALSE),\"\")","v":""},null,null,null,null,null,{"$f":"IF(Ügyféladatok!$F$50>3,HLOOKUP(4,Ügyféladatok!$B$51:$E$57,4,FALSE),\"\")","v":""},null,null,null,null,null,null,{"$f":"IF(Ügyféladatok!$F$50>2,1,0)","v":0},0]
[{"$f":"IF(Ügyféladatok!$F$52>2,A172,\"\")","v":""},null,{"$f":"IF(Ügyféladatok!$F$50>2,HLOOKUP(3,Ügyféladatok!$B$51:$E$57,5,FALSE),\"\")","v":""},null,null,null,null,null,{"$f":"IF(Ügyféladatok!$F$50>3,HLOOKUP(4,Ügyféladatok!$B$51:$E$57,5,FALSE),\"\")","v":""},null,null,null,null,null,null,{"$f":"IF(Ügyféladatok!$F$50>2,1,0)","v":0},0]
[{"$f":"IF(Ügyféladatok!$F$52>2,A173,\"\")","v":""},null,{"$f":"IF(Ügyféladatok!$F$50>2,HLOOKUP(3,Ügyféladatok!$B$51:$E$57,6,FALSE),\"\")","v":""},null,null,null,null,null,{"$f":"IF(Ügyféladatok!$F$50>3,HLOOKUP(4,Ügyféladatok!$B$51:$E$57,6,FALSE),\"\")","v":""},null,null,null,null,null,null,{"$f":"IF(Ügyféladatok!$F$50>2,1,0)","v":0},0]
[{"$f":"IF(Ügyféladatok!$F$52>2,A174,\"\")","v":""},null,{"$f":"IF(Ügyféladatok!$F$50>2,HLOOKUP(3,Ügyféladatok!$B$51:$E$57,7,FALSE),\"\")","v":""},null,null,null,null,null,{"$f":"IF(Ügyféladatok!$F$50>3,HLOOKUP(4,Ügyféladatok!$B$51:$E$57,7,FALSE),\"\")","v":""},null,null,null,null,null,null,{"$f":"IF(Ügyféladatok!$F$50>2,2,0)","v":0},0]
["Összefoglaló",null,null,null,null,null,null,null,null,null,null,null,null,null,null,null,15]
["Hitelszerződést megelőző tájékoztató",null,null,null,null,null,null,null,null,null,null,null,null,null,null,null,15]
[{"$f":"CONCATENATE(\"Kedves \",C171,\"!\")","v":"Kedves !"},null,null,null,null,null,null,null,null,null,null,"Tájékoztató száma: …………….",null,null,null,null,43]
[null,null,null,null,null,null,null,null,null,null,null,{"$f":"CONCATENATE(\"Tájékoztató dátuma: \",TEXT(TODAY(),\"éééé.hh.nn\"))","v":"Tájékoztató dátuma: 2021.07.09"},null,null,null,null,15]
[null,null,null,null,null,null,null,null,null,null,null,null,null,null,null,null,12]
["Az ön által választott hitel jellemzői:",null,null,null,null,null,null,null,"Választott és választható kedvezmények a feltételek teljesítésével",null,null,null,null,null,null,3,{"$f":"P185*$Q$1","v":38.25}]
["A hitel megnevezése:",null,null,null,{"$f":"CONCATENATE(\"K&H \",Hiteladatok!A14)","v":{"$error":"#N/A"}},null,null,null," Átutalási kamatkedvezménnyel",null,null,{"$f":"-kondíciók!D31","v":5.0000000000000001E-3},null,null,null,{"$f":"IF('Új PD'!O3=0,0,2)","v":2},25.5]
["A hitel megnevezése:",null,null,null,{"$f":"E186","v":{"$error":"#N/A"}},null,null,null," Átutalási kamatkedvezménnyel",null,null,{"$f":"-kondíciók!D31","v":5.0000000000000001E-3},null,null,null,{"$f":"IF(P186=0,2,0)","v":0},0]
["THM:",null,null,null,{"$f":"ROUND(MFL!O1,3)","v":4.9000000000000002E-2},null,null,null," K&H lakásbiztosítási kamatkedvezménnyel",null,null,{"$f":"-kondíciók!D32","v":1E-3},null,null,null,{"$f":"IF('Új PD'!O4=0,0,2)","v":2},25.5]
["THM:",null,null,null,{"$f":"ROUND(MFL!O1,3)","v":4.9000000000000002E-2},null,null,null," K&H lakásbiztosítási kamatkedvezménnyel",null,null,{"$f":"-kondíciók!D32","v":1E-3},null,null,null,{"$f":"IF(P188=0,2,0)","v":0},0]
["Kölcsön összege",null,null,null,{"$f":"CONCATENATE(TEXT(ROUND(Hiteladatok!$B$15,0),\"# ##\"),\" forint\")","v":" forint"},null,null,null," K&H életbiztosítási\nkamatkedvezménnyel\n                 vagy",null,null,{"$f":"-kondíciók!D33","v":2E-3},null,null,null,{"$f":"IF('Új PD'!O6=0,0,3)","v":0},0]
["Kölcsön összege",null,null,null,{"$f":"CONCATENATE(TEXT(ROUND(Hiteladatok!$B$15,0),\"# ##\"),\" forint\")","v":" forint"},null,null,null," K&H életbiztosítási\nkamatkedvezménnyel\n                 vagy",null,null,{"$f":"-kondíciók!D33","v":2E-3},null,null,null,{"$f":"IF(P190=0,3,0)","v":3},38.25]
["Futamidő:",null,null,null,{"$f":"CONCATENATE(Hiteladatok!$B$16,\" hónap\")","v":"240 hónap"},null,null,null," K&H  jelzáloghitel törlesztési \nés hitelfedezeti biztosítási",null,null,null,null,null,null,{"$f":"IF('Új PD'!O5=0,0,2)","v":0},0]
["Kölcsön éves ügyleti kamata:",null,null,null,{"$f":"'Új PD'!$D$14","v":{"$error":"#DIV/0!"}},null,null,null,"kamatkedvezménnyel",null,null,{"$f":"-kondíciók!D34","v":2E-3},null,null,null,{"$f":"IF('Új PD'!O5=0,0,1)","v":0},0]
["Futamidő:",null,null,null,{"$f":"CONCATENATE(Hiteladatok!$B$16,\" hónap\")","v":"240 hónap"},null,null,null," K&H  jelzáloghitel törlesztési \nés hitelfedezeti biztosítási",null,null,null,null,null,null,{"$f":"IF(P192=0,2,0)","v":2},25.5]
["Kölcsön éves ügyleti kamata:",null,null,null,{"$f":"'Új PD'!$D$14","v":{"$error":"#DIV/0!"}},null,null,null,"kamatkedvezménnyel",null,null,{"$f":"kondíciók!D34","v":-2E-3},null,null,null,{"$f":"IF(P192=0,1,0)","v":1},12.75]
["Induló kamatperiódus:",null,null,null,{"$f":"IF(V22=3,\"Fix kamat a teljes futamidőre\",CONCATENATE(VLOOKUP(Hiteladatok!B17,Hiteladatok!R23:U28,4,FALSE),\" hónap\"))","v":{"$error":"#N/A"}},null,null,null," Prémium banki kamatkedvezménnyel",null,null,null,null,null,null,{"$f":"IF('Új PD'!O7=0,0,1)","v":0},0]
["Elő / végtörlesztési díj:",null,null,null,0.01,null,null,null,null,null,null,{"$f":"-kondíciók!D35","v":2E-3},null,null,null,{"$f":"P196","v":0},0]
["Induló kamatperiódus:",null,null,null,{"$f":"IF(V22=3,\"Fix kamat a teljes futamidőre\",CONCATENATE(VLOOKUP(Hiteladatok!B17,Hiteladatok!R23:U28,4,FALSE),\" hónap\"))","v":{"$error":"#N/A"}},null,null,null," Prémium banki kamatkedvezménnyel",null,null,null,null,null,null,{"$f":"IF(P196=0,1,0)","v":1},12.75]
["Elő / végtörlesztési díj:",null,null,null,0.01,null,null,null,null,null,null,{"$f":"-kondíciók!D35","v":2E-3},null,null,null,{"$f":"P198","v":1},12.75]
["Teljes visszafizetendő összeg:",null,null,null,{"$f":"CONCATENATE(TEXT(ROUND(MFL!I4,0),\"# ##\"),\" forint\")","v":{"$error":"#DIV/0!"}},null,null,null,{"$f":"IF('Új PD'!O9=0,\"\",CONCATENATE(\"Egyedi kamatkedvezmény:          \",-ROUND('Új PD'!O9*100,2),\"% \"))","v":{"$error":"#DIV/0!"}},null,null,null,null,null,null,1,12.75]
[null,null,null,null,null,null,null,null,null,null,null,null,null,null,null,1,12.75]
["Törlesztőrészlet összege kedvezmények nélkül:",null,null,null,null,null,null,null,{"$f":"CONCATENATE(TEXT(ROUND(T202,0),\"# ##\"),\" forint\")","v":{"$error":"#N/A"}},null,null,null,null,null,null,null,20,null,{"$f":"VLOOKUP('Új PD'!C13,'Új PD'!B2:I7,8,FALSE)","v":{"$error":"#N/A"}},{"$f":"PMT(S202/12,Hiteladatok!B16,-Hiteladatok!B15)","v":{"$error":"#N/A"}}]
[{"$f":"IF('Új PD'!O9=0,\"Törlesztőrészlet a választott kedvezményekkel:\",\"Törlesztőrészlet az egyedi és választott kedvezményekkel:\")","v":{"$error":"#DIV/0!"}},null,null,null,null,null,null,null,{"$f":"CONCATENATE(TEXT(ROUND(MFL!I8,0),\"# ##\"),\" forint\")","v":{"$error":"#DIV/0!"}},null,null,null,null,null,null,null,20]
[null,null,null,null,null,null,null,null,null,null,null,null,null,null,null,null,20]
["Díjak megnevezése",null,null,null,null,null,"Díjak összege",null,null,null,null,null,null,null,null,null,20]
[{"$f":"Hiteladatok!A33","v":{"$error":"#N/A"}},null,null,null,null,null,{"$f":"CONCATENATE(IF(ROUND(Hiteladatok!B33,0)=0,\"0\",TEXT(ROUND(Hiteladatok!B33,0),\"# ##\")),\" forint\")","v":"0 forint"},null,null,null,null,null,null,null,null,null,15]
["Értékbecslési díj",null,null,null,null,null,{"$f":"CONCATENATE(IF(ROUND(Hiteladatok!B34,0)=0,\"0\",TEXT(ROUND(Hiteladatok!B34,0),\"# ##\")),\" forint\")","v":"0 forint"},null,null,null,null,null,null,null,null,null,15]
["Tul. lap/térképm. lekérdezés díj",null,null,null,null,null,{"$f":"CONCATENATE(IF(ROUND(Hiteladatok!B35,0)=0,\"0\",TEXT(ROUND(Hiteladatok!B35,0),\"# ##\")),\" forint\")","v":"0 forint"},null,null,null,null,null,null,null,null,null,15]
["Közjegyzői díj*",null,null,null,null,null,{"$f":"CONCATENATE(TEXT(ROUND('Közjegyzői-normál'!D32,0),\"# ##\"),\" forint\")","v":"16 960 forint"},null,null,null,null,null,null,null,null,null,15]
["Földhivatali bejegyzés díja",null,null,null,null,null,{"$f":"CONCATENATE(TEXT(ROUND(kondíciók!G10,0),\"# ##\"),\" forint\")","v":"12 600 forint"},null,null,null,null,null,null,null,null,null,15]
["Összes költség",null,null,null,null,null,{"$f":"CONCATENATE(TEXT(ROUND(Hiteladatok!B33+Hiteladatok!B34+Hiteladatok!B35+'Közjegyzői-normál'!D32+kondíciók!G10,0),\"# ##\"),\" forint\")","v":"29 560 forint"},null,null,null,null,null,null,null,null,null,20]
["* bankunk érdekkörén kívül felmerülő költség. A közjegyzői díj pontos mértéke a közjegyzői díjszabásról szóló 22/2018. (VIII.23.) IM rendelet alapján kerül a közjegyző által meghatározásra. A díj előzetes kalkulációja során a Bank a vonatkozó IM rendelet 38/A § teljesülését feltételezte.",null,null,null,null,null,null,null,null,null,null,null,null,null,null,3,{"$f":"P212*$Q$1","v":38.25}]
[null,null,null,null,null,null,null,null,null,null,null,null,null,null,null,null,15]
["Az Ön személyes tanácsadója:",null,null,null,null,null,{"$f":"'Kezdő oldal'!B3","v":0},null,null,null,null,null,null,null,null,null,15]
["Telefonszám:",null,null,null,null,null,{"$f":"'Kezdő oldal'!B4","v":0},null,null,null,null,null,null,null,null,null,15]
["E-mail:",null,null,null,null,null,{"$f":"IF('Kezdő oldal'!D4=\"\",\"\",'Kezdő oldal'!D4)","v":""},null,null,null,null,null,null,null,null,null,15]
["Köszönjük, hogy megtisztelte bankunkat bizalmával!",null,null,null,null,null,null,null,null,null,null,null,null,null,null,null,40]
["Jelen dokumentum - annak elválaszthatatlan mellékleteivel - nem minősül jogilag kötelező érvényű ajánlatnak. A jelen dokumentumban nyújtott adatok a Bank azon feltételeit tükrözi, amelyek mellett az Ügyfél által szolgáltatott adatok ismeretében, a jelenlegi kondíciói és piaci helyzet figyelembe vételével szerződést kötne. Ennek megfelelően egy későbbi időpontban megkötésre kerülő szerződés a fentiektől eltérő kondíciókat tartalmazhat. Jelen dokumentum alapján a Bank hitelnyújtásra nem köteles.\nFelhívjuk figyelmét a www.minositetthitel.hu oldalon található a Minősített Fogyasztóbarát Lakáshitelekhez kapcsolódó Összehasonlító oldalra, melyen további kalkulációkat végezhet hitelcélja megvalósításához.",null,null,null,null,null,null,null,null,null,null,null,null,null,null,7,{"$f":"P218*$Q$1","v":89.25}]

{"sheet":"Ind-Sz-OTK","index":9,"n_rows":144,"n_cols":27,"rows_kept":144,"cut":false,"hidden":true,"merged":[[137,0,137,1],[137,2,137,5],[137,8,137,11],[138,0,138,1],[138,2,138,5],[138,8,138,11],[134,2,134,5],[134,8,134,11],[142,0,142,1],[142,2,142,5],[142,8,142,11],[135,0,135,1],[135,2,135,5],[135,8,135,11],[136,0,136,1],[136,2,136,5],[136,8,136,11],[143,0,143,1],[143,2,143,5],[143,8,143,11],[139,2,139,5],[139,8,139,11],[140,0,140,1],[140,2,140,5],[140,8,140,11],[141,0,141,1],[141,2,141,5],[141,8,141,11],[128,0,128,11],[129,0,129,11],[130,0,130,11],[131,0,131,11],[132,0,132,11],[133,0,133,11],[121,0,121,11],[123,0,123,11],[124,0,124,11],[125,0,125,11],[126,0,126,11],[127,0,127,11],[115,0,115,11],[116,0,116,11],[117,0,117,11],[118,0,118,11],[119,0,119,11],[120,0,120,11],[122,0,122,11],[108,0,108,11],[109,0,109,11],[111,0,111,11],[112,0,112,11],[113,0,113,11],[114,0,114,11],[107,0,107,1],[107,2,107,3],[107,4,107,5],[107,6,107,7],[107,8,107,9],[107,10,107,11],[110,0,110,11],[106,0,106,1],[106,2,106,3],[106,4,106,5],[106,6,106,7],[106,8,106,9],[106,10,106,11],[105,0,105,1],[105,2,105,3],[105,4,105,5],[105,6,105,7],[105,8,105,9],[105,10,105,11],[104,0,104,1],[104,2,104,3],[104,4,104,5],[104,6,104,7],[104,8,104,9],[104,10,104,11],[103,0,103,1],[103,2,103,3],[103,4,103,5],[103,6,103,7],[103,8,103,9],[103,10,103,11],[102,0,102,1],[102,2,102,3],[102,4,102,5],[102,6,102,7],[102,8,102,9],[102,10,102,11],[101,0,101,1],[101,2,101,3],[101,4,101,5],[101,6,101,7],[101,8,101,9],[101,10,101,11],[100,0,100,1],[100,2,100,3],[100,4,100,5],[100,6,100,7],[100,8,100,9],[100,10,100,11],[99,0,99,1],[99,2,99,3],[99,4,99,5],[99,6,99,7],[99,8,99,9],[99,10,99,11],[98,0,98,1],[98,2,98,3],[98,4,98,5],[98,6,98,7],[98,8,98,9],[98,10,98,11],[97,0,97,1],[97,2,97,3],[97,4,97,5],[97,6,97,7],[97,8,97,9],[97,10,97,11],[96,0,96,1],[96,2,96,3],[96,4,96,5],[96,6,96,7],[96,8,96,9],[96,10,96,11],[95,0,95,1],[95,2,95,3],[95,4,95,5],[95,6,95,7],[95,8,95,9],[95,10,95,11],[94,0,94,1],[94,2,94,3],[94,4,94,5],[94,6,94,7],[94,8,94,9],[94,10,94,11],[93,0,93,1],[93,2,93,3],[93,4,93,5],[93,6,93,7],[93,8,93,9],[93,10,93,11],[92,0,92,1],[92,2,92,3],[92,4,92,5],[92,6,92,7],[92,8,92,9],[92,10,92,11],[91,0,91,1],[91,2,91,3],[91,4,91,5],[91,6,91,7],[91,8,91,9],[91,10,91,11],[90,0,90,1],[90,2,90,3],[90,4,90,5],[90,6,90,7],[90,8,90,9],[90,10,90,11],[89,0,89,1],[89,2,89,3],[89,4,89,5],[89,6,89,7],[89,8,89,9],[89,10,89,11],[88,0,88,1],[88,2,88,3],[88,4,88,5],[88,6,88,7],[88,8,88,9],[88,10,88,11],[87,0,87,1],[87,2,87,3],[87,4,87,5],[87,6,87,7],[87,8,87,9],[87,10,87,11],[86,0,86,1],[86,2,86,3],[86,4,86,5],[86,6,86,7],[86,8,86,9],[86,10,86,11],[85,0,85,1],[85,2,85,3],[85,4,85,5],[85,6,85,7],[85,8,85,9],[85,10,85,11],[84,0,84,1],[84,2,84,3],[84,4,84,5],[84,6,84,7],[84,8,84,9],[84,10,84,11],[83,0,83,1],[83,2,83,3],[83,4,83,5],[83,6,83,7],[83,8,83,9],[83,10,83,11],[82,0,82,1],[82,2,82,3],[82,4,82,5],[82,6,82,7],[82,8,82,9],[82,10,82,11],[81,0,81,1],[81,2,81,3],[81,4,81,5],[81,6,81,7],[81,8,81,9],[81,10,81,11],[80,0,80,1],[80,2,80,3],[80,4,80,5],[80,6,80,7],[80,8,80,9],[80,10,80,11],[79,0,79,1],[79,2,79,3],[79,4,79,5],[79,6,79,7],[79,8,79,9],[79,10,79,11],[78,0,78,1],[78,2,78,3],[78,4,78,5],[78,6,78,7],[78,8,78,9],[78,10,78,11],[77,0,77,1],[77,2,77,3],[77,4,77,5],[77,6,77,7],[77,8,77,9],[77,10,77,11],[76,0,76,1],[76,2,76,3],[76,4,76,5],[76,6,76,7],[76,8,76,9],[76,10,76,11],[75,0,75,1],[75,2,75,3],[75,4,75,5],[75,6,75,7],[75,8,75,9],[75,10,75,11],[74,0,74,1],[74,2,74,3],[74,4,74,5],[74,6,74,7],[74,8,74,9],[74,10,74,11],[73,0,73,1],[73,2,73,3],[73,4,73,5],[73,6,73,7],[73,8,73,9],[73,10,73,11],[72,0,72,1],[72,2,72,3],[72,4,72,5],[72,6,72,7],[72,8,72,9],[72,10,72,11],[71,0,71,1],[71,2,71,3],[71,4,71,5],[71,6,71,7],[71,8,71,9],[71,10,71,11],[70,0,70,1],[70,2,70,3],[70,4,70,5],[70,6,70,7],[70,8,70,9],[70,10,70,11],[69,0,69,1],[69,2,69,3],[69,4,69,5],[69,6,69,7],[69,8,69,9],[69,10,69,11],[65,0,65,11],[66,0,66,11],[67,0,67,11],[68,0,68,1],[68,2,68,3],[68,4,68,5],[68,6,68,7],[68,8,68,9],[68,10,68,11],[59,0,59,11],[60,0,60,11],[61,0,61,11],[62,0,62,11],[63,0,63,11],[64,0,64,11],[53,0,53,11],[54,0,54,11],[55,0,55,11],[56,0,56,11],[57,0,57,11],[58,0,58,11],[49,0,49,11],[50,0,50,11],[51,0,51,11],[52,0,52,11],[42,0,42,11],[43,0,43,11],[44,0,44,11],[46,0,46,11],[47,0,47,11],[48,0,48,11],[40,0,40,11],[41,0,41,11],[45,0,45,11],[35,0,35,11],[36,0,36,11],[37,0,37,11],[38,0,38,11],[39,0,39,11],[30,0,30,11],[31,0,31,11],[32,0,32,11],[33,0,33,11],[34,0,34,11],[25,0,25,11],[26,0,26,11],[27,0,27,11],[28,0,28,11],[29,0,29,11],[19,0,19,11],[20,0,20,11],[21,0,21,11],[22,0,22,11],[23,0,23,11],[24,0,24,11],[16,0,16,11],[17,0,17,11],[18,0,18,11],[7,0,7,11],[8,0,8,11],[9,0,9,11],[10,0,10,11],[11,0,11,11],[12,0,12,11],[1,0,1,11],[2,0,2,11],[3,0,3,11],[4,0,4,11],[5,0,5,11],[6,0,6,11],[13,0,13,11],[14,0,14,11],[15,0,15,11]]}
[null,null,null,null,null,null,null,null,null,null,null,null,null,null,null,"sormagasság",12.75]
["II. Személyes tájékoztatás a jelzáloghitelről\n",null,null,null,null,null,null,null,null,null,null,null,null,null,null,4,{"$f":"P2*$Q$1","v":51},null,{"$f":"DAY(TODAY())","v":9},1,"-én"]
["Bevezető szöveg",null,null,null,null,null,null,null,null,null,null,null,null,null,null,1,{"$f":"P3*$Q$1","v":12.75},null,null,{"$f":"T2+1","v":2},"-án"]
[{"$f":"CONCATENATE(\"Ez a dokumentum \",TEXT(TODAY(),\"éééé.hh.nn\"),VLOOKUP(S2,T2:U32,2,FALSE),\" \",Ügyféladatok!B4,\" részére készült.\")","v":"Ez a dokumentum 2021.07.09-én  részére készült."},null,null,null,null,null,null,null,null,null,null,null,null,null,null,1,{"$f":"P4*$Q$1","v":12.75},null,null,{"$f":"T3+1","v":3},"-án"]
["Ez a dokumentum az Ön által ezidáig megadott adatok és a jelenlegi pénzügyi piaci feltételek alapján készült.",null,null,null,null,null,null,null,null,null,null,null,null,null,null,1,{"$f":"P5*$Q$1","v":12.75},null,null,4,"-én"]
[{"$f":"CONCATENATE(\"Az alábbi tájékoztatás a kamat és egyéb költségek kivételével \",TEXT(TODAY()+30,\"éééé.hh.nn\"),\"-ig érvényes. Ezt követően a piaci feltételek függvényében, a Bank mindenkor hatályos hirdetményében foglalt feltételekkel változhat.\")","v":"Az alábbi tájékoztatás a kamat és egyéb költségek kivételével 2021.08.08-ig érvényes. Ezt követően a piaci feltételek függvényében, a Bank mindenkor hatályos hirdetményében foglalt feltételekkel változhat."},null,null,null,null,null,null,null,null,null,null,null,null,null,null,2,{"$f":"P6*$Q$1","v":25.5},null,null,5,"-én"]
["Ez a dokumentum nem kötelezi a K&H Bank Zrt-t arra, hogy hitelt nyújtson Önnek.",null,null,null,null,null,null,null,null,null,null,null,null,null,null,2,25.5,null,null,{"$f":"T6+1","v":6},"-án"]
["1. Hitelező:\nA hitelező neve (cégneve): K&H Bank Zrt \nTelefonszám: (06 1/20/30/70) 335 3355\nLevelezési címe: 1095 Budapest, Lechner Ödön fasor 9.\nInternet címe: www.kh.hu\nA hitelező hiteltanácsadási tevékenységet nem végez.",null,null,null,null,null,null,null,null,null,null,null,null,null,null,7,89.25,null,null,{"$f":"T7+1","v":7},"-én"]
["2. Hitelközvetítő:",null,null,null,null,null,null,null,null,null,null,null,null,null,null,1,12.75,null,null,{"$f":"T8+1","v":8},"-án"]
[{"$f":"CONCATENATE(\"Hitelközvetítő neve (cégneve): \",'Kezdő oldal'!B1)","v":"Hitelközvetítő neve (cégneve): "},null,null,null,null,null,null,null,null,null,null,null,null,null,null,1,12.75,null,null,{"$f":"T9+1","v":9},"-én"]
[{"$f":"CONCATENATE(\"Telefonszám: \",'Kezdő oldal'!B4)","v":"Telefonszám: "},null,null,null,null,null,null,null,null,null,null,null,null,null,null,1,12.75,null,null,{"$f":"T10+1","v":10},"-én"]
[{"$f":"CONCATENATE(\"Levelezési címe: \",'Kezdő oldal'!B2)","v":"Levelezési címe: "},null,null,null,null,null,null,null,null,null,null,null,null,null,null,1,12.75,null,null,11,"-én"]
[{"$f":"CONCATENATE(\"Díjazás: \",IF(AND('Kezdő oldal'!B6='Kezdő oldal'!Q3,OR('Kezdő oldal'!F6=\"\",'Kezdő oldal'!F7=\"\")),L30,IF('Kezdő oldal'!B6='Kezdő oldal'!Q3,'Kezdő oldal'!H7,IF('Kezdő oldal'!B6='Kezdő oldal'!Q4,'Kezdő oldal'!A11,L30))))","v":"Díjazás: "},null,null,null,null,null,null,null,null,null,null,null,null,null,null,6,76.5,null,null,12,"-én","Nincs kiválasztva a díjazás megjelenítésének formája vagy nincs kitöltve a jutalékszint"]
["A Hitelközvetítő a Hitelező megbízásából hiteltanácsadási tevékenységet nem végez.",null,null,null,null,null,null,null,null,null,null,null,null,null,null,2,25.5,null,null,13,"-án","Díjazás: Nincs kiválasztva a díjazás megjelenítésének formája vagy nincs kitöltve a jutalékszint"]
["3. A hitel fő jellemzői",null,null,null,null,null,null,null,null,null,null,null,null,null,null,1,12.75,null,null,14,"-én"]
[{"$f":"CONCATENATE(\"A hitel összege és pénzneme: \",TEXT(ROUND(Hiteladatok!F15,0),\"# ##\"),\" Ft\")","v":"A hitel összege és pénzneme:  Ft"},null,null,null,null,null,null,null,null,null,null,null,null,null,null,1,12.75,null,null,15,"-én"]
[{"$f":"CONCATENATE(\"A futamidő: \",Hiteladatok!F16,\" hónap\")","v":"A futamidő: 240 hónap"},null,null,null,null,null,null,null,null,null,null,null,null,null,null,1,12.75,null,null,16,"-án","MFL",9,"K&H Minősített Fogyasztóbarát lakáshitelt használt vagy új, már használatbavételi engedéllyel vagy hatósági bizonyítvánnyal rendelkező lakó- vagy üdülő, hétvégi ház, apartman típusú ingatlan vásárlásra, illetve igazoltan lakáscélú hitelek refinanszírozására nyújtjuk. K&H Minősített Fogyasztóbarát Lakáshitel esetén a fedezetül szolgáló ingatlan vonatkozásában az ingatlan-nyilvántartásba önálló zálogjog, valamint ennek biztosítására elidegenítési és terhelési tilalom kerül bejegyzésre a K&H Bank Zrt., mint Zálogjogosult javára.\nA hitel törlesztése során a tőketartozást a Bank havonta a K&H Banknál vezetett K&H forint lakossági bankszámláról/Hiteltörlesztő számláról szedi be a kamattal együtt. Annuitásos törlesztésű hitel, mely esetén az adós minden kamatperiódusban azonos összegű törlesztő részletet fizet, folyamatosan csökkenő kamat-, és növekvő tőketartalommal. A hitel felvétele nem függ harmadik fél által vállalt kezességtől."]
["A hitel típusa:",null,null,null,null,null,null,null,null,null,null,null,null,null,null,1,12.75,null,null,17,"-én","üzleti",8,"K&H üzleti feltételű lakáshitelt lakó- vagy üdülő ingatlan vásárlásra, építésre, bővítésre, korszerűsítésre, felújításra, illetve lakáscélú hitelek refinanszírozására nyújtjuk. K&H üzleti feltételű lakáshitel esetén a fedezetül szolgáló ingatlan vonatkozásában az ingatlan-nyilvántartásba önálló zálogjog, valamint ennek biztosítására elidegenítési és terhelési tilalom kerül bejegyzésre a K&H Bank Zrt., mint Zálogjogosult javára.\nA hitel törlesztése során a tőketartozást a Bank havonta a K&H Banknál vezetett K&H forint lakossági bankszámláról/Hiteltörlesztő számláról szedi be a kamattal együtt. Annuitásos törlesztésű hitel, mely esetén az adós minden kamatperiódusban azonos összegű törlesztő részletet fizet, folyamatosan csökkenő kamat-, és növekvő tőketartalommal. A hitel felvétele nem függ harmadik fél által vállalt kezességtől.","A fogyasztóknak nyújtott hitelről szóló 2009. évi CLXII. törvény (továbbiakban Fhtv.) 21/C. § alapján Önnek lehetősége van az Ön számára idegen pénznemben fennálló tartozása átváltására egyoldalú jognyilatkozattal. A tartozás idegen pénznemre történő átváltása nem minősül szerződésmódosításnak. Az idegen pénznemre történő átváltás részletes szabályait, devizanemre vonatkozó Fhtv. 21/C.§ (4) bekezdésén alapuló korlátozását, az átváltás eredményeképp a kölcsön kamatának Fhtv. 21/D.§-a szerinti változására vonatkozó rendelkezéseket a mindenkor hatályos vonatkozó Hirdetmény 8. számú függeléke tartalmazza."]
["K&H lakáscélú hitelek állami támogatással extra hitelünket új lakó ingatlan vásárlásra és új lakás építésére nyújtjuk. K&H lakáscélú hitelek állami támogatással extra esetén a vásárolt/építendő ingatlan – amennyiben a kölcsön fedezete másik lakás, akkor a kamattámogatott kölcsön fedezeteként szolgáló lakás - vonatkozásában az ingatlan-nyilvántartásba önálló zálogjog, valamint ennek biztosítására elidegenítési és terhelési tilalom kerül bejegyzésre a K&H Bank Zrt., mint zálogjogosult javára.\nA hitel törlesztése során a tőketartozást a Bank havonta a K&H Banknál vezetett K&H forint lakossági bankszámláról / Hiteltörlesztő számláról szedi be a kamattal együtt. Annuitásos törlesztésű hitel, mely esetén az adós minden kamatperiódusban azonos összegű törlesztő részletet fizet, folyamatosan csökkenő kamat-, és növekvő tőketartalommal. A hitel felvétele nem függ harmadik fél által vállalt kezességtől.",null,null,null,null,null,null,null,null,null,null,null,null,null,null,8,102,null,null,18,"-án"]
["A fogyasztóknak nyújtott hitelről szóló 2009. évi CLXII. törvény (továbbiakban Fhtv.) 21/C. § alapján Önnek lehetősége van az Ön számára idegen pénznemben fennálló tartozása átváltására egyoldalú jognyilatkozattal. A tartozás idegen pénznemre történő átváltása nem minősül szerződésmódosításnak. Az idegen pénznemre történő átváltás részletes szabályait, devizanemre vonatkozó Fhtv. 21/C.§ (4) bekezdésén alapuló korlátozását, az átváltás eredményeképp a kölcsön kamatának Fhtv. 21/D.§-a szerinti változására vonatkozó rendelkezéseket a mindenkor hatályos vonatkozó Hirdetmény 8. számú függeléke tartalmazza.",null,null,null,null,null,null,null,null,null,null,null,null,null,null,6,76.5,null,null,19,"-én"]
["Az alkalmazandó kamatláb típusa:",null,null,null,null,null,null,null,null,null,null,null,null,null,null,1,12.75,null,null,20,"-án"]
["Kölcsön referencia kamatlába: ÁKK Zrt. által havi rendszerességgel közzétett, a közzétételt megelőző három naptári hónapban tartott 5 (öt) éves névleges futamidejű államkötvény aukción kialakult átlaghozamok adott aukción elfogadott mennyiségekkel súlyozott számtani átlaga.",null,null,null,null,null,null,null,null,null,null,null,null,null,null,3,38.25,null,null,21,"-én"]
[{"$f":"AA23","v":"A Bank tájékoztatja az Adóst, hogy a Kölcsön referencia kamatlábának mértéke 2021.7. hónapra vonatkozóan 1,83%."},null,null,null,null,null,null,null,null,null,null,null,null,null,null,1,12.75,null,null,22,"-én","A Bank tájékoztatja az Adóst, hogy a Kölcsön referencia kamatlábának mértéke ",{"$f":"CONCATENATE(YEAR(TODAY()),\".\",MONTH(TODAY()))","v":"2021.7"},". hónapra vonatkozóan ",{"$f":"kondíciók!B10*100","v":1.83},"%.",{"$f":"CONCATENATE(V23,W23,X23,Y23,Z23)","v":"A Bank tájékoztatja az Adóst, hogy a Kölcsön referencia kamatlábának mértéke 2021.7. hónapra vonatkozóan 1,83%."}]
["Kölcsön referencia kamatlábának mindenkori aktuális mértéke megtekinthető az ÁKK Zrt. honlapján.",null,null,null,null,null,null,null,null,null,null,null,null,null,null,1,12.75,null,null,23,"-án"]
["Kölcsön ügyleti kamata: referencia kamatláb 130%-a + 3%.",null,null,null,null,null,null,null,null,null,null,null,null,null,null,2,25.5,null,null,24,"-én"]
["A Magyar Állam (a továbbiakban: Állam) által a Kölcsön futamidejének első 25 (huszonöt) évében nyújtandó otthonteremtési kamattámogatás (a továbbiakban: Támogatás) jelenlegi mértéke évi: a Kölcsön referencia kamatlábának 130%-a.",null,null,null,null,null,null,null,null,null,null,null,null,null,null,2,25.5,null,null,25,"-én"]
["Az Adós által Fizetendő ügyleti kamat jelenlegi mértéke évi: a Kölcsön ügyleti kamatának a Támogatással csökkentett mértéke, azaz 3%.",null,null,null,null,null,null,null,null,null,null,null,null,null,null,2,25.5,null,null,26,"-án"]
["Támogatás Időszakát követően (amennyiben a kamattámogatásra való jogosultság megszűnik):",null,null,null,null,null,null,null,null,null,null,null,null,null,null,1,12.75,null,null,27,"-én"]
["Kölcsön ügyleti kamata: referencia kamatláb 130%-a + 3%",null,null,null,null,null,null,null,null,null,null,null,null,null,null,2,25.5,null,null,28,"-án"]
["A Bank a Szerződésben meghatározott kamatot, díjat és költséget az ÁSZF-ben meghatározottak szerint jogosult módosítani.\nHa az Adós a módosítás ellen, annak hatályba lépéséig írásban nem tiltakozik, azt általa elfogadottnak kell tekinteni. A kamat, díj vagy költség Adós számára kedvezőtlen módosítása esetén - referencia kamatlábhoz kötött kamat esetén a referencia-kamatláb változásából eredő kamatváltozás kivételével – az Adós a módosítás hatálybalépése előtt jogosult a Szerződés díjmentes felmondására.",null,null,null,null,null,null,null,null,null,null,null,null,null,null,6,76.5,null,null,29,"-én"]
[{"$f":"CONCATENATE(\"Az Ön által fizetendő teljes összeg: \",TEXT(ROUND(OTK!P2,0),\"# ##\"),\" forint\")","v":{"$error":"#VALUE!"}},null,null,null,null,null,null,null,null,null,null,null,null,null,null,1,12.75,null,null,30,"-án"]
[{"$f":"CONCATENATE(\"Ez azt jelenti, hogy a \",TEXT(ROUND(Hiteladatok!F15,0),\"# ##\"),\" forintért, amelyet hitelként felvesz \",TEXT(ROUND(OTK!P2,0),\"# ##\"),\" forint összeget kell visszafizetnie.\")","v":{"$error":"#VALUE!"}},null,null,null,null,null,null,null,null,null,null,null,null,null,null,1,12.75,null,null,31,"-én"]
[{"$f":"CONCATENATE(\"Ennek a tájékoztatásnak az elkészítéséhez az ingatlan értékét \",TEXT(ROUND(Hiteladatok!I2,0),\"# ##\"),\" forintnak tekintettük.\")","v":"Ennek a tájékoztatásnak az elkészítéséhez az ingatlan értékét  forintnak tekintettük."},null,null,null,null,null,null,null,null,null,null,null,null,null,null,1,12.75]
[{"$f":"CONCATENATE(\"A maximálisan igénybe vehető hitelösszeg az ingatlan értékéhez viszonyítva \",TEXT(ROUND(Hiteladatok!I2*0.8,0),\"# ##\"),\" Ft.\")","v":"A maximálisan igénybe vehető hitelösszeg az ingatlan értékéhez viszonyítva  Ft."},null,null,null,null,null,null,null,null,null,null,null,null,null,null,1,12.75]
[{"$f":"CONCATENATE(\"Az Ön által megadott ingatlanfedezet címe:   helyrajzi szám: \",Hiteladatok!I5, \", irányítószám: \",Hiteladatok!I4)","v":"Az Ön által megadott ingatlanfedezet címe:   helyrajzi szám: , irányítószám: "},null,null,null,null,null,null,null,null,null,null,null,null,null,null,1,12.75]
["4. Kamat és egyéb költségek:",null,null,null,null,null,null,null,null,null,null,null,null,null,null,1,12.75]
["A teljes hiteldíj mutató (THM) a hitel teljes éves díját mutatja meg százalékban kifejezve. A THM a különböző ajánlatok összehasonlítását szolgálja.",null,null,null,null,null,null,null,null,null,null,null,null,null,null,2,25.5]
[{"$f":"IF(ROUND(OTK!T4,1)<>0,\"A THM értékének megállapításához még le kell futtatni a kalkulációt!\",CONCATENATE(\"Az ön hitelére érvényes THM:  \",TEXT(ROUND(100*OTK!T1,1),\"# ##,0\"),\"%\"))","v":{"$error":"#VALUE!"}},null,null,null,null,null,null,null,null,null,null,null,null,null,null,1,12.75]
["A THM az alábbiakat tartalmazza:",null,null,null,null,null,null,null,null,null,null,null,null,null,null,1,12.75]
["Kamatláb: 3,00%",null,null,null,null,null,null,null,null,null,null,null,null,null,null,1,12.75]
["A THM egyéb összetevői:\nEgyszer  fizetendő költségek:",null,null,null,null,null,null,null,null,null,null,null,null,null,null,2,25.5]
[{"$f":"IF(Hiteladatok!F33=0,\"- szerződéskötési díj: 0 forint\",CONCATENATE(\"- szerződéskötési díj: \",TEXT(ROUND(Hiteladatok!F33,0),\"# ##\"),\" forint\"))","v":"- szerződéskötési díj: 0 forint"},null,null,null,null,null,null,null,null,null,null,null,null,null,null,1,12.75]
[{"$f":"IF(Hiteladatok!AA24=0,\"- ingatlan értékbecslési díj: 0 forint\",CONCATENATE(\"- ingatlan értékbecslési díj: \",TEXT(ROUND(Hiteladatok!AA24,0),\"# ##\"),\" forint\"))","v":"- ingatlan értékbecslési díj: 0 forint"},null,null,null,null,null,null,null,null,null,null,null,null,null,null,1,12.75]
[{"$f":"IF(Hiteladatok!AB24=0,\"- ingatlan műszaki ellenőrzési díj: 0 forint\",CONCATENATE(\"- ingatlan műszaki ellenőrzési díj: \",TEXT(ROUND(Hiteladatok!AB24,0),\"# ##\"),T44))","v":"- ingatlan műszaki ellenőrzési díj: 0 forint"},null,null,null,null,null,null,null,null,null,null,null,null,null,null,{"$f":"IF(Hiteladatok!AB24=0,1,3)","v":1},12.75,null,null," forint.  Ezen díjtétel a kölcsön ügyfélnek történő kifizetési időszaka során többszöri alkalommal is felszámításra kerülhet részkifizetést megelőzően. Ennek mértéke a kifizetésre irányuló kérelem benyújtásakor érvényes vonatkozó Hirdetmény tartalmazza."]
["- ügyintézési díj I. (TakarNet rendszerből lekért tulajdoni lapért): 3 000 forint / lekérdezés / fedezet (felajánlott fedezetek számától függően, egy hiteligénylés során 2 lekérdezés szükséges. Tehermentesítő hitel esetén 3 db lekérdezés.)\n- ügyintézési díj II. (TakarNet rendszerből lekért térképmásolatért): 4 000 forint / lekérdezés / fedezet\n- jelzálogjog bejegyzés díja ingatlanonként: 12 600 Ft",null,null,null,null,null,null,null,null,null,null,null,null,null,null,4,{"$f":"P45*$Q$1","v":51}]
[{"$f":"IF(Hiteladatok!F36=0,\"- igazgatás szolgáltatási díj: 0 forint\",CONCATENATE(\"- igazgatás szolgáltatási díj: \",TEXT(ROUND(Hiteladatok!F36,0),\"# ##\"),\" forint\"))","v":"- igazgatás szolgáltatási díj: 0 forint"},null,null,null,null,null,null,null,null,null,null,null,null,null,null,1,{"$f":"P46*$Q$1","v":12.75}]
["THM számítás részét nem képző egyszeri díj:",null,null,null,null,null,null,null,null,null,null,null,null,null,null,1,12.75]
[{"$f":"CONCATENATE(\"- közjegyzői díj: \",TEXT(ROUND(19500,0),\"# ##\"),\" forint*\")","v":"- közjegyzői díj: 19 500 forint*"},null,null,null,null,null,null,null,null,null,null,null,null,null,null,1,12.75]
["* bankunk érdekkörén kívül felmerülő költség. A közjegyzői díj pontos mértéke a közjegyzői díjszabásról szóló 22/2018. (VIII.23.) IM rendelet alapján kerül a közjegyző által meghatározásra. A díj előzetes kalkulációja során a Bank a vonatkozó IM rendelet 38/A § teljesülését feltételezte.",null,null,null,null,null,null,null,null,null,null,null,null,null,null,3,38.25]
["Rendszeresen fizetendő költségek:",null,null,null,null,null,null,null,null,null,null,null,null,null,null,1,12.75]
[{"$f":"CONCATENATE(\"- a fizetési számlához kapcsolódóan havonta fizetendő számlavezetési vagy számlacsomag díj: \",kondíciók!G9,\" forint, amely egy alap számlacsomag szerinti havidíj vagy Hiteltörlesztő számla, mely ingyenes.\")","v":"- a fizetési számlához kapcsolódóan havonta fizetendő számlavezetési vagy számlacsomag díj: 557 forint, amely egy alap számlacsomag szerinti havidíj vagy Hiteltörlesztő számla, mely ingyenes."},null,null,null,null,null,null,null,null,null,null,null,null,null,null,2,25.5]
["A fizetési számla alapdíját kivéve az ajánlat nem függ attól, hogy a kölcsönhöz kapcsolódó szolgáltatásokat a fogyasztó a K&H Bankon keresztül veszi-e igénybe.",null,null,null,null,null,null,null,null,null,null,null,null,null,null,2,25.5]
["Ez a THM a kamatlábra vonatkozó feltételezések alapján került kiszámításra.",null,null,null,null,null,null,null,null,null,null,null,null,null,null,1,12.75]
["Tájékoztatjuk, hogy a bemutatott THM azzal a feltételezéssel került kiszámításra, hogy a kamatláb a szerződés teljes időtartama alatt a kezdeti időszakra rögzített szinten marad.",null,null,null,null,null,null,null,null,null,null,null,null,null,null,2,25.5]
["Az alábbi költségek nem ismertek a hitelező számára, és így azokat a THM nem foglalja magában: \n- A fedezetként bevonásra kerülő ingatlan(ok) tekintetében kötelező az ingatlanra vagyonbiztosítás kötése és annak fenntartása, valamint a felmerülő biztosítási díj megfizetése. Ennek költsége jelen tájékoztatásnál nem ismert, így a THM nem tartalmazza!\n\nKérjük, tájékozódjon az ehhez a hitelhez kapcsolódó minden egyéb illetékről és költségről.",null,null,null,null,null,null,null,null,null,null,null,null,null,null,7,89.25,null,null,"Mivel az Ön hitele változó kamatlábú hitel, a mindenkori THM eltérhet az előbbiekben meghatározott THM mértékétől, ha a hitel kamatlába változik. Például amennyiben a kamatláb "]
["5. A törlesztések száma és gyakorisága ",null,null,null,null,null,null,null,null,null,null,null,null,null,null,1,12.75]
["Kamat fizetés gyakorisága: havonta",null,null,null,null,null,null,null,null,null,null,null,null,null,null,1,12.75,null,null,"%-ra emelkedne, a THM "]
["Tőketörlesztés gyakorisága: havonta",null,null,null,null,null,null,null,null,null,null,null,null,null,null,1,12.75]
[{"$f":"CONCATENATE(\"A törlesztőrészletek száma: \",Hiteladatok!F16,\" db\")","v":"A törlesztőrészletek száma: 240 db"},null,null,null,null,null,null,null,null,null,null,null,null,null,null,2,25.5,null,null,"%-ra nőhet."]
["6. Az egyes törlesztőrészletek összege:",null,null,null,null,null,null,null,null,null,null,null,null,null,null,1,12.75]
["Állandó (annuitásos) törlesztés esetén az egyes törlesztőrészletek összege: ",null,null,null,null,null,null,null,null,null,null,null,null,null,null,1,12.75]
[{"$f":"CONCATENATE(\"Első törlesztőrészlet összege: \",TEXT(ROUND(OTK!P5,0),\"# ##\"),\" forint\")","v":{"$error":"#VALUE!"}},null,null,null,null,null,null,null,null,null,null,null,null,null,null,1,12.75]
["Az első törlesztőrészlet összege a folyósítás időpontja és az első esedékesség között eltelt napok számától függően eltérhet a további törlesztőrészletek összegétől.",null,null,null,null,null,null,null,null,null,null,null,null,null,null,2,25.5]
[{"$f":"CONCATENATE(\"További törlesztőrészletek összege: \",TEXT(ROUND(OTK!P6,0),\"# ##\"),\" forint\")","v":"További törlesztőrészletek összege:  forint"},null,null,null,null,null,null,null,null,null,null,null,null,null,null,1,12.75]
["Az Ön jövedelme változhat. Kérjük, gondolja át, hogy a jövedelme csökkenése esetén is képes lesz-e törleszteni a havi részleteket.",null,null,null,null,null,null,null,null,null,null,null,null,null,null,2,25.5]
["7. Szemléltető törlesztési táblázat:",null,null,null,null,null,null,null,null,null,null,null,null,null,null,1,12.75,null,null,"E hitelnek a kamata változhat. Ez azt jelenti, hogy az Ön által fizetendő törlesztőrészletek összege nőhet vagy csökkenhet. Például amennyiben a kamat "]
["Ebben a táblázatban a havonta fizetendő összeg látható.\nA törlesztőrészletek (2. oszlop) a fizetendő kamat (4. oszlop), a fizetendő tőke (3. oszlop) és adott esetben az egyéb költségek (5. oszlop) összegéből állnak. A fennmaradó tőke (6. oszlop) az egyes törlesztőrészletek után még törlesztendő hitelösszeg.",null,null,null,null,null,null,null,null,null,null,null,null,null,null,3,38.25]
["A lenti táblázat szemléltetés céljából készült.\nAmennyiben előtörleszt, a szemléltető táblázatot a módosított feltételek szerint újraszámolva a rendelkezésére bocsátja a K&H Bank Zrt.\nA lenti táblázat azzal a feltételezéssel készült, hogy Ön a kölcsön teljes futamideje alatt jogosult az állami kamattámogatás igénybevételére.",null,null,null,null,null,null,null,null,null,null,null,null,null,null,5,63.75,null,null,"%-ra emelkedne, az Ön által fizetendő részlet "]
["1.",null,"2.",null,"3.",null,"4.",null,"5.",null,"6.",null,null,null,null,1,12.75,null,null,null,"A lenti táblázat szemléltetés céljából készült, továbbá felhívjuk a figyelmet arra, hogy az ajánlott hitel kamata kamatperiódusonként változhat.\nKamatperiódus fordulónapját követően, valamint amennyiben előtörleszt, a szemléltető táblázatot a módosított feltételek szerint újraszámolva a rendelkezésére bocsátja a K&H Bank Zrt."]
["Törlesztés ütemezése",null,"Törlesztőrészlet összege",null,"Törlesztőrészleten-\nként fizetendő tőke",null,"Törlesztőrészleten-\nként fizetendő kamat",null,"Törlesztőrészlet-\nben foglalt egyéb költségek",null,"Az egyes törlesztőrészletek után fennmaradó tőke",null,null,null,null,4,51,null,null,"Ft-ra nőne.","A lenti táblázat szemléltetés céljából készült.\nAmennyiben előtörleszt, a szemléltető táblázatot a módosított feltételek szerint újraszámolva a rendelkezésére bocsátja a K&H Bank Zrt."]
[{"$f":"CONCATENATE(T71,\". hó\")","v":"1. hó"},null,{"$f":"OTK!P5","v":{"$error":"#VALUE!"}},null,{"$f":"C71-G71","v":{"$error":"#VALUE!"}},null,{"$f":"OTK!O5","v":{"$error":"#VALUE!"}},null,{"$f":"C71-E71-G71","v":{"$error":"#VALUE!"}},null,{"$f":"OTK!Q5","v":{"$error":"#VALUE!"}},null,null,null,null,1,12.75,null,null,1]
[{"$f":"CONCATENATE(T72,\". hó\")","v":"2. hó"},null,{"$f":"OTK!P6","v":0},null,{"$f":"C72-G72","v":{"$error":"#VALUE!"}},null,{"$f":"OTK!O6","v":{"$error":"#VALUE!"}},null,{"$f":"C72-E72-G72","v":{"$error":"#VALUE!"}},null,{"$f":"OTK!Q6","v":{"$error":"#VALUE!"}},null,null,null,null,{"$f":"IF(T72>Hiteladatok!$F$16,0,1)","v":1},12.75,null,null,{"$f":"T71+1","v":2}]
["3. hó",null,{"$f":"OTK!P7","v":0},null,{"$error":"#VALUE!"},null,{"$f":"OTK!O7","v":{"$error":"#VALUE!"}},null,{"$error":"#VALUE!"},null,{"$f":"OTK!Q7","v":{"$error":"#VALUE!"}},null,null,null,null,{"$f":"IF(T73>Hiteladatok!$F$16,0,1)","v":1},12.75,null,null,{"$f":"T72+1","v":3}]
["4. hó",null,{"$f":"OTK!P8","v":0},null,{"$error":"#VALUE!"},null,{"$f":"OTK!O8","v":{"$error":"#VALUE!"}},null,{"$error":"#VALUE!"},null,{"$f":"OTK!Q8","v":{"$error":"#VALUE!"}},null,null,null,null,{"$f":"IF(T74>Hiteladatok!$F$16,0,1)","v":1},12.75,null,null,4]
["5. hó",null,{"$f":"OTK!P9","v":0},null,{"$error":"#VALUE!"},null,{"$f":"OTK!O9","v":{"$error":"#VALUE!"}},null,{"$error":"#VALUE!"},null,{"$f":"OTK!Q9","v":{"$error":"#VALUE!"}},null,null,null,null,{"$f":"IF(T75>Hiteladatok!$F$16,0,1)","v":1},12.75,null,null,5]
["6. hó",null,{"$f":"OTK!P10","v":0},null,{"$error":"#VALUE!"},null,{"$f":"OTK!O10","v":{"$error":"#VALUE!"}},null,{"$error":"#VALUE!"},null,{"$f":"OTK!Q10","v":{"$error":"#VALUE!"}},null,null,null,null,{"$f":"IF(T76>Hiteladatok!$F$16,0,1)","v":1},12.75,null,null,6]
["7. hó",null,{"$f":"OTK!P11","v":0},null,{"$error":"#VALUE!"},null,{"$f":"OTK!O11","v":{"$error":"#VALUE!"}},null,{"$error":"#VALUE!"},null,{"$f":"OTK!Q11","v":{"$error":"#VALUE!"}},null,null,null,null,{"$f":"IF(T77>Hiteladatok!$F$16,0,1)","v":1},12.75,null,null,7]
["8. hó",null,{"$f":"OTK!P12","v":0},null,{"$error":"#VALUE!"},null,{"$f":"OTK!O12","v":{"$error":"#VALUE!"}},null,{"$error":"#VALUE!"},null,{"$f":"OTK!Q12","v":{"$error":"#VALUE!"}},null,null,null,null,{"$f":"IF(T78>Hiteladatok!$F$16,0,1)","v":1},12.75,null,null,8]
["9. hó",null,{"$f":"OTK!P13","v":0},null,{"$error":"#VALUE!"},null,{"$f":"OTK!O13","v":{"$error":"#VALUE!"}},null,{"$error":"#VALUE!"},null,{"$f":"OTK!Q13","v":{"$error":"#VALUE!"}},null,null,null,null,{"$f":"IF(T79>Hiteladatok!$F$16,0,1)","v":1},12.75,null,null,9]
["10. hó",null,{"$f":"OTK!P14","v":0},null,{"$error":"#VALUE!"},null,{"$f":"OTK!O14","v":{"$error":"#VALUE!"}},null,{"$error":"#VALUE!"},null,{"$f":"OTK!Q14","v":{"$error":"#VALUE!"}},null,null,null,null,{"$f":"IF(T80>Hiteladatok!$F$16,0,1)","v":1},12.75,null,null,10]
["11. hó",null,{"$f":"OTK!P15","v":0},null,{"$error":"#VALUE!"},null,{"$f":"OTK!O15","v":{"$error":"#VALUE!"}},null,{"$error":"#VALUE!"},null,{"$f":"OTK!Q15","v":{"$error":"#VALUE!"}},null,null,null,null,{"$f":"IF(T81>Hiteladatok!$F$16,0,1)","v":1},12.75,null,null,11]
["12. hó",null,{"$f":"OTK!P16","v":0},null,{"$error":"#VALUE!"},null,{"$f":"OTK!O16","v":{"$error":"#VALUE!"}},null,{"$error":"#VALUE!"},null,{"$f":"OTK!Q16","v":{"$error":"#VALUE!"}},null,null,null,null,{"$f":"IF(T82>Hiteladatok!$F$16,0,1)","v":1},12.75,null,null,12]
[{"$f":"CONCATENATE(T83,\". év összesen:\")","v":"1. év összesen:"},null,{"$f":"SUMIF(OTK!$V$5:$V$304,T83,OTK!$P$5:$P$304)","v":{"$error":"#VALUE!"}},null,{"$error":"#VALUE!"},null,{"$f":"SUMIF(OTK!$V$5:$V$304,T83,OTK!$O$5:$O$304)","v":{"$error":"#VALUE!"}},null,{"$error":"#VALUE!"},null,{"$f":"K82","v":{"$error":"#VALUE!"}},null,null,null,null,1,12.75,null,null,1]
[{"$f":"CONCATENATE(T84,\". év összesen:\")","v":"2. év összesen:"},null,{"$f":"SUMIF(OTK!$V$5:$V$304,T84,OTK!$P$5:$P$304)","v":0},null,{"$error":"#VALUE!"},null,{"$f":"SUMIF(OTK!$V$5:$V$304,T84,OTK!$O$5:$O$304)","v":{"$error":"#VALUE!"}},null,{"$error":"#VALUE!"},null,{"$f":"K83-E84","v":{"$error":"#VALUE!"}},null,null,null,null,{"$f":"IF((T84-1)*12>=Hiteladatok!$F$16,0,1)","v":1},12.75,null,null,2]
["3. év összesen:",null,{"$f":"SUMIF(OTK!$V$5:$V$304,T85,OTK!$P$5:$P$304)","v":0},null,{"$error":"#VALUE!"},null,{"$f":"SUMIF(OTK!$V$5:$V$304,T85,OTK!$O$5:$O$304)","v":{"$error":"#VALUE!"}},null,{"$error":"#VALUE!"},null,{"$f":"K84-E85","v":{"$error":"#VALUE!"}},null,null,null,null,{"$f":"IF((T85-1)*12>=Hiteladatok!$F$16,0,1)","v":1},12.75,null,null,3]
["4. év összesen:",null,{"$f":"SUMIF(OTK!$V$5:$V$304,T86,OTK!$P$5:$P$304)","v":0},null,{"$error":"#VALUE!"},null,{"$f":"SUMIF(OTK!$V$5:$V$304,T86,OTK!$O$5:$O$304)","v":{"$error":"#VALUE!"}},null,{"$error":"#VALUE!"},null,{"$error":"#VALUE!"},null,null,null,null,{"$f":"IF((T86-1)*12>=Hiteladatok!$F$16,0,1)","v":1},12.75,null,null,4]
["5. év összesen:",null,{"$f":"SUMIF(OTK!$V$5:$V$304,T87,OTK!$P$5:$P$304)","v":0},null,{"$error":"#VALUE!"},null,{"$f":"SUMIF(OTK!$V$5:$V$304,T87,OTK!$O$5:$O$304)","v":{"$error":"#VALUE!"}},null,{"$error":"#VALUE!"},null,{"$error":"#VALUE!"},null,null,null,null,{"$f":"IF((T87-1)*12>=Hiteladatok!$F$16,0,1)","v":1},12.75,null,null,5]
["6. év összesen:",null,{"$f":"SUMIF(OTK!$V$5:$V$304,T88,OTK!$P$5:$P$304)","v":0},null,{"$error":"#VALUE!"},null,{"$f":"SUMIF(OTK!$V$5:$V$304,T88,OTK!$O$5:$O$304)","v":{"$error":"#VALUE!"}},null,{"$error":"#VALUE!"},null,{"$error":"#VALUE!"},null,null,null,null,{"$f":"IF((T88-1)*12>=Hiteladatok!$F$16,0,1)","v":1},12.75,null,null,6]
["7. év összesen:",null,{"$f":"SUMIF(OTK!$V$5:$V$304,T89,OTK!$P$5:$P$304)","v":0},null,{"$error":"#VALUE!"},null,{"$f":"SUMIF(OTK!$V$5:$V$304,T89,OTK!$O$5:$O$304)","v":{"$error":"#VALUE!"}},null,{"$error":"#VALUE!"},null,{"$error":"#VALUE!"},null,null,null,null,{"$f":"IF((T89-1)*12>=Hiteladatok!$F$16,0,1)","v":1},12.75,null,null,7]
["8. év összesen:",null,{"$f":"SUMIF(OTK!$V$5:$V$304,T90,OTK!$P$5:$P$304)","v":0},null,{"$error":"#VALUE!"},null,{"$f":"SUMIF(OTK!$V$5:$V$304,T90,OTK!$O$5:$O$304)","v":{"$error":"#VALUE!"}},null,{"$error":"#VALUE!"},null,{"$error":"#VALUE!"},null,null,null,null,{"$f":"IF((T90-1)*12>=Hiteladatok!$F$16,0,1)","v":1},12.75,null,null,8]
["9. év összesen:",null,{"$f":"SUMIF(OTK!$V$5:$V$304,T91,OTK!$P$5:$P$304)","v":0},null,{"$error":"#VALUE!"},null,{"$f":"SUMIF(OTK!$V$5:$V$304,T91,OTK!$O$5:$O$304)","v":{"$error":"#VALUE!"}},null,{"$error":"#VALUE!"},null,{"$error":"#VALUE!"},null,null,null,null,{"$f":"IF((T91-1)*12>=Hiteladatok!$F$16,0,1)","v":1},12.75,null,null,9]
["10. év összesen:",null,{"$f":"SUMIF(OTK!$V$5:$V$304,T92,OTK!$P$5:$P$304)","v":0},null,{"$error":"#VALUE!"},null,{"$f":"SUMIF(OTK!$V$5:$V$304,T92,OTK!$O$5:$O$304)","v":{"$error":"#VALUE!"}},null,{"$error":"#VALUE!"},null,{"$error":"#VALUE!"},null,null,null,null,{"$f":"IF((T92-1)*12>=Hiteladatok!$F$16,0,1)","v":1},12.75,null,null,10]
["11. év összesen:",null,{"$f":"SUMIF(OTK!$V$5:$V$304,T93,OTK!$P$5:$P$304)","v":0},null,{"$error":"#VALUE!"},null,{"$f":"SUMIF(OTK!$V$5:$V$304,T93,OTK!$O$5:$O$304)","v":{"$error":"#VALUE!"}},null,{"$error":"#VALUE!"},null,{"$error":"#VALUE!"},null,null,null,null,{"$f":"IF((T93-1)*12>=Hiteladatok!$F$16,0,1)","v":1},12.75,null,null,11]
["12. év összesen:",null,{"$f":"SUMIF(OTK!$V$5:$V$304,T94,OTK!$P$5:$P$304)","v":0},null,{"$error":"#VALUE!"},null,{"$f":"SUMIF(OTK!$V$5:$V$304,T94,OTK!$O$5:$O$304)","v":{"$error":"#VALUE!"}},null,{"$error":"#VALUE!"},null,{"$error":"#VALUE!"},null,null,null,null,{"$f":"IF((T94-1)*12>=Hiteladatok!$F$16,0,1)","v":1},12.75,null,null,12]
["13. év összesen:",null,{"$f":"SUMIF(OTK!$V$5:$V$304,T95,OTK!$P$5:$P$304)","v":0},null,{"$error":"#VALUE!"},null,{"$f":"SUMIF(OTK!$V$5:$V$304,T95,OTK!$O$5:$O$304)","v":{"$error":"#VALUE!"}},null,{"$error":"#VALUE!"},null,{"$error":"#VALUE!"},null,null,null,null,{"$f":"IF((T95-1)*12>=Hiteladatok!$F$16,0,1)","v":1},12.75,null,null,13]
["14. év összesen:",null,{"$f":"SUMIF(OTK!$V$5:$V$304,T96,OTK!$P$5:$P$304)","v":0},null,{"$error":"#VALUE!"},null,{"$f":"SUMIF(OTK!$V$5:$V$304,T96,OTK!$O$5:$O$304)","v":{"$error":"#VALUE!"}},null,{"$error":"#VALUE!"},null,{"$error":"#VALUE!"},null,null,null,null,{"$f":"IF((T96-1)*12>=Hiteladatok!$F$16,0,1)","v":1},12.75,null,null,14]
["15. év összesen:",null,{"$f":"SUMIF(OTK!$V$5:$V$304,T97,OTK!$P$5:$P$304)","v":0},null,{"$error":"#VALUE!"},null,{"$f":"SUMIF(OTK!$V$5:$V$304,T97,OTK!$O$5:$O$304)","v":{"$error":"#VALUE!"}},null,{"$error":"#VALUE!"},null,{"$error":"#VALUE!"},null,null,null,null,{"$f":"IF((T97-1)*12>=Hiteladatok!$F$16,0,1)","v":1},12.75,null,null,15]
["16. év összesen:",null,{"$f":"SUMIF(OTK!$V$5:$V$304,T98,OTK!$P$5:$P$304)","v":0},null,{"$error":"#VALUE!"},null,{"$f":"SUMIF(OTK!$V$5:$V$304,T98,OTK!$O$5:$O$304)","v":{"$error":"#VALUE!"}},null,{"$error":"#VALUE!"},null,{"$error":"#VALUE!"},null,null,null,null,{"$f":"IF((T98-1)*12>=Hiteladatok!$F$16,0,1)","v":1},12.75,null,null,16]
["17. év összesen:",null,{"$f":"SUMIF(OTK!$V$5:$V$304,T99,OTK!$P$5:$P$304)","v":0},null,{"$error":"#VALUE!"},null,{"$f":"SUMIF(OTK!$V$5:$V$304,T99,OTK!$O$5:$O$304)","v":{"$error":"#VALUE!"}},null,{"$error":"#VALUE!"},null,{"$error":"#VALUE!"},null,null,null,null,{"$f":"IF((T99-1)*12>=Hiteladatok!$F$16,0,1)","v":1},12.75,null,null,17]
["18. év összesen:",null,{"$f":"SUMIF(OTK!$V$5:$V$304,T100,OTK!$P$5:$P$304)","v":0},null,{"$error":"#VALUE!"},null,{"$f":"SUMIF(OTK!$V$5:$V$304,T100,OTK!$O$5:$O$304)","v":{"$error":"#VALUE!"}},null,{"$error":"#VALUE!"},null,{"$error":"#VALUE!"},null,null,null,null,{"$f":"IF((T100-1)*12>=Hiteladatok!$F$16,0,1)","v":1},12.75,null,null,18]
["19. év összesen:",null,{"$f":"SUMIF(OTK!$V$5:$V$304,T101,OTK!$P$5:$P$304)","v":0},null,{"$error":"#VALUE!"},null,{"$f":"SUMIF(OTK!$V$5:$V$304,T101,OTK!$O$5:$O$304)","v":{"$error":"#VALUE!"}},null,{"$error":"#VALUE!"},null,{"$error":"#VALUE!"},null,null,null,null,{"$f":"IF((T101-1)*12>=Hiteladatok!$F$16,0,1)","v":1},12.75,null,null,19]
["20. év összesen:",null,{"$f":"SUMIF(OTK!$V$5:$V$304,T102,OTK!$P$5:$P$304)","v":0},null,{"$error":"#VALUE!"},null,{"$f":"SUMIF(OTK!$V$5:$V$304,T102,OTK!$O$5:$O$304)","v":{"$error":"#VALUE!"}},null,{"$error":"#VALUE!"},null,{"$error":"#VALUE!"},null,null,null,null,{"$f":"IF((T102-1)*12>=Hiteladatok!$F$16,0,1)","v":1},12.75,null,null,20]
["21. év összesen:",null,{"$f":"SUMIF(OTK!$V$5:$V$304,T103,OTK!$P$5:$P$304)","v":0},null,{"$error":"#VALUE!"},null,{"$f":"SUMIF(OTK!$V$5:$V$304,T103,OTK!$O$5:$O$304)","v":{"$error":"#VALUE!"}},null,{"$error":"#VALUE!"},null,{"$error":"#VALUE!"},null,null,null,null,{"$f":"IF((T103-1)*12>=Hiteladatok!$F$16,0,1)","v":0},0,null,null,21]
["22. év összesen:",null,{"$f":"SUMIF(OTK!$V$5:$V$304,T104,OTK!$P$5:$P$304)","v":0},null,{"$error":"#VALUE!"},null,{"$f":"SUMIF(OTK!$V$5:$V$304,T104,OTK!$O$5:$O$304)","v":{"$error":"#VALUE!"}},null,{"$error":"#VALUE!"},null,{"$error":"#VALUE!"},null,null,null,null,{"$f":"IF((T104-1)*12>=Hiteladatok!$F$16,0,1)","v":0},0,null,null,22]
["23. év összesen:",null,{"$f":"SUMIF(OTK!$V$5:$V$304,T105,OTK!$P$5:$P$304)","v":0},null,{"$error":"#VALUE!"},null,{"$f":"SUMIF(OTK!$V$5:$V$304,T105,OTK!$O$5:$O$304)","v":{"$error":"#VALUE!"}},null,{"$error":"#VALUE!"},null,{"$error":"#VALUE!"},null,null,null,null,{"$f":"IF((T105-1)*12>=Hiteladatok!$F$16,0,1)","v":0},0,null,null,23]
["24. év összesen:",null,{"$f":"SUMIF(OTK!$V$5:$V$304,T106,OTK!$P$5:$P$304)","v":0},null,{"$error":"#VALUE!"},null,{"$f":"SUMIF(OTK!$V$5:$V$304,T106,OTK!$O$5:$O$304)","v":{"$error":"#VALUE!"}},null,{"$error":"#VALUE!"},null,{"$error":"#VALUE!"},null,null,null,null,{"$f":"IF((T106-1)*12>=Hiteladatok!$F$16,0,1)","v":0},0,null,null,24]
["25. év összesen:",null,{"$f":"SUMIF(OTK!$V$5:$V$304,T107,OTK!$P$5:$P$304)","v":0},null,{"$error":"#VALUE!"},null,{"$f":"SUMIF(OTK!$V$5:$V$304,T107,OTK!$O$5:$O$304)","v":{"$error":"#VALUE!"}},null,{"$error":"#VALUE!"},null,{"$error":"#VALUE!"},null,null,null,null,{"$f":"IF((T107-1)*12>=Hiteladatok!$F$16,0,1)","v":0},{"$f":"P107*$Q$1","v":0},null,null,25]
["Mindösszesen:",null,{"$f":"SUM(C83:D107)","v":{"$error":"#VALUE!"}},null,{"$f":"SUM(E83:F107)","v":{"$error":"#VALUE!"}},null,{"$f":"SUM(G83:H107)","v":{"$error":"#VALUE!"}},null,{"$f":"SUM(I83:J107)","v":{"$error":"#VALUE!"}},null,{"$f":"K107","v":{"$error":"#VALUE!"}},null,null,null,null,1,12.75]
["A fenti táblázatban szereplő összegek kerekítésre kerültek, így előfordulhat eltérés azok külön-külön történő összeadása során. A megjelenített összegek tájékoztatási célt szolgálnak. A pontos havi törlesztőrészlet összegéről a Bank a jogszabályi előírásoknak megfelelően előzetesen tájékoztatja Önt.",null,null,null,null,null,null,null,null,null,null,null,null,null,null,4,51]
["8. További kötelezettségek:",null,null,null,null,null,null,null,null,null,null,null,null,null,null,1,12.75]
["Önnek a következő kötelezettségeket kell teljesítenie ahhoz, hogy az ebben a dokumentumban ismertetett feltételekkel juthasson hitelhez:",null,null,null,null,null,null,null,null,null,null,null,null,null,null,2,25.5]
["A hitel folyósítási feltétele, hogy Ön vagy a hitelügylet más kötelezettje rendelkezzen élő, díjrendezett vagyonbiztosítással a fedezetül felajánlott ingatlanra vonatkozóan a hitel lejáratáig. A vagyonbiztosítás megköthető a K&H Biztosító Zrt-nél, illetve bármely más biztosító társaságnál. A vagyonbiztosítás díja a Bank számára nem ismert, így a THM nem tartalmazza, annak díját az Ön és a Biztosító között létrejött vagyonbiztosítási szerződés tartalmazza.\nTörlesztőrészletek megfizetésének biztosítására Önnek rendelkeznie kell a K&H Bank Zrt.-nál vezetett bankszámlával, vagy Hiteltörlesztő számlával a hitel lejáratáig.",null,null,null,null,null,null,null,null,null,null,null,null,null,null,6,76.5]
["Felhívjuk figyelmét, hogy akció keretében a K&H Bank által a mindenkor hatályos Hirdetményben megjelölt elengedett, átvállalt illetve visszatérített díjak és költségek visszatérítendők, amennyiben lakástakarékpénztári megtakarítástól eltérő forrásból a szerződéskötéstől számított 2 éven belül (amennyiben a hitel futamideje kevesebb, mint 2 év, akkor ezen futamidőn belül) a hitel végtörlesztésre-, vagy a kölcsönösszeg legalább 50%-ig előtörlesztésre- illetve Bankon kívül álló okokból felmondásra kerül.",null,null,null,null,null,null,null,null,null,null,null,null,null,null,5,63.75]
["Kamatkedvezményre való jogosultság feltételeinek nem teljesítése esetén, felhívjuk figyelmét, hogy a kamatkedvezményt a K&H Bank Zrt. visszavonja, így a kamatláb változhat, amennyiben Ön nem tesz eleget e kötelezettségeknek.\nFelhívjuk figyelmét, hogy ha később eláll a hitelhez kapcsolódó bármely kapcsolódó szolgáltatás igénybevételétől, az az alábbi következményekkel járhat:",null,null,null,null,null,null,null,null,null,null,null,null,null,null,4,51]
["A hitelszerződés felmondásra kerülhet, amennyiben a hitel futamideje alatt:\n- Ha a Kölcsönszerződés alapján a K&H Bank Zrt. által megkövetelt vagyonbiztosítás díját az arra kötelezett nem, vagy csak részben fizeti meg, vagy e biztosítási szerződés valamely lényeges rendelkezését a szerződő a Bankra nézve hátrányosan megváltoztatja. \n- Ha az Adós K&H Banknál vezetett, és az Ügyfélszerződésben törlesztő számlaként megjelölt lakossági bankszámlája, vagy Hiteltörlesztő számlája bármely okból megszűnik.",null,null,null,null,null,null,null,null,null,null,null,null,null,null,7,89.25]
["9. Előtörlesztés:",null,null,null,null,null,null,null,null,null,null,null,null,null,null,1,12.75]
["Ön jogosult a hitel részleges vagy teljes előtörlesztésére.\n- Az Adós a Tőketartozást a lejárat előtt részben, vagy teljes egészében előtörlesztheti, amennyiben erre irányuló szándékát a Bank felé írásban jelzi A banki munkanapokon 15:00 óráig befogadott előtörlesztési kérelmet a Bank a benyújtás napján végrehajtja, amennyiben annak fedezete a törlesztő számlán rendelkezésre áll. A 15:00 óra után benyújtott előtörlesztési nyilatkozatot a Bank csak a következő banki munkanapra fogadja be. Az esedékesség előtt visszafizetett tőkerésszel csökkentett tartozás alapján a hátralévő Futamidőnek megfelelő átértékelt Törlesztőrészlet összegéről a Bank az Adóst írásban értesíti. A Végtörlesztés szándékának bejelentése önmagában nem minősül a Kölcsönszerződés Adós általi felmondásának. Elő- és végtörlesztés esetén az Adós köteles az Elő- és Végtörlesztés napjáig megszolgált kamatokat és díjakat maradéktalanul megfizetni. ",null,null,null,null,null,null,null,null,null,null,null,null,null,null,9,114.75]
["- Amennyiben az Adóstárs kíván Előtörlesztést végrehajtani, akkor az Adóstárs az Adós törlesztő számlája felett kizárólag a befizetett összeg törlesztésre fordítása tárgyában rendelkezhet. Az Adós elismeri, hogy az Adóstárs, Kezes, zálogkötelezett, és a kölcsön biztosítékát nyújtó, vagy annak visszafizetéséért bármilyen személyes vagy dologi kötelezettséget vállaló harmadik fél olyan személynek minősül, akinek a kölcsön visszafizetéséhez törvényes érdeke fűződik, ezért az általuk felajánlott teljesítést a Bank az Adós hozzájárulása nélkül is jogosult elfogadni.",null,null,null,null,null,null,null,null,null,null,null,null,null,null,5,63.75]
["A Bank jogosult az előtörlesztéssel kapcsolatban felmerült költségei megtérítésére, az előtörlesztés díjának mértékét a mindenkor hatályos lakossági hitelekre vonatkozó Hirdetmény tartalmazza, de jelzáloghitel előtörlesztése esetén legfeljebb az előtörlesztett összeg 1 százaléka. ",null,null,null,null,null,null,null,null,null,null,null,null,null,null,4,51]
["10. Rugalmas elemek:",null,null,null,null,null,null,null,null,null,null,null,null,null,null,1,12.75]
["Az ügyfél írásos formában kérheti a szerződés módosítását (pl. ügyleti szereplőben, fedezetek körében történő változás). A K&H Bank Zrt. minden esetben fenntartja a szükséges dokumentumok bekérésének, és a kérelem elbírálásának jogát. A szerződésmódosítások díja a mindenkor hatályos lakossági hitelekre vonatkozó Hirdetményben megtalálható.\nÖnnek lehetősége van ezt a hitelt más hitelezőhöz átvinni, melynek feltételei a végtörlesztés feltételeivel azonosak.\nAmennyiben fizetési nehézségei támadnak a havi törlesztőrészletek fizetésével kapcsolatban, kérjük, haladéktalanuk keressen meg minket,, hogy megoldást találjunk problémájára a törlesztéskönnyítő lehetőségek közül.",null,null,null,null,null,null,null,null,null,null,null,null,null,null,7,89.25]
["11. A fogyasztó egyéb jogai:",null,null,null,null,null,null,null,null,null,null,null,null,null,null,1,12.75]
["15 nap gondolkodási idő áll a rendelkezésére a hitel felvételéről szóló döntéshez. Miután kézhez kapta a hitelszerződés tervezetét a hitelezőtől, csak 3 nap eltelte után fogadhatja el az ajánlatot.\nÖnnek az alábbi esetben van joga elállni a hitelügylettől:\n• szerződés aláírását megelőzően (kérelem visszavonás),\n• szerződés aláírását követően, a folyósítást megelőzően (szerződéstől elállás).\nAz elállásra vonatkozó igényét írásban nyújthatja be a bankfiókban.",null,null,null,null,null,null,null,null,null,null,null,null,null,null,6,76.5]
["Szerződéskötést követően köteles a Bank részére visszatéríteni azokat a díjakat, melyek a konstrukció hirdetményi adottságainál fogva is az Ügyfelet terhelnék \nFolyósítást követően Ön nem jogosult elállni a hitelügylettől, a kölcsön csak végtörlesztéssel szüntethető meg.\nAmennyiben úgy dönt, hogy él az elállás jogával, kérjük, ellenőrizze, hogy továbbra is vonatkoznak-e Önre a 8. pontban említett, a hitelhez kapcsolódó egyéb kötelezettségek (vagyonbiztosítás, törlesztő számla).",null,null,null,null,null,null,null,null,null,null,null,null,null,null,6,76.5]
["12. Panaszok:",null,null,null,null,null,null,null,null,null,null,null,null,null,null,1,12.75]
["Amennyiben panasza van, kérjük vegye fel a kapcsolatot a Lakossági Panaszkezelési Csoporttal. Felmerülő panaszát benyújthatja bármely bankfiókunkban, vagy a TeleCenteren a (06 1/20/30/70) 335 3355 telefonszámon keresztül illetve a bank@kh.hu email címen.\nA panasz kezelésére rendelkezésre álló idő legfeljebb 30 nap.\nAmennyiben a panaszára Ön nem kap számára kielégítő választ, a következő szervezetekhez is fordulhat: Pénzügyi Békéltető Testület, vagy amennyiben Ön más tagállamban lakóhellyel rendelkezik, kapcsolatba léphet a FIN-NET (http://ec.europa.eu/internal_market/fin-net/) hálózattal, amelytől elkérheti az Ön országában ezzel egyenértékű szerv adatait. \n",null,null,null,null,null,null,null,null,null,null,null,null,null,null,8,102]
["13. A hitelhez kapcsolódó kötelezettségeknek való nem megfelelés következményei a fogyasztóra nézve:",null,null,null,null,null,null,null,null,null,null,null,null,null,null,1,12.75]
["A K&H Bank Zrt. a Kölcsönszerződést azonnali hatállyal jogosult felmondani, amennyiben a lakossági hitelekre vonatkozó ÁSZF-ben megtalálható Súlyos Szerződésszegési Események bekövetkeznek (pl. nemteljesítés, fizetési késedelem, fedezet elvonás, biztosítéki szerződésszegés). A felmondás hatályosulásával a teljes tartozás lejárttá és közvetlen végrehajtás, vagy egyéb törvényes úton egyösszegben követelhetővé válik, mely esetben az adott értéknapon nyilvántartott lejárt tartozásra a Bank jogosult késedelmi kamatot felszámítani. A központi hitelinformációs rendszerről szóló 2011. évi CXXII. törvényben meghatározott esetekben a fogyasztó felkerül a KHR-be. A biztosítékul felajánlott ingatlan/ok végrehajtás alá kerülhet. A Bank jogosult a követelést harmadik személy részére engedményezni. \nAmennyiben nehézségei támadnak a havi törlesztőrészletek fizetésével kapcsolatban, kérjük, mielőbb keressen meg minket, hogy megfelelő megoldást találjunk a problémára. A részletfizetések elmaradása esetén otthona végső esetben végrehajtás alá kerülhet.",null,null,null,null,null,null,null,null,null,null,null,null,null,null,11,140.25]
["14. Felügyelet:",null,null,null,null,null,null,null,null,null,null,null,null,null,null,1,12.75]
["A K&H Bank Zrt, hitelező a Magyar Nemzeti Bank, http://www.mnb.hu/ felügyelete alá tartozik.\nA hitelközvetítő a Magyar Nemzeti Bank, http://www.mnb.hu/ felügyelete alá tartozik.",null,null,null,null,null,null,null,null,null,null,null,null,null,null,2,25.5]
[null,null,null,null,null,null,null,null,null,null,null,null,null,null,null,1,12.75]
["Jelen tájékoztató a 3/2016 NGM Rendelet 2. számú melléklete alapján készült. Jelen tájékoztatóban szereplő díjak, költségek, hitel teljes díja mértéke és/vagy összegszerűsége az aktuális kondíciók változatlansága esetén érvényes!",null,null,null,null,null,null,null,null,null,null,null,null,null,null,3,38.25]
["Aláírásommal igazolom, hogy a Személyes tájékoztatás a jelzáloghitelekről formanyomtatvány egy példányát átvettem és a 2009. évi CLXII. törvény 5., 7., 12., 13. §-a szerinti felvilágosítást a jogszabályokban meghatározott időrendi sorrendben, részletezettségben és formában megkaptam.",null,null,null,null,null,null,null,null,null,null,null,null,null,null,5,63.75]
[{"$f":"CONCATENATE(\"Kelt: …………………………………...……… ,    \",TEXT(TODAY(),\"éééé.hh.nn\"))","v":"Kelt: …………………………………...……… ,    2021.07.09"},null,null,null,null,null,null,null,null,null,null,null,null,null,null,1,12.75]
[null,null,"……………………………….",null,null,null,null,null,{"$f":"IF(Ügyféladatok!$F$50>1,\"……………………………….\",\"\")","v":"………………………………."},null,null,null,null,null,null,4,51]
["Ügyfél neve:",null,{"$f":"HLOOKUP(1,Ügyféladatok!$B$51:$E$57,4,FALSE)","v":""},null,null,null,null,null,{"$f":"IF(Ügyféladatok!$F$50>1,HLOOKUP(2,Ügyféladatok!$B$51:$E$57,4,FALSE),\"\")","v":""},null,null,null,null,null,null,1,12.75]
["Születési dátum:",null,{"$f":"HLOOKUP(1,Ügyféladatok!$B$51:$E$57,5,FALSE)","v":""},null,null,null,null,null,{"$f":"IF(Ügyféladatok!$F$50>1,HLOOKUP(2,Ügyféladatok!$B$51:$E$57,5,FALSE),\"\")","v":""},null,null,null,null,null,null,1,12.75]
["Anyja neve:",null,{"$f":"HLOOKUP(1,Ügyféladatok!$B$51:$E$57,6,FALSE)","v":""},null,null,null,null,null,{"$f":"IF(Ügyféladatok!$F$50>1,HLOOKUP(2,Ügyféladatok!$B$51:$E$57,6,FALSE),\"\")","v":""},null,null,null,null,null,null,1,12.75]
["Lakcím:",null,{"$f":"HLOOKUP(1,Ügyféladatok!$B$51:$E$57,7,FALSE)","v":""},null,null,null,null,null,{"$f":"IF(Ügyféladatok!$F$50>1,HLOOKUP(2,Ügyféladatok!$B$51:$E$57,7,FALSE),\"\")","v":""},null,null,null,null,null,null,2,25.5]
[null,null,{"$f":"IF(Ügyféladatok!$F$50>2,\"……………………………….\",\"\")","v":""},null,null,null,null,null,{"$f":"IF(Ügyféladatok!$F$50>3,\"……………………………….\",\"\")","v":""},null,null,null,null,null,null,{"$f":"IF(Ügyféladatok!$F$50>2,4,0)","v":0},0]
[{"$f":"IF(Ügyféladatok!$F$52>2,A136,\"\")","v":""},null,{"$f":"IF(Ügyféladatok!$F$50>2,HLOOKUP(3,Ügyféladatok!$B$51:$E$57,4,FALSE),\"\")","v":""},null,null,null,null,null,{"$f":"IF(Ügyféladatok!$F$50>3,HLOOKUP(4,Ügyféladatok!$B$51:$E$57,4,FALSE),\"\")","v":""},null,null,null,null,null,null,{"$f":"IF(Ügyféladatok!$F$50>2,1,0)","v":0},0]
[{"$f":"IF(Ügyféladatok!$F$52>2,A137,\"\")","v":""},null,{"$f":"IF(Ügyféladatok!$F$50>2,HLOOKUP(3,Ügyféladatok!$B$51:$E$57,5,FALSE),\"\")","v":""},null,null,null,null,null,{"$f":"IF(Ügyféladatok!$F$50>3,HLOOKUP(4,Ügyféladatok!$B$51:$E$57,5,FALSE),\"\")","v":""},null,null,null,null,null,null,{"$f":"IF(Ügyféladatok!$F$50>2,1,0)","v":0},0]
[{"$f":"IF(Ügyféladatok!$F$52>2,A138,\"\")","v":""},null,{"$f":"IF(Ügyféladatok!$F$50>2,HLOOKUP(3,Ügyféladatok!$B$51:$E$57,6,FALSE),\"\")","v":""},null,null,null,null,null,{"$f":"IF(Ügyféladatok!$F$50>3,HLOOKUP(4,Ügyféladatok!$B$51:$E$57,6,FALSE),\"\")","v":""},null,null,null,null,null,null,{"$f":"IF(Ügyféladatok!$F$50>2,1,0)","v":0},0]
[{"$f":"IF(Ügyféladatok!$F$52>2,A139,\"\")","v":""},null,{"$f":"IF(Ügyféladatok!$F$50>2,HLOOKUP(3,Ügyféladatok!$B$51:$E$57,7,FALSE),\"\")","v":""},null,null,null,null,null,{"$f":"IF(Ügyféladatok!$F$50>3,HLOOKUP(4,Ügyféladatok!$B$51:$E$57,7,FALSE),\"\")","v":""},null,null,null,null,null,null,{"$f":"IF(Ügyféladatok!$F$50>2,2,0)","v":0},0]

{"sheet":"Nyil-MFL","index":10,"n_rows":113,"n_cols":22,"rows_kept":113,"cut":false,"hidden":true,"merged":[[16,0,16,14],[17,0,17,14],[18,0,18,14],[19,0,19,14],[20,0,20,14],[21,0,21,14],[62,8,62,14],[63,8,63,14],[64,8,64,14],[28,0,28,14],[29,0,29,14],[30,0,30,14],[31,0,31,14],[32,0,32,14],[33,0,33,14],[22,0,22,14],[23,0,23,14],[24,0,24,14],[25,0,25,14],[26,0,26,14],[27,0,27,14],[45,0,45,14],[47,0,47,14],[48,0,48,14],[49,0,49,14],[50,0,50,14],[52,0,52,14],[35,0,35,14],[39,0,39,14],[40,0,40,14],[41,0,41,14],[42,0,42,14],[44,0,44,14],[63,0,63,2],[63,3,63,7],[64,0,64,2],[64,3,64,7],[53,0,53,14],[54,0,54,14],[55,0,55,14],[62,0,62,2],[62,3,62,7],[71,0,71,2],[71,3,71,7],[72,0,72,2],[72,3,72,7],[65,0,65,2],[65,3,65,7],[66,3,66,7],[66,10,66,14],[70,0,70,2],[70,3,70,7],[65,8,65,14],[68,8,68,14],[70,8,70,14],[71,8,71,14],[72,8,72,14],[84,2,84,3],[85,2,85,3],[86,2,86,3],[73,0,73,2],[73,3,73,7],[82,4,82,5],[82,12,82,13],[83,4,83,5],[83,12,83,13],[73,8,73,14],[82,2,82,3],[83,2,83,3],[82,10,82,11],[83,10,83,11],[84,10,84,11],[85,10,85,11],[86,10,86,11],[88,10,88,11],[89,10,89,11],[90,10,90,11],[87,4,87,5],[84,12,84,13],[85,4,85,5],[85,12,85,13],[86,4,86,5],[86,12,86,13],[84,4,84,5],[87,12,87,13],[87,2,87,3],[88,2,88,3],[89,2,89,3],[90,2,90,3],[93,4,93,5],[93,12,93,13],[94,4,94,5],[93,2,93,3],[94,2,94,3],[91,2,91,3],[91,10,91,11],[88,4,88,5],[88,12,88,13],[89,4,89,5],[89,12,89,13],[90,4,90,5],[92,2,92,3],[92,10,92,11],[90,12,90,13],[91,4,91,5],[91,12,91,13],[92,4,92,5],[92,12,92,13],[87,10,87,11],[95,2,95,3],[96,2,96,3],[93,10,93,11],[94,10,94,11],[95,10,95,11],[96,10,96,11],[94,12,94,13],[95,4,95,5],[95,12,95,13],[96,4,96,5],[96,12,96,13],[97,4,97,5],[97,12,97,13],[98,4,98,5],[97,2,97,3],[98,2,98,3],[99,2,99,3],[100,2,100,3],[97,10,97,11],[98,10,98,11],[99,10,99,11],[100,10,100,11],[98,12,98,13],[99,4,99,5],[99,12,99,13],[100,4,100,5],[100,12,100,13],[101,4,101,5],[101,12,101,13],[102,4,102,5],[101,2,101,3],[102,2,102,3],[103,2,103,3],[104,2,104,3],[101,10,101,11],[102,10,102,11],[103,10,103,11],[104,10,104,11],[102,12,102,13],[103,4,103,5],[103,12,103,13],[104,4,104,5],[104,12,104,13],[105,4,105,5],[105,12,105,13],[106,4,106,5],[105,2,105,3],[106,2,106,3],[107,2,107,3],[108,2,108,3],[105,10,105,11],[106,10,106,11],[107,10,107,11],[108,10,108,11],[106,12,106,13],[107,4,107,5],[107,12,107,13],[108,4,108,5],[108,12,108,13],[109,4,109,5],[109,12,109,13],[110,4,110,5],[109,2,109,3],[110,2,110,3],[111,2,111,3],[112,2,112,3],[109,10,109,11],[110,10,110,11],[111,10,111,11],[112,10,112,11],[110,12,110,13],[111,4,111,5],[111,12,111,13],[112,4,112,5],[112,12,112,13]]}
[null,null,null,null,null,null,null,null,null,null,null,null,null,null,null,null,null,null,null,null,"Végig fix kamat mellett a jelen kockázatfeltáró nyilatkozatra NINCS SZÜKSÉG!"]
[]
[]
[]
[]
[]
[]
[]
[]
[]
["K&H Bank Zrt."]
[]
["1095 Budapest, Lechner Ödön fasor 9. "]
["Telefon: (06 1) 328 9000, (06 30) 761 9000"]
["Fax: (06 1) 328 9696"]
["www.kh.hu • bank@kh.hu"]
[]
["KOCKÁZATFELTÁRÓ NYILATKOZAT"]
[]
["Kijelentem, hogy megismertem a K&H Bank Zrt. (továbbiakban: Bank) által a részemre bemutatott Üzletszabályzatot és Általános Szerződési Feltételeket. Kijelentem, hogy az alábbi kockázatfeltáró nyilatkozatot elolvastam, megértettem és jóváhagyólag aláírtam, továbbá 1 (egy) példányát átvettem. "]
[]
[{"$f":"CONCATENATE(\"K&H \",Hiteladatok!A14)","v":{"$error":"#N/A"}}]
[]
[]
["Tudomásom van arról, hogy a Konstrukció során felmerül a kamat változásából adódóan a veszteség kockázata. Ennek megfelelően a Bank részemre az alábbi tájékoztatást adta, amelyet figyelembe vettem a Konstrukcióra vonatkozó Hitelkérelem benyújtásakor:\n\nA havi törlesztőrészlet megállapítása során a Bank a következő képletet alkalmazza:"]
[]
[]
[]
[]
["Ahol: t = a havonta fizetendő törlesztőrészlet (Ft)"]
[" H = a felvett hitel összege (Ft)"]
[" p = évi ügyleti kamatláb/12"]
[" n = a hitel Futamideje (hónap)"]
[" kk = havi kezelési költség (Ft)",null,null,null,null,null,null,null,null,null,null,null,null,null,null,null,null,null,null,null,{"$f":"CONCATENATE(\"A Kölcsön ügyleti kamata változó, mértéke évi: 12 havi BUBOR + \",TEXT(ROUND(100*('Új PD'!D14-kondíciók!B5),2),\"# ##,00\"),\"% (kamatfelár), amely kamatfelár fix, a futamidő alatt nem változik. A kamatláb jelenleg évi \",TEXT(ROUND(100*'Új PD'!D14,2),\"# ##,00\"),\"%.\")","v":{"$error":"#DIV/0!"}}]
[null,null,null,null,null,null,null,null,null,null,null,null,null,null,null,null,null,null,null,null,"Az ügyleti kamat a következő kamatperiódus vonatkozásában a szerződésben rögzített kamatváltoztatási mutató alapján, az irányadó szerződési feltételeknek megfelelően, a mindenkori hatályos Hirdetmény szerint változhat, melyről a Bank írásban tájékoztatja az Adóst."]
["A kamatszámítás napi kamatszámítással történik, melynek képlete:",null,null,null,null,null,null,null,null,null,null,null,null,null,null,null,null,null,null,null,"Kölcsön referencia kamatlába: a kamatperiódus kezdetét megelőző hónap utolsó munkanapja előtt 2 nappal érvényes 12 havi BUBOR."]
[]
[]
[]
["Ahol: K = kamatösszeg (Ft)"]
[" T = Tőke (Ft)"]
[" k = évi ügyleti kamatláb"]
[" n = kamatnapok száma"]
[]
[{"$f":"IF('Ind-Sz-MFL'!V22=1,U34,\"\")","v":{"$error":"#N/A"}},null,null,null,null,null,null,null,null,null,null,null,null,null,null,null,null,null,null,null,null,{"$f":"MAX(MFL!AD8:AD366)","v":{"$error":"#DIV/0!"}}]
[{"$f":"IF('Ind-Sz-MFL'!V22=2,U35,IF('Ind-Sz-MFL'!V22=1,U36,\"végig fix, úgyse kell a nyilatkozat\"))","v":{"$error":"#N/A"}},null,null,null,null,null,null,null,null,null,null,null,null,null,null,null,null,null,null,null,{"$f":"CONCATENATE(IF(Hiteladatok!B17=Hiteladatok!R23,\"a 12 havi Bubor a jelenlegi \",\"\"),kondíciók!B5*100,\"%-ról \",100*kondíciók!B5+1,\"%-ra emelkedik és ezáltal \")","v":"1,34%-ról 2,34%-ra emelkedik és ezáltal "}]
[null,null,null,null,null,null,null,null,null,null,null,null,null,null,null,null,null,null,null,null,{"$f":"CONCATENATE(100*MFL!B3,\"%-ról \",100*MFL!B3+1,\"%-ra változik a 2. kamatperiódusra, \")","v":{"$error":"#DIV/0!"}}]
["Amennyiben a forint kamatkörnyezet a második kamatperiódusra 100 bázisponttal csökken és ezt követően tartósan az így kialakult kamatszinten stabilizálódik, az általam igényelt Konstrukció mindenkori törlesztőrészlete, illetve a tőketartozás alakulása az 1. számú táblázat szerint várható a futamidő során.",null,null,null,null,null,null,null,null,null,null,null,null,null,null,null,null,null,null,null,{"$f":"CONCATENATE(\"a havi törlesztőrészlet \",TEXT(ROUND(MFL!B10,0),\"# ##\"),\" Ft helyett \",TEXT(ROUND(V45,0),\"# ##\"),\" Ft lesz a 2. kamatperiódustól.\")","v":{"$error":"#DIV/0!"}}]
["Amennyiben a forint kamatszintje 100 bázisponttal emelkedik a második kamatperiódusra és ezt követően tartósan az így kialakult kamatszinten stabilizálódik, akkor az általam igényelt Konstrukció mindenkori törlesztőrészlete illetve a tőketartozás alakulása a 2. számú táblázat szerint várható a futamidő során."]
[{"$f":"CONCATENATE(\"Amennyiben tehát \",IF(Hiteladatok!B17=Hiteladatok!R23,'Nyil-MFL'!U46,\"\"),\"az ügyleti kamatláb \",U47,U48)","v":{"$error":"#DIV/0!"}}]
[]
[]
["Tisztában vagyok azzal a ténnyel, hogy a Konstrukció ki van téve a piaci kamatok mozgásának."]
["Tudomásom van arról, hogy az általam igényelt hitel futamideje alatt a kamatláb emelkedése esetén a kamatperiódusokon belül állandó havi törlesztőrészletek akár jelentős mértékben is magasabbak lehetnek, mint a megelőző kamatperiódusban."]
["Tudomásom van arról is, hogy a jelen Kockázatfeltáró Nyilatkozat csak figyelemfelkeltő és a Konstrukció jellegéből adódóan nem tartalmazhatja az ügyletkötés során jelentkező valamennyi kockázatot és veszélyforrást."]
["Aláírásommal igazolom, hogy a Hitelszerződést megelőző tájékoztatót, az Általános tájékoztatást a jelzáloghitelekről valamint a Személyes tájékoztatás a jelzáloghitelről formanyomtatvány egy példányát átvettem és a 2009.évi CLXII. törvény 11.§-a szerinti felvilágosítást megkaptam."]
[]
[]
[{"$f":"CONCATENATE(\"Kelt: \",TEXT(TODAY(),\"éééé.hh.nn\"))","v":"Kelt: 2021.07.09"}]
[]
[null,null,null,"……………………………….",null,null,null,null,{"$f":"IF(Ügyféladatok!$F$50>1,\"……………………………….\",\"\")","v":"………………………………."}]
[]
["Ügyfél neve:",null,null,{"$f":"HLOOKUP(1,Ügyféladatok!$B$51:$E$57,4,FALSE)","v":""},null,null,null,null,{"$f":"IF(Ügyféladatok!$F$50>1,HLOOKUP(2,Ügyféladatok!$B$51:$E$57,4,FALSE),\"\")","v":""}]
["Születési dátum:",null,null,{"$f":"HLOOKUP(1,Ügyféladatok!$B$51:$E$57,5,FALSE)","v":""},null,null,null,null,{"$f":"IF(Ügyféladatok!$F$50>1,HLOOKUP(2,Ügyféladatok!$B$51:$E$57,5,FALSE),\"\")","v":""}]
["Anyja neve:",null,null,{"$f":"HLOOKUP(1,Ügyféladatok!$B$51:$E$57,6,FALSE)","v":""},null,null,null,null,{"$f":"IF(Ügyféladatok!$F$50>1,HLOOKUP(2,Ügyféladatok!$B$51:$E$57,6,FALSE),\"\")","v":""}]
["Lakcím:",null,null,{"$f":"HLOOKUP(1,Ügyféladatok!$B$51:$E$57,7,FALSE)","v":""},null,null,null,null,{"$f":"IF(Ügyféladatok!$F$50>1,HLOOKUP(2,Ügyféladatok!$B$51:$E$57,7,FALSE),\"\")","v":""}]
[]
[]
[null,null,null,{"$f":"IF(Ügyféladatok!$F$50>2,\"……………………………….\",\"\")","v":""},null,null,null,null,{"$f":"IF(Ügyféladatok!$F$50>3,\"……………………………….\",\"\")","v":""}]
[]
[{"$f":"IF(Ügyféladatok!$F$52>2,A63,\"\")","v":""},null,null,{"$f":"IF(Ügyféladatok!$F$50>2,HLOOKUP(3,Ügyféladatok!$B$51:$E$57,4,FALSE),\"\")","v":""},null,null,null,null,{"$f":"IF(Ügyféladatok!$F$50>3,HLOOKUP(4,Ügyféladatok!$B$51:$E$57,4,FALSE),\"\")","v":""}]
[{"$f":"IF(Ügyféladatok!$F$52>2,A64,\"\")","v":""},null,null,{"$f":"IF(Ügyféladatok!$F$50>2,HLOOKUP(3,Ügyféladatok!$B$51:$E$57,5,FALSE),\"\")","v":""},null,null,null,null,{"$f":"IF(Ügyféladatok!$F$50>3,HLOOKUP(4,Ügyféladatok!$B$51:$E$57,5,FALSE),\"\")","v":""}]
[{"$f":"IF(Ügyféladatok!$F$52>2,A65,\"\")","v":""},null,null,{"$f":"IF(Ügyféladatok!$F$50>2,HLOOKUP(3,Ügyféladatok!$B$51:$E$57,6,FALSE),\"\")","v":""},null,null,null,null,{"$f":"IF(Ügyféladatok!$F$50>3,HLOOKUP(4,Ügyféladatok!$B$51:$E$57,6,FALSE),\"\")","v":""}]
[{"$f":"IF(Ügyféladatok!$F$52>2,A66,\"\")","v":""},null,null,{"$f":"IF(Ügyféladatok!$F$50>2,HLOOKUP(3,Ügyféladatok!$B$51:$E$57,7,FALSE),\"\")","v":""},null,null,null,null,{"$f":"IF(Ügyféladatok!$F$50>3,HLOOKUP(4,Ügyféladatok!$B$51:$E$57,7,FALSE),\"\")","v":""}]
[]
[]
[]
["Tanú: ……………………………………………",null,null,null,null,null,null,null,"Tanú: ……………………………………………"]
["Szem.ig.szám: ……………………………..",null,null,null,null,null,null,null,"Szem.ig.szám: …………………………….."]
["Lakcím: ………………………………………..",null,null,null,null,null,null,null,"Lakcím: ……………………………………….."]
[]
["táblázat - 1",null,null,null,null,null,null,null,"táblázat - 2"]
["Év","Kamat\nperiódus","Ügyleti\nkamat \n%",null,"Havi részlet \nFt",null,"Fennmaradó\ntőke Ft",null,"Év","Kamat\nperiódus","Ügyleti\nkamat \n%",null,"Havi részlet \nFt",null,"Fennmaradó\ntőke Ft",null,null,null,null,null,"sormagasság"]
[1,{"$f":"VLOOKUP(A84*12,MFL!$E$7:$AK$366,22,FALSE)","v":1},{"$f":"VLOOKUP(A84*12,MFL!$E$7:$AK$366,30,FALSE)","v":{"$error":"#DIV/0!"}},null,{"$f":"VLOOKUP(A84*12,MFL!$E$7:$AK$366,32,FALSE)","v":{"$error":"#DIV/0!"}},null,{"$f":"VLOOKUP(A84*12,MFL!$E$7:$AK$366,33,FALSE)","v":{"$error":"#DIV/0!"}},null,{"$f":"A84","v":1},{"$f":"B84","v":1},{"$f":"VLOOKUP(A84*12,MFL!$E$7:$AK$366,24,FALSE)","v":{"$error":"#DIV/0!"}},null,{"$f":"VLOOKUP(I84*12,MFL!$E$7:$AK$366,26,FALSE)","v":{"$error":"#DIV/0!"}},null,{"$f":"VLOOKUP(I84*12,MFL!$E$7:$AK$366,27,FALSE)","v":{"$error":"#DIV/0!"}},null,null,null,null,null,1,12.75]
[{"$f":"A84+1","v":2},{"$f":"VLOOKUP(A85*12,MFL!$E$7:$AK$366,22,FALSE)","v":1},{"$f":"VLOOKUP(A85*12,MFL!$E$7:$AK$366,30,FALSE)","v":{"$error":"#DIV/0!"}},null,{"$f":"VLOOKUP(A85*12,MFL!$E$7:$AK$366,32,FALSE)","v":{"$error":"#DIV/0!"}},null,{"$f":"VLOOKUP(A85*12,MFL!$E$7:$AK$366,33,FALSE)","v":{"$error":"#DIV/0!"}},null,{"$f":"A85","v":2},{"$f":"B85","v":1},{"$f":"VLOOKUP(A85*12,MFL!$E$7:$AK$366,24,FALSE)","v":{"$error":"#DIV/0!"}},null,{"$f":"VLOOKUP(I85*12,MFL!$E$7:$AK$366,26,FALSE)","v":{"$error":"#DIV/0!"}},null,{"$f":"VLOOKUP(I85*12,MFL!$E$7:$AK$366,27,FALSE)","v":{"$error":"#DIV/0!"}},null,null,null,null,null,{"$f":"IF(G84>0,1,0)","v":{"$error":"#DIV/0!"}},{"$f":"U85*$V$84","v":{"$error":"#DIV/0!"}}]
[{"$f":"A85+1","v":3},{"$f":"VLOOKUP(A86*12,MFL!$E$7:$AK$366,22,FALSE)","v":1},{"$f":"VLOOKUP(A86*12,MFL!$E$7:$AK$366,30,FALSE)","v":{"$error":"#DIV/0!"}},null,{"$f":"VLOOKUP(A86*12,MFL!$E$7:$AK$366,32,FALSE)","v":{"$error":"#DIV/0!"}},null,{"$f":"VLOOKUP(A86*12,MFL!$E$7:$AK$366,33,FALSE)","v":{"$error":"#DIV/0!"}},null,3,1,{"$f":"VLOOKUP(A86*12,MFL!$E$7:$AK$366,24,FALSE)","v":{"$error":"#DIV/0!"}},null,{"$f":"VLOOKUP(I86*12,MFL!$E$7:$AK$366,26,FALSE)","v":{"$error":"#DIV/0!"}},null,{"$f":"VLOOKUP(I86*12,MFL!$E$7:$AK$366,27,FALSE)","v":{"$error":"#DIV/0!"}},null,null,null,null,null,{"$f":"IF(G85>0,1,0)","v":{"$error":"#DIV/0!"}},{"$f":"U86*$V$84","v":{"$error":"#DIV/0!"}}]
[4,{"$f":"VLOOKUP(A87*12,MFL!$E$7:$AK$366,22,FALSE)","v":1},{"$f":"VLOOKUP(A87*12,MFL!$E$7:$AK$366,30,FALSE)","v":{"$error":"#DIV/0!"}},null,{"$f":"VLOOKUP(A87*12,MFL!$E$7:$AK$366,32,FALSE)","v":{"$error":"#DIV/0!"}},null,{"$f":"VLOOKUP(A87*12,MFL!$E$7:$AK$366,33,FALSE)","v":{"$error":"#DIV/0!"}},null,4,1,{"$f":"VLOOKUP(A87*12,MFL!$E$7:$AK$366,24,FALSE)","v":{"$error":"#DIV/0!"}},null,{"$f":"VLOOKUP(I87*12,MFL!$E$7:$AK$366,26,FALSE)","v":{"$error":"#DIV/0!"}},null,{"$f":"VLOOKUP(I87*12,MFL!$E$7:$AK$366,27,FALSE)","v":{"$error":"#DIV/0!"}},null,null,null,null,null,{"$error":"#DIV/0!"},{"$error":"#DIV/0!"}]
[5,{"$f":"VLOOKUP(A88*12,MFL!$E$7:$AK$366,22,FALSE)","v":1},{"$f":"VLOOKUP(A88*12,MFL!$E$7:$AK$366,30,FALSE)","v":{"$error":"#DIV/0!"}},null,{"$f":"VLOOKUP(A88*12,MFL!$E$7:$AK$366,32,FALSE)","v":{"$error":"#DIV/0!"}},null,{"$f":"VLOOKUP(A88*12,MFL!$E$7:$AK$366,33,FALSE)","v":{"$error":"#DIV/0!"}},null,5,1,{"$f":"VLOOKUP(A88*12,MFL!$E$7:$AK$366,24,FALSE)","v":{"$error":"#DIV/0!"}},null,{"$f":"VLOOKUP(I88*12,MFL!$E$7:$AK$366,26,FALSE)","v":{"$error":"#DIV/0!"}},null,{"$f":"VLOOKUP(I88*12,MFL!$E$7:$AK$366,27,FALSE)","v":{"$error":"#DIV/0!"}},null,null,null,null,null,{"$error":"#DIV/0!"},{"$error":"#DIV/0!"}]
[6,{"$f":"VLOOKUP(A89*12,MFL!$E$7:$AK$366,22,FALSE)","v":1},{"$f":"VLOOKUP(A89*12,MFL!$E$7:$AK$366,30,FALSE)","v":{"$error":"#DIV/0!"}},null,{"$f":"VLOOKUP(A89*12,MFL!$E$7:$AK$366,32,FALSE)","v":{"$error":"#DIV/0!"}},null,{"$f":"VLOOKUP(A89*12,MFL!$E$7:$AK$366,33,FALSE)","v":{"$error":"#DIV/0!"}},null,6,1,{"$f":"VLOOKUP(A89*12,MFL!$E$7:$AK$366,24,FALSE)","v":{"$error":"#DIV/0!"}},null,{"$f":"VLOOKUP(I89*12,MFL!$E$7:$AK$366,26,FALSE)","v":{"$error":"#DIV/0!"}},null,{"$f":"VLOOKUP(I89*12,MFL!$E$7:$AK$366,27,FALSE)","v":{"$error":"#DIV/0!"}},null,null,null,null,null,{"$error":"#DIV/0!"},{"$error":"#DIV/0!"}]
[7,{"$f":"VLOOKUP(A90*12,MFL!$E$7:$AK$366,22,FALSE)","v":1},{"$f":"VLOOKUP(A90*12,MFL!$E$7:$AK$366,30,FALSE)","v":{"$error":"#DIV/0!"}},null,{"$f":"VLOOKUP(A90*12,MFL!$E$7:$AK$366,32,FALSE)","v":{"$error":"#DIV/0!"}},null,{"$f":"VLOOKUP(A90*12,MFL!$E$7:$AK$366,33,FALSE)","v":{"$error":"#DIV/0!"}},null,7,1,{"$f":"VLOOKUP(A90*12,MFL!$E$7:$AK$366,24,FALSE)","v":{"$error":"#DIV/0!"}},null,{"$f":"VLOOKUP(I90*12,MFL!$E$7:$AK$366,26,FALSE)","v":{"$error":"#DIV/0!"}},null,{"$f":"VLOOKUP(I90*12,MFL!$E$7:$AK$366,27,FALSE)","v":{"$error":"#DIV/0!"}},null,null,null,null,null,{"$error":"#DIV/0!"},{"$error":"#DIV/0!"}]
[8,{"$f":"VLOOKUP(A91*12,MFL!$E$7:$AK$366,22,FALSE)","v":1},{"$f":"VLOOKUP(A91*12,MFL!$E$7:$AK$366,30,FALSE)","v":{"$error":"#DIV/0!"}},null,{"$f":"VLOOKUP(A91*12,MFL!$E$7:$AK$366,32,FALSE)","v":{"$error":"#DIV/0!"}},null,{"$f":"VLOOKUP(A91*12,MFL!$E$7:$AK$366,33,FALSE)","v":{"$error":"#DIV/0!"}},null,8,1,{"$f":"VLOOKUP(A91*12,MFL!$E$7:$AK$366,24,FALSE)","v":{"$error":"#DIV/0!"}},null,{"$f":"VLOOKUP(I91*12,MFL!$E$7:$AK$366,26,FALSE)","v":{"$error":"#DIV/0!"}},null,{"$f":"VLOOKUP(I91*12,MFL!$E$7:$AK$366,27,FALSE)","v":{"$error":"#DIV/0!"}},null,null,null,null,null,{"$error":"#DIV/0!"},{"$error":"#DIV/0!"}]
[9,{"$f":"VLOOKUP(A92*12,MFL!$E$7:$AK$366,22,FALSE)","v":1},{"$f":"VLOOKUP(A92*12,MFL!$E$7:$AK$366,30,FALSE)","v":{"$error":"#DIV/0!"}},null,{"$f":"VLOOKUP(A92*12,MFL!$E$7:$AK$366,32,FALSE)","v":{"$error":"#DIV/0!"}},null,{"$f":"VLOOKUP(A92*12,MFL!$E$7:$AK$366,33,FALSE)","v":{"$error":"#DIV/0!"}},null,9,1,{"$f":"VLOOKUP(A92*12,MFL!$E$7:$AK$366,24,FALSE)","v":{"$error":"#DIV/0!"}},null,{"$f":"VLOOKUP(I92*12,MFL!$E$7:$AK$366,26,FALSE)","v":{"$error":"#DIV/0!"}},null,{"$f":"VLOOKUP(I92*12,MFL!$E$7:$AK$366,27,FALSE)","v":{"$error":"#DIV/0!"}},null,null,null,null,null,{"$error":"#DIV/0!"},{"$error":"#DIV/0!"}]
[10,{"$f":"VLOOKUP(A93*12,MFL!$E$7:$AK$366,22,FALSE)","v":1},{"$f":"VLOOKUP(A93*12,MFL!$E$7:$AK$366,30,FALSE)","v":{"$error":"#DIV/0!"}},null,{"$f":"VLOOKUP(A93*12,MFL!$E$7:$AK$366,32,FALSE)","v":{"$error":"#DIV/0!"}},null,{"$f":"VLOOKUP(A93*12,MFL!$E$7:$AK$366,33,FALSE)","v":{"$error":"#DIV/0!"}},null,10,1,{"$f":"VLOOKUP(A93*12,MFL!$E$7:$AK$366,24,FALSE)","v":{"$error":"#DIV/0!"}},null,{"$f":"VLOOKUP(I93*12,MFL!$E$7:$AK$366,26,FALSE)","v":{"$error":"#DIV/0!"}},null,{"$f":"VLOOKUP(I93*12,MFL!$E$7:$AK$366,27,FALSE)","v":{"$error":"#DIV/0!"}},null,null,null,null,null,{"$error":"#DIV/0!"},{"$error":"#DIV/0!"}]
[11,{"$f":"VLOOKUP(A94*12,MFL!$E$7:$AK$366,22,FALSE)","v":2},{"$f":"VLOOKUP(A94*12,MFL!$E$7:$AK$366,30,FALSE)","v":{"$error":"#DIV/0!"}},null,{"$f":"VLOOKUP(A94*12,MFL!$E$7:$AK$366,32,FALSE)","v":{"$error":"#DIV/0!"}},null,{"$f":"VLOOKUP(A94*12,MFL!$E$7:$AK$366,33,FALSE)","v":{"$error":"#DIV/0!"}},null,11,2,{"$f":"VLOOKUP(A94*12,MFL!$E$7:$AK$366,24,FALSE)","v":{"$error":"#DIV/0!"}},null,{"$f":"VLOOKUP(I94*12,MFL!$E$7:$AK$366,26,FALSE)","v":{"$error":"#DIV/0!"}},null,{"$f":"VLOOKUP(I94*12,MFL!$E$7:$AK$366,27,FALSE)","v":{"$error":"#DIV/0!"}},null,null,null,null,null,{"$error":"#DIV/0!"},{"$error":"#DIV/0!"}]
[12,{"$f":"VLOOKUP(A95*12,MFL!$E$7:$AK$366,22,FALSE)","v":2},{"$f":"VLOOKUP(A95*12,MFL!$E$7:$AK$366,30,FALSE)","v":{"$error":"#DIV/0!"}},null,{"$f":"VLOOKUP(A95*12,MFL!$E$7:$AK$366,32,FALSE)","v":{"$error":"#DIV/0!"}},null,{"$f":"VLOOKUP(A95*12,MFL!$E$7:$AK$366,33,FALSE)","v":{"$error":"#DIV/0!"}},null,12,2,{"$f":"VLOOKUP(A95*12,MFL!$E$7:$AK$366,24,FALSE)","v":{"$error":"#DIV/0!"}},null,{"$f":"VLOOKUP(I95*12,MFL!$E$7:$AK$366,26,FALSE)","v":{"$error":"#DIV/0!"}},null,{"$f":"VLOOKUP(I95*12,MFL!$E$7:$AK$366,27,FALSE)","v":{"$error":"#DIV/0!"}},null,null,null,null,null,{"$error":"#DIV/0!"},{"$error":"#DIV/0!"}]
[13,{"$f":"VLOOKUP(A96*12,MFL!$E$7:$AK$366,22,FALSE)","v":2},{"$f":"VLOOKUP(A96*12,MFL!$E$7:$AK$366,30,FALSE)","v":{"$error":"#DIV/0!"}},null,{"$f":"VLOOKUP(A96*12,MFL!$E$7:$AK$366,32,FALSE)","v":{"$error":"#DIV/0!"}},null,{"$f":"VLOOKUP(A96*12,MFL!$E$7:$AK$366,33,FALSE)","v":{"$error":"#DIV/0!"}},null,13,2,{"$f":"VLOOKUP(A96*12,MFL!$E$7:$AK$366,24,FALSE)","v":{"$error":"#DIV/0!"}},null,{"$f":"VLOOKUP(I96*12,MFL!$E$7:$AK$366,26,FALSE)","v":{"$error":"#DIV/0!"}},null,{"$f":"VLOOKUP(I96*12,MFL!$E$7:$AK$366,27,FALSE)","v":{"$error":"#DIV/0!"}},null,null,null,null,null,{"$error":"#DIV/0!"},{"$error":"#DIV/0!"}]
[14,{"$f":"VLOOKUP(A97*12,MFL!$E$7:$AK$366,22,FALSE)","v":2},{"$f":"VLOOKUP(A97*12,MFL!$E$7:$AK$366,30,FALSE)","v":{"$error":"#DIV/0!"}},null,{"$f":"VLOOKUP(A97*12,MFL!$E$7:$AK$366,32,FALSE)","v":{"$error":"#DIV/0!"}},null,{"$f":"VLOOKUP(A97*12,MFL!$E$7:$AK$366,33,FALSE)","v":{"$error":"#DIV/0!"}},null,14,2,{"$f":"VLOOKUP(A97*12,MFL!$E$7:$AK$366,24,FALSE)","v":{"$error":"#DIV/0!"}},null,{"$f":"VLOOKUP(I97*12,MFL!$E$7:$AK$366,26,FALSE)","v":{"$error":"#DIV/0!"}},null,{"$f":"VLOOKUP(I97*12,MFL!$E$7:$AK$366,27,FALSE)","v":{"$error":"#DIV/0!"}},null,null,null,null,null,{"$error":"#DIV/0!"},{"$error":"#DIV/0!"}]
[{"$f":"A97+1","v":15},{"$f":"VLOOKUP(A98*12,MFL!$E$7:$AK$366,22,FALSE)","v":2},{"$f":"VLOOKUP(A98*12,MFL!$E$7:$AK$366,30,FALSE)","v":{"$error":"#DIV/0!"}},null,{"$f":"VLOOKUP(A98*12,MFL!$E$7:$AK$366,32,FALSE)","v":{"$error":"#DIV/0!"}},null,{"$f":"VLOOKUP(A98*12,MFL!$E$7:$AK$366,33,FALSE)","v":{"$error":"#DIV/0!"}},null,15,2,{"$f":"VLOOKUP(A98*12,MFL!$E$7:$AK$366,24,FALSE)","v":{"$error":"#DIV/0!"}},null,{"$f":"VLOOKUP(I98*12,MFL!$E$7:$AK$366,26,FALSE)","v":{"$error":"#DIV/0!"}},null,{"$f":"VLOOKUP(I98*12,MFL!$E$7:$AK$366,27,FALSE)","v":{"$error":"#DIV/0!"}},null,null,null,null,null,{"$error":"#DIV/0!"},{"$error":"#DIV/0!"}]
[16,{"$f":"VLOOKUP(A99*12,MFL!$E$7:$AK$366,22,FALSE)","v":2},{"$f":"VLOOKUP(A99*12,MFL!$E$7:$AK$366,30,FALSE)","v":{"$error":"#DIV/0!"}},null,{"$f":"VLOOKUP(A99*12,MFL!$E$7:$AK$366,32,FALSE)","v":{"$error":"#DIV/0!"}},null,{"$f":"VLOOKUP(A99*12,MFL!$E$7:$AK$366,33,FALSE)","v":{"$error":"#DIV/0!"}},null,16,2,{"$f":"VLOOKUP(A99*12,MFL!$E$7:$AK$366,24,FALSE)","v":{"$error":"#DIV/0!"}},null,{"$f":"VLOOKUP(I99*12,MFL!$E$7:$AK$366,26,FALSE)","v":{"$error":"#DIV/0!"}},null,{"$f":"VLOOKUP(I99*12,MFL!$E$7:$AK$366,27,FALSE)","v":{"$error":"#DIV/0!"}},null,null,null,null,null,{"$error":"#DIV/0!"},{"$error":"#DIV/0!"}]
[17,{"$f":"VLOOKUP(A100*12,MFL!$E$7:$AK$366,22,FALSE)","v":2},{"$f":"VLOOKUP(A100*12,MFL!$E$7:$AK$366,30,FALSE)","v":{"$error":"#DIV/0!"}},null,{"$f":"VLOOKUP(A100*12,MFL!$E$7:$AK$366,32,FALSE)","v":{"$error":"#DIV/0!"}},null,{"$f":"VLOOKUP(A100*12,MFL!$E$7:$AK$366,33,FALSE)","v":{"$error":"#DIV/0!"}},null,17,2,{"$f":"VLOOKUP(A100*12,MFL!$E$7:$AK$366,24,FALSE)","v":{"$error":"#DIV/0!"}},null,{"$f":"VLOOKUP(I100*12,MFL!$E$7:$AK$366,26,FALSE)","v":{"$error":"#DIV/0!"}},null,{"$f":"VLOOKUP(I100*12,MFL!$E$7:$AK$366,27,FALSE)","v":{"$error":"#DIV/0!"}},null,null,null,null,null,{"$error":"#DIV/0!"},{"$error":"#DIV/0!"}]
[18,{"$f":"VLOOKUP(A101*12,MFL!$E$7:$AK$366,22,FALSE)","v":2},{"$f":"VLOOKUP(A101*12,MFL!$E$7:$AK$366,30,FALSE)","v":{"$error":"#DIV/0!"}},null,{"$f":"VLOOKUP(A101*12,MFL!$E$7:$AK$366,32,FALSE)","v":{"$error":"#DIV/0!"}},null,{"$f":"VLOOKUP(A101*12,MFL!$E$7:$AK$366,33,FALSE)","v":{"$error":"#DIV/0!"}},null,18,2,{"$f":"VLOOKUP(A101*12,MFL!$E$7:$AK$366,24,FALSE)","v":{"$error":"#DIV/0!"}},null,{"$f":"VLOOKUP(I101*12,MFL!$E$7:$AK$366,26,FALSE)","v":{"$error":"#DIV/0!"}},null,{"$f":"VLOOKUP(I101*12,MFL!$E$7:$AK$366,27,FALSE)","v":{"$error":"#DIV/0!"}},null,null,null,null,null,{"$error":"#DIV/0!"},{"$error":"#DIV/0!"}]
[19,{"$f":"VLOOKUP(A102*12,MFL!$E$7:$AK$366,22,FALSE)","v":2},{"$f":"VLOOKUP(A102*12,MFL!$E$7:$AK$366,30,FALSE)","v":{"$error":"#DIV/0!"}},null,{"$f":"VLOOKUP(A102*12,MFL!$E$7:$AK$366,32,FALSE)","v":{"$error":"#DIV/0!"}},null,{"$f":"VLOOKUP(A102*12,MFL!$E$7:$AK$366,33,FALSE)","v":{"$error":"#DIV/0!"}},null,19,2,{"$f":"VLOOKUP(A102*12,MFL!$E$7:$AK$366,24,FALSE)","v":{"$error":"#DIV/0!"}},null,{"$f":"VLOOKUP(I102*12,MFL!$E$7:$AK$366,26,FALSE)","v":{"$error":"#DIV/0!"}},null,{"$f":"VLOOKUP(I102*12,MFL!$E$7:$AK$366,27,FALSE)","v":{"$error":"#DIV/0!"}},null,null,null,null,null,{"$error":"#DIV/0!"},{"$error":"#DIV/0!"}]
[20,{"$f":"VLOOKUP(A103*12,MFL!$E$7:$AK$366,22,FALSE)","v":2},{"$f":"VLOOKUP(A103*12,MFL!$E$7:$AK$366,30,FALSE)","v":{"$error":"#DIV/0!"}},null,{"$f":"VLOOKUP(A103*12,MFL!$E$7:$AK$366,32,FALSE)","v":{"$error":"#DIV/0!"}},null,{"$f":"VLOOKUP(A103*12,MFL!$E$7:$AK$366,33,FALSE)","v":{"$error":"#DIV/0!"}},null,20,2,{"$f":"VLOOKUP(A103*12,MFL!$E$7:$AK$366,24,FALSE)","v":{"$error":"#DIV/0!"}},null,{"$f":"VLOOKUP(I103*12,MFL!$E$7:$AK$366,26,FALSE)","v":{"$error":"#DIV/0!"}},null,{"$f":"VLOOKUP(I103*12,MFL!$E$7:$AK$366,27,FALSE)","v":{"$error":"#DIV/0!"}},null,null,null,null,null,{"$error":"#DIV/0!"},{"$error":"#DIV/0!"}]
[{"$f":"A103+1","v":21},{"$f":"VLOOKUP(A104*12,MFL!$E$7:$AK$366,22,FALSE)","v":3},{"$f":"VLOOKUP(A104*12,MFL!$E$7:$AK$366,30,FALSE)","v":{"$error":"#DIV/0!"}},null,{"$f":"VLOOKUP(A104*12,MFL!$E$7:$AK$366,32,FALSE)","v":0},null,{"$f":"VLOOKUP(A104*12,MFL!$E$7:$AK$366,33,FALSE)","v":{"$error":"#DIV/0!"}},null,21,3,{"$f":"VLOOKUP(A104*12,MFL!$E$7:$AK$366,24,FALSE)","v":{"$error":"#DIV/0!"}},null,{"$f":"VLOOKUP(I104*12,MFL!$E$7:$AK$366,26,FALSE)","v":0},null,{"$f":"VLOOKUP(I104*12,MFL!$E$7:$AK$366,27,FALSE)","v":{"$error":"#DIV/0!"}},null,null,null,null,null,{"$error":"#DIV/0!"},{"$error":"#DIV/0!"}]
[22,{"$f":"VLOOKUP(A105*12,MFL!$E$7:$AK$366,22,FALSE)","v":3},{"$f":"VLOOKUP(A105*12,MFL!$E$7:$AK$366,30,FALSE)","v":{"$error":"#DIV/0!"}},null,{"$f":"VLOOKUP(A105*12,MFL!$E$7:$AK$366,32,FALSE)","v":0},null,{"$f":"VLOOKUP(A105*12,MFL!$E$7:$AK$366,33,FALSE)","v":{"$error":"#DIV/0!"}},null,22,3,{"$f":"VLOOKUP(A105*12,MFL!$E$7:$AK$366,24,FALSE)","v":{"$error":"#DIV/0!"}},null,{"$f":"VLOOKUP(I105*12,MFL!$E$7:$AK$366,26,FALSE)","v":0},null,{"$f":"VLOOKUP(I105*12,MFL!$E$7:$AK$366,27,FALSE)","v":{"$error":"#DIV/0!"}},null,null,null,null,null,{"$error":"#DIV/0!"},{"$error":"#DIV/0!"}]
[23,{"$f":"VLOOKUP(A106*12,MFL!$E$7:$AK$366,22,FALSE)","v":3},{"$f":"VLOOKUP(A106*12,MFL!$E$7:$AK$366,30,FALSE)","v":{"$error":"#DIV/0!"}},null,{"$f":"VLOOKUP(A106*12,MFL!$E$7:$AK$366,32,FALSE)","v":0},null,{"$f":"VLOOKUP(A106*12,MFL!$E$7:$AK$366,33,FALSE)","v":{"$error":"#DIV/0!"}},null,23,3,{"$f":"VLOOKUP(A106*12,MFL!$E$7:$AK$366,24,FALSE)","v":{"$error":"#DIV/0!"}},null,{"$f":"VLOOKUP(I106*12,MFL!$E$7:$AK$366,26,FALSE)","v":0},null,{"$f":"VLOOKUP(I106*12,MFL!$E$7:$AK$366,27,FALSE)","v":{"$error":"#DIV/0!"}},null,null,null,null,null,{"$error":"#DIV/0!"},{"$error":"#DIV/0!"}]
[24,{"$f":"VLOOKUP(A107*12,MFL!$E$7:$AK$366,22,FALSE)","v":3},{"$f":"VLOOKUP(A107*12,MFL!$E$7:$AK$366,30,FALSE)","v":{"$error":"#DIV/0!"}},null,{"$f":"VLOOKUP(A107*12,MFL!$E$7:$AK$366,32,FALSE)","v":0},null,{"$f":"VLOOKUP(A107*12,MFL!$E$7:$AK$366,33,FALSE)","v":{"$error":"#DIV/0!"}},null,24,3,{"$f":"VLOOKUP(A107*12,MFL!$E$7:$AK$366,24,FALSE)","v":{"$error":"#DIV/0!"}},null,{"$f":"VLOOKUP(I107*12,MFL!$E$7:$AK$366,26,FALSE)","v":0},null,{"$f":"VLOOKUP(I107*12,MFL!$E$7:$AK$366,27,FALSE)","v":{"$error":"#DIV/0!"}},null,null,null,null,null,{"$error":"#DIV/0!"},{"$error":"#DIV/0!"}]
[25,{"$f":"VLOOKUP(A108*12,MFL!$E$7:$AK$366,22,FALSE)","v":3},{"$f":"VLOOKUP(A108*12,MFL!$E$7:$AK$366,30,FALSE)","v":{"$error":"#DIV/0!"}},null,{"$f":"VLOOKUP(A108*12,MFL!$E$7:$AK$366,32,FALSE)","v":0},null,{"$f":"VLOOKUP(A108*12,MFL!$E$7:$AK$366,33,FALSE)","v":{"$error":"#DIV/0!"}},null,25,3,{"$f":"VLOOKUP(A108*12,MFL!$E$7:$AK$366,24,FALSE)","v":{"$error":"#DIV/0!"}},null,{"$f":"VLOOKUP(I108*12,MFL!$E$7:$AK$366,26,FALSE)","v":0},null,{"$f":"VLOOKUP(I108*12,MFL!$E$7:$AK$366,27,FALSE)","v":{"$error":"#DIV/0!"}},null,null,null,null,null,{"$error":"#DIV/0!"},{"$error":"#DIV/0!"}]
[26,{"$f":"VLOOKUP(A109*12,MFL!$E$7:$AK$366,22,FALSE)","v":3},{"$f":"VLOOKUP(A109*12,MFL!$E$7:$AK$366,30,FALSE)","v":{"$error":"#DIV/0!"}},null,{"$f":"VLOOKUP(A109*12,MFL!$E$7:$AK$366,32,FALSE)","v":0},null,{"$f":"VLOOKUP(A109*12,MFL!$E$7:$AK$366,33,FALSE)","v":{"$error":"#DIV/0!"}},null,26,3,{"$f":"VLOOKUP(A109*12,MFL!$E$7:$AK$366,24,FALSE)","v":{"$error":"#DIV/0!"}},null,{"$f":"VLOOKUP(I109*12,MFL!$E$7:$AK$366,26,FALSE)","v":0},null,{"$f":"VLOOKUP(I109*12,MFL!$E$7:$AK$366,27,FALSE)","v":{"$error":"#DIV/0!"}},null,null,null,null,null,{"$error":"#DIV/0!"},{"$error":"#DIV/0!"}]
[27,{"$f":"VLOOKUP(A110*12,MFL!$E$7:$AK$366,22,FALSE)","v":3},{"$f":"VLOOKUP(A110*12,MFL!$E$7:$AK$366,30,FALSE)","v":{"$error":"#DIV/0!"}},null,{"$f":"VLOOKUP(A110*12,MFL!$E$7:$AK$366,32,FALSE)","v":0},null,{"$f":"VLOOKUP(A110*12,MFL!$E$7:$AK$366,33,FALSE)","v":{"$error":"#DIV/0!"}},null,27,3,{"$f":"VLOOKUP(A110*12,MFL!$E$7:$AK$366,24,FALSE)","v":{"$error":"#DIV/0!"}},null,{"$f":"VLOOKUP(I110*12,MFL!$E$7:$AK$366,26,FALSE)","v":0},null,{"$f":"VLOOKUP(I110*12,MFL!$E$7:$AK$366,27,FALSE)","v":{"$error":"#DIV/0!"}},null,null,null,null,null,{"$error":"#DIV/0!"},{"$error":"#DIV/0!"}]
[28,{"$f":"VLOOKUP(A111*12,MFL!$E$7:$AK$366,22,FALSE)","v":3},{"$f":"VLOOKUP(A111*12,MFL!$E$7:$AK$366,30,FALSE)","v":{"$error":"#DIV/0!"}},null,{"$f":"VLOOKUP(A111*12,MFL!$E$7:$AK$366,32,FALSE)","v":0},null,{"$f":"VLOOKUP(A111*12,MFL!$E$7:$AK$366,33,FALSE)","v":{"$error":"#DIV/0!"}},null,28,3,{"$f":"VLOOKUP(A111*12,MFL!$E$7:$AK$366,24,FALSE)","v":{"$error":"#DIV/0!"}},null,{"$f":"VLOOKUP(I111*12,MFL!$E$7:$AK$366,26,FALSE)","v":0},null,{"$f":"VLOOKUP(I111*12,MFL!$E$7:$AK$366,27,FALSE)","v":{"$error":"#DIV/0!"}},null,null,null,null,null,{"$error":"#DIV/0!"},{"$error":"#DIV/0!"}]
[{"$f":"A111+1","v":29},{"$f":"VLOOKUP(A112*12,MFL!$E$7:$AK$366,22,FALSE)","v":3},{"$f":"VLOOKUP(A112*12,MFL!$E$7:$AK$366,30,FALSE)","v":{"$error":"#DIV/0!"}},null,{"$f":"VLOOKUP(A112*12,MFL!$E$7:$AK$366,32,FALSE)","v":0},null,{"$f":"VLOOKUP(A112*12,MFL!$E$7:$AK$366,33,FALSE)","v":{"$error":"#DIV/0!"}},null,29,3,{"$f":"VLOOKUP(A112*12,MFL!$E$7:$AK$366,24,FALSE)","v":{"$error":"#DIV/0!"}},null,{"$f":"VLOOKUP(I112*12,MFL!$E$7:$AK$366,26,FALSE)","v":0},null,{"$f":"VLOOKUP(I112*12,MFL!$E$7:$AK$366,27,FALSE)","v":{"$error":"#DIV/0!"}},null,null,null,null,null,{"$error":"#DIV/0!"},{"$error":"#DIV/0!"}]
[30,{"$f":"VLOOKUP(A113*12,MFL!$E$7:$AK$366,22,FALSE)","v":3},{"$f":"VLOOKUP(A113*12,MFL!$E$7:$AK$366,30,FALSE)","v":{"$error":"#DIV/0!"}},null,{"$f":"VLOOKUP(A113*12,MFL!$E$7:$AK$366,32,FALSE)","v":0},null,{"$f":"VLOOKUP(A113*12,MFL!$E$7:$AK$366,33,FALSE)","v":{"$error":"#DIV/0!"}},null,30,3,{"$f":"VLOOKUP(A113*12,MFL!$E$7:$AK$366,24,FALSE)","v":{"$error":"#DIV/0!"}},null,{"$f":"VLOOKUP(I113*12,MFL!$E$7:$AK$366,26,FALSE)","v":0},null,{"$f":"VLOOKUP(I113*12,MFL!$E$7:$AK$366,27,FALSE)","v":{"$error":"#DIV/0!"}},null,null,null,null,null,{"$error":"#DIV/0!"},{"$error":"#DIV/0!"}]

{"sheet":"Nyil-OTK","index":11,"n_rows":73,"n_cols":21,"rows_kept":73,"cut":false,"hidden":true,"merged":[[38,0,38,14],[40,0,40,14],[19,0,19,14],[8,0,8,14],[9,0,9,14],[10,0,10,14],[11,0,11,14],[12,0,12,14],[13,0,13,14],[14,0,14,14],[15,0,15,14],[16,0,16,14],[17,0,17,14],[18,0,18,14],[37,0,37,14],[20,0,20,14],[21,0,21,14],[22,0,22,14],[23,0,23,14],[24,0,24,14],[25,0,25,14],[27,0,27,14],[32,0,32,14],[33,0,33,14],[34,0,34,14],[35,0,35,14],[41,16,41,26],[42,0,42,14],[44,0,44,14],[39,0,39,14],[65,8,65,14],[45,0,45,14],[66,8,66,14],[46,0,46,14],[47,0,47,14],[48,0,48,14],[49,0,49,14],[50,0,50,14],[57,8,57,14],[58,8,58,14],[59,8,59,14],[60,8,60,14],[55,8,55,14],[63,8,63,14],[66,0,66,2],[66,3,66,7],[60,3,60,7],[68,8,68,14],[68,0,68,2],[68,3,68,7],[57,0,57,2],[57,3,57,7],[67,0,67,2],[67,3,67,7],[67,8,67,14],[61,3,61,7],[65,0,65,2],[65,3,65,7],[58,0,58,2],[58,3,58,7],[59,0,59,2],[59,3,59,7],[60,0,60,2]]}
[]
[]
["K&H Bank Zrt."]
[]
["1095 Budapest, Lechner Ödön fasor 9. "]
["Telefon: (06 1) 328 9000, (06 30) 761 9000"]
["Fax: (06 1) 328 9696"]
["www.kh.hu • bank@kh.hu"]
[]
["KOCKÁZATFELTÁRÓ NYILATKOZAT"]
[]
["Kijelentem, hogy megismertem a K&H Bank Zrt. (továbbiakban: Bank) által a részemre bemutatott Üzletszabályzatot és Általános Szerződési Feltételeket. Kijelentem, hogy az alábbi kockázatfeltáró nyilatkozatot elolvastam, megértettem és jóváhagyólag aláírtam, továbbá 1 (egy) példányát átvettem. "]
[]
["K&H lakáscélú hitelek állami támogatással extra "]
[]
["Tudomásom van arról, hogy a kamattámogatás feltételeinek nem teljesítése esetén a Konstrukció során felmerül a kamat változásából adódóan a veszteség kockázata. Ennek megfelelően a Bank részemre az alábbi tájékoztatást adta, amelyet figyelembe vettem a Konstrukcióra vonatkozó Hitelkérelem benyújtásakor:"]
["A havi törlesztőrészlet megállapítása során a Bank a következő képletet alkalmazza:"]
[]
[]
[]
[]
["Ahol: t = a havonta fizetendő törlesztőrészlet (Ft)"]
[" H = a felvett hitel összege (Ft)"]
[" p = évi ügyleti kamatláb/12"]
[" n = a hitel Futamideje (hónap)"]
[" kk = havi kezelési költség (Ft)"]
[]
["A kamatszámítás napi kamatszámítással történik, melynek képlete:"]
[]
[]
[]
[null,null,null,null,null,null,null,null,null,null,null,null,null,null,null,null,null,null,null,null," "]
["Ahol: K = kamatösszeg (Ft)"]
[" T = Tőke (Ft)"]
[" k = évi ügyleti kamatláb"]
[" n = kamatnapok száma"]
[]
["Támogatás időszaka alatt:\nKölcsön referencia kamatlába: ÁKK Zrt. által havi rendszerességgel közzétett, a közzétételt megelőző három naptári hónapban tartott 5 (öt) éves névleges futamidejű államkötvény aukción kialakult átlaghozamok adott aukción elfogadott mennyiségekkel súlyozott számtani átlaga. "]
[{"$f":"'Ind-Sz-OTK'!A23","v":"A Bank tájékoztatja az Adóst, hogy a Kölcsön referencia kamatlábának mértéke 2021.7. hónapra vonatkozóan 1,83%."}]
[{"$f":"'Ind-Sz-OTK'!A24","v":"Kölcsön referencia kamatlábának mindenkori aktuális mértéke megtekinthető az ÁKK Zrt. honlapján."}]
["Kölcsön ügyleti kamata: referencia kamatláb 130%-a + 3%. Az első kamatperiódusra irányadó ügyleti kamat a folyósításkori Kölcsön referencia kamatláb értékének megfelelően alakul, melyről a Bank írásban tájékoztatja az Adóst."]
[]
["A Magyar Állam (a továbbiakban: Állam) által a Kölcsön futamidejének első 25 (huszonöt) évében nyújtandó otthonteremtési kamattámogatás (a továbbiakban: Támogatás) jelenlegi mértéke évi: a Kölcsön referencia kamatlábának 130%-a.\nAz Adós által Fizetendő ügyleti kamat jelenlegi mértéke évi: a Kölcsön ügyleti kamatának a Támogatással csökkentett mértéke, azaz 3%."]
[]
["Az Állam az otthonteremtési kamattámogatásról szóló 341/2011. (XII. 29.) Korm. rendelet foglaltak alapján a folyósított Kölcsön kamatának megfizetéséhez, a tartozás rendezéséig, legfeljebb azonban a Rendeletben meghatározott időszakban – a Kölcsön futamidejének első 25 (huszonöt) évében – otthonteremtési kamattámogatást nyújt (a továbbiakban: Támogatás). A Támogatás mértéke a Rendelet 7.§ (2) bekezdésében, valamint a 10.§ (3)-(7) és (9)-(10) bekezdésében meghatározottak szerint kerül számításra. Az Adós a Támogatás időszakában a Rendeletben meghatározott mértékű Támogatással csökkentett mértékű ügyleti kamatot fizet. A Bank kötelezettséget vállal arra, hogy az alkalmazott ügyleti kamat mérték mindenkor megfelel a Támogatás igénybevételére a Rendeletben megállapított jogszabályi feltételeknek.\n"]
["A támogatás megszűnése esetén, amennyiben az ügyfélnek a referencia kamat 130%-át is meg kell fizetnie a referencia-kamatláb változása kétirányú lehet: a piaci hatásoknak megfelelően nőhet és csökkenhet. Amennyiben a referencia kamat nő, akkor nő az ahhoz igazított jelzáloghitel ügyleti kamata is. Ellenkező esetben pedig csökken. A referencia-kamatlábhoz kötött kamatozás - mint amilyen a BUBOR vagy az ÁKK – alkalmazása azt eredményezi, hogy a jelzáloghitel ügyleti kamata mindig a piaci kamatszinteknek megfelelően változik."]
[{"$f":"CONCATENATE(U47,TEXT(ROUND(OTK!D6,0),\"# ##\"),\" Ft helyett akár \",TEXT(ROUND(OTK!D8,0),\"# ##\"),\" Ft-ra is változhat a hátralévő futamidőre vonatkozólag aszerint, hogy mikor történik a Támogatás megvonása.\")","v":"A kamattámogatás feltételeinek nem teljesítése esetén az Adós által fizetendő kamatláb 3%-ról az ÁKK 130% + 3%-ra emelkedik. Az így kialakult kamatszinten az igényelt Konstrukció mindenkori törlesztőrészlete még a referencia kamatláb változatlansága mellett is  Ft helyett akár  Ft-ra is változhat a hátralévő futamidőre vonatkozólag aszerint, hogy mikor történik a Támogatás megvonása."},null,null,null,null,null,null,null,null,null,null,null,null,null,null,null,null,null,null,null,"A kamattámogatás feltételeinek nem teljesítése esetén az Adós által fizetendő kamatláb 3%-ról az ÁKK 130% + 3%-ra emelkedik. Az így kialakult kamatszinten az igényelt Konstrukció mindenkori törlesztőrészlete még a referencia kamatláb változatlansága mellett is "]
["Tisztában vagyok azzal a ténnyel, hogy a Konstrukció ki van téve a piaci kamatok mozgásának."]
["Tudomásom van arról, hogy az általam igényelt hitel futamideje alatt a kamatláb emelkedése esetén a kamatperiódusokon belül állandó havi törlesztőrészletek akár jelentős mértékben is magasabbak lehetnek, mint a megelőző kamatperiódusban."]
["Tudomásom van arról is, hogy a jelen Kockázatfeltáró Nyilatkozat csak figyelemfelkeltő és a Konstrukció jellegéből adódóan nem tartalmazhatja az ügyletkötés során jelentkező valamennyi kockázatot és veszélyforrást."]
[]
[]
[]
[{"$f":"CONCATENATE(\"Kelt: \",TEXT(TODAY(),\"éééé.hh.nn\"))","v":"Kelt: 2021.07.09"}]
[]
[null,null,null,"……………………………….",null,null,null,null,{"$f":"IF(Ügyféladatok!$F$50>1,\"……………………………….\",\"\")","v":"………………………………."}]
[]
["Ügyfél neve:",null,null,{"$f":"HLOOKUP(1,Ügyféladatok!$B$51:$E$57,4,FALSE)","v":""},null,null,null,null,{"$f":"IF(Ügyféladatok!$F$50>1,HLOOKUP(2,Ügyféladatok!$B$51:$E$57,4,FALSE),\"\")","v":""}]
["Születési dátum:",null,null,{"$f":"HLOOKUP(1,Ügyféladatok!$B$51:$E$57,5,FALSE)","v":""},null,null,null,null,{"$f":"IF(Ügyféladatok!$F$50>1,HLOOKUP(2,Ügyféladatok!$B$51:$E$57,5,FALSE),\"\")","v":""}]
["Anyja neve:",null,null,{"$f":"HLOOKUP(1,Ügyféladatok!$B$51:$E$57,6,FALSE)","v":""},null,null,null,null,{"$f":"IF(Ügyféladatok!$F$50>1,HLOOKUP(2,Ügyféladatok!$B$51:$E$57,6,FALSE),\"\")","v":""}]
["Lakcím:",null,null,{"$f":"HLOOKUP(1,Ügyféladatok!$B$51:$E$57,7,FALSE)","v":""},null,null,null,null,{"$f":"IF(Ügyféladatok!$F$50>1,HLOOKUP(2,Ügyféladatok!$B$51:$E$57,7,FALSE),\"\")","v":""}]
[]
[]
[null,null,null,{"$f":"IF(Ügyféladatok!$F$50>2,\"……………………………….\",\"\")","v":""},null,null,null,null,{"$f":"IF(Ügyféladatok!$F$50>3,\"……………………………….\",\"\")","v":""}]
[]
[{"$f":"IF(Ügyféladatok!$F$52>2,A58,\"\")","v":""},null,null,{"$f":"IF(Ügyféladatok!$F$50>2,HLOOKUP(3,Ügyféladatok!$B$51:$E$57,4,FALSE),\"\")","v":""},null,null,null,null,{"$f":"IF(Ügyféladatok!$F$50>3,HLOOKUP(4,Ügyféladatok!$B$51:$E$57,4,FALSE),\"\")","v":""}]
[{"$f":"IF(Ügyféladatok!$F$52>2,A59,\"\")","v":""},null,null,{"$f":"IF(Ügyféladatok!$F$50>2,HLOOKUP(3,Ügyféladatok!$B$51:$E$57,5,FALSE),\"\")","v":""},null,null,null,null,{"$f":"IF(Ügyféladatok!$F$50>3,HLOOKUP(4,Ügyféladatok!$B$51:$E$57,5,FALSE),\"\")","v":""}]
[{"$f":"IF(Ügyféladatok!$F$52>2,A60,\"\")","v":""},null,null,{"$f":"IF(Ügyféladatok!$F$50>2,HLOOKUP(3,Ügyféladatok!$B$51:$E$57,6,FALSE),\"\")","v":""},null,null,null,null,{"$f":"IF(Ügyféladatok!$F$50>3,HLOOKUP(4,Ügyféladatok!$B$51:$E$57,6,FALSE),\"\")","v":""}]
[{"$f":"IF(Ügyféladatok!$F$52>2,A61,\"\")","v":""},null,null,{"$f":"IF(Ügyféladatok!$F$50>2,HLOOKUP(3,Ügyféladatok!$B$51:$E$57,7,FALSE),\"\")","v":""},null,null,null,null,{"$f":"IF(Ügyféladatok!$F$50>3,HLOOKUP(4,Ügyféladatok!$B$51:$E$57,7,FALSE),\"\")","v":""}]
[]
["Tanú: ……………………………………………",null,null,null,null,null,null,null,"Tanú: ……………………………………………"]
["Szem.ig.szám: ……………………………..",null,null,null,null,null,null,null,"Szem.ig.szám: …………………………….."]
["Lakcím: ………………………………………..",null,null,null,null,null,null,null,"Lakcím: ……………………………………….."]

{"sheet":"Zálogkötelezetti","index":12,"n_rows":71,"n_cols":12,"rows_kept":71,"cut":false,"hidden":true,"merged":[[50,1,50,5],[51,1,51,5],[52,1,52,5],[54,0,54,5],[44,1,44,5],[45,1,45,5],[46,1,46,5],[47,0,49,0],[47,1,47,5],[48,1,48,5],[49,1,49,5],[40,1,40,5],[41,1,41,5],[42,0,43,0],[42,1,42,5],[43,1,43,5],[36,0,36,2],[37,0,37,5],[38,0,38,5],[39,1,39,5],[7,0,8,0],[7,1,7,5],[8,1,8,5],[10,1,10,5],[11,1,11,5],[15,1,15,5],[16,1,16,5],[17,1,17,5],[19,0,19,5],[9,1,9,5],[12,0,14,0],[12,1,12,5],[13,1,13,5],[14,1,14,5],[1,0,1,2],[2,0,2,5],[3,0,3,5],[4,1,4,5],[5,1,5,5],[6,1,6,5]]}
[null,null,null,null,null,null,null,null,null,null,"sormagasság",12.75]
["K&H Bank Zrt.\n\n1095 Budapest, Lechner Ödön fasor 9.\ntelefon: (06 1) 328 9000\nfax: (06 1) 328 9696\nBudapest 1851\nwww.kh.hu • bank@kh.hu\n",null,null,null,null,null,null,null,null,7,{"$f":"J2*$L$1","v":89.25}]
["ZÁLOGKÖTELEZETTI TÁJÉKOZTATÓ",null,null,null,null,null,null,null,null,4,51,"A K&H Bank Zrt. a(z) "]
[{"$f":"CONCATENATE(L3,Ügyféladatok!B4,Zálogkötelezetti!L5)","v":"A K&H Bank Zrt. a(z)  által a K&H Banktól igényelt jelzáloghitel biztosítására szolgáló zálogjog zálogkötelezettje részére a fogyasztónak nyújtott hitelről szóló 2009. évi CLXII. törvény 1.§ (5) bekezdése, valamint a fogyasztónak nyújtott hitellel kapcsolatos egyes tájékoztatási szabályokról szóló 56/2014 (XII.31.) NGM rendelet 8.§-a alapján az alábbi tájékoztatást nyújtja:"},null,null,null,null,null,null,null,null,4,51]
["A hitel típusa:",{"$f":"CONCATENATE(\"K&H \",Hiteladatok!A14)","v":{"$error":"#N/A"}},null,null,null,null,null,null,null,1,12.75," által a K&H Banktól igényelt jelzáloghitel biztosítására szolgáló zálogjog zálogkötelezettje részére a fogyasztónak nyújtott hitelről szóló 2009. évi CLXII. törvény 1.§ (5) bekezdése, valamint a fogyasztónak nyújtott hitellel kapcsolatos egyes tájékoztatási szabályokról szóló 56/2014 (XII.31.) NGM rendelet 8.§-a alapján az alábbi tájékoztatást nyújtja:"]
["A hitelező neve (cégneve) és levelezési címe:","K&H Bank Zrt., 1095 Budapest, Lechner Ödön fasor 9.",null,null,null,null,null,null,null,3,38.25]
["A hitelközvetítő neve (cégneve) és levelezési címe:",{"$f":"IF('Kezdő oldal'!$B$1=\"\",\"\",CONCATENATE('Kezdő oldal'!$B$1,\", \",'Kezdő oldal'!$B$2))","v":""},null,null,null,null,null,null,null,3,38.25]
["A hitel teljes összege és lehívásának feltételei:",{"$f":"CONCATENATE(\"A hitel összege: \",TEXT(ROUND(Hiteladatok!B15,0),\"# ##\"),\" forint\")","v":"A hitel összege:  forint"},null,null,null,null,null,null,null,2,25.5]
[null,"- A Bank a kölcsön összegét (beleértve a költségvetési támogatásokat) az egyedi Ügyfélszerződés – illetőleg a megfelelő Biztosítékra (önálló zálogjog) vonatkozó szerződések – az előírt alakiságoknak megfelelő formában történt aláírását követően, abban az esetben folyósítja, amennyiben a Kölcsönszerződés hatályba lépett, és a Kölcsönszerződésben előírt Előfeltételek a Bank által előírt formában és tartalommal maradéktalanul teljesültek. A kölcsön folyósítása az utolsó Előfeltétel teljesülésének a Bank részére történő igazolását követő öt banki munkanapon belül történik. \n- A kölcsön folyósításának valamennyi Lakossági Kölcsön esetében feltétele, hogy az Adós a Banknál lakossági bankszámlával vagy Hiteltörlesztési számlával rendelkezzen, továbbá a Kölcsönszerződés alapján a Folyósítás Napjáig esedékessé váló díjakat és költségeket a Bank részére maradéktalanul megfizesse. Amennyiben az Adós saját erő (önerő vagy önrész) megfizetésére is köteles, úgy az Adós azt a kölcsön folyósítását, illetőleg a kölcsönösszeg kifizetését megelőzően köteles maradéktalanul megfizetni és ennek megtörténtét a Bank felé igazolni. ",null,null,null,null,null,null,null,12,153]
[null,"- A folyósítás az egyedi Ügyfélszerződésben meghatározott időpontban vagy időszak alatt, egy összegben vagy részletekben történik. Amennyiben a Folyósítás Napja vagy a folyósításra rendelkezésre álló időtartam utolsó napja munkaszüneti- vagy bankszünnap, a folyósítási kötelezettség végső határideje az azt megelőző munkanap. \n- A Bank a kölcsönt az Adós személyes jelenlétében, vagy az Adós (a Bank saját, egyoldalú döntése szerint közokiratban vagy teljes bizonyító erejű magánokiratban rögzített) meghatalmazottja részére a bankfiók pénztárában, készpénz kifizetéssel, vagy az Adós, illetőleg az Adós által megjelölt személy Banknál vezetett lakossági bankszámlájára történő jóváírással, illetőleg – amennyiben a hitelcél a kölcsön összegének harmadik személy részére történő kifizetése révén valósul meg – a kölcsön összegének az Adós nevére megnyitott, elkülönített és zárolt számlán történő jóváírásával folyósítja. A kölcsönfolyósítás módja a Kölcsönszerződésben kerül meghatározásra.",null,null,null,null,null,null,null,11,140.25]
[null,"Ha a kölcsön folyósításának valamennyi Előfeltétele legkésőbb a Kölcsönszerződésben meghatározott időpontig – amennyiben ezen időpont munkaszüneti- vagy bankszünnap, az ezt megelőző munkanapig – nem teljesül, e határnapot követően a Bankot a kölcsönösszeg rendelkezésre bocsátásának kötelezettsége nem terheli. Ha több részletben folyósítandó kölcsön esetén a kölcsön további részleteinek folyósításához a Kölcsönszerződésben az adott kölcsönrészhez meghatározott bármely Előfeltétel az ahhoz meghatározott időpontig nem teljesül, úgy e határnapot követően a Bankot a kölcsön mindazon részletének rendelkezésre tartási kötelezettsége nem terheli, amely részlethez rendelt Előfeltételek nem teljesültek.\nAmennyiben a kölcsön nem kerül folyósításra, úgy a fedezetül felajánlott ingatlanon bejegyzett zálogjog törlésre kerül. A zálogjog törlésének feltétele, hogy az Adós a Bank részére megtérítse a Kölcsönszerződés megkötésével kapcsolatosan esetlegesen felmerült költségeket. \n",null,null,null,null,null,null,null,11,140.25]
["A hitel futamideje:",{"$f":"CONCATENATE(Hiteladatok!B16,\" hónap\")","v":"240 hónap"},null,null,null,null,null,null,null,1,12.75]
["A késedelmi kamat és egyéb olyan fizetési kötelezettség, amely a hitelszerződésben vállalt kötelezettség nem teljesítéséből származik","A törlesztőrészletek megfizetésének elmulasztása miatt a következő fizetési kötelezettsége keletkezhet az adósnál, amelyek növelik a fennálló tartozás összegét:\n\n",null,null,null,null,null,null,null,2,25.5]
[null,{"$f":"CONCATENATE(\"- késedelmi kamat: jelenlegi mértéke \",'Új PD'!M12*100,\"%\")","v":{"$error":"#DIV/0!"}},null,null,null,null,null,null,null,1,12.75]
[null,"- késedelem miatti felszólító levél, távirat díjaként: 400 forint / levél, távirat\n- késedelem miatti felszólító levél postázási díja: a mindenkori postai díjszabás szerint\n- késedelem miatti felszólító távirat kiküldési díjaként: a mindenkori Magyar Telekom Távközlési Nyrt. díjszabás szerint\n- késedelem miatti sms felszólító díjaként: 50 forint / SMS\n- behajtással kapcsolatos személyes megkeresés díjaként: 5 000 forint / kiszállás\n",null,null,null,null,null,null,null,6,76.5]
["Az előtörlesztéshez való jog és annak esetleges költségei","Az Adós, a Kezes, a Zálogkötelezett és a kölcsön biztosítékát nyújtó, vagy annak visszafizetéséért bármilyen személyes vagy dologi kötelezettséget vállaló harmadik fél bármikor jogosult a hitel részleges vagy teljes előtörlesztésére.\nA fentiek szerinti jogosult a Tőketartozást a lejárat előtt részben, vagy teljes egészében előtörlesztheti, amennyiben erre irányuló szándékát a Bank felé írásban jelzi. A banki munkanapokon 15:00 óráig befogadott előtörlesztési kérelmet a Bank a benyújtás napján végrehajtja, amennyiben annak fedezete a törlesztő számlán rendelkezésre áll. A 15:00 óra után benyújtott előtörlesztési nyilatkozatot a Bank csak a következő banki munkanapra fogadja be. Az esedékesség előtt visszafizetett tőkerésszel csökkentett tartozás alapján a hátralévő Futamidőnek megfelelő átértékelt Törlesztőrészlet összegéről a Bank az Adóst írásban értesíti. A Végtörlesztés szándékának bejelentése önmagában nem minősül a Kölcsönszerződés Adós általi felmondásának. Elő- és végtörlesztés esetén az Adós köteles az Elő- és Végtörlesztés napjáig megszolgált kamatokat és díjakat maradéktalanul megfizetni. \nA Bank jogosult az előtörlesztéssel kapcsolatban felmerült költségei megtérítésére, az Előtörlesztés díjának mértékét a mindenkor hatályos vonatkozó Hirdetmény tartalmazza, és amelynek mértéke több tényezőtől függ, de legfeljebb az előtörlesztett összeg 1,5 %-a lehet.",null,null,null,null,null,null,null,15,{"$f":"J16*$L$1","v":191.25}]
["A fizetés elmulasztásának lehetséges következményei","A fizetési kötelezettségek határidőben történő teljesítése elmulasztása elsősorban késedelmi kamatfizetési kötelezettséggel jár, valamint a fenti pontban említett behajtási költségek megtérítésének kötelezettségével, amelyek mind a fennálló tartozást növelik.\nA fizetés elmulasztása a hitelszerződés felmondásával járhat, amelynek folytán a hitelszerződés biztosítékai, így az Ön ingatlanán alapított zálogjog is érvényesítésre kerül.",null,null,null,null,null,null,null,5,63.75]
["A Zálogfedezet","A kölcsön biztosítéka ingatlanon alapított önálló zálogjog. A önálló zálogjog más pénzügyi intézményre jogszabályban meghatározott módon átruházható, az átruházás azonban a zálogkötelezett kötelezettségeit semmilyen módon nem befolyásolja, az továbbra is a Kölcsönszerződéshez kapcsolódik. A zálogul felajánlott ingatlanra a teljes forgalmi értékre fedezetet nyújtó vagyonbiztosítást kell kötni és azt a kölcsön teljes futamideje alatt fenn kell tartani. A Zálogjog érvényesítése során a bejegyzett keretösszeg erejéig a Bankot kielégítési elsőbbség illeti meg. A közokiratba foglalt Zálogszerződés alapján közvetlen végrehajtás kezdeményezhető. A Kölcsönösszeg maradéktalan megfizetése esetén a fedezetül felajánlott ingatlanon bejegyzett zálogjog törlésre kerül.",null,null,null,null,null,null,null,8,102]
[null,null,null,null,null,null,null,null,null,1,12.75]
["Alulírott kijelentem, hogy a fenti tájékoztatást megértettem és tudomásul vettem. Kijelentem, hogy személyes adataim kezelésére vonatkozóan a Bank egyértelmű és részletes tájékoztatást adott. A tájékoztatást – ideértve az Adatkezelési Tájékoztatóban (https://www.kh.hu/adatvedelem), valamint az Üzletszabályzat adatvédelemre és adatkezelésre vonatkozó rendelkezéseiben foglalt tájékoztatást is – megismertem, és azt kifejezetten elfogadom. Megerősítem, hogy lehetőségem volt kérdéseimet feltenni, melyekkel kapcsolatban megfelelő válaszokat kaptam.",null,null,null,null,null,null,null,null,5,63.75]
[null,null,null,null,null,null,null,null,null,1,12.75]
[{"$f":"CONCATENATE(\"Kelt: …………………………………...……… ,    \",TEXT(TODAY(),\"éééé.hh.nn\"))","v":"Kelt: …………………………………...……… ,    2021.07.09"},null,null,null,null,null,null,null,null,1,12.75]
[null,null,null,null,null,null,null,null,null,1,12.75]
[null,"……………………………….",null,null,{"$f":"IF(Ügyféladatok!$F$52>1,\"……………………………….\",\"\")","v":"………………………………."},null,null,null,null,1,12.75]
["Zálogkötelezett neve:",{"$f":"HLOOKUP(1,Ügyféladatok!$B$53:$E$57,2,FALSE)","v":""},null,null,{"$f":"IF(Ügyféladatok!$F$52>1,HLOOKUP(2,Ügyféladatok!$B$53:$E$57,2,FALSE),\"\")","v":""},null,null,null,null,1,12.75]
["Születési dátum:",{"$f":"HLOOKUP(1,Ügyféladatok!$B$53:$E$57,3,FALSE)","v":""},null,null,{"$f":"IF(Ügyféladatok!$F$52>1,HLOOKUP(2,Ügyféladatok!$B$53:$E$57,3,FALSE),\"\")","v":""},null,null,null,null,1,12.75]
["Anyja neve:",{"$f":"HLOOKUP(1,Ügyféladatok!$B$53:$E$57,4,FALSE)","v":""},null,null,{"$f":"IF(Ügyféladatok!$F$52>1,HLOOKUP(2,Ügyféladatok!$B$53:$E$57,4,FALSE),\"\")","v":""},null,null,null,null,1,12.75]
["Lakcím:",{"$f":"HLOOKUP(1,Ügyféladatok!$B$53:$E$57,5,FALSE)","v":""},null,null,{"$f":"IF(Ügyféladatok!$F$52>1,HLOOKUP(2,Ügyféladatok!$B$53:$E$57,5,FALSE),\"\")","v":""},null,null,null,null,1,12.75]
[null,null,null,null,null,null,null,null,null,1,12.75]
[null,null,null,null,null,null,null,null,null,1,12.75]
[null,null,null,null,null,null,null,null,null,1,12.75]
[null,{"$f":"IF(Ügyféladatok!$F$52>2,\"……………………………….\",\"\")","v":""},null,null,{"$f":"IF(Ügyféladatok!$F$52>3,\"……………………………….\",\"\")","v":""},null,null,null,null,1,12.75]
[{"$f":"IF(Ügyféladatok!$F$52>2,Zálogkötelezetti!A25,\"\")","v":""},{"$f":"IF(Ügyféladatok!$F$52>2,HLOOKUP(3,Ügyféladatok!$B$53:$E$57,2,FALSE),\"\")","v":""},null,null,{"$f":"IF(Ügyféladatok!$F$52>3,HLOOKUP(4,Ügyféladatok!$B$53:$E$57,2,FALSE),\"\")","v":""},null,null,null,null,1,12.75]
[{"$f":"IF(Ügyféladatok!$F$52>2,Zálogkötelezetti!A26,\"\")","v":""},{"$f":"IF(Ügyféladatok!$F$52>2,HLOOKUP(3,Ügyféladatok!$B$53:$E$57,3,FALSE),\"\")","v":""},null,null,{"$f":"IF(Ügyféladatok!$F$52>3,HLOOKUP(4,Ügyféladatok!$B$53:$E$57,3,FALSE),\"\")","v":""},null,null,null,null,1,12.75]
[{"$f":"IF(Ügyféladatok!$F$52>2,Zálogkötelezetti!A27,\"\")","v":""},{"$f":"IF(Ügyféladatok!$F$52>2,HLOOKUP(3,Ügyféladatok!$B$53:$E$57,4,FALSE),\"\")","v":""},null,null,{"$f":"IF(Ügyféladatok!$F$52>3,HLOOKUP(4,Ügyféladatok!$B$53:$E$57,4,FALSE),\"\")","v":""},null,null,null,null,1,12.75]
[{"$f":"IF(Ügyféladatok!$F$52>2,Zálogkötelezetti!A28,\"\")","v":""},{"$f":"IF(Ügyféladatok!$F$52>2,HLOOKUP(3,Ügyféladatok!$B$53:$E$57,5,FALSE),\"\")","v":""},null,null,{"$f":"IF(Ügyféladatok!$F$52>3,HLOOKUP(4,Ügyféladatok!$B$53:$E$57,5,FALSE),\"\")","v":""},null,null,null,null,1,12.75]
["K&H Bank Zrt.\n\n1095 Budapest, Lechner Ödön fasor 9.\ntelefon: (06 1) 328 9000\nfax: (06 1) 328 9696\nBudapest 1851\nwww.kh.hu • bank@kh.hu\n",null,null,null,null,null,null,null,null,7,{"$f":"J37*$L$1","v":89.25}]
["ZÁLOGKÖTELEZETTI TÁJÉKOZTATÓ",null,null,null,null,null,null,null,null,4,51]
[{"$f":"CONCATENATE(L3,Ügyféladatok!B4,Zálogkötelezetti!L5)","v":"A K&H Bank Zrt. a(z)  által a K&H Banktól igényelt jelzáloghitel biztosítására szolgáló zálogjog zálogkötelezettje részére a fogyasztónak nyújtott hitelről szóló 2009. évi CLXII. törvény 1.§ (5) bekezdése, valamint a fogyasztónak nyújtott hitellel kapcsolatos egyes tájékoztatási szabályokról szóló 56/2014 (XII.31.) NGM rendelet 8.§-a alapján az alábbi tájékoztatást nyújtja:"},null,null,null,null,null,null,null,null,4,51]
["A hitel típusa:","K&H lakáscélú hitelek állami támogatással extra - induló díjakkal",null,null,null,null,null,null,null,1,12.75]
["A hitelező neve (cégneve) és levelezési címe:","K&H Bank Zrt., 1095 Budapest, Lechner Ödön fasor 9.",null,null,null,null,null,null,null,3,38.25]
["A hitelközvetítő neve (cégneve) és levelezési címe:",{"$f":"IF('Kezdő oldal'!$B$1=\"\",\"\",CONCATENATE('Kezdő oldal'!$B$1,\", \",'Kezdő oldal'!$B$2))","v":""},null,null,null,null,null,null,null,3,38.25]
["A hitel teljes összege és lehívásának feltételei:",{"$f":"CONCATENATE(\"A hitel összege: \",TEXT(ROUND(Hiteladatok!F15,0),\"# ##\"),\" forint\")","v":"A hitel összege:  forint"},null,null,null,null,null,null,null,2,25.5]
[null,"- A Bank a kölcsön összegét (beleértve a költségvetési támogatásokat) az egyedi Ügyfélszerződés – illetőleg a megfelelő Biztosítékra (önálló zálogjog) vonatkozó szerződések – az előírt alakiságoknak megfelelő formában történt aláírását követően, abban az esetben folyósítja, amennyiben a Kölcsönszerződés hatályba lépett, és a Kölcsönszerződésben előírt Előfeltételek a Bank által előírt formában és tartalommal maradéktalanul teljesültek. A kölcsön folyósítása az utolsó Előfeltétel teljesülésének a Bank részére történő igazolását követő öt banki munkanapon belül történik. \n- A kölcsön folyósításának valamennyi Lakossági Kölcsön esetében feltétele, hogy az Adós a Banknál lakossági bankszámlával vagy Hiteltörlesztési számlával rendelkezzen, továbbá a Kölcsönszerződés alapján a Folyósítás Napjáig esedékessé váló díjakat és költségeket a Bank részére maradéktalanul megfizesse. Amennyiben az Adós saját erő (önerő vagy önrész) megfizetésére is köteles, úgy az Adós azt a kölcsön folyósítását, illetőleg a kölcsönösszeg kifizetését megelőzően köteles maradéktalanul megfizetni és ennek megtörténtét a Bank felé igazolni. ",null,null,null,null,null,null,null,12,153]
[null,"- A folyósítás az egyedi Ügyfélszerződésben meghatározott időpontban vagy időszak alatt, egy összegben vagy részletekben történik. Amennyiben a Folyósítás Napja vagy a folyósításra rendelkezésre álló időtartam utolsó napja munkaszüneti- vagy bankszünnap, a folyósítási kötelezettség végső határideje az azt megelőző munkanap. \n- A Bank a kölcsönt az Adós személyes jelenlétében, vagy az Adós (a Bank saját, egyoldalú döntése szerint közokiratban vagy teljes bizonyító erejű magánokiratban rögzített) meghatalmazottja részére a bankfiók pénztárában, készpénz kifizetéssel, vagy az Adós, illetőleg az Adós által megjelölt személy Banknál vezetett lakossági bankszámlájára történő jóváírással, illetőleg – amennyiben a hitelcél a kölcsön összegének harmadik személy részére történő kifizetése révén valósul meg – a kölcsön összegének az Adós nevére megnyitott, elkülönített és zárolt számlán történő jóváírásával folyósítja. A kölcsönfolyósítás módja a Kölcsönszerződésben kerül meghatározásra.",null,null,null,null,null,null,null,11,140.25]
[null,"Ha a kölcsön folyósításának valamennyi Előfeltétele legkésőbb a Kölcsönszerződésben meghatározott időpontig – amennyiben ezen időpont munkaszüneti- vagy bankszünnap, az ezt megelőző munkanapig – nem teljesül, e határnapot követően a Bankot a kölcsönösszeg rendelkezésre bocsátásának kötelezettsége nem terheli. Ha több részletben folyósítandó kölcsön esetén a kölcsön további részleteinek folyósításához a Kölcsönszerződésben az adott kölcsönrészhez meghatározott bármely Előfeltétel az ahhoz meghatározott időpontig nem teljesül, úgy e határnapot követően a Bankot a kölcsön mindazon részletének rendelkezésre tartási kötelezettsége nem terheli, amely részlethez rendelt Előfeltételek nem teljesültek.\nAmennyiben a kölcsön nem kerül folyósításra, úgy a fedezetül felajánlott ingatlanon bejegyzett zálogjog törlésre kerül. A zálogjog törlésének feltétele, hogy az Adós a Bank részére megtérítse a Kölcsönszerződés megkötésével kapcsolatosan esetlegesen felmerült költségeket. \n",null,null,null,null,null,null,null,11,140.25]
["A hitel futamideje:",{"$f":"CONCATENATE(Hiteladatok!F16,\" hónap\")","v":"240 hónap"},null,null,null,null,null,null,null,1,12.75]
["A késedelmi kamat és egyéb olyan fizetési kötelezettség, amely a hitelszerződésben vállalt kötelezettség nem teljesítéséből származik","A törlesztőrészletek megfizetésének elmulasztása miatt a következő fizetési kötelezettsége keletkezhet az adósnál, amelyek növelik a fennálló tartozás összegét:\n\n",null,null,null,null,null,null,null,2,25.5]
[null,{"$f":"CONCATENATE(\"- késedelmi kamat: jelenlegi mértéke \",'Új PD'!M13*100,\"%\")","v":"- késedelmi kamat: jelenlegi mértéke 7,5%"},null,null,null,null,null,null,null,1,12.75]
[null,"- késedelem miatti felszólító levél, távirat díjaként: 400 forint / levél, távirat\n- késedelem miatti felszólító levél postázási díja: a mindenkori postai díjszabás szerint\n- késedelem miatti felszólító távirat kiküldési díjaként: a mindenkori Magyar Telekom Távközlési Nyrt. díjszabás szerint\n- késedelem miatti sms felszólító díjaként: 50 forint / SMS\n- behajtással kapcsolatos személyes megkeresés díjaként: 5 000 forint / kiszállás\n",null,null,null,null,null,null,null,6,76.5]
["Az előtörlesztéshez való jog és annak esetleges költségei","Az Adós, a Kezes, a Zálogkötelezett és a kölcsön biztosítékát nyújtó, vagy annak visszafizetéséért bármilyen személyes vagy dologi kötelezettséget vállaló harmadik fél bármikor jogosult a hitel részleges vagy teljes előtörlesztésére.\nA fentiek szerinti jogosult a Tőketartozást a lejárat előtt részben, vagy teljes egészében előtörlesztheti, amennyiben erre irányuló szándékát a Bank felé írásban jelzi. A banki munkanapokon 15:00 óráig befogadott előtörlesztési kérelmet a Bank a benyújtás napján végrehajtja, amennyiben annak fedezete a törlesztő számlán rendelkezésre áll. A 15:00 óra után benyújtott előtörlesztési nyilatkozatot a Bank csak a következő banki munkanapra fogadja be. Az esedékesség előtt visszafizetett tőkerésszel csökkentett tartozás alapján a hátralévő Futamidőnek megfelelő átértékelt Törlesztőrészlet összegéről a Bank az Adóst írásban értesíti. A Végtörlesztés szándékának bejelentése önmagában nem minősül a Kölcsönszerződés Adós általi felmondásának. Elő- és végtörlesztés esetén az Adós köteles az Elő- és Végtörlesztés napjáig megszolgált kamatokat és díjakat maradéktalanul megfizetni. \nA Bank jogosult az előtörlesztéssel kapcsolatban felmerült költségei megtérítésére, az Előtörlesztés díjának mértékét a mindenkor hatályos vonatkozó Hirdetmény tartalmazza, és amelynek mértéke több tényezőtől függ, de legfeljebb az előtörlesztett összeg 1,5 %-a lehet.",null,null,null,null,null,null,null,15,{"$f":"J51*$L$1","v":191.25}]
["A fizetés elmulasztásának lehetséges következményei","A fizetési kötelezettségek határidőben történő teljesítése elmulasztása elsősorban késedelmi kamatfizetési kötelezettséggel jár, valamint a fenti pontban említett behajtási költségek megtérítésének kötelezettségével, amelyek mind a fennálló tartozást növelik.\nA fizetés elmulasztása a hitelszerződés felmondásával járhat, amelynek folytán a hitelszerződés biztosítékai, így az Ön ingatlanán alapított zálogjog is érvényesítésre kerül.",null,null,null,null,null,null,null,5,63.75]
["A Zálogfedezet","A kölcsön biztosítéka ingatlanon alapított önálló zálogjog. A önálló zálogjog más pénzügyi intézményre jogszabályban meghatározott módon átruházható, az átruházás azonban a zálogkötelezett kötelezettségeit semmilyen módon nem befolyásolja, az továbbra is a Kölcsönszerződéshez kapcsolódik. A zálogul felajánlott ingatlanra a teljes forgalmi értékre fedezetet nyújtó vagyonbiztosítást kell kötni és azt a kölcsön teljes futamideje alatt fenn kell tartani. A Zálogjog érvényesítése során a bejegyzett keretösszeg erejéig a Bankot kielégítési elsőbbség illeti meg. A közokiratba foglalt Zálogszerződés alapján közvetlen végrehajtás kezdeményezhető. A Kölcsönösszeg maradéktalan megfizetése esetén a fedezetül felajánlott ingatlanon bejegyzett zálogjog törlésre kerül.",null,null,null,null,null,null,null,8,102]
[null,null,null,null,null,null,null,null,null,1,12.75]
["Alulírott kijelentem, hogy a fenti tájékoztatást megértettem és tudomásul vettem. Kijelentem, hogy személyes adataim kezelésére vonatkozóan a Bank egyértelmű és részletes tájékoztatást adott. A tájékoztatást – ideértve az Adatkezelési Tájékoztatóban (https://www.kh.hu/adatvedelem), valamint az Üzletszabályzat adatvédelemre és adatkezelésre vonatkozó rendelkezéseiben foglalt tájékoztatást is – megismertem, és azt kifejezetten elfogadom. Megerősítem, hogy lehetőségem volt kérdéseimet feltenni, melyekkel kapcsolatban megfelelő válaszokat kaptam.",null,null,null,null,null,null,null,null,5,63.75]
[null,null,null,null,null,null,null,null,null,1,12.75]
[{"$f":"CONCATENATE(\"Kelt: …………………………………...……… ,    \",TEXT(TODAY(),\"éééé.hh.nn\"))","v":"Kelt: …………………………………...……… ,    2021.07.09"},null,null,null,null,null,null,null,null,1,12.75]
[null,null,null,null,null,null,null,null,null,1,12.75]
[null,"……………………………….",null,null,{"$f":"IF(Ügyféladatok!$F$52>1,\"……………………………….\",\"\")","v":"………………………………."},null,null,null,null,1,12.75]
["Zálogkötelezett neve:",{"$f":"HLOOKUP(1,Ügyféladatok!$B$53:$E$57,2,FALSE)","v":""},null,null,{"$f":"IF(Ügyféladatok!$F$52>1,HLOOKUP(2,Ügyféladatok!$B$53:$E$57,2,FALSE),\"\")","v":""},null,null,null,null,1,12.75]
["Születési dátum:",{"$f":"HLOOKUP(1,Ügyféladatok!$B$53:$E$57,3,FALSE)","v":""},null,null,{"$f":"IF(Ügyféladatok!$F$52>1,HLOOKUP(2,Ügyféladatok!$B$53:$E$57,3,FALSE),\"\")","v":""},null,null,null,null,1,12.75]
["Anyja neve:",{"$f":"HLOOKUP(1,Ügyféladatok!$B$53:$E$57,4,FALSE)","v":""},null,null,{"$f":"IF(Ügyféladatok!$F$52>1,HLOOKUP(2,Ügyféladatok!$B$53:$E$57,4,FALSE),\"\")","v":""},null,null,null,null,1,12.75]
["Lakcím:",{"$f":"HLOOKUP(1,Ügyféladatok!$B$53:$E$57,5,FALSE)","v":""},null,null,{"$f":"IF(Ügyféladatok!$F$52>1,HLOOKUP(2,Ügyféladatok!$B$53:$E$57,5,FALSE),\"\")","v":""},null,null,null,null,1,12.75]
[null,null,null,null,null,null,null,null,null,1,12.75]
[null,null,null,null,null,null,null,null,null,1,12.75]
[null,null,null,null,null,null,null,null,null,1,12.75]
[null,{"$f":"IF(Ügyféladatok!$F$52>2,\"……………………………….\",\"\")","v":""},null,null,{"$f":"IF(Ügyféladatok!$F$52>3,\"……………………………….\",\"\")","v":""},null,null,null,null,1,12.75]
[{"$f":"IF(Ügyféladatok!$F$52>2,Zálogkötelezetti!A60,\"\")","v":""},{"$f":"IF(Ügyféladatok!$F$52>2,HLOOKUP(3,Ügyféladatok!$B$53:$E$57,2,FALSE),\"\")","v":""},null,null,{"$f":"IF(Ügyféladatok!$F$52>3,HLOOKUP(4,Ügyféladatok!$B$53:$E$57,2,FALSE),\"\")","v":""},null,null,null,null,1,12.75]
[{"$f":"IF(Ügyféladatok!$F$52>2,Zálogkötelezetti!A61,\"\")","v":""},{"$f":"IF(Ügyféladatok!$F$52>2,HLOOKUP(3,Ügyféladatok!$B$53:$E$57,3,FALSE),\"\")","v":""},null,null,{"$f":"IF(Ügyféladatok!$F$52>3,HLOOKUP(4,Ügyféladatok!$B$53:$E$57,3,FALSE),\"\")","v":""},null,null,null,null,1,12.75]
[{"$f":"IF(Ügyféladatok!$F$52>2,Zálogkötelezetti!A62,\"\")","v":""},{"$f":"IF(Ügyféladatok!$F$52>2,HLOOKUP(3,Ügyféladatok!$B$53:$E$57,4,FALSE),\"\")","v":""},null,null,{"$f":"IF(Ügyféladatok!$F$52>3,HLOOKUP(4,Ügyféladatok!$B$53:$E$57,4,FALSE),\"\")","v":""},null,null,null,null,1,12.75]
[{"$f":"IF(Ügyféladatok!$F$52>2,Zálogkötelezetti!A63,\"\")","v":""},{"$f":"IF(Ügyféladatok!$F$52>2,HLOOKUP(3,Ügyféladatok!$B$53:$E$57,5,FALSE),\"\")","v":""},null,null,{"$f":"IF(Ügyféladatok!$F$52>3,HLOOKUP(4,Ügyféladatok!$B$53:$E$57,5,FALSE),\"\")","v":""},null,null,null,null,1,12.75]

{"sheet":"MFL","index":13,"n_rows":366,"n_cols":37,"rows_kept":366,"cut":false,"hidden":true,"merged":[]}
["MFL annuitás THM-hez",null,null,null,null,30.41666,null,null,null,null,null,null,null,null,4.9187446972656861E-2,null,"Rettenet THM",null,null,null,null,null,9.8712946066342691E-2,null,null,null,"emelkedő",null,null,null,null,null,"csökkenő"]
["tőke",{"$f":"Hiteladatok!B15","v":0},null,null,null,null,null,null,null,null,null,null,null,null,null,null,"mikor vált",{"$f":"Hiteladatok!U29+1","v":121},null,null,null,null,null,null,null,null,"mikor vált",{"$f":"R2","v":121},null,null,null,null,"mikor vált",{"$f":"R2","v":121}]
["kamat",{"$f":"'Új PD'!D14","v":{"$error":"#DIV/0!"}},null,null,null,null,null,null,null,null,null,null,null,null,null,null,"normál kamat",{"$f":"Hiteladatok!B30","v":{"$error":"#DIV/0!"}},{"$f":"PMT(R3/12,B4,-B2)","v":{"$error":"#DIV/0!"}},null,null,null,null,null,null,null,"normál kamat",{"$f":"B3","v":{"$error":"#DIV/0!"}},{"$f":"PMT(AB3/12,B4,-B2)","v":{"$error":"#DIV/0!"}},null,null,null,"normál kamat",{"$f":"B3","v":{"$error":"#DIV/0!"}},{"$f":"PMT(AH3/12,B4,-B2)","v":{"$error":"#DIV/0!"}}]
["futamidő",{"$f":"Hiteladatok!B16","v":240},null,null,null,null,null,null,{"$f":"SUM(I7:I366)","v":{"$error":"#DIV/0!"}},null,null,null,null,null,null,null,"rettenet kamat",{"$f":"IF(Hiteladatok!B17=Hiteladatok!R23,R3+kondíciók!G40,R3+kondíciók!G41)","v":{"$error":"#DIV/0!"}},{"$f":"MAX(T7:T366)","v":{"$error":"#DIV/0!"}},null,null,null,{"$f":"ROUND(W1,3)","v":9.9000000000000005E-2},null,null,null,"emelkedő kamat",{"$f":"AB3+1%","v":{"$error":"#DIV/0!"}},null,null,null,null,"csökkenő kamat",{"$f":"AH3-1%","v":{"$error":"#DIV/0!"}}]
[{"$f":"Hiteladatok!A18","v":"Folyósítás várható dátuma"},{"$f":"Hiteladatok!B18","v":""}]
[{"$f":"Hiteladatok!A19","v":"Törlesztés kezdete"},{"$f":"Hiteladatok!B19","v":""},null,null,"sorszám","eltelt nap","nyitó","kamat","részlet","záró","PPI","számla","életbizt","havi teher",{"$f":"B2-B17-O366","v":{"$error":"#DIV/0!"}},null,"nyitó","kamatláb","kamat","részlet","záró","havi teher",{"$f":"B2-B17-W366","v":{"$error":"#DIV/0!"}},null,"év","kamper","nyitó","kamatláb","kamat","részlet","záró",null,"nyitó","kamatláb","kamat","részlet","záró"]
["napok száma",{"$f":"B6-B5","v":{"$error":"#VALUE!"}},null,1,1,{"$f":"$F$1*E7+$B$9","v":{"$error":"#VALUE!"}},{"$f":"B2","v":0},{"$f":"IF(E7>$B$4,0,G7*$B$3/12)+G7*B3*B9/360","v":{"$error":"#DIV/0!"}},{"$f":"IF(E7>$B$4,0,B11)","v":{"$error":"#DIV/0!"}},{"$f":"G7+H7-I7","v":{"$error":"#DIV/0!"}},{"$f":"I7*$C$12","v":{"$error":"#DIV/0!"}},{"$f":"IF(E7>$B$4,0,$C$13)","v":{"$error":"#DIV/0!"}},{"$f":"IF(OR(Hiteladatok!$I$8=0,E7>$B$4),0,IF(D7>Hiteladatok!$U$40,0,$B$14+IF(Hiteladatok!$I$10=Hiteladatok!$N$33,$B$15,0)))","v":0},{"$f":"I7+K7+L7+M7","v":{"$error":"#DIV/0!"}},{"$f":"N7/(1+$O$1)^(F7/365)","v":{"$error":"#DIV/0!"}},null,{"$f":"B2","v":0},{"$f":"R3","v":{"$error":"#DIV/0!"}},{"$f":"Q7*R3*B8/360","v":{"$error":"#DIV/0!"}},{"$f":"S3+Q7*R3*B9/360","v":{"$error":"#DIV/0!"}},{"$f":"Q7+S7-T7","v":{"$error":"#DIV/0!"}},{"$f":"T7+K7+L7+M7","v":{"$error":"#DIV/0!"}},{"$f":"V7/(1+$W$1)^(F7/365)","v":{"$error":"#DIV/0!"}},null,1,{"$f":"INT((E7-1)/Hiteladatok!$U$29)+1","v":1},{"$f":"B2","v":0},{"$f":"AB3","v":{"$error":"#DIV/0!"}},{"$f":"AA7*AB3*B8/360","v":{"$error":"#DIV/0!"}},{"$f":"AC3+AA7*AB3*B9/360","v":{"$error":"#DIV/0!"}},{"$f":"AA7+AC7-AD7","v":{"$error":"#DIV/0!"}},null,{"$f":"B2","v":0},{"$f":"AH3","v":{"$error":"#DIV/0!"}},{"$f":"AG7*AH3*B8/360","v":{"$error":"#DIV/0!"}},{"$f":"AI3+AG7*AH3*B9/360","v":{"$error":"#DIV/0!"}},{"$f":"AG7+AI7-AJ7","v":{"$error":"#DIV/0!"}}]
["kamatnapok száma",{"$f":"30-DAY(B5)+(MONTH(B6)-MONTH(B5))*30+DAY(B6)-30+(YEAR(B6)-YEAR(B5))*360","v":{"$error":"#VALUE!"}},null,12,{"$f":"E7+1","v":2},{"$f":"$F$1*E8+$B$9","v":{"$error":"#VALUE!"}},{"$f":"J7","v":{"$error":"#DIV/0!"}},{"$f":"IF(E8>$B$4,0,G8*$B$3/12)","v":{"$error":"#DIV/0!"}},{"$f":"IF(E8>$B$4,0,$B$10)","v":{"$error":"#DIV/0!"}},{"$f":"G8+H8-I8","v":{"$error":"#DIV/0!"}},{"$f":"I8*$C$12","v":{"$error":"#DIV/0!"}},{"$f":"IF(E8>$B$4,0,$C$13)","v":{"$error":"#DIV/0!"}},{"$f":"IF(OR(Hiteladatok!$I$8=0,E8>$B$4),0,IF(D8>Hiteladatok!$U$40,0,$B$14+IF(Hiteladatok!$I$10=Hiteladatok!$N$33,$B$15,0)))","v":0},{"$f":"I8+K8+L8+M8","v":{"$error":"#DIV/0!"}},{"$f":"O7+N8/(1+$O$1)^(F8/365)","v":{"$error":"#DIV/0!"}},null,{"$f":"U7","v":{"$error":"#DIV/0!"}},{"$f":"IF(E8<$R$2,$R$3,$R$4)","v":{"$error":"#DIV/0!"}},{"$f":"Q8*R8/12","v":{"$error":"#DIV/0!"}},{"$f":"IF(E8>$B$4,0,PMT(R8/12,$B$4-E8+1,-Q8))","v":{"$error":"#DIV/0!"}},{"$error":"#DIV/0!"},{"$f":"T8+K8+L8+M8","v":{"$error":"#DIV/0!"}},{"$f":"W7+V8/(1+$W$1)^(F8/365)","v":{"$error":"#DIV/0!"}},null,1,{"$f":"INT((E8-1)/Hiteladatok!$U$29)+1","v":1},{"$f":"AE7","v":{"$error":"#DIV/0!"}},{"$f":"IF(E8<$AB$2,$AB$3,$AB$4)","v":{"$error":"#DIV/0!"}},{"$f":"AA8*AB8/12","v":{"$error":"#DIV/0!"}},{"$f":"IF(E8>$B$4,0,PMT(AB8/12,$B$4-E8+1,-AA8))","v":{"$error":"#DIV/0!"}},{"$f":"AA8+AC8-AD8","v":{"$error":"#DIV/0!"}},null,{"$f":"AK7","v":{"$error":"#DIV/0!"}},{"$f":"IF(E8<$AH$2,$AH$3,$AH$4)","v":{"$error":"#DIV/0!"}},{"$f":"AG8*AH8/12","v":{"$error":"#DIV/0!"}},{"$f":"IF(E8>$B$4,0,PMT(AH8/12,$B$4-E8+1,-AG8))","v":{"$error":"#DIV/0!"}},{"$f":"AG8+AI8-AJ8","v":{"$error":"#DIV/0!"}}]
["extra napok száma",{"$f":"B8-30","v":{"$error":"#VALUE!"}},{"$f":"B2*B3*B9/360","v":{"$error":"#DIV/0!"}},12,{"$f":"E8+1","v":3},{"$error":"#VALUE!"},{"$f":"J8","v":{"$error":"#DIV/0!"}},{"$f":"IF(E9>$B$4,0,G9*$B$3/12)","v":{"$error":"#DIV/0!"}},{"$f":"IF(E9>$B$4,0,$B$10)","v":{"$error":"#DIV/0!"}},{"$f":"G9+H9-I9","v":{"$error":"#DIV/0!"}},{"$f":"I9*$C$12","v":{"$error":"#DIV/0!"}},{"$error":"#DIV/0!"},{"$f":"IF(OR(Hiteladatok!$I$8=0,E9>$B$4),0,IF(D9>Hiteladatok!$U$40,0,$B$14+IF(Hiteladatok!$I$10=Hiteladatok!$N$33,$B$15,0)))","v":0},{"$f":"I9+K9+L9+M9","v":{"$error":"#DIV/0!"}},{"$f":"O8+N9/(1+$O$1)^(F9/365)","v":{"$error":"#DIV/0!"}},null,{"$f":"U8","v":{"$error":"#DIV/0!"}},{"$f":"IF(E9<$R$2,$R$3,$R$4)","v":{"$error":"#DIV/0!"}},{"$f":"Q9*R9/12","v":{"$error":"#DIV/0!"}},{"$f":"IF(E9>$B$4,0,PMT(R9/12,$B$4-E9+1,-Q9))","v":{"$error":"#DIV/0!"}},{"$error":"#DIV/0!"},{"$error":"#DIV/0!"},{"$f":"W8+V9/(1+$W$1)^(F9/365)","v":{"$error":"#DIV/0!"}},null,1,{"$f":"INT((E9-1)/Hiteladatok!$U$29)+1","v":1},{"$f":"AE8","v":{"$error":"#DIV/0!"}},{"$f":"IF(E9<$AB$2,$AB$3,$AB$4)","v":{"$error":"#DIV/0!"}},{"$f":"AA9*AB9/12","v":{"$error":"#DIV/0!"}},{"$f":"IF(E9>$B$4,0,PMT(AB9/12,$B$4-E9+1,-AA9))","v":{"$error":"#DIV/0!"}},{"$f":"AA9+AC9-AD9","v":{"$error":"#DIV/0!"}},null,{"$f":"AK8","v":{"$error":"#DIV/0!"}},{"$f":"IF(E9<$AH$2,$AH$3,$AH$4)","v":{"$error":"#DIV/0!"}},{"$f":"AG9*AH9/12","v":{"$error":"#DIV/0!"}},{"$f":"IF(E9>$B$4,0,PMT(AH9/12,$B$4-E9+1,-AG9))","v":{"$error":"#DIV/0!"}},{"$f":"AG9+AI9-AJ9","v":{"$error":"#DIV/0!"}}]
["részlet",{"$f":"PMT(B3/12,B4,-B2)","v":{"$error":"#DIV/0!"}},null,4,4,{"$error":"#VALUE!"},{"$error":"#DIV/0!"},{"$error":"#DIV/0!"},{"$error":"#DIV/0!"},{"$error":"#DIV/0!"},{"$error":"#DIV/0!"},{"$error":"#DIV/0!"},{"$f":"IF(OR(Hiteladatok!$I$8=0,E10>$B$4),0,IF(D10>Hiteladatok!$U$40,0,$B$14+IF(Hiteladatok!$I$10=Hiteladatok!$N$33,$B$15,0)))","v":0},{"$error":"#DIV/0!"},{"$error":"#DIV/0!"},null,{"$error":"#DIV/0!"},{"$error":"#DIV/0!"},{"$error":"#DIV/0!"},{"$error":"#DIV/0!"},{"$error":"#DIV/0!"},{"$error":"#DIV/0!"},{"$error":"#DIV/0!"},null,1,{"$f":"INT((E10-1)/Hiteladatok!$U$29)+1","v":1},{"$error":"#DIV/0!"},{"$error":"#DIV/0!"},{"$error":"#DIV/0!"},{"$error":"#DIV/0!"},{"$error":"#DIV/0!"},null,{"$error":"#DIV/0!"},{"$error":"#DIV/0!"},{"$error":"#DIV/0!"},{"$error":"#DIV/0!"},{"$error":"#DIV/0!"}]
["1. részlet",{"$f":"B10+C9","v":{"$error":"#DIV/0!"}},null,12,5,{"$error":"#VALUE!"},{"$error":"#DIV/0!"},{"$error":"#DIV/0!"},{"$error":"#DIV/0!"},{"$error":"#DIV/0!"},{"$error":"#DIV/0!"},{"$error":"#DIV/0!"},{"$f":"IF(OR(Hiteladatok!$I$8=0,E11>$B$4),0,IF(D11>Hiteladatok!$U$40,0,$B$14+IF(Hiteladatok!$I$10=Hiteladatok!$N$33,$B$15,0)))","v":0},{"$error":"#DIV/0!"},{"$error":"#DIV/0!"},null,{"$error":"#DIV/0!"},{"$error":"#DIV/0!"},{"$error":"#DIV/0!"},{"$error":"#DIV/0!"},{"$error":"#DIV/0!"},{"$error":"#DIV/0!"},{"$error":"#DIV/0!"},null,1,{"$f":"INT((E11-1)/Hiteladatok!$U$29)+1","v":1},{"$error":"#DIV/0!"},{"$error":"#DIV/0!"},{"$error":"#DIV/0!"},{"$error":"#DIV/0!"},{"$error":"#DIV/0!"},null,{"$error":"#DIV/0!"},{"$error":"#DIV/0!"},{"$error":"#DIV/0!"},{"$error":"#DIV/0!"},{"$error":"#DIV/0!"}]
["PPI",{"$f":"'Új PD'!P26","v":"nincs PPI"},{"$f":"IF(A12=B12,kondíciók!I2,0)","v":0},12,6,{"$error":"#VALUE!"},{"$error":"#DIV/0!"},{"$error":"#DIV/0!"},{"$error":"#DIV/0!"},{"$error":"#DIV/0!"},{"$error":"#DIV/0!"},{"$error":"#DIV/0!"},{"$f":"IF(OR(Hiteladatok!$I$8=0,E12>$B$4),0,IF(D12>Hiteladatok!$U$40,0,$B$14+IF(Hiteladatok!$I$10=Hiteladatok!$N$33,$B$15,0)))","v":0},{"$error":"#DIV/0!"},{"$error":"#DIV/0!"},null,{"$error":"#DIV/0!"},{"$error":"#DIV/0!"},{"$error":"#DIV/0!"},{"$error":"#DIV/0!"},{"$error":"#DIV/0!"},{"$error":"#DIV/0!"},{"$error":"#DIV/0!"},null,1,{"$f":"INT((E12-1)/Hiteladatok!$U$29)+1","v":1},{"$error":"#DIV/0!"},{"$error":"#DIV/0!"},{"$error":"#DIV/0!"},{"$error":"#DIV/0!"},{"$error":"#DIV/0!"},null,{"$error":"#DIV/0!"},{"$error":"#DIV/0!"},{"$error":"#DIV/0!"},{"$error":"#DIV/0!"},{"$error":"#DIV/0!"}]
["számla",{"$f":"Hiteladatok!$I$6/Finanszírozás!F18","v":{"$error":"#DIV/0!"}},{"$f":"IF(Hiteladatok!D6=\"N\",MFL!B13,0)","v":{"$error":"#DIV/0!"}},2,7,{"$error":"#VALUE!"},{"$error":"#DIV/0!"},{"$error":"#DIV/0!"},{"$error":"#DIV/0!"},{"$error":"#DIV/0!"},{"$error":"#DIV/0!"},{"$error":"#DIV/0!"},{"$f":"IF(OR(Hiteladatok!$I$8=0,E13>$B$4),0,IF(D13>Hiteladatok!$U$40,0,$B$14+IF(Hiteladatok!$I$10=Hiteladatok!$N$33,$B$15,0)))","v":0},{"$error":"#DIV/0!"},{"$error":"#DIV/0!"},null,{"$error":"#DIV/0!"},{"$error":"#DIV/0!"},{"$error":"#DIV/0!"},{"$error":"#DIV/0!"},{"$error":"#DIV/0!"},{"$error":"#DIV/0!"},{"$error":"#DIV/0!"},null,1,{"$f":"INT((E13-1)/Hiteladatok!$U$29)+1","v":1},{"$error":"#DIV/0!"},{"$error":"#DIV/0!"},{"$error":"#DIV/0!"},{"$error":"#DIV/0!"},{"$error":"#DIV/0!"},null,{"$error":"#DIV/0!"},{"$error":"#DIV/0!"},{"$error":"#DIV/0!"},{"$error":"#DIV/0!"},{"$error":"#DIV/0!"}]
["életbizt",{"$f":"Hiteladatok!I8","v":0},null,12,8,{"$error":"#VALUE!"},{"$error":"#DIV/0!"},{"$error":"#DIV/0!"},{"$error":"#DIV/0!"},{"$error":"#DIV/0!"},{"$error":"#DIV/0!"},{"$error":"#DIV/0!"},{"$f":"IF(OR(Hiteladatok!$I$8=0,E14>$B$4),0,IF(D14>Hiteladatok!$U$40,0,$B$14+IF(Hiteladatok!$I$10=Hiteladatok!$N$33,$B$15,0)))","v":0},{"$error":"#DIV/0!"},{"$error":"#DIV/0!"},null,{"$error":"#DIV/0!"},{"$error":"#DIV/0!"},{"$error":"#DIV/0!"},{"$error":"#DIV/0!"},{"$error":"#DIV/0!"},{"$error":"#DIV/0!"},{"$error":"#DIV/0!"},null,1,{"$f":"INT((E14-1)/Hiteladatok!$U$29)+1","v":1},{"$error":"#DIV/0!"},{"$error":"#DIV/0!"},{"$error":"#DIV/0!"},{"$error":"#DIV/0!"},{"$error":"#DIV/0!"},null,{"$error":"#DIV/0!"},{"$error":"#DIV/0!"},{"$error":"#DIV/0!"},{"$error":"#DIV/0!"},{"$error":"#DIV/0!"}]
["átutalás díja",{"$f":"Hiteladatok!I7","v":0},null,12,9,{"$error":"#VALUE!"},{"$error":"#DIV/0!"},{"$error":"#DIV/0!"},{"$error":"#DIV/0!"},{"$error":"#DIV/0!"},{"$error":"#DIV/0!"},{"$error":"#DIV/0!"},{"$f":"IF(OR(Hiteladatok!$I$8=0,E15>$B$4),0,IF(D15>Hiteladatok!$U$40,0,$B$14+IF(Hiteladatok!$I$10=Hiteladatok!$N$33,$B$15,0)))","v":0},{"$error":"#DIV/0!"},{"$error":"#DIV/0!"},null,{"$error":"#DIV/0!"},{"$error":"#DIV/0!"},{"$error":"#DIV/0!"},{"$error":"#DIV/0!"},{"$error":"#DIV/0!"},{"$error":"#DIV/0!"},{"$error":"#DIV/0!"},null,1,{"$f":"INT((E15-1)/Hiteladatok!$U$29)+1","v":1},{"$error":"#DIV/0!"},{"$error":"#DIV/0!"},{"$error":"#DIV/0!"},{"$error":"#DIV/0!"},{"$error":"#DIV/0!"},null,{"$error":"#DIV/0!"},{"$error":"#DIV/0!"},{"$error":"#DIV/0!"},{"$error":"#DIV/0!"},{"$error":"#DIV/0!"}]
[null,null,null,4,10,{"$error":"#VALUE!"},{"$error":"#DIV/0!"},{"$error":"#DIV/0!"},{"$error":"#DIV/0!"},{"$error":"#DIV/0!"},{"$error":"#DIV/0!"},{"$error":"#DIV/0!"},{"$f":"IF(OR(Hiteladatok!$I$8=0,E16>$B$4),0,IF(D16>Hiteladatok!$U$40,0,$B$14+IF(Hiteladatok!$I$10=Hiteladatok!$N$33,$B$15,0)))","v":0},{"$error":"#DIV/0!"},{"$error":"#DIV/0!"},null,{"$error":"#DIV/0!"},{"$error":"#DIV/0!"},{"$error":"#DIV/0!"},{"$error":"#DIV/0!"},{"$error":"#DIV/0!"},{"$error":"#DIV/0!"},{"$error":"#DIV/0!"},null,1,{"$f":"INT((E16-1)/Hiteladatok!$U$29)+1","v":1},{"$error":"#DIV/0!"},{"$error":"#DIV/0!"},{"$error":"#DIV/0!"},{"$error":"#DIV/0!"},{"$error":"#DIV/0!"},null,{"$error":"#DIV/0!"},{"$error":"#DIV/0!"},{"$error":"#DIV/0!"},{"$error":"#DIV/0!"},{"$error":"#DIV/0!"}]
["Kezdeti díjak",{"$f":"SUM(B18:B23)","v":0},null,12,11,{"$error":"#VALUE!"},{"$error":"#DIV/0!"},{"$error":"#DIV/0!"},{"$error":"#DIV/0!"},{"$error":"#DIV/0!"},{"$error":"#DIV/0!"},{"$error":"#DIV/0!"},{"$f":"IF(OR(Hiteladatok!$I$8=0,E17>$B$4),0,IF(D17>Hiteladatok!$U$40,0,$B$14+IF(Hiteladatok!$I$10=Hiteladatok!$N$33,$B$15,0)))","v":0},{"$error":"#DIV/0!"},{"$error":"#DIV/0!"},null,{"$error":"#DIV/0!"},{"$error":"#DIV/0!"},{"$error":"#DIV/0!"},{"$error":"#DIV/0!"},{"$error":"#DIV/0!"},{"$error":"#DIV/0!"},{"$error":"#DIV/0!"},null,1,{"$f":"INT((E17-1)/Hiteladatok!$U$29)+1","v":1},{"$error":"#DIV/0!"},{"$error":"#DIV/0!"},{"$error":"#DIV/0!"},{"$error":"#DIV/0!"},{"$error":"#DIV/0!"},null,{"$error":"#DIV/0!"},{"$error":"#DIV/0!"},{"$error":"#DIV/0!"},{"$error":"#DIV/0!"},{"$error":"#DIV/0!"}]
["földhivatal",{"$f":"IF(Hiteladatok!F15>0,Hiteladatok!D12/2,Hiteladatok!D12)","v":0},null,12,12,{"$error":"#VALUE!"},{"$error":"#DIV/0!"},{"$error":"#DIV/0!"},{"$error":"#DIV/0!"},{"$error":"#DIV/0!"},{"$error":"#DIV/0!"},{"$error":"#DIV/0!"},{"$f":"IF(OR(Hiteladatok!$I$8=0,E18>$B$4),0,IF(D18>Hiteladatok!$U$40,0,$B$14+IF(Hiteladatok!$I$10=Hiteladatok!$N$33,$B$15,0)))","v":0},{"$error":"#DIV/0!"},{"$error":"#DIV/0!"},null,{"$error":"#DIV/0!"},{"$error":"#DIV/0!"},{"$error":"#DIV/0!"},{"$error":"#DIV/0!"},{"$error":"#DIV/0!"},{"$error":"#DIV/0!"},{"$error":"#DIV/0!"},null,1,{"$f":"INT((E18-1)/Hiteladatok!$U$29)+1","v":1},{"$error":"#DIV/0!"},{"$error":"#DIV/0!"},{"$error":"#DIV/0!"},{"$error":"#DIV/0!"},{"$error":"#DIV/0!"},null,{"$error":"#DIV/0!"},{"$error":"#DIV/0!"},{"$error":"#DIV/0!"},{"$error":"#DIV/0!"},{"$error":"#DIV/0!"}]
["egyszeri életbiztosítás",{"$f":"Hiteladatok!I11","v":0},null,1,13,{"$error":"#VALUE!"},{"$error":"#DIV/0!"},{"$error":"#DIV/0!"},{"$error":"#DIV/0!"},{"$error":"#DIV/0!"},{"$error":"#DIV/0!"},{"$error":"#DIV/0!"},{"$f":"IF(OR(Hiteladatok!$I$8=0,E19>$B$4),0,IF(D19>Hiteladatok!$U$40,0,$B$14+IF(Hiteladatok!$I$10=Hiteladatok!$N$33,$B$15,0)))","v":0},{"$error":"#DIV/0!"},{"$error":"#DIV/0!"},null,{"$error":"#DIV/0!"},{"$error":"#DIV/0!"},{"$error":"#DIV/0!"},{"$error":"#DIV/0!"},{"$error":"#DIV/0!"},{"$error":"#DIV/0!"},{"$error":"#DIV/0!"},null,{"$f":"Y7+1","v":2},{"$f":"INT((E19-1)/Hiteladatok!$U$29)+1","v":1},{"$error":"#DIV/0!"},{"$error":"#DIV/0!"},{"$error":"#DIV/0!"},{"$error":"#DIV/0!"},{"$error":"#DIV/0!"},null,{"$error":"#DIV/0!"},{"$error":"#DIV/0!"},{"$error":"#DIV/0!"},{"$error":"#DIV/0!"},{"$error":"#DIV/0!"}]
["ügynöknek fizetett",{"$f":"IF(Finanszírozás!G18=0,0,Hiteladatok!I12/Finanszírozás!G18)","v":0},null,12,14,{"$error":"#VALUE!"},{"$error":"#DIV/0!"},{"$error":"#DIV/0!"},{"$error":"#DIV/0!"},{"$error":"#DIV/0!"},{"$error":"#DIV/0!"},{"$error":"#DIV/0!"},{"$f":"IF(OR(Hiteladatok!$I$8=0,E20>$B$4),0,IF(D20>Hiteladatok!$U$40,0,$B$14+IF(Hiteladatok!$I$10=Hiteladatok!$N$33,$B$15,0)))","v":0},{"$error":"#DIV/0!"},{"$error":"#DIV/0!"},null,{"$error":"#DIV/0!"},{"$error":"#DIV/0!"},{"$error":"#DIV/0!"},{"$error":"#DIV/0!"},{"$error":"#DIV/0!"},{"$error":"#DIV/0!"},{"$error":"#DIV/0!"},null,{"$f":"Y8+1","v":2},{"$f":"INT((E20-1)/Hiteladatok!$U$29)+1","v":1},{"$error":"#DIV/0!"},{"$error":"#DIV/0!"},{"$error":"#DIV/0!"},{"$error":"#DIV/0!"},{"$error":"#DIV/0!"},null,{"$error":"#DIV/0!"},{"$error":"#DIV/0!"},{"$error":"#DIV/0!"},{"$error":"#DIV/0!"},{"$error":"#DIV/0!"}]
[{"$f":"Hiteladatok!A33","v":{"$error":"#N/A"}},{"$f":"Hiteladatok!B33","v":0},null,12,15,{"$error":"#VALUE!"},{"$error":"#DIV/0!"},{"$error":"#DIV/0!"},{"$error":"#DIV/0!"},{"$error":"#DIV/0!"},{"$error":"#DIV/0!"},{"$error":"#DIV/0!"},{"$f":"IF(OR(Hiteladatok!$I$8=0,E21>$B$4),0,IF(D21>Hiteladatok!$U$40,0,$B$14+IF(Hiteladatok!$I$10=Hiteladatok!$N$33,$B$15,0)))","v":0},{"$error":"#DIV/0!"},{"$error":"#DIV/0!"},null,{"$error":"#DIV/0!"},{"$error":"#DIV/0!"},{"$error":"#DIV/0!"},{"$error":"#DIV/0!"},{"$error":"#DIV/0!"},{"$error":"#DIV/0!"},{"$error":"#DIV/0!"},null,2,{"$f":"INT((E21-1)/Hiteladatok!$U$29)+1","v":1},{"$error":"#DIV/0!"},{"$error":"#DIV/0!"},{"$error":"#DIV/0!"},{"$error":"#DIV/0!"},{"$error":"#DIV/0!"},null,{"$error":"#DIV/0!"},{"$error":"#DIV/0!"},{"$error":"#DIV/0!"},{"$error":"#DIV/0!"},{"$error":"#DIV/0!"}]
["Értékbecslési díjak",{"$f":"Hiteladatok!B34","v":0},null,4,16,{"$error":"#VALUE!"},{"$error":"#DIV/0!"},{"$error":"#DIV/0!"},{"$error":"#DIV/0!"},{"$error":"#DIV/0!"},{"$error":"#DIV/0!"},{"$error":"#DIV/0!"},{"$f":"IF(OR(Hiteladatok!$I$8=0,E22>$B$4),0,IF(D22>Hiteladatok!$U$40,0,$B$14+IF(Hiteladatok!$I$10=Hiteladatok!$N$33,$B$15,0)))","v":0},{"$error":"#DIV/0!"},{"$error":"#DIV/0!"},null,{"$error":"#DIV/0!"},{"$error":"#DIV/0!"},{"$error":"#DIV/0!"},{"$error":"#DIV/0!"},{"$error":"#DIV/0!"},{"$error":"#DIV/0!"},{"$error":"#DIV/0!"},null,2,{"$f":"INT((E22-1)/Hiteladatok!$U$29)+1","v":1},{"$error":"#DIV/0!"},{"$error":"#DIV/0!"},{"$error":"#DIV/0!"},{"$error":"#DIV/0!"},{"$error":"#DIV/0!"},null,{"$error":"#DIV/0!"},{"$error":"#DIV/0!"},{"$error":"#DIV/0!"},{"$error":"#DIV/0!"},{"$error":"#DIV/0!"}]
["Takarnet díjak",{"$f":"Hiteladatok!B35","v":0},null,12,17,{"$error":"#VALUE!"},{"$error":"#DIV/0!"},{"$error":"#DIV/0!"},{"$error":"#DIV/0!"},{"$error":"#DIV/0!"},{"$error":"#DIV/0!"},{"$f":"IF(E23>$B$4,0,$C$13)","v":{"$error":"#DIV/0!"}},{"$f":"IF(OR(Hiteladatok!$I$8=0,E23>$B$4),0,IF(D23>Hiteladatok!$U$40,0,$B$14+IF(Hiteladatok!$I$10=Hiteladatok!$N$33,$B$15,0)))","v":0},{"$error":"#DIV/0!"},{"$error":"#DIV/0!"},null,{"$error":"#DIV/0!"},{"$error":"#DIV/0!"},{"$error":"#DIV/0!"},{"$error":"#DIV/0!"},{"$error":"#DIV/0!"},{"$error":"#DIV/0!"},{"$error":"#DIV/0!"},null,2,{"$f":"INT((E23-1)/Hiteladatok!$U$29)+1","v":1},{"$error":"#DIV/0!"},{"$error":"#DIV/0!"},{"$error":"#DIV/0!"},{"$error":"#DIV/0!"},{"$error":"#DIV/0!"},null,{"$error":"#DIV/0!"},{"$error":"#DIV/0!"},{"$error":"#DIV/0!"},{"$error":"#DIV/0!"},{"$error":"#DIV/0!"}]
[null,null,null,12,18,{"$error":"#VALUE!"},{"$error":"#DIV/0!"},{"$error":"#DIV/0!"},{"$error":"#DIV/0!"},{"$error":"#DIV/0!"},{"$error":"#DIV/0!"},{"$error":"#DIV/0!"},{"$f":"IF(OR(Hiteladatok!$I$8=0,E24>$B$4),0,IF(D24>Hiteladatok!$U$40,0,$B$14+IF(Hiteladatok!$I$10=Hiteladatok!$N$33,$B$15,0)))","v":0},{"$error":"#DIV/0!"},{"$error":"#DIV/0!"},null,{"$error":"#DIV/0!"},{"$error":"#DIV/0!"},{"$error":"#DIV/0!"},{"$error":"#DIV/0!"},{"$error":"#DIV/0!"},{"$error":"#DIV/0!"},{"$error":"#DIV/0!"},null,2,{"$f":"INT((E24-1)/Hiteladatok!$U$29)+1","v":1},{"$error":"#DIV/0!"},{"$error":"#DIV/0!"},{"$error":"#DIV/0!"},{"$error":"#DIV/0!"},{"$error":"#DIV/0!"},null,{"$error":"#DIV/0!"},{"$error":"#DIV/0!"},{"$error":"#DIV/0!"},{"$error":"#DIV/0!"},{"$error":"#DIV/0!"}]
[null,null,null,2,19,{"$error":"#VALUE!"},{"$error":"#DIV/0!"},{"$error":"#DIV/0!"},{"$error":"#DIV/0!"},{"$error":"#DIV/0!"},{"$error":"#DIV/0!"},{"$error":"#DIV/0!"},{"$f":"IF(OR(Hiteladatok!$I$8=0,E25>$B$4),0,IF(D25>Hiteladatok!$U$40,0,$B$14+IF(Hiteladatok!$I$10=Hiteladatok!$N$33,$B$15,0)))","v":0},{"$error":"#DIV/0!"},{"$error":"#DIV/0!"},null,{"$error":"#DIV/0!"},{"$error":"#DIV/0!"},{"$error":"#DIV/0!"},{"$error":"#DIV/0!"},{"$error":"#DIV/0!"},{"$error":"#DIV/0!"},{"$error":"#DIV/0!"},null,2,{"$f":"INT((E25-1)/Hiteladatok!$U$29)+1","v":1},{"$error":"#DIV/0!"},{"$error":"#DIV/0!"},{"$error":"#DIV/0!"},{"$error":"#DIV/0!"},{"$error":"#DIV/0!"},null,{"$error":"#DIV/0!"},{"$error":"#DIV/0!"},{"$error":"#DIV/0!"},{"$error":"#DIV/0!"},{"$error":"#DIV/0!"}]
[null,null,null,12,20,{"$error":"#VALUE!"},{"$error":"#DIV/0!"},{"$error":"#DIV/0!"},{"$error":"#DIV/0!"},{"$error":"#DIV/0!"},{"$error":"#DIV/0!"},{"$error":"#DIV/0!"},{"$f":"IF(OR(Hiteladatok!$I$8=0,E26>$B$4),0,IF(D26>Hiteladatok!$U$40,0,$B$14+IF(Hiteladatok!$I$10=Hiteladatok!$N$33,$B$15,0)))","v":0},{"$error":"#DIV/0!"},{"$error":"#DIV/0!"},null,{"$error":"#DIV/0!"},{"$error":"#DIV/0!"},{"$error":"#DIV/0!"},{"$error":"#DIV/0!"},{"$error":"#DIV/0!"},{"$error":"#DIV/0!"},{"$error":"#DIV/0!"},null,2,{"$f":"INT((E26-1)/Hiteladatok!$U$29)+1","v":1},{"$error":"#DIV/0!"},{"$error":"#DIV/0!"},{"$error":"#DIV/0!"},{"$error":"#DIV/0!"},{"$error":"#DIV/0!"},null,{"$error":"#DIV/0!"},{"$error":"#DIV/0!"},{"$error":"#DIV/0!"},{"$error":"#DIV/0!"},{"$error":"#DIV/0!"}]
[null,null,null,12,21,{"$error":"#VALUE!"},{"$error":"#DIV/0!"},{"$error":"#DIV/0!"},{"$error":"#DIV/0!"},{"$error":"#DIV/0!"},{"$error":"#DIV/0!"},{"$error":"#DIV/0!"},{"$f":"IF(OR(Hiteladatok!$I$8=0,E27>$B$4),0,IF(D27>Hiteladatok!$U$40,0,$B$14+IF(Hiteladatok!$I$10=Hiteladatok!$N$33,$B$15,0)))","v":0},{"$error":"#DIV/0!"},{"$error":"#DIV/0!"},null,{"$error":"#DIV/0!"},{"$error":"#DIV/0!"},{"$error":"#DIV/0!"},{"$error":"#DIV/0!"},{"$error":"#DIV/0!"},{"$error":"#DIV/0!"},{"$error":"#DIV/0!"},null,2,{"$f":"INT((E27-1)/Hiteladatok!$U$29)+1","v":1},{"$error":"#DIV/0!"},{"$error":"#DIV/0!"},{"$error":"#DIV/0!"},{"$error":"#DIV/0!"},{"$error":"#DIV/0!"},null,{"$error":"#DIV/0!"},{"$error":"#DIV/0!"},{"$error":"#DIV/0!"},{"$error":"#DIV/0!"},{"$error":"#DIV/0!"}]
[null,null,null,4,22,{"$error":"#VALUE!"},{"$error":"#DIV/0!"},{"$error":"#DIV/0!"},{"$error":"#DIV/0!"},{"$error":"#DIV/0!"},{"$error":"#DIV/0!"},{"$error":"#DIV/0!"},{"$f":"IF(OR(Hiteladatok!$I$8=0,E28>$B$4),0,IF(D28>Hiteladatok!$U$40,0,$B$14+IF(Hiteladatok!$I$10=Hiteladatok!$N$33,$B$15,0)))","v":0},{"$error":"#DIV/0!"},{"$error":"#DIV/0!"},null,{"$error":"#DIV/0!"},{"$error":"#DIV/0!"},{"$error":"#DIV/0!"},{"$error":"#DIV/0!"},{"$error":"#DIV/0!"},{"$error":"#DIV/0!"},{"$error":"#DIV/0!"},null,2,{"$f":"INT((E28-1)/Hiteladatok!$U$29)+1","v":1},{"$error":"#DIV/0!"},{"$error":"#DIV/0!"},{"$error":"#DIV/0!"},{"$error":"#DIV/0!"},{"$error":"#DIV/0!"},null,{"$error":"#DIV/0!"},{"$error":"#DIV/0!"},{"$error":"#DIV/0!"},{"$error":"#DIV/0!"},{"$error":"#DIV/0!"}]
[null,null,null,12,23,{"$error":"#VALUE!"},{"$error":"#DIV/0!"},{"$error":"#DIV/0!"},{"$error":"#DIV/0!"},{"$error":"#DIV/0!"},{"$error":"#DIV/0!"},{"$error":"#DIV/0!"},{"$f":"IF(OR(Hiteladatok!$I$8=0,E29>$B$4),0,IF(D29>Hiteladatok!$U$40,0,$B$14+IF(Hiteladatok!$I$10=Hiteladatok!$N$33,$B$15,0)))","v":0},{"$error":"#DIV/0!"},{"$error":"#DIV/0!"},null,{"$error":"#DIV/0!"},{"$error":"#DIV/0!"},{"$error":"#DIV/0!"},{"$error":"#DIV/0!"},{"$error":"#DIV/0!"},{"$error":"#DIV/0!"},{"$error":"#DIV/0!"},null,2,{"$f":"INT((E29-1)/Hiteladatok!$U$29)+1","v":1},{"$error":"#DIV/0!"},{"$error":"#DIV/0!"},{"$error":"#DIV/0!"},{"$error":"#DIV/0!"},{"$error":"#DIV/0!"},null,{"$error":"#DIV/0!"},{"$error":"#DIV/0!"},{"$error":"#DIV/0!"},{"$error":"#DIV/0!"},{"$error":"#DIV/0!"}]
[null,null,null,12,24,{"$error":"#VALUE!"},{"$error":"#DIV/0!"},{"$error":"#DIV/0!"},{"$error":"#DIV/0!"},{"$error":"#DIV/0!"},{"$error":"#DIV/0!"},{"$error":"#DIV/0!"},{"$f":"IF(OR(Hiteladatok!$I$8=0,E30>$B$4),0,IF(D30>Hiteladatok!$U$40,0,$B$14+IF(Hiteladatok!$I$10=Hiteladatok!$N$33,$B$15,0)))","v":0},{"$error":"#DIV/0!"},{"$error":"#DIV/0!"},null,{"$error":"#DIV/0!"},{"$error":"#DIV/0!"},{"$error":"#DIV/0!"},{"$error":"#DIV/0!"},{"$error":"#DIV/0!"},{"$error":"#DIV/0!"},{"$error":"#DIV/0!"},null,2,{"$f":"INT((E30-1)/Hiteladatok!$U$29)+1","v":1},{"$error":"#DIV/0!"},{"$error":"#DIV/0!"},{"$error":"#DIV/0!"},{"$error":"#DIV/0!"},{"$error":"#DIV/0!"},null,{"$error":"#DIV/0!"},{"$error":"#DIV/0!"},{"$error":"#DIV/0!"},{"$error":"#DIV/0!"},{"$error":"#DIV/0!"}]
[null,null,null,1,25,{"$error":"#VALUE!"},{"$error":"#DIV/0!"},{"$error":"#DIV/0!"},{"$error":"#DIV/0!"},{"$error":"#DIV/0!"},{"$error":"#DIV/0!"},{"$error":"#DIV/0!"},{"$f":"IF(OR(Hiteladatok!$I$8=0,E31>$B$4),0,IF(D31>Hiteladatok!$U$40,0,$B$14+IF(Hiteladatok!$I$10=Hiteladatok!$N$33,$B$15,0)))","v":0},{"$error":"#DIV/0!"},{"$error":"#DIV/0!"},null,{"$error":"#DIV/0!"},{"$error":"#DIV/0!"},{"$error":"#DIV/0!"},{"$error":"#DIV/0!"},{"$error":"#DIV/0!"},{"$error":"#DIV/0!"},{"$error":"#DIV/0!"},null,3,{"$f":"INT((E31-1)/Hiteladatok!$U$29)+1","v":1},{"$error":"#DIV/0!"},{"$error":"#DIV/0!"},{"$error":"#DIV/0!"},{"$error":"#DIV/0!"},{"$error":"#DIV/0!"},null,{"$error":"#DIV/0!"},{"$error":"#DIV/0!"},{"$error":"#DIV/0!"},{"$error":"#DIV/0!"},{"$error":"#DIV/0!"}]
[null,null,null,12,26,{"$error":"#VALUE!"},{"$error":"#DIV/0!"},{"$error":"#DIV/0!"},{"$error":"#DIV/0!"},{"$error":"#DIV/0!"},{"$error":"#DIV/0!"},{"$error":"#DIV/0!"},{"$f":"IF(OR(Hiteladatok!$I$8=0,E32>$B$4),0,IF(D32>Hiteladatok!$U$40,0,$B$14+IF(Hiteladatok!$I$10=Hiteladatok!$N$33,$B$15,0)))","v":0},{"$error":"#DIV/0!"},{"$error":"#DIV/0!"},null,{"$error":"#DIV/0!"},{"$error":"#DIV/0!"},{"$error":"#DIV/0!"},{"$error":"#DIV/0!"},{"$error":"#DIV/0!"},{"$error":"#DIV/0!"},{"$error":"#DIV/0!"},null,3,{"$f":"INT((E32-1)/Hiteladatok!$U$29)+1","v":1},{"$error":"#DIV/0!"},{"$error":"#DIV/0!"},{"$error":"#DIV/0!"},{"$error":"#DIV/0!"},{"$error":"#DIV/0!"},null,{"$error":"#DIV/0!"},{"$error":"#DIV/0!"},{"$error":"#DIV/0!"},{"$error":"#DIV/0!"},{"$error":"#DIV/0!"}]
[null,null,null,12,27,{"$error":"#VALUE!"},{"$error":"#DIV/0!"},{"$error":"#DIV/0!"},{"$error":"#DIV/0!"},{"$error":"#DIV/0!"},{"$error":"#DIV/0!"},{"$error":"#DIV/0!"},{"$f":"IF(OR(Hiteladatok!$I$8=0,E33>$B$4),0,IF(D33>Hiteladatok!$U$40,0,$B$14+IF(Hiteladatok!$I$10=Hiteladatok!$N$33,$B$15,0)))","v":0},{"$error":"#DIV/0!"},{"$error":"#DIV/0!"},null,{"$error":"#DIV/0!"},{"$error":"#DIV/0!"},{"$error":"#DIV/0!"},{"$error":"#DIV/0!"},{"$error":"#DIV/0!"},{"$error":"#DIV/0!"},{"$error":"#DIV/0!"},null,3,{"$f":"INT((E33-1)/Hiteladatok!$U$29)+1","v":1},{"$error":"#DIV/0!"},{"$error":"#DIV/0!"},{"$error":"#DIV/0!"},{"$error":"#DIV/0!"},{"$error":"#DIV/0!"},null,{"$error":"#DIV/0!"},{"$error":"#DIV/0!"},{"$error":"#DIV/0!"},{"$error":"#DIV/0!"},{"$error":"#DIV/0!"}]
[null,null,null,4,28,{"$error":"#VALUE!"},{"$error":"#DIV/0!"},{"$error":"#DIV/0!"},{"$error":"#DIV/0!"},{"$error":"#DIV/0!"},{"$error":"#DIV/0!"},{"$error":"#DIV/0!"},{"$f":"IF(OR(Hiteladatok!$I$8=0,E34>$B$4),0,IF(D34>Hiteladatok!$U$40,0,$B$14+IF(Hiteladatok!$I$10=Hiteladatok!$N$33,$B$15,0)))","v":0},{"$error":"#DIV/0!"},{"$error":"#DIV/0!"},null,{"$error":"#DIV/0!"},{"$error":"#DIV/0!"},{"$error":"#DIV/0!"},{"$error":"#DIV/0!"},{"$error":"#DIV/0!"},{"$error":"#DIV/0!"},{"$error":"#DIV/0!"},null,3,{"$f":"INT((E34-1)/Hiteladatok!$U$29)+1","v":1},{"$error":"#DIV/0!"},{"$error":"#DIV/0!"},{"$error":"#DIV/0!"},{"$error":"#DIV/0!"},{"$error":"#DIV/0!"},null,{"$error":"#DIV/0!"},{"$error":"#DIV/0!"},{"$error":"#DIV/0!"},{"$error":"#DIV/0!"},{"$error":"#DIV/0!"}]
[null,null,null,12,29,{"$error":"#VALUE!"},{"$error":"#DIV/0!"},{"$error":"#DIV/0!"},{"$error":"#DIV/0!"},{"$error":"#DIV/0!"},{"$error":"#DIV/0!"},{"$error":"#DIV/0!"},{"$f":"IF(OR(Hiteladatok!$I$8=0,E35>$B$4),0,IF(D35>Hiteladatok!$U$40,0,$B$14+IF(Hiteladatok!$I$10=Hiteladatok!$N$33,$B$15,0)))","v":0},{"$error":"#DIV/0!"},{"$error":"#DIV/0!"},null,{"$error":"#DIV/0!"},{"$error":"#DIV/0!"},{"$error":"#DIV/0!"},{"$error":"#DIV/0!"},{"$error":"#DIV/0!"},{"$error":"#DIV/0!"},{"$error":"#DIV/0!"},null,3,{"$f":"INT((E35-1)/Hiteladatok!$U$29)+1","v":1},{"$error":"#DIV/0!"},{"$error":"#DIV/0!"},{"$error":"#DIV/0!"},{"$error":"#DIV/0!"},{"$error":"#DIV/0!"},null,{"$error":"#DIV/0!"},{"$error":"#DIV/0!"},{"$error":"#DIV/0!"},{"$error":"#DIV/0!"},{"$error":"#DIV/0!"}]
[null,null,null,12,30,{"$error":"#VALUE!"},{"$error":"#DIV/0!"},{"$error":"#DIV/0!"},{"$error":"#DIV/0!"},{"$error":"#DIV/0!"},{"$error":"#DIV/0!"},{"$error":"#DIV/0!"},{"$f":"IF(OR(Hiteladatok!$I$8=0,E36>$B$4),0,IF(D36>Hiteladatok!$U$40,0,$B$14+IF(Hiteladatok!$I$10=Hiteladatok!$N$33,$B$15,0)))","v":0},{"$error":"#DIV/0!"},{"$error":"#DIV/0!"},null,{"$error":"#DIV/0!"},{"$error":"#DIV/0!"},{"$error":"#DIV/0!"},{"$error":"#DIV/0!"},{"$error":"#DIV/0!"},{"$error":"#DIV/0!"},{"$error":"#DIV/0!"},null,3,{"$f":"INT((E36-1)/Hiteladatok!$U$29)+1","v":1},{"$error":"#DIV/0!"},{"$error":"#DIV/0!"},{"$error":"#DIV/0!"},{"$error":"#DIV/0!"},{"$error":"#DIV/0!"},null,{"$error":"#DIV/0!"},{"$error":"#DIV/0!"},{"$error":"#DIV/0!"},{"$error":"#DIV/0!"},{"$error":"#DIV/0!"}]
[null,null,null,2,31,{"$error":"#VALUE!"},{"$error":"#DIV/0!"},{"$error":"#DIV/0!"},{"$error":"#DIV/0!"},{"$error":"#DIV/0!"},{"$error":"#DIV/0!"},{"$error":"#DIV/0!"},{"$f":"IF(OR(Hiteladatok!$I$8=0,E37>$B$4),0,IF(D37>Hiteladatok!$U$40,0,$B$14+IF(Hiteladatok!$I$10=Hiteladatok!$N$33,$B$15,0)))","v":0},{"$error":"#DIV/0!"},{"$error":"#DIV/0!"},null,{"$error":"#DIV/0!"},{"$error":"#DIV/0!"},{"$error":"#DIV/0!"},{"$error":"#DIV/0!"},{"$error":"#DIV/0!"},{"$error":"#DIV/0!"},{"$error":"#DIV/0!"},null,3,{"$f":"INT((E37-1)/Hiteladatok!$U$29)+1","v":1},{"$error":"#DIV/0!"},{"$error":"#DIV/0!"},{"$error":"#DIV/0!"},{"$error":"#DIV/0!"},{"$error":"#DIV/0!"},null,{"$error":"#DIV/0!"},{"$error":"#DIV/0!"},{"$error":"#DIV/0!"},{"$error":"#DIV/0!"},{"$error":"#DIV/0!"}]
[null,null,null,12,32,{"$error":"#VALUE!"},{"$error":"#DIV/0!"},{"$error":"#DIV/0!"},{"$error":"#DIV/0!"},{"$error":"#DIV/0!"},{"$error":"#DIV/0!"},{"$error":"#DIV/0!"},{"$f":"IF(OR(Hiteladatok!$I$8=0,E38>$B$4),0,IF(D38>Hiteladatok!$U$40,0,$B$14+IF(Hiteladatok!$I$10=Hiteladatok!$N$33,$B$15,0)))","v":0},{"$error":"#DIV/0!"},{"$error":"#DIV/0!"},null,{"$error":"#DIV/0!"},{"$error":"#DIV/0!"},{"$error":"#DIV/0!"},{"$error":"#DIV/0!"},{"$error":"#DIV/0!"},{"$error":"#DIV/0!"},{"$error":"#DIV/0!"},null,3,{"$f":"INT((E38-1)/Hiteladatok!$U$29)+1","v":1},{"$error":"#DIV/0!"},{"$error":"#DIV/0!"},{"$error":"#DIV/0!"},{"$error":"#DIV/0!"},{"$error":"#DIV/0!"},null,{"$error":"#DIV/0!"},{"$error":"#DIV/0!"},{"$error":"#DIV/0!"},{"$error":"#DIV/0!"},{"$error":"#DIV/0!"}]
[null,null,null,12,33,{"$error":"#VALUE!"},{"$error":"#DIV/0!"},{"$error":"#DIV/0!"},{"$error":"#DIV/0!"},{"$error":"#DIV/0!"},{"$error":"#DIV/0!"},{"$error":"#DIV/0!"},{"$f":"IF(OR(Hiteladatok!$I$8=0,E39>$B$4),0,IF(D39>Hiteladatok!$U$40,0,$B$14+IF(Hiteladatok!$I$10=Hiteladatok!$N$33,$B$15,0)))","v":0},{"$error":"#DIV/0!"},{"$error":"#DIV/0!"},null,{"$error":"#DIV/0!"},{"$error":"#DIV/0!"},{"$error":"#DIV/0!"},{"$error":"#DIV/0!"},{"$error":"#DIV/0!"},{"$error":"#DIV/0!"},{"$error":"#DIV/0!"},null,3,{"$f":"INT((E39-1)/Hiteladatok!$U$29)+1","v":1},{"$error":"#DIV/0!"},{"$error":"#DIV/0!"},{"$error":"#DIV/0!"},{"$error":"#DIV/0!"},{"$error":"#DIV/0!"},null,{"$error":"#DIV/0!"},{"$error":"#DIV/0!"},{"$error":"#DIV/0!"},{"$error":"#DIV/0!"},{"$error":"#DIV/0!"}]
[null,null,null,4,34,{"$error":"#VALUE!"},{"$error":"#DIV/0!"},{"$error":"#DIV/0!"},{"$error":"#DIV/0!"},{"$error":"#DIV/0!"},{"$error":"#DIV/0!"},{"$error":"#DIV/0!"},{"$f":"IF(OR(Hiteladatok!$I$8=0,E40>$B$4),0,IF(D40>Hiteladatok!$U$40,0,$B$14+IF(Hiteladatok!$I$10=Hiteladatok!$N$33,$B$15,0)))","v":0},{"$error":"#DIV/0!"},{"$error":"#DIV/0!"},null,{"$error":"#DIV/0!"},{"$error":"#DIV/0!"},{"$error":"#DIV/0!"},{"$error":"#DIV/0!"},{"$error":"#DIV/0!"},{"$error":"#DIV/0!"},{"$error":"#DIV/0!"},null,3,{"$f":"INT((E40-1)/Hiteladatok!$U$29)+1","v":1},{"$error":"#DIV/0!"},{"$error":"#DIV/0!"},{"$error":"#DIV/0!"},{"$error":"#DIV/0!"},{"$error":"#DIV/0!"},null,{"$error":"#DIV/0!"},{"$error":"#DIV/0!"},{"$error":"#DIV/0!"},{"$error":"#DIV/0!"},{"$error":"#DIV/0!"}]
[null,null,null,12,35,{"$error":"#VALUE!"},{"$error":"#DIV/0!"},{"$error":"#DIV/0!"},{"$error":"#DIV/0!"},{"$error":"#DIV/0!"},{"$error":"#DIV/0!"},{"$error":"#DIV/0!"},{"$f":"IF(OR(Hiteladatok!$I$8=0,E41>$B$4),0,IF(D41>Hiteladatok!$U$40,0,$B$14+IF(Hiteladatok!$I$10=Hiteladatok!$N$33,$B$15,0)))","v":0},{"$error":"#DIV/0!"},{"$error":"#DIV/0!"},null,{"$error":"#DIV/0!"},{"$error":"#DIV/0!"},{"$error":"#DIV/0!"},{"$error":"#DIV/0!"},{"$error":"#DIV/0!"},{"$error":"#DIV/0!"},{"$error":"#DIV/0!"},null,3,{"$f":"INT((E41-1)/Hiteladatok!$U$29)+1","v":1},{"$error":"#DIV/0!"},{"$error":"#DIV/0!"},{"$error":"#DIV/0!"},{"$error":"#DIV/0!"},{"$error":"#DIV/0!"},null,{"$error":"#DIV/0!"},{"$error":"#DIV/0!"},{"$error":"#DIV/0!"},{"$error":"#DIV/0!"},{"$error":"#DIV/0!"}]
[null,null,null,12,36,{"$error":"#VALUE!"},{"$error":"#DIV/0!"},{"$error":"#DIV/0!"},{"$error":"#DIV/0!"},{"$error":"#DIV/0!"},{"$error":"#DIV/0!"},{"$error":"#DIV/0!"},{"$f":"IF(OR(Hiteladatok!$I$8=0,E42>$B$4),0,IF(D42>Hiteladatok!$U$40,0,$B$14+IF(Hiteladatok!$I$10=Hiteladatok!$N$33,$B$15,0)))","v":0},{"$error":"#DIV/0!"},{"$error":"#DIV/0!"},null,{"$error":"#DIV/0!"},{"$error":"#DIV/0!"},{"$error":"#DIV/0!"},{"$error":"#DIV/0!"},{"$error":"#DIV/0!"},{"$error":"#DIV/0!"},{"$error":"#DIV/0!"},null,3,{"$f":"INT((E42-1)/Hiteladatok!$U$29)+1","v":1},{"$error":"#DIV/0!"},{"$error":"#DIV/0!"},{"$error":"#DIV/0!"},{"$error":"#DIV/0!"},{"$error":"#DIV/0!"},null,{"$error":"#DIV/0!"},{"$error":"#DIV/0!"},{"$error":"#DIV/0!"},{"$error":"#DIV/0!"},{"$error":"#DIV/0!"}]
[null,null,null,1,37,{"$error":"#VALUE!"},{"$error":"#DIV/0!"},{"$error":"#DIV/0!"},{"$error":"#DIV/0!"},{"$error":"#DIV/0!"},{"$error":"#DIV/0!"},{"$error":"#DIV/0!"},{"$f":"IF(OR(Hiteladatok!$I$8=0,E43>$B$4),0,IF(D43>Hiteladatok!$U$40,0,$B$14+IF(Hiteladatok!$I$10=Hiteladatok!$N$33,$B$15,0)))","v":0},{"$error":"#DIV/0!"},{"$error":"#DIV/0!"},null,{"$error":"#DIV/0!"},{"$error":"#DIV/0!"},{"$error":"#DIV/0!"},{"$error":"#DIV/0!"},{"$error":"#DIV/0!"},{"$error":"#DIV/0!"},{"$error":"#DIV/0!"},null,4,{"$f":"INT((E43-1)/Hiteladatok!$U$29)+1","v":1},{"$error":"#DIV/0!"},{"$error":"#DIV/0!"},{"$error":"#DIV/0!"},{"$error":"#DIV/0!"},{"$error":"#DIV/0!"},null,{"$error":"#DIV/0!"},{"$error":"#DIV/0!"},{"$error":"#DIV/0!"},{"$error":"#DIV/0!"},{"$error":"#DIV/0!"}]
[null,null,null,12,38,{"$error":"#VALUE!"},{"$error":"#DIV/0!"},{"$error":"#DIV/0!"},{"$error":"#DIV/0!"},{"$error":"#DIV/0!"},{"$error":"#DIV/0!"},{"$error":"#DIV/0!"},{"$f":"IF(OR(Hiteladatok!$I$8=0,E44>$B$4),0,IF(D44>Hiteladatok!$U$40,0,$B$14+IF(Hiteladatok!$I$10=Hiteladatok!$N$33,$B$15,0)))","v":0},{"$error":"#DIV/0!"},{"$error":"#DIV/0!"},null,{"$error":"#DIV/0!"},{"$error":"#DIV/0!"},{"$error":"#DIV/0!"},{"$error":"#DIV/0!"},{"$error":"#DIV/0!"},{"$error":"#DIV/0!"},{"$error":"#DIV/0!"},null,4,{"$f":"INT((E44-1)/Hiteladatok!$U$29)+1","v":1},{"$error":"#DIV/0!"},{"$error":"#DIV/0!"},{"$error":"#DIV/0!"},{"$error":"#DIV/0!"},{"$error":"#DIV/0!"},null,{"$error":"#DIV/0!"},{"$error":"#DIV/0!"},{"$error":"#DIV/0!"},{"$error":"#DIV/0!"},{"$error":"#DIV/0!"}]
[null,null,null,12,39,{"$error":"#VALUE!"},{"$error":"#DIV/0!"},{"$error":"#DIV/0!"},{"$error":"#DIV/0!"},{"$error":"#DIV/0!"},{"$error":"#DIV/0!"},{"$error":"#DIV/0!"},{"$f":"IF(OR(Hiteladatok!$I$8=0,E45>$B$4),0,IF(D45>Hiteladatok!$U$40,0,$B$14+IF(Hiteladatok!$I$10=Hiteladatok!$N$33,$B$15,0)))","v":0},{"$error":"#DIV/0!"},{"$error":"#DIV/0!"},null,{"$error":"#DIV/0!"},{"$error":"#DIV/0!"},{"$error":"#DIV/0!"},{"$error":"#DIV/0!"},{"$error":"#DIV/0!"},{"$error":"#DIV/0!"},{"$error":"#DIV/0!"},null,4,{"$f":"INT((E45-1)/Hiteladatok!$U$29)+1","v":1},{"$error":"#DIV/0!"},{"$error":"#DIV/0!"},{"$error":"#DIV/0!"},{"$error":"#DIV/0!"},{"$error":"#DIV/0!"},null,{"$error":"#DIV/0!"},{"$error":"#DIV/0!"},{"$error":"#DIV/0!"},{"$error":"#DIV/0!"},{"$error":"#DIV/0!"}]
[null,null,null,4,40,{"$error":"#VALUE!"},{"$error":"#DIV/0!"},{"$error":"#DIV/0!"},{"$error":"#DIV/0!"},{"$error":"#DIV/0!"},{"$error":"#DIV/0!"},{"$error":"#DIV/0!"},{"$f":"IF(OR(Hiteladatok!$I$8=0,E46>$B$4),0,IF(D46>Hiteladatok!$U$40,0,$B$14+IF(Hiteladatok!$I$10=Hiteladatok!$N$33,$B$15,0)))","v":0},{"$error":"#DIV/0!"},{"$error":"#DIV/0!"},null,{"$error":"#DIV/0!"},{"$error":"#DIV/0!"},{"$error":"#DIV/0!"},{"$error":"#DIV/0!"},{"$error":"#DIV/0!"},{"$error":"#DIV/0!"},{"$error":"#DIV/0!"},null,4,{"$f":"INT((E46-1)/Hiteladatok!$U$29)+1","v":1},{"$error":"#DIV/0!"},{"$error":"#DIV/0!"},{"$error":"#DIV/0!"},{"$error":"#DIV/0!"},{"$error":"#DIV/0!"},null,{"$error":"#DIV/0!"},{"$error":"#DIV/0!"},{"$error":"#DIV/0!"},{"$error":"#DIV/0!"},{"$error":"#DIV/0!"}]
[null,null,null,12,41,{"$error":"#VALUE!"},{"$error":"#DIV/0!"},{"$error":"#DIV/0!"},{"$error":"#DIV/0!"},{"$error":"#DIV/0!"},{"$error":"#DIV/0!"},{"$error":"#DIV/0!"},{"$f":"IF(OR(Hiteladatok!$I$8=0,E47>$B$4),0,IF(D47>Hiteladatok!$U$40,0,$B$14+IF(Hiteladatok!$I$10=Hiteladatok!$N$33,$B$15,0)))","v":0},{"$error":"#DIV/0!"},{"$error":"#DIV/0!"},null,{"$error":"#DIV/0!"},{"$error":"#DIV/0!"},{"$error":"#DIV/0!"},{"$error":"#DIV/0!"},{"$error":"#DIV/0!"},{"$error":"#DIV/0!"},{"$error":"#DIV/0!"},null,4,{"$f":"INT((E47-1)/Hiteladatok!$U$29)+1","v":1},{"$error":"#DIV/0!"},{"$error":"#DIV/0!"},{"$error":"#DIV/0!"},{"$error":"#DIV/0!"},{"$error":"#DIV/0!"},null,{"$error":"#DIV/0!"},{"$error":"#DIV/0!"},{"$error":"#DIV/0!"},{"$error":"#DIV/0!"},{"$error":"#DIV/0!"}]
[null,null,null,12,42,{"$error":"#VALUE!"},{"$error":"#DIV/0!"},{"$error":"#DIV/0!"},{"$error":"#DIV/0!"},{"$error":"#DIV/0!"},{"$error":"#DIV/0!"},{"$error":"#DIV/0!"},{"$f":"IF(OR(Hiteladatok!$I$8=0,E48>$B$4),0,IF(D48>Hiteladatok!$U$40,0,$B$14+IF(Hiteladatok!$I$10=Hiteladatok!$N$33,$B$15,0)))","v":0},{"$error":"#DIV/0!"},{"$error":"#DIV/0!"},null,{"$error":"#DIV/0!"},{"$error":"#DIV/0!"},{"$error":"#DIV/0!"},{"$error":"#DIV/0!"},{"$error":"#DIV/0!"},{"$error":"#DIV/0!"},{"$error":"#DIV/0!"},null,4,{"$f":"INT((E48-1)/Hiteladatok!$U$29)+1","v":1},{"$error":"#DIV/0!"},{"$error":"#DIV/0!"},{"$error":"#DIV/0!"},{"$error":"#DIV/0!"},{"$error":"#DIV/0!"},null,{"$error":"#DIV/0!"},{"$error":"#DIV/0!"},{"$error":"#DIV/0!"},{"$error":"#DIV/0!"},{"$error":"#DIV/0!"}]
[null,null,null,2,43,{"$error":"#VALUE!"},{"$error":"#DIV/0!"},{"$error":"#DIV/0!"},{"$error":"#DIV/0!"},{"$error":"#DIV/0!"},{"$error":"#DIV/0!"},{"$error":"#DIV/0!"},{"$f":"IF(OR(Hiteladatok!$I$8=0,E49>$B$4),0,IF(D49>Hiteladatok!$U$40,0,$B$14+IF(Hiteladatok!$I$10=Hiteladatok!$N$33,$B$15,0)))","v":0},{"$error":"#DIV/0!"},{"$error":"#DIV/0!"},null,{"$error":"#DIV/0!"},{"$error":"#DIV/0!"},{"$error":"#DIV/0!"},{"$error":"#DIV/0!"},{"$error":"#DIV/0!"},{"$error":"#DIV/0!"},{"$error":"#DIV/0!"},null,4,{"$f":"INT((E49-1)/Hiteladatok!$U$29)+1","v":1},{"$error":"#DIV/0!"},{"$error":"#DIV/0!"},{"$error":"#DIV/0!"},{"$error":"#DIV/0!"},{"$error":"#DIV/0!"},null,{"$error":"#DIV/0!"},{"$error":"#DIV/0!"},{"$error":"#DIV/0!"},{"$error":"#DIV/0!"},{"$error":"#DIV/0!"}]
[null,null,null,12,44,{"$error":"#VALUE!"},{"$error":"#DIV/0!"},{"$error":"#DIV/0!"},{"$error":"#DIV/0!"},{"$error":"#DIV/0!"},{"$error":"#DIV/0!"},{"$error":"#DIV/0!"},{"$f":"IF(OR(Hiteladatok!$I$8=0,E50>$B$4),0,IF(D50>Hiteladatok!$U$40,0,$B$14+IF(Hiteladatok!$I$10=Hiteladatok!$N$33,$B$15,0)))","v":0},{"$error":"#DIV/0!"},{"$error":"#DIV/0!"},null,{"$error":"#DIV/0!"},{"$error":"#DIV/0!"},{"$error":"#DIV/0!"},{"$error":"#DIV/0!"},{"$error":"#DIV/0!"},{"$error":"#DIV/0!"},{"$error":"#DIV/0!"},null,4,{"$f":"INT((E50-1)/Hiteladatok!$U$29)+1","v":1},{"$error":"#DIV/0!"},{"$error":"#DIV/0!"},{"$error":"#DIV/0!"},{"$error":"#DIV/0!"},{"$error":"#DIV/0!"},null,{"$error":"#DIV/0!"},{"$error":"#DIV/0!"},{"$error":"#DIV/0!"},{"$error":"#DIV/0!"},{"$error":"#DIV/0!"}]
[null,null,null,12,45,{"$error":"#VALUE!"},{"$error":"#DIV/0!"},{"$error":"#DIV/0!"},{"$error":"#DIV/0!"},{"$error":"#DIV/0!"},{"$error":"#DIV/0!"},{"$error":"#DIV/0!"},{"$f":"IF(OR(Hiteladatok!$I$8=0,E51>$B$4),0,IF(D51>Hiteladatok!$U$40,0,$B$14+IF(Hiteladatok!$I$10=Hiteladatok!$N$33,$B$15,0)))","v":0},{"$error":"#DIV/0!"},{"$error":"#DIV/0!"},null,{"$error":"#DIV/0!"},{"$error":"#DIV/0!"},{"$error":"#DIV/0!"},{"$error":"#DIV/0!"},{"$error":"#DIV/0!"},{"$error":"#DIV/0!"},{"$error":"#DIV/0!"},null,4,{"$f":"INT((E51-1)/Hiteladatok!$U$29)+1","v":1},{"$error":"#DIV/0!"},{"$error":"#DIV/0!"},{"$error":"#DIV/0!"},{"$error":"#DIV/0!"},{"$error":"#DIV/0!"},null,{"$error":"#DIV/0!"},{"$error":"#DIV/0!"},{"$error":"#DIV/0!"},{"$error":"#DIV/0!"},{"$error":"#DIV/0!"}]
[null,null,null,4,46,{"$error":"#VALUE!"},{"$error":"#DIV/0!"},{"$error":"#DIV/0!"},{"$error":"#DIV/0!"},{"$error":"#DIV/0!"},{"$error":"#DIV/0!"},{"$error":"#DIV/0!"},{"$f":"IF(OR(Hiteladatok!$I$8=0,E52>$B$4),0,IF(D52>Hiteladatok!$U$40,0,$B$14+IF(Hiteladatok!$I$10=Hiteladatok!$N$33,$B$15,0)))","v":0},{"$error":"#DIV/0!"},{"$error":"#DIV/0!"},null,{"$error":"#DIV/0!"},{"$error":"#DIV/0!"},{"$error":"#DIV/0!"},{"$error":"#DIV/0!"},{"$error":"#DIV/0!"},{"$error":"#DIV/0!"},{"$error":"#DIV/0!"},null,4,{"$f":"INT((E52-1)/Hiteladatok!$U$29)+1","v":1},{"$error":"#DIV/0!"},{"$error":"#DIV/0!"},{"$error":"#DIV/0!"},{"$error":"#DIV/0!"},{"$error":"#DIV/0!"},null,{"$error":"#DIV/0!"},{"$error":"#DIV/0!"},{"$error":"#DIV/0!"},{"$error":"#DIV/0!"},{"$error":"#DIV/0!"}]
[null,null,null,12,47,{"$error":"#VALUE!"},{"$error":"#DIV/0!"},{"$error":"#DIV/0!"},{"$error":"#DIV/0!"},{"$error":"#DIV/0!"},{"$error":"#DIV/0!"},{"$error":"#DIV/0!"},{"$f":"IF(OR(Hiteladatok!$I$8=0,E53>$B$4),0,IF(D53>Hiteladatok!$U$40,0,$B$14+IF(Hiteladatok!$I$10=Hiteladatok!$N$33,$B$15,0)))","v":0},{"$error":"#DIV/0!"},{"$error":"#DIV/0!"},null,{"$error":"#DIV/0!"},{"$error":"#DIV/0!"},{"$error":"#DIV/0!"},{"$error":"#DIV/0!"},{"$error":"#DIV/0!"},{"$error":"#DIV/0!"},{"$error":"#DIV/0!"},null,4,{"$f":"INT((E53-1)/Hiteladatok!$U$29)+1","v":1},{"$error":"#DIV/0!"},{"$error":"#DIV/0!"},{"$error":"#DIV/0!"},{"$error":"#DIV/0!"},{"$error":"#DIV/0!"},null,{"$error":"#DIV/0!"},{"$error":"#DIV/0!"},{"$error":"#DIV/0!"},{"$error":"#DIV/0!"},{"$error":"#DIV/0!"}]
[null,null,null,12,48,{"$error":"#VALUE!"},{"$error":"#DIV/0!"},{"$error":"#DIV/0!"},{"$error":"#DIV/0!"},{"$error":"#DIV/0!"},{"$error":"#DIV/0!"},{"$error":"#DIV/0!"},{"$f":"IF(OR(Hiteladatok!$I$8=0,E54>$B$4),0,IF(D54>Hiteladatok!$U$40,0,$B$14+IF(Hiteladatok!$I$10=Hiteladatok!$N$33,$B$15,0)))","v":0},{"$error":"#DIV/0!"},{"$error":"#DIV/0!"},null,{"$error":"#DIV/0!"},{"$error":"#DIV/0!"},{"$error":"#DIV/0!"},{"$error":"#DIV/0!"},{"$error":"#DIV/0!"},{"$error":"#DIV/0!"},{"$error":"#DIV/0!"},null,4,{"$f":"INT((E54-1)/Hiteladatok!$U$29)+1","v":1},{"$error":"#DIV/0!"},{"$error":"#DIV/0!"},{"$error":"#DIV/0!"},{"$error":"#DIV/0!"},{"$error":"#DIV/0!"},null,{"$error":"#DIV/0!"},{"$error":"#DIV/0!"},{"$error":"#DIV/0!"},{"$error":"#DIV/0!"},{"$error":"#DIV/0!"}]
[null,null,null,1,49,{"$error":"#VALUE!"},{"$error":"#DIV/0!"},{"$error":"#DIV/0!"},{"$error":"#DIV/0!"},{"$error":"#DIV/0!"},{"$error":"#DIV/0!"},{"$error":"#DIV/0!"},{"$f":"IF(OR(Hiteladatok!$I$8=0,E55>$B$4),0,IF(D55>Hiteladatok!$U$40,0,$B$14+IF(Hiteladatok!$I$10=Hiteladatok!$N$33,$B$15,0)))","v":0},{"$error":"#DIV/0!"},{"$error":"#DIV/0!"},null,{"$error":"#DIV/0!"},{"$error":"#DIV/0!"},{"$error":"#DIV/0!"},{"$error":"#DIV/0!"},{"$error":"#DIV/0!"},{"$error":"#DIV/0!"},{"$error":"#DIV/0!"},null,5,{"$f":"INT((E55-1)/Hiteladatok!$U$29)+1","v":1},{"$error":"#DIV/0!"},{"$error":"#DIV/0!"},{"$error":"#DIV/0!"},{"$error":"#DIV/0!"},{"$error":"#DIV/0!"},null,{"$error":"#DIV/0!"},{"$error":"#DIV/0!"},{"$error":"#DIV/0!"},{"$error":"#DIV/0!"},{"$error":"#DIV/0!"}]
[null,null,null,12,50,{"$error":"#VALUE!"},{"$error":"#DIV/0!"},{"$error":"#DIV/0!"},{"$error":"#DIV/0!"},{"$error":"#DIV/0!"},{"$error":"#DIV/0!"},{"$error":"#DIV/0!"},{"$f":"IF(OR(Hiteladatok!$I$8=0,E56>$B$4),0,IF(D56>Hiteladatok!$U$40,0,$B$14+IF(Hiteladatok!$I$10=Hiteladatok!$N$33,$B$15,0)))","v":0},{"$error":"#DIV/0!"},{"$error":"#DIV/0!"},null,{"$error":"#DIV/0!"},{"$error":"#DIV/0!"},{"$error":"#DIV/0!"},{"$error":"#DIV/0!"},{"$error":"#DIV/0!"},{"$error":"#DIV/0!"},{"$error":"#DIV/0!"},null,5,{"$f":"INT((E56-1)/Hiteladatok!$U$29)+1","v":1},{"$error":"#DIV/0!"},{"$error":"#DIV/0!"},{"$error":"#DIV/0!"},{"$error":"#DIV/0!"},{"$error":"#DIV/0!"},null,{"$error":"#DIV/0!"},{"$error":"#DIV/0!"},{"$error":"#DIV/0!"},{"$error":"#DIV/0!"},{"$error":"#DIV/0!"}]
[null,null,null,12,51,{"$error":"#VALUE!"},{"$error":"#DIV/0!"},{"$error":"#DIV/0!"},{"$error":"#DIV/0!"},{"$error":"#DIV/0!"},{"$error":"#DIV/0!"},{"$error":"#DIV/0!"},{"$f":"IF(OR(Hiteladatok!$I$8=0,E57>$B$4),0,IF(D57>Hiteladatok!$U$40,0,$B$14+IF(Hiteladatok!$I$10=Hiteladatok!$N$33,$B$15,0)))","v":0},{"$error":"#DIV/0!"},{"$error":"#DIV/0!"},null,{"$error":"#DIV/0!"},{"$error":"#DIV/0!"},{"$error":"#DIV/0!"},{"$error":"#DIV/0!"},{"$error":"#DIV/0!"},{"$error":"#DIV/0!"},{"$error":"#DIV/0!"},null,5,{"$f":"INT((E57-1)/Hiteladatok!$U$29)+1","v":1},{"$error":"#DIV/0!"},{"$error":"#DIV/0!"},{"$error":"#DIV/0!"},{"$error":"#DIV/0!"},{"$error":"#DIV/0!"},null,{"$error":"#DIV/0!"},{"$error":"#DIV/0!"},{"$error":"#DIV/0!"},{"$error":"#DIV/0!"},{"$error":"#DIV/0!"}]
[null,null,null,4,52,{"$error":"#VALUE!"},{"$error":"#DIV/0!"},{"$error":"#DIV/0!"},{"$error":"#DIV/0!"},{"$error":"#DIV/0!"},{"$error":"#DIV/0!"},{"$error":"#DIV/0!"},{"$f":"IF(OR(Hiteladatok!$I$8=0,E58>$B$4),0,IF(D58>Hiteladatok!$U$40,0,$B$14+IF(Hiteladatok!$I$10=Hiteladatok!$N$33,$B$15,0)))","v":0},{"$error":"#DIV/0!"},{"$error":"#DIV/0!"},null,{"$error":"#DIV/0!"},{"$error":"#DIV/0!"},{"$error":"#DIV/0!"},{"$error":"#DIV/0!"},{"$error":"#DIV/0!"},{"$error":"#DIV/0!"},{"$error":"#DIV/0!"},null,5,{"$f":"INT((E58-1)/Hiteladatok!$U$29)+1","v":1},{"$error":"#DIV/0!"},{"$error":"#DIV/0!"},{"$error":"#DIV/0!"},{"$error":"#DIV/0!"},{"$error":"#DIV/0!"},null,{"$error":"#DIV/0!"},{"$error":"#DIV/0!"},{"$error":"#DIV/0!"},{"$error":"#DIV/0!"},{"$error":"#DIV/0!"}]
[null,null,null,12,53,{"$error":"#VALUE!"},{"$error":"#DIV/0!"},{"$error":"#DIV/0!"},{"$error":"#DIV/0!"},{"$error":"#DIV/0!"},{"$error":"#DIV/0!"},{"$error":"#DIV/0!"},{"$f":"IF(OR(Hiteladatok!$I$8=0,E59>$B$4),0,IF(D59>Hiteladatok!$U$40,0,$B$14+IF(Hiteladatok!$I$10=Hiteladatok!$N$33,$B$15,0)))","v":0},{"$error":"#DIV/0!"},{"$error":"#DIV/0!"},null,{"$error":"#DIV/0!"},{"$error":"#DIV/0!"},{"$error":"#DIV/0!"},{"$error":"#DIV/0!"},{"$error":"#DIV/0!"},{"$error":"#DIV/0!"},{"$error":"#DIV/0!"},null,5,{"$f":"INT((E59-1)/Hiteladatok!$U$29)+1","v":1},{"$error":"#DIV/0!"},{"$error":"#DIV/0!"},{"$error":"#DIV/0!"},{"$error":"#DIV/0!"},{"$error":"#DIV/0!"},null,{"$error":"#DIV/0!"},{"$error":"#DIV/0!"},{"$error":"#DIV/0!"},{"$error":"#DIV/0!"},{"$error":"#DIV/0!"}]
[null,null,null,12,54,{"$error":"#VALUE!"},{"$error":"#DIV/0!"},{"$error":"#DIV/0!"},{"$error":"#DIV/0!"},{"$error":"#DIV/0!"},{"$error":"#DIV/0!"},{"$error":"#DIV/0!"},{"$f":"IF(OR(Hiteladatok!$I$8=0,E60>$B$4),0,IF(D60>Hiteladatok!$U$40,0,$B$14+IF(Hiteladatok!$I$10=Hiteladatok!$N$33,$B$15,0)))","v":0},{"$error":"#DIV/0!"},{"$error":"#DIV/0!"},null,{"$error":"#DIV/0!"},{"$error":"#DIV/0!"},{"$error":"#DIV/0!"},{"$error":"#DIV/0!"},{"$error":"#DIV/0!"},{"$error":"#DIV/0!"},{"$error":"#DIV/0!"},null,5,{"$f":"INT((E60-1)/Hiteladatok!$U$29)+1","v":1},{"$error":"#DIV/0!"},{"$error":"#DIV/0!"},{"$error":"#DIV/0!"},{"$error":"#DIV/0!"},{"$error":"#DIV/0!"},null,{"$error":"#DIV/0!"},{"$error":"#DIV/0!"},{"$error":"#DIV/0!"},{"$error":"#DIV/0!"},{"$error":"#DIV/0!"}]
[null,null,null,2,55,{"$error":"#VALUE!"},{"$error":"#DIV/0!"},{"$error":"#DIV/0!"},{"$error":"#DIV/0!"},{"$error":"#DIV/0!"},{"$error":"#DIV/0!"},{"$error":"#DIV/0!"},{"$f":"IF(OR(Hiteladatok!$I$8=0,E61>$B$4),0,IF(D61>Hiteladatok!$U$40,0,$B$14+IF(Hiteladatok!$I$10=Hiteladatok!$N$33,$B$15,0)))","v":0},{"$error":"#DIV/0!"},{"$error":"#DIV/0!"},null,{"$error":"#DIV/0!"},{"$error":"#DIV/0!"},{"$error":"#DIV/0!"},{"$error":"#DIV/0!"},{"$error":"#DIV/0!"},{"$error":"#DIV/0!"},{"$error":"#DIV/0!"},null,5,{"$f":"INT((E61-1)/Hiteladatok!$U$29)+1","v":1},{"$error":"#DIV/0!"},{"$error":"#DIV/0!"},{"$error":"#DIV/0!"},{"$error":"#DIV/0!"},{"$error":"#DIV/0!"},null,{"$error":"#DIV/0!"},{"$error":"#DIV/0!"},{"$error":"#DIV/0!"},{"$error":"#DIV/0!"},{"$error":"#DIV/0!"}]
[null,null,null,12,56,{"$error":"#VALUE!"},{"$error":"#DIV/0!"},{"$error":"#DIV/0!"},{"$error":"#DIV/0!"},{"$error":"#DIV/0!"},{"$error":"#DIV/0!"},{"$error":"#DIV/0!"},{"$f":"IF(OR(Hiteladatok!$I$8=0,E62>$B$4),0,IF(D62>Hiteladatok!$U$40,0,$B$14+IF(Hiteladatok!$I$10=Hiteladatok!$N$33,$B$15,0)))","v":0},{"$error":"#DIV/0!"},{"$error":"#DIV/0!"},null,{"$error":"#DIV/0!"},{"$error":"#DIV/0!"},{"$error":"#DIV/0!"},{"$error":"#DIV/0!"},{"$error":"#DIV/0!"},{"$error":"#DIV/0!"},{"$error":"#DIV/0!"},null,5,{"$f":"INT((E62-1)/Hiteladatok!$U$29)+1","v":1},{"$error":"#DIV/0!"},{"$error":"#DIV/0!"},{"$error":"#DIV/0!"},{"$error":"#DIV/0!"},{"$error":"#DIV/0!"},null,{"$error":"#DIV/0!"},{"$error":"#DIV/0!"},{"$error":"#DIV/0!"},{"$error":"#DIV/0!"},{"$error":"#DIV/0!"}]
[null,null,null,12,57,{"$error":"#VALUE!"},{"$error":"#DIV/0!"},{"$error":"#DIV/0!"},{"$error":"#DIV/0!"},{"$error":"#DIV/0!"},{"$error":"#DIV/0!"},{"$error":"#DIV/0!"},{"$f":"IF(OR(Hiteladatok!$I$8=0,E63>$B$4),0,IF(D63>Hiteladatok!$U$40,0,$B$14+IF(Hiteladatok!$I$10=Hiteladatok!$N$33,$B$15,0)))","v":0},{"$error":"#DIV/0!"},{"$error":"#DIV/0!"},null,{"$error":"#DIV/0!"},{"$error":"#DIV/0!"},{"$error":"#DIV/0!"},{"$error":"#DIV/0!"},{"$error":"#DIV/0!"},{"$error":"#DIV/0!"},{"$error":"#DIV/0!"},null,5,{"$f":"INT((E63-1)/Hiteladatok!$U$29)+1","v":1},{"$error":"#DIV/0!"},{"$error":"#DIV/0!"},{"$error":"#DIV/0!"},{"$error":"#DIV/0!"},{"$error":"#DIV/0!"},null,{"$error":"#DIV/0!"},{"$error":"#DIV/0!"},{"$error":"#DIV/0!"},{"$error":"#DIV/0!"},{"$error":"#DIV/0!"}]
[null,null,null,4,58,{"$error":"#VALUE!"},{"$error":"#DIV/0!"},{"$error":"#DIV/0!"},{"$error":"#DIV/0!"},{"$error":"#DIV/0!"},{"$error":"#DIV/0!"},{"$error":"#DIV/0!"},{"$f":"IF(OR(Hiteladatok!$I$8=0,E64>$B$4),0,IF(D64>Hiteladatok!$U$40,0,$B$14+IF(Hiteladatok!$I$10=Hiteladatok!$N$33,$B$15,0)))","v":0},{"$error":"#DIV/0!"},{"$error":"#DIV/0!"},null,{"$error":"#DIV/0!"},{"$error":"#DIV/0!"},{"$error":"#DIV/0!"},{"$error":"#DIV/0!"},{"$error":"#DIV/0!"},{"$error":"#DIV/0!"},{"$error":"#DIV/0!"},null,5,{"$f":"INT((E64-1)/Hiteladatok!$U$29)+1","v":1},{"$error":"#DIV/0!"},{"$error":"#DIV/0!"},{"$error":"#DIV/0!"},{"$error":"#DIV/0!"},{"$error":"#DIV/0!"},null,{"$error":"#DIV/0!"},{"$error":"#DIV/0!"},{"$error":"#DIV/0!"},{"$error":"#DIV/0!"},{"$error":"#DIV/0!"}]
[null,null,null,12,59,{"$error":"#VALUE!"},{"$error":"#DIV/0!"},{"$error":"#DIV/0!"},{"$error":"#DIV/0!"},{"$error":"#DIV/0!"},{"$error":"#DIV/0!"},{"$error":"#DIV/0!"},{"$f":"IF(OR(Hiteladatok!$I$8=0,E65>$B$4),0,IF(D65>Hiteladatok!$U$40,0,$B$14+IF(Hiteladatok!$I$10=Hiteladatok!$N$33,$B$15,0)))","v":0},{"$error":"#DIV/0!"},{"$error":"#DIV/0!"},null,{"$error":"#DIV/0!"},{"$error":"#DIV/0!"},{"$error":"#DIV/0!"},{"$error":"#DIV/0!"},{"$error":"#DIV/0!"},{"$error":"#DIV/0!"},{"$error":"#DIV/0!"},null,5,{"$f":"INT((E65-1)/Hiteladatok!$U$29)+1","v":1},{"$error":"#DIV/0!"},{"$error":"#DIV/0!"},{"$error":"#DIV/0!"},{"$error":"#DIV/0!"},{"$error":"#DIV/0!"},null,{"$error":"#DIV/0!"},{"$error":"#DIV/0!"},{"$error":"#DIV/0!"},{"$error":"#DIV/0!"},{"$error":"#DIV/0!"}]
[null,null,null,12,60,{"$error":"#VALUE!"},{"$error":"#DIV/0!"},{"$error":"#DIV/0!"},{"$error":"#DIV/0!"},{"$error":"#DIV/0!"},{"$error":"#DIV/0!"},{"$error":"#DIV/0!"},{"$f":"IF(OR(Hiteladatok!$I$8=0,E66>$B$4),0,IF(D66>Hiteladatok!$U$40,0,$B$14+IF(Hiteladatok!$I$10=Hiteladatok!$N$33,$B$15,0)))","v":0},{"$error":"#DIV/0!"},{"$error":"#DIV/0!"},null,{"$error":"#DIV/0!"},{"$error":"#DIV/0!"},{"$error":"#DIV/0!"},{"$error":"#DIV/0!"},{"$error":"#DIV/0!"},{"$error":"#DIV/0!"},{"$error":"#DIV/0!"},null,5,{"$f":"INT((E66-1)/Hiteladatok!$U$29)+1","v":1},{"$error":"#DIV/0!"},{"$error":"#DIV/0!"},{"$error":"#DIV/0!"},{"$error":"#DIV/0!"},{"$error":"#DIV/0!"},null,{"$error":"#DIV/0!"},{"$error":"#DIV/0!"},{"$error":"#DIV/0!"},{"$error":"#DIV/0!"},{"$error":"#DIV/0!"}]
[null,null,null,1,61,{"$error":"#VALUE!"},{"$error":"#DIV/0!"},{"$error":"#DIV/0!"},{"$error":"#DIV/0!"},{"$error":"#DIV/0!"},{"$error":"#DIV/0!"},{"$error":"#DIV/0!"},{"$f":"IF(OR(Hiteladatok!$I$8=0,E67>$B$4),0,IF(D67>Hiteladatok!$U$40,0,$B$14+IF(Hiteladatok!$I$10=Hiteladatok!$N$33,$B$15,0)))","v":0},{"$error":"#DIV/0!"},{"$error":"#DIV/0!"},null,{"$error":"#DIV/0!"},{"$error":"#DIV/0!"},{"$error":"#DIV/0!"},{"$error":"#DIV/0!"},{"$error":"#DIV/0!"},{"$error":"#DIV/0!"},{"$error":"#DIV/0!"},null,6,{"$f":"INT((E67-1)/Hiteladatok!$U$29)+1","v":1},{"$error":"#DIV/0!"},{"$error":"#DIV/0!"},{"$error":"#DIV/0!"},{"$error":"#DIV/0!"},{"$error":"#DIV/0!"},null,{"$error":"#DIV/0!"},{"$error":"#DIV/0!"},{"$error":"#DIV/0!"},{"$error":"#DIV/0!"},{"$error":"#DIV/0!"}]
[null,null,null,12,62,{"$error":"#VALUE!"},{"$error":"#DIV/0!"},{"$error":"#DIV/0!"},{"$error":"#DIV/0!"},{"$error":"#DIV/0!"},{"$error":"#DIV/0!"},{"$error":"#DIV/0!"},{"$f":"IF(OR(Hiteladatok!$I$8=0,E68>$B$4),0,IF(D68>Hiteladatok!$U$40,0,$B$14+IF(Hiteladatok!$I$10=Hiteladatok!$N$33,$B$15,0)))","v":0},{"$error":"#DIV/0!"},{"$error":"#DIV/0!"},null,{"$error":"#DIV/0!"},{"$error":"#DIV/0!"},{"$error":"#DIV/0!"},{"$error":"#DIV/0!"},{"$error":"#DIV/0!"},{"$error":"#DIV/0!"},{"$error":"#DIV/0!"},null,6,{"$f":"INT((E68-1)/Hiteladatok!$U$29)+1","v":1},{"$error":"#DIV/0!"},{"$error":"#DIV/0!"},{"$error":"#DIV/0!"},{"$error":"#DIV/0!"},{"$error":"#DIV/0!"},null,{"$error":"#DIV/0!"},{"$error":"#DIV/0!"},{"$error":"#DIV/0!"},{"$error":"#DIV/0!"},{"$error":"#DIV/0!"}]
[null,null,null,12,63,{"$error":"#VALUE!"},{"$error":"#DIV/0!"},{"$error":"#DIV/0!"},{"$error":"#DIV/0!"},{"$error":"#DIV/0!"},{"$error":"#DIV/0!"},{"$error":"#DIV/0!"},{"$f":"IF(OR(Hiteladatok!$I$8=0,E69>$B$4),0,IF(D69>Hiteladatok!$U$40,0,$B$14+IF(Hiteladatok!$I$10=Hiteladatok!$N$33,$B$15,0)))","v":0},{"$error":"#DIV/0!"},{"$error":"#DIV/0!"},null,{"$error":"#DIV/0!"},{"$error":"#DIV/0!"},{"$error":"#DIV/0!"},{"$error":"#DIV/0!"},{"$error":"#DIV/0!"},{"$error":"#DIV/0!"},{"$error":"#DIV/0!"},null,6,{"$f":"INT((E69-1)/Hiteladatok!$U$29)+1","v":1},{"$error":"#DIV/0!"},{"$error":"#DIV/0!"},{"$error":"#DIV/0!"},{"$error":"#DIV/0!"},{"$error":"#DIV/0!"},null,{"$error":"#DIV/0!"},{"$error":"#DIV/0!"},{"$error":"#DIV/0!"},{"$error":"#DIV/0!"},{"$error":"#DIV/0!"}]
[null,null,null,4,64,{"$error":"#VALUE!"},{"$error":"#DIV/0!"},{"$error":"#DIV/0!"},{"$error":"#DIV/0!"},{"$error":"#DIV/0!"},{"$error":"#DIV/0!"},{"$error":"#DIV/0!"},{"$f":"IF(OR(Hiteladatok!$I$8=0,E70>$B$4),0,IF(D70>Hiteladatok!$U$40,0,$B$14+IF(Hiteladatok!$I$10=Hiteladatok!$N$33,$B$15,0)))","v":0},{"$error":"#DIV/0!"},{"$error":"#DIV/0!"},null,{"$error":"#DIV/0!"},{"$error":"#DIV/0!"},{"$error":"#DIV/0!"},{"$error":"#DIV/0!"},{"$error":"#DIV/0!"},{"$error":"#DIV/0!"},{"$error":"#DIV/0!"},null,6,{"$f":"INT((E70-1)/Hiteladatok!$U$29)+1","v":1},{"$error":"#DIV/0!"},{"$error":"#DIV/0!"},{"$error":"#DIV/0!"},{"$error":"#DIV/0!"},{"$error":"#DIV/0!"},null,{"$error":"#DIV/0!"},{"$error":"#DIV/0!"},{"$error":"#DIV/0!"},{"$error":"#DIV/0!"},{"$error":"#DIV/0!"}]
[null,null,null,12,65,{"$error":"#VALUE!"},{"$error":"#DIV/0!"},{"$error":"#DIV/0!"},{"$error":"#DIV/0!"},{"$error":"#DIV/0!"},{"$error":"#DIV/0!"},{"$error":"#DIV/0!"},{"$f":"IF(OR(Hiteladatok!$I$8=0,E71>$B$4),0,IF(D71>Hiteladatok!$U$40,0,$B$14+IF(Hiteladatok!$I$10=Hiteladatok!$N$33,$B$15,0)))","v":0},{"$error":"#DIV/0!"},{"$error":"#DIV/0!"},null,{"$error":"#DIV/0!"},{"$error":"#DIV/0!"},{"$error":"#DIV/0!"},{"$error":"#DIV/0!"},{"$f":"Q71+S71-T71","v":{"$error":"#DIV/0!"}},{"$error":"#DIV/0!"},{"$error":"#DIV/0!"},null,6,{"$f":"INT((E71-1)/Hiteladatok!$U$29)+1","v":1},{"$error":"#DIV/0!"},{"$error":"#DIV/0!"},{"$error":"#DIV/0!"},{"$error":"#DIV/0!"},{"$error":"#DIV/0!"},null,{"$error":"#DIV/0!"},{"$error":"#DIV/0!"},{"$error":"#DIV/0!"},{"$error":"#DIV/0!"},{"$error":"#DIV/0!"}]
[null,null,null,12,66,{"$f":"$F$1*E72+$B$9","v":{"$error":"#VALUE!"}},{"$error":"#DIV/0!"},{"$error":"#DIV/0!"},{"$error":"#DIV/0!"},{"$error":"#DIV/0!"},{"$error":"#DIV/0!"},{"$error":"#DIV/0!"},{"$f":"IF(OR(Hiteladatok!$I$8=0,E72>$B$4),0,IF(D72>Hiteladatok!$U$40,0,$B$14+IF(Hiteladatok!$I$10=Hiteladatok!$N$33,$B$15,0)))","v":0},{"$f":"I72+K72+L72+M72","v":{"$error":"#DIV/0!"}},{"$error":"#DIV/0!"},null,{"$error":"#DIV/0!"},{"$error":"#DIV/0!"},{"$error":"#DIV/0!"},{"$error":"#DIV/0!"},{"$error":"#DIV/0!"},{"$f":"T72+K72+L72+M72","v":{"$error":"#DIV/0!"}},{"$error":"#DIV/0!"},null,6,{"$f":"INT((E72-1)/Hiteladatok!$U$29)+1","v":1},{"$error":"#DIV/0!"},{"$error":"#DIV/0!"},{"$error":"#DIV/0!"},{"$error":"#DIV/0!"},{"$error":"#DIV/0!"},null,{"$error":"#DIV/0!"},{"$error":"#DIV/0!"},{"$error":"#DIV/0!"},{"$error":"#DIV/0!"},{"$error":"#DIV/0!"}]
[null,null,null,2,{"$f":"E72+1","v":67},{"$error":"#VALUE!"},{"$f":"J72","v":{"$error":"#DIV/0!"}},{"$f":"IF(E73>$B$4,0,G73*$B$3/12)","v":{"$error":"#DIV/0!"}},{"$f":"IF(E73>$B$4,0,$B$10)","v":{"$error":"#DIV/0!"}},{"$f":"G73+H73-I73","v":{"$error":"#DIV/0!"}},{"$f":"I73*$C$12","v":{"$error":"#DIV/0!"}},{"$error":"#DIV/0!"},{"$f":"IF(OR(Hiteladatok!$I$8=0,E73>$B$4),0,IF(D73>Hiteladatok!$U$40,0,$B$14+IF(Hiteladatok!$I$10=Hiteladatok!$N$33,$B$15,0)))","v":0},{"$error":"#DIV/0!"},{"$f":"O72+N73/(1+$O$1)^(F73/365)","v":{"$error":"#DIV/0!"}},null,{"$f":"U72","v":{"$error":"#DIV/0!"}},{"$f":"IF(E73<$R$2,$R$3,$R$4)","v":{"$error":"#DIV/0!"}},{"$f":"Q73*R73/12","v":{"$error":"#DIV/0!"}},{"$f":"IF(E73>$B$4,0,PMT(R73/12,$B$4-E73+1,-Q73))","v":{"$error":"#DIV/0!"}},{"$error":"#DIV/0!"},{"$error":"#DIV/0!"},{"$f":"W72+V73/(1+$W$1)^(F73/365)","v":{"$error":"#DIV/0!"}},null,6,{"$f":"INT((E73-1)/Hiteladatok!$U$29)+1","v":1},{"$f":"AE72","v":{"$error":"#DIV/0!"}},{"$f":"IF(E73<$AB$2,$AB$3,$AB$4)","v":{"$error":"#DIV/0!"}},{"$f":"AA73*AB73/12","v":{"$error":"#DIV/0!"}},{"$f":"IF(E73>$B$4,0,PMT(AB73/12,$B$4-E73+1,-AA73))","v":{"$error":"#DIV/0!"}},{"$f":"AA73+AC73-AD73","v":{"$error":"#DIV/0!"}},null,{"$f":"AK72","v":{"$error":"#DIV/0!"}},{"$f":"IF(E73<$AH$2,$AH$3,$AH$4)","v":{"$error":"#DIV/0!"}},{"$f":"AG73*AH73/12","v":{"$error":"#DIV/0!"}},{"$f":"IF(E73>$B$4,0,PMT(AH73/12,$B$4-E73+1,-AG73))","v":{"$error":"#DIV/0!"}},{"$f":"AG73+AI73-AJ73","v":{"$error":"#DIV/0!"}}]
[null,null,null,12,68,{"$error":"#VALUE!"},{"$error":"#DIV/0!"},{"$error":"#DIV/0!"},{"$error":"#DIV/0!"},{"$error":"#DIV/0!"},{"$error":"#DIV/0!"},{"$error":"#DIV/0!"},{"$f":"IF(OR(Hiteladatok!$I$8=0,E74>$B$4),0,IF(D74>Hiteladatok!$U$40,0,$B$14+IF(Hiteladatok!$I$10=Hiteladatok!$N$33,$B$15,0)))","v":0},{"$error":"#DIV/0!"},{"$error":"#DIV/0!"},null,{"$error":"#DIV/0!"},{"$error":"#DIV/0!"},{"$error":"#DIV/0!"},{"$error":"#DIV/0!"},{"$error":"#DIV/0!"},{"$error":"#DIV/0!"},{"$error":"#DIV/0!"},null,6,{"$f":"INT((E74-1)/Hiteladatok!$U$29)+1","v":1},{"$error":"#DIV/0!"},{"$error":"#DIV/0!"},{"$error":"#DIV/0!"},{"$error":"#DIV/0!"},{"$error":"#DIV/0!"},null,{"$error":"#DIV/0!"},{"$error":"#DIV/0!"},{"$error":"#DIV/0!"},{"$error":"#DIV/0!"},{"$error":"#DIV/0!"}]
[null,null,null,12,69,{"$error":"#VALUE!"},{"$error":"#DIV/0!"},{"$error":"#DIV/0!"},{"$error":"#DIV/0!"},{"$error":"#DIV/0!"},{"$error":"#DIV/0!"},{"$error":"#DIV/0!"},{"$f":"IF(OR(Hiteladatok!$I$8=0,E75>$B$4),0,IF(D75>Hiteladatok!$U$40,0,$B$14+IF(Hiteladatok!$I$10=Hiteladatok!$N$33,$B$15,0)))","v":0},{"$error":"#DIV/0!"},{"$error":"#DIV/0!"},null,{"$error":"#DIV/0!"},{"$error":"#DIV/0!"},{"$error":"#DIV/0!"},{"$error":"#DIV/0!"},{"$error":"#DIV/0!"},{"$error":"#DIV/0!"},{"$error":"#DIV/0!"},null,6,{"$f":"INT((E75-1)/Hiteladatok!$U$29)+1","v":1},{"$error":"#DIV/0!"},{"$error":"#DIV/0!"},{"$error":"#DIV/0!"},{"$error":"#DIV/0!"},{"$error":"#DIV/0!"},null,{"$error":"#DIV/0!"},{"$error":"#DIV/0!"},{"$error":"#DIV/0!"},{"$error":"#DIV/0!"},{"$error":"#DIV/0!"}]
[null,null,null,4,70,{"$error":"#VALUE!"},{"$error":"#DIV/0!"},{"$error":"#DIV/0!"},{"$error":"#DIV/0!"},{"$error":"#DIV/0!"},{"$error":"#DIV/0!"},{"$error":"#DIV/0!"},{"$f":"IF(OR(Hiteladatok!$I$8=0,E76>$B$4),0,IF(D76>Hiteladatok!$U$40,0,$B$14+IF(Hiteladatok!$I$10=Hiteladatok!$N$33,$B$15,0)))","v":0},{"$error":"#DIV/0!"},{"$error":"#DIV/0!"},null,{"$error":"#DIV/0!"},{"$error":"#DIV/0!"},{"$error":"#DIV/0!"},{"$error":"#DIV/0!"},{"$error":"#DIV/0!"},{"$error":"#DIV/0!"},{"$error":"#DIV/0!"},null,6,{"$f":"INT((E76-1)/Hiteladatok!$U$29)+1","v":1},{"$error":"#DIV/0!"},{"$error":"#DIV/0!"},{"$error":"#DIV/0!"},{"$error":"#DIV/0!"},{"$error":"#DIV/0!"},null,{"$error":"#DIV/0!"},{"$error":"#DIV/0!"},{"$error":"#DIV/0!"},{"$error":"#DIV/0!"},{"$error":"#DIV/0!"}]
[null,null,null,12,71,{"$error":"#VALUE!"},{"$error":"#DIV/0!"},{"$error":"#DIV/0!"},{"$error":"#DIV/0!"},{"$error":"#DIV/0!"},{"$error":"#DIV/0!"},{"$error":"#DIV/0!"},{"$f":"IF(OR(Hiteladatok!$I$8=0,E77>$B$4),0,IF(D77>Hiteladatok!$U$40,0,$B$14+IF(Hiteladatok!$I$10=Hiteladatok!$N$33,$B$15,0)))","v":0},{"$error":"#DIV/0!"},{"$error":"#DIV/0!"},null,{"$error":"#DIV/0!"},{"$error":"#DIV/0!"},{"$error":"#DIV/0!"},{"$error":"#DIV/0!"},{"$error":"#DIV/0!"},{"$error":"#DIV/0!"},{"$error":"#DIV/0!"},null,6,{"$f":"INT((E77-1)/Hiteladatok!$U$29)+1","v":1},{"$error":"#DIV/0!"},{"$error":"#DIV/0!"},{"$error":"#DIV/0!"},{"$error":"#DIV/0!"},{"$error":"#DIV/0!"},null,{"$error":"#DIV/0!"},{"$error":"#DIV/0!"},{"$error":"#DIV/0!"},{"$error":"#DIV/0!"},{"$error":"#DIV/0!"}]
[null,null,null,12,72,{"$error":"#VALUE!"},{"$error":"#DIV/0!"},{"$error":"#DIV/0!"},{"$error":"#DIV/0!"},{"$error":"#DIV/0!"},{"$error":"#DIV/0!"},{"$error":"#DIV/0!"},{"$f":"IF(OR(Hiteladatok!$I$8=0,E78>$B$4),0,IF(D78>Hiteladatok!$U$40,0,$B$14+IF(Hiteladatok!$I$10=Hiteladatok!$N$33,$B$15,0)))","v":0},{"$error":"#DIV/0!"},{"$error":"#DIV/0!"},null,{"$error":"#DIV/0!"},{"$error":"#DIV/0!"},{"$error":"#DIV/0!"},{"$error":"#DIV/0!"},{"$error":"#DIV/0!"},{"$error":"#DIV/0!"},{"$error":"#DIV/0!"},null,6,{"$f":"INT((E78-1)/Hiteladatok!$U$29)+1","v":1},{"$error":"#DIV/0!"},{"$error":"#DIV/0!"},{"$error":"#DIV/0!"},{"$error":"#DIV/0!"},{"$error":"#DIV/0!"},null,{"$error":"#DIV/0!"},{"$error":"#DIV/0!"},{"$error":"#DIV/0!"},{"$error":"#DIV/0!"},{"$error":"#DIV/0!"}]
[null,null,null,1,73,{"$error":"#VALUE!"},{"$error":"#DIV/0!"},{"$error":"#DIV/0!"},{"$error":"#DIV/0!"},{"$error":"#DIV/0!"},{"$error":"#DIV/0!"},{"$error":"#DIV/0!"},{"$f":"IF(OR(Hiteladatok!$I$8=0,E79>$B$4),0,IF(D79>Hiteladatok!$U$40,0,$B$14+IF(Hiteladatok!$I$10=Hiteladatok!$N$33,$B$15,0)))","v":0},{"$error":"#DIV/0!"},{"$error":"#DIV/0!"},null,{"$error":"#DIV/0!"},{"$error":"#DIV/0!"},{"$error":"#DIV/0!"},{"$error":"#DIV/0!"},{"$error":"#DIV/0!"},{"$error":"#DIV/0!"},{"$error":"#DIV/0!"},null,7,{"$f":"INT((E79-1)/Hiteladatok!$U$29)+1","v":1},{"$error":"#DIV/0!"},{"$error":"#DIV/0!"},{"$error":"#DIV/0!"},{"$error":"#DIV/0!"},{"$error":"#DIV/0!"},null,{"$error":"#DIV/0!"},{"$error":"#DIV/0!"},{"$error":"#DIV/0!"},{"$error":"#DIV/0!"},{"$error":"#DIV/0!"}]
[null,null,null,12,74,{"$error":"#VALUE!"},{"$error":"#DIV/0!"},{"$error":"#DIV/0!"},{"$error":"#DIV/0!"},{"$error":"#DIV/0!"},{"$error":"#DIV/0!"},{"$error":"#DIV/0!"},{"$f":"IF(OR(Hiteladatok!$I$8=0,E80>$B$4),0,IF(D80>Hiteladatok!$U$40,0,$B$14+IF(Hiteladatok!$I$10=Hiteladatok!$N$33,$B$15,0)))","v":0},{"$error":"#DIV/0!"},{"$error":"#DIV/0!"},null,{"$error":"#DIV/0!"},{"$error":"#DIV/0!"},{"$error":"#DIV/0!"},{"$error":"#DIV/0!"},{"$error":"#DIV/0!"},{"$error":"#DIV/0!"},{"$error":"#DIV/0!"},null,7,{"$f":"INT((E80-1)/Hiteladatok!$U$29)+1","v":1},{"$error":"#DIV/0!"},{"$error":"#DIV/0!"},{"$error":"#DIV/0!"},{"$error":"#DIV/0!"},{"$error":"#DIV/0!"},null,{"$error":"#DIV/0!"},{"$error":"#DIV/0!"},{"$error":"#DIV/0!"},{"$error":"#DIV/0!"},{"$error":"#DIV/0!"}]
[null,null,null,12,75,{"$error":"#VALUE!"},{"$error":"#DIV/0!"},{"$error":"#DIV/0!"},{"$error":"#DIV/0!"},{"$error":"#DIV/0!"},{"$error":"#DIV/0!"},{"$error":"#DIV/0!"},{"$f":"IF(OR(Hiteladatok!$I$8=0,E81>$B$4),0,IF(D81>Hiteladatok!$U$40,0,$B$14+IF(Hiteladatok!$I$10=Hiteladatok!$N$33,$B$15,0)))","v":0},{"$error":"#DIV/0!"},{"$error":"#DIV/0!"},null,{"$error":"#DIV/0!"},{"$error":"#DIV/0!"},{"$error":"#DIV/0!"},{"$error":"#DIV/0!"},{"$error":"#DIV/0!"},{"$error":"#DIV/0!"},{"$error":"#DIV/0!"},null,7,{"$f":"INT((E81-1)/Hiteladatok!$U$29)+1","v":1},{"$error":"#DIV/0!"},{"$error":"#DIV/0!"},{"$error":"#DIV/0!"},{"$error":"#DIV/0!"},{"$error":"#DIV/0!"},null,{"$error":"#DIV/0!"},{"$error":"#DIV/0!"},{"$error":"#DIV/0!"},{"$error":"#DIV/0!"},{"$error":"#DIV/0!"}]
[null,null,null,4,76,{"$error":"#VALUE!"},{"$error":"#DIV/0!"},{"$error":"#DIV/0!"},{"$error":"#DIV/0!"},{"$error":"#DIV/0!"},{"$error":"#DIV/0!"},{"$error":"#DIV/0!"},{"$f":"IF(OR(Hiteladatok!$I$8=0,E82>$B$4),0,IF(D82>Hiteladatok!$U$40,0,$B$14+IF(Hiteladatok!$I$10=Hiteladatok!$N$33,$B$15,0)))","v":0},{"$error":"#DIV/0!"},{"$error":"#DIV/0!"},null,{"$error":"#DIV/0!"},{"$error":"#DIV/0!"},{"$error":"#DIV/0!"},{"$error":"#DIV/0!"},{"$error":"#DIV/0!"},{"$error":"#DIV/0!"},{"$error":"#DIV/0!"},null,7,{"$f":"INT((E82-1)/Hiteladatok!$U$29)+1","v":1},{"$error":"#DIV/0!"},{"$error":"#DIV/0!"},{"$error":"#DIV/0!"},{"$error":"#DIV/0!"},{"$error":"#DIV/0!"},null,{"$error":"#DIV/0!"},{"$error":"#DIV/0!"},{"$error":"#DIV/0!"},{"$error":"#DIV/0!"},{"$error":"#DIV/0!"}]
[null,null,null,12,77,{"$error":"#VALUE!"},{"$error":"#DIV/0!"},{"$error":"#DIV/0!"},{"$error":"#DIV/0!"},{"$error":"#DIV/0!"},{"$error":"#DIV/0!"},{"$error":"#DIV/0!"},{"$f":"IF(OR(Hiteladatok!$I$8=0,E83>$B$4),0,IF(D83>Hiteladatok!$U$40,0,$B$14+IF(Hiteladatok!$I$10=Hiteladatok!$N$33,$B$15,0)))","v":0},{"$error":"#DIV/0!"},{"$error":"#DIV/0!"},null,{"$error":"#DIV/0!"},{"$error":"#DIV/0!"},{"$error":"#DIV/0!"},{"$error":"#DIV/0!"},{"$error":"#DIV/0!"},{"$error":"#DIV/0!"},{"$error":"#DIV/0!"},null,7,{"$f":"INT((E83-1)/Hiteladatok!$U$29)+1","v":1},{"$error":"#DIV/0!"},{"$error":"#DIV/0!"},{"$error":"#DIV/0!"},{"$error":"#DIV/0!"},{"$error":"#DIV/0!"},null,{"$error":"#DIV/0!"},{"$error":"#DIV/0!"},{"$error":"#DIV/0!"},{"$error":"#DIV/0!"},{"$error":"#DIV/0!"}]
[null,null,null,12,78,{"$error":"#VALUE!"},{"$error":"#DIV/0!"},{"$error":"#DIV/0!"},{"$error":"#DIV/0!"},{"$error":"#DIV/0!"},{"$error":"#DIV/0!"},{"$error":"#DIV/0!"},{"$f":"IF(OR(Hiteladatok!$I$8=0,E84>$B$4),0,IF(D84>Hiteladatok!$U$40,0,$B$14+IF(Hiteladatok!$I$10=Hiteladatok!$N$33,$B$15,0)))","v":0},{"$error":"#DIV/0!"},{"$error":"#DIV/0!"},null,{"$error":"#DIV/0!"},{"$error":"#DIV/0!"},{"$error":"#DIV/0!"},{"$error":"#DIV/0!"},{"$error":"#DIV/0!"},{"$error":"#DIV/0!"},{"$error":"#DIV/0!"},null,{"$f":"Y72+1","v":7},{"$f":"INT((E84-1)/Hiteladatok!$U$29)+1","v":1},{"$error":"#DIV/0!"},{"$error":"#DIV/0!"},{"$error":"#DIV/0!"},{"$error":"#DIV/0!"},{"$error":"#DIV/0!"},null,{"$error":"#DIV/0!"},{"$error":"#DIV/0!"},{"$error":"#DIV/0!"},{"$error":"#DIV/0!"},{"$error":"#DIV/0!"}]
[null,null,null,2,79,{"$error":"#VALUE!"},{"$error":"#DIV/0!"},{"$error":"#DIV/0!"},{"$error":"#DIV/0!"},{"$error":"#DIV/0!"},{"$error":"#DIV/0!"},{"$error":"#DIV/0!"},{"$f":"IF(OR(Hiteladatok!$I$8=0,E85>$B$4),0,IF(D85>Hiteladatok!$U$40,0,$B$14+IF(Hiteladatok!$I$10=Hiteladatok!$N$33,$B$15,0)))","v":0},{"$error":"#DIV/0!"},{"$error":"#DIV/0!"},null,{"$error":"#DIV/0!"},{"$error":"#DIV/0!"},{"$error":"#DIV/0!"},{"$error":"#DIV/0!"},{"$error":"#DIV/0!"},{"$error":"#DIV/0!"},{"$error":"#DIV/0!"},null,7,{"$f":"INT((E85-1)/Hiteladatok!$U$29)+1","v":1},{"$error":"#DIV/0!"},{"$error":"#DIV/0!"},{"$error":"#DIV/0!"},{"$error":"#DIV/0!"},{"$error":"#DIV/0!"},null,{"$error":"#DIV/0!"},{"$error":"#DIV/0!"},{"$error":"#DIV/0!"},{"$error":"#DIV/0!"},{"$error":"#DIV/0!"}]
[null,null,null,12,80,{"$error":"#VALUE!"},{"$error":"#DIV/0!"},{"$error":"#DIV/0!"},{"$error":"#DIV/0!"},{"$error":"#DIV/0!"},{"$error":"#DIV/0!"},{"$error":"#DIV/0!"},{"$f":"IF(OR(Hiteladatok!$I$8=0,E86>$B$4),0,IF(D86>Hiteladatok!$U$40,0,$B$14+IF(Hiteladatok!$I$10=Hiteladatok!$N$33,$B$15,0)))","v":0},{"$error":"#DIV/0!"},{"$error":"#DIV/0!"},null,{"$error":"#DIV/0!"},{"$error":"#DIV/0!"},{"$error":"#DIV/0!"},{"$error":"#DIV/0!"},{"$error":"#DIV/0!"},{"$error":"#DIV/0!"},{"$error":"#DIV/0!"},null,7,{"$f":"INT((E86-1)/Hiteladatok!$U$29)+1","v":1},{"$error":"#DIV/0!"},{"$error":"#DIV/0!"},{"$error":"#DIV/0!"},{"$error":"#DIV/0!"},{"$error":"#DIV/0!"},null,{"$error":"#DIV/0!"},{"$error":"#DIV/0!"},{"$error":"#DIV/0!"},{"$error":"#DIV/0!"},{"$error":"#DIV/0!"}]
[null,null,null,12,81,{"$error":"#VALUE!"},{"$error":"#DIV/0!"},{"$error":"#DIV/0!"},{"$error":"#DIV/0!"},{"$error":"#DIV/0!"},{"$error":"#DIV/0!"},{"$f":"IF(E87>$B$4,0,$C$13)","v":{"$error":"#DIV/0!"}},{"$f":"IF(OR(Hiteladatok!$I$8=0,E87>$B$4),0,IF(D87>Hiteladatok!$U$40,0,$B$14+IF(Hiteladatok!$I$10=Hiteladatok!$N$33,$B$15,0)))","v":0},{"$error":"#DIV/0!"},{"$error":"#DIV/0!"},null,{"$error":"#DIV/0!"},{"$error":"#DIV/0!"},{"$error":"#DIV/0!"},{"$error":"#DIV/0!"},{"$error":"#DIV/0!"},{"$error":"#DIV/0!"},{"$error":"#DIV/0!"},null,7,{"$f":"INT((E87-1)/Hiteladatok!$U$29)+1","v":1},{"$error":"#DIV/0!"},{"$error":"#DIV/0!"},{"$error":"#DIV/0!"},{"$error":"#DIV/0!"},{"$error":"#DIV/0!"},null,{"$error":"#DIV/0!"},{"$error":"#DIV/0!"},{"$error":"#DIV/0!"},{"$error":"#DIV/0!"},{"$error":"#DIV/0!"}]
[null,null,null,4,82,{"$error":"#VALUE!"},{"$error":"#DIV/0!"},{"$error":"#DIV/0!"},{"$error":"#DIV/0!"},{"$error":"#DIV/0!"},{"$error":"#DIV/0!"},{"$error":"#DIV/0!"},{"$f":"IF(OR(Hiteladatok!$I$8=0,E88>$B$4),0,IF(D88>Hiteladatok!$U$40,0,$B$14+IF(Hiteladatok!$I$10=Hiteladatok!$N$33,$B$15,0)))","v":0},{"$error":"#DIV/0!"},{"$error":"#DIV/0!"},null,{"$error":"#DIV/0!"},{"$error":"#DIV/0!"},{"$error":"#DIV/0!"},{"$error":"#DIV/0!"},{"$error":"#DIV/0!"},{"$error":"#DIV/0!"},{"$error":"#DIV/0!"},null,7,{"$f":"INT((E88-1)/Hiteladatok!$U$29)+1","v":1},{"$error":"#DIV/0!"},{"$error":"#DIV/0!"},{"$error":"#DIV/0!"},{"$error":"#DIV/0!"},{"$error":"#DIV/0!"},null,{"$error":"#DIV/0!"},{"$error":"#DIV/0!"},{"$error":"#DIV/0!"},{"$error":"#DIV/0!"},{"$error":"#DIV/0!"}]
[null,null,null,12,83,{"$error":"#VALUE!"},{"$error":"#DIV/0!"},{"$error":"#DIV/0!"},{"$error":"#DIV/0!"},{"$error":"#DIV/0!"},{"$error":"#DIV/0!"},{"$error":"#DIV/0!"},{"$f":"IF(OR(Hiteladatok!$I$8=0,E89>$B$4),0,IF(D89>Hiteladatok!$U$40,0,$B$14+IF(Hiteladatok!$I$10=Hiteladatok!$N$33,$B$15,0)))","v":0},{"$error":"#DIV/0!"},{"$error":"#DIV/0!"},null,{"$error":"#DIV/0!"},{"$error":"#DIV/0!"},{"$error":"#DIV/0!"},{"$error":"#DIV/0!"},{"$error":"#DIV/0!"},{"$error":"#DIV/0!"},{"$error":"#DIV/0!"},null,7,{"$f":"INT((E89-1)/Hiteladatok!$U$29)+1","v":1},{"$error":"#DIV/0!"},{"$error":"#DIV/0!"},{"$error":"#DIV/0!"},{"$error":"#DIV/0!"},{"$error":"#DIV/0!"},null,{"$error":"#DIV/0!"},{"$error":"#DIV/0!"},{"$error":"#DIV/0!"},{"$error":"#DIV/0!"},{"$error":"#DIV/0!"}]
[null,null,null,12,84,{"$error":"#VALUE!"},{"$error":"#DIV/0!"},{"$error":"#DIV/0!"},{"$error":"#DIV/0!"},{"$error":"#DIV/0!"},{"$error":"#DIV/0!"},{"$error":"#DIV/0!"},{"$f":"IF(OR(Hiteladatok!$I$8=0,E90>$B$4),0,IF(D90>Hiteladatok!$U$40,0,$B$14+IF(Hiteladatok!$I$10=Hiteladatok!$N$33,$B$15,0)))","v":0},{"$error":"#DIV/0!"},{"$error":"#DIV/0!"},null,{"$error":"#DIV/0!"},{"$error":"#DIV/0!"},{"$error":"#DIV/0!"},{"$error":"#DIV/0!"},{"$error":"#DIV/0!"},{"$error":"#DIV/0!"},{"$error":"#DIV/0!"},null,7,{"$f":"INT((E90-1)/Hiteladatok!$U$29)+1","v":1},{"$error":"#DIV/0!"},{"$error":"#DIV/0!"},{"$error":"#DIV/0!"},{"$error":"#DIV/0!"},{"$error":"#DIV/0!"},null,{"$error":"#DIV/0!"},{"$error":"#DIV/0!"},{"$error":"#DIV/0!"},{"$error":"#DIV/0!"},{"$error":"#DIV/0!"}]
[null,null,null,1,85,{"$error":"#VALUE!"},{"$error":"#DIV/0!"},{"$error":"#DIV/0!"},{"$error":"#DIV/0!"},{"$error":"#DIV/0!"},{"$error":"#DIV/0!"},{"$error":"#DIV/0!"},{"$f":"IF(OR(Hiteladatok!$I$8=0,E91>$B$4),0,IF(D91>Hiteladatok!$U$40,0,$B$14+IF(Hiteladatok!$I$10=Hiteladatok!$N$33,$B$15,0)))","v":0},{"$error":"#DIV/0!"},{"$error":"#DIV/0!"},null,{"$error":"#DIV/0!"},{"$error":"#DIV/0!"},{"$error":"#DIV/0!"},{"$error":"#DIV/0!"},{"$error":"#DIV/0!"},{"$error":"#DIV/0!"},{"$error":"#DIV/0!"},null,8,{"$f":"INT((E91-1)/Hiteladatok!$U$29)+1","v":1},{"$error":"#DIV/0!"},{"$error":"#DIV/0!"},{"$error":"#DIV/0!"},{"$error":"#DIV/0!"},{"$error":"#DIV/0!"},null,{"$error":"#DIV/0!"},{"$error":"#DIV/0!"},{"$error":"#DIV/0!"},{"$error":"#DIV/0!"},{"$error":"#DIV/0!"}]
[null,null,null,12,86,{"$error":"#VALUE!"},{"$error":"#DIV/0!"},{"$error":"#DIV/0!"},{"$error":"#DIV/0!"},{"$error":"#DIV/0!"},{"$error":"#DIV/0!"},{"$error":"#DIV/0!"},{"$f":"IF(OR(Hiteladatok!$I$8=0,E92>$B$4),0,IF(D92>Hiteladatok!$U$40,0,$B$14+IF(Hiteladatok!$I$10=Hiteladatok!$N$33,$B$15,0)))","v":0},{"$error":"#DIV/0!"},{"$error":"#DIV/0!"},null,{"$error":"#DIV/0!"},{"$error":"#DIV/0!"},{"$error":"#DIV/0!"},{"$error":"#DIV/0!"},{"$error":"#DIV/0!"},{"$error":"#DIV/0!"},{"$error":"#DIV/0!"},null,8,{"$f":"INT((E92-1)/Hiteladatok!$U$29)+1","v":1},{"$error":"#DIV/0!"},{"$error":"#DIV/0!"},{"$error":"#DIV/0!"},{"$error":"#DIV/0!"},{"$error":"#DIV/0!"},null,{"$error":"#DIV/0!"},{"$error":"#DIV/0!"},{"$error":"#DIV/0!"},{"$error":"#DIV/0!"},{"$error":"#DIV/0!"}]
[null,null,null,12,87,{"$error":"#VALUE!"},{"$error":"#DIV/0!"},{"$error":"#DIV/0!"},{"$error":"#DIV/0!"},{"$error":"#DIV/0!"},{"$error":"#DIV/0!"},{"$error":"#DIV/0!"},{"$f":"IF(OR(Hiteladatok!$I$8=0,E93>$B$4),0,IF(D93>Hiteladatok!$U$40,0,$B$14+IF(Hiteladatok!$I$10=Hiteladatok!$N$33,$B$15,0)))","v":0},{"$error":"#DIV/0!"},{"$error":"#DIV/0!"},null,{"$error":"#DIV/0!"},{"$error":"#DIV/0!"},{"$error":"#DIV/0!"},{"$error":"#DIV/0!"},{"$error":"#DIV/0!"},{"$error":"#DIV/0!"},{"$error":"#DIV/0!"},null,8,{"$f":"INT((E93-1)/Hiteladatok!$U$29)+1","v":1},{"$error":"#DIV/0!"},{"$error":"#DIV/0!"},{"$error":"#DIV/0!"},{"$error":"#DIV/0!"},{"$error":"#DIV/0!"},null,{"$error":"#DIV/0!"},{"$error":"#DIV/0!"},{"$error":"#DIV/0!"},{"$error":"#DIV/0!"},{"$error":"#DIV/0!"}]
[null,null,null,4,88,{"$error":"#VALUE!"},{"$error":"#DIV/0!"},{"$error":"#DIV/0!"},{"$error":"#DIV/0!"},{"$error":"#DIV/0!"},{"$error":"#DIV/0!"},{"$error":"#DIV/0!"},{"$f":"IF(OR(Hiteladatok!$I$8=0,E94>$B$4),0,IF(D94>Hiteladatok!$U$40,0,$B$14+IF(Hiteladatok!$I$10=Hiteladatok!$N$33,$B$15,0)))","v":0},{"$error":"#DIV/0!"},{"$error":"#DIV/0!"},null,{"$error":"#DIV/0!"},{"$error":"#DIV/0!"},{"$error":"#DIV/0!"},{"$error":"#DIV/0!"},{"$error":"#DIV/0!"},{"$error":"#DIV/0!"},{"$error":"#DIV/0!"},null,8,{"$f":"INT((E94-1)/Hiteladatok!$U$29)+1","v":1},{"$error":"#DIV/0!"},{"$error":"#DIV/0!"},{"$error":"#DIV/0!"},{"$error":"#DIV/0!"},{"$error":"#DIV/0!"},null,{"$error":"#DIV/0!"},{"$error":"#DIV/0!"},{"$error":"#DIV/0!"},{"$error":"#DIV/0!"},{"$error":"#DIV/0!"}]
[null,null,null,12,89,{"$error":"#VALUE!"},{"$error":"#DIV/0!"},{"$error":"#DIV/0!"},{"$error":"#DIV/0!"},{"$error":"#DIV/0!"},{"$error":"#DIV/0!"},{"$error":"#DIV/0!"},{"$f":"IF(OR(Hiteladatok!$I$8=0,E95>$B$4),0,IF(D95>Hiteladatok!$U$40,0,$B$14+IF(Hiteladatok!$I$10=Hiteladatok!$N$33,$B$15,0)))","v":0},{"$error":"#DIV/0!"},{"$error":"#DIV/0!"},null,{"$error":"#DIV/0!"},{"$error":"#DIV/0!"},{"$error":"#DIV/0!"},{"$error":"#DIV/0!"},{"$error":"#DIV/0!"},{"$error":"#DIV/0!"},{"$error":"#DIV/0!"},null,8,{"$f":"INT((E95-1)/Hiteladatok!$U$29)+1","v":1},{"$error":"#DIV/0!"},{"$error":"#DIV/0!"},{"$error":"#DIV/0!"},{"$error":"#DIV/0!"},{"$error":"#DIV/0!"},null,{"$error":"#DIV/0!"},{"$error":"#DIV/0!"},{"$error":"#DIV/0!"},{"$error":"#DIV/0!"},{"$error":"#DIV/0!"}]
[null,null,null,12,90,{"$error":"#VALUE!"},{"$error":"#DIV/0!"},{"$error":"#DIV/0!"},{"$error":"#DIV/0!"},{"$error":"#DIV/0!"},{"$error":"#DIV/0!"},{"$error":"#DIV/0!"},{"$f":"IF(OR(Hiteladatok!$I$8=0,E96>$B$4),0,IF(D96>Hiteladatok!$U$40,0,$B$14+IF(Hiteladatok!$I$10=Hiteladatok!$N$33,$B$15,0)))","v":0},{"$error":"#DIV/0!"},{"$error":"#DIV/0!"},null,{"$error":"#DIV/0!"},{"$error":"#DIV/0!"},{"$error":"#DIV/0!"},{"$error":"#DIV/0!"},{"$error":"#DIV/0!"},{"$error":"#DIV/0!"},{"$error":"#DIV/0!"},null,8,{"$f":"INT((E96-1)/Hiteladatok!$U$29)+1","v":1},{"$error":"#DIV/0!"},{"$error":"#DIV/0!"},{"$error":"#DIV/0!"},{"$error":"#DIV/0!"},{"$error":"#DIV/0!"},null,{"$error":"#DIV/0!"},{"$error":"#DIV/0!"},{"$error":"#DIV/0!"},{"$error":"#DIV/0!"},{"$error":"#DIV/0!"}]
[null,null,null,2,91,{"$error":"#VALUE!"},{"$error":"#DIV/0!"},{"$error":"#DIV/0!"},{"$error":"#DIV/0!"},{"$error":"#DIV/0!"},{"$error":"#DIV/0!"},{"$error":"#DIV/0!"},{"$f":"IF(OR(Hiteladatok!$I$8=0,E97>$B$4),0,IF(D97>Hiteladatok!$U$40,0,$B$14+IF(Hiteladatok!$I$10=Hiteladatok!$N$33,$B$15,0)))","v":0},{"$error":"#DIV/0!"},{"$error":"#DIV/0!"},null,{"$error":"#DIV/0!"},{"$error":"#DIV/0!"},{"$error":"#DIV/0!"},{"$error":"#DIV/0!"},{"$error":"#DIV/0!"},{"$error":"#DIV/0!"},{"$error":"#DIV/0!"},null,8,{"$f":"INT((E97-1)/Hiteladatok!$U$29)+1","v":1},{"$error":"#DIV/0!"},{"$error":"#DIV/0!"},{"$error":"#DIV/0!"},{"$error":"#DIV/0!"},{"$error":"#DIV/0!"},null,{"$error":"#DIV/0!"},{"$error":"#DIV/0!"},{"$error":"#DIV/0!"},{"$error":"#DIV/0!"},{"$error":"#DIV/0!"}]
[null,null,null,12,92,{"$error":"#VALUE!"},{"$error":"#DIV/0!"},{"$error":"#DIV/0!"},{"$error":"#DIV/0!"},{"$error":"#DIV/0!"},{"$error":"#DIV/0!"},{"$error":"#DIV/0!"},{"$f":"IF(OR(Hiteladatok!$I$8=0,E98>$B$4),0,IF(D98>Hiteladatok!$U$40,0,$B$14+IF(Hiteladatok!$I$10=Hiteladatok!$N$33,$B$15,0)))","v":0},{"$error":"#DIV/0!"},{"$error":"#DIV/0!"},null,{"$error":"#DIV/0!"},{"$error":"#DIV/0!"},{"$error":"#DIV/0!"},{"$error":"#DIV/0!"},{"$error":"#DIV/0!"},{"$error":"#DIV/0!"},{"$error":"#DIV/0!"},null,8,{"$f":"INT((E98-1)/Hiteladatok!$U$29)+1","v":1},{"$error":"#DIV/0!"},{"$error":"#DIV/0!"},{"$error":"#DIV/0!"},{"$error":"#DIV/0!"},{"$error":"#DIV/0!"},null,{"$error":"#DIV/0!"},{"$error":"#DIV/0!"},{"$error":"#DIV/0!"},{"$error":"#DIV/0!"},{"$error":"#DIV/0!"}]
[null,null,null,12,93,{"$error":"#VALUE!"},{"$error":"#DIV/0!"},{"$error":"#DIV/0!"},{"$error":"#DIV/0!"},{"$error":"#DIV/0!"},{"$error":"#DIV/0!"},{"$error":"#DIV/0!"},{"$f":"IF(OR(Hiteladatok!$I$8=0,E99>$B$4),0,IF(D99>Hiteladatok!$U$40,0,$B$14+IF(Hiteladatok!$I$10=Hiteladatok!$N$33,$B$15,0)))","v":0},{"$error":"#DIV/0!"},{"$error":"#DIV/0!"},null,{"$error":"#DIV/0!"},{"$error":"#DIV/0!"},{"$error":"#DIV/0!"},{"$error":"#DIV/0!"},{"$error":"#DIV/0!"},{"$error":"#DIV/0!"},{"$error":"#DIV/0!"},null,8,{"$f":"INT((E99-1)/Hiteladatok!$U$29)+1","v":1},{"$error":"#DIV/0!"},{"$error":"#DIV/0!"},{"$error":"#DIV/0!"},{"$error":"#DIV/0!"},{"$error":"#DIV/0!"},null,{"$error":"#DIV/0!"},{"$error":"#DIV/0!"},{"$error":"#DIV/0!"},{"$error":"#DIV/0!"},{"$error":"#DIV/0!"}]
[null,null,null,4,94,{"$error":"#VALUE!"},{"$error":"#DIV/0!"},{"$error":"#DIV/0!"},{"$error":"#DIV/0!"},{"$error":"#DIV/0!"},{"$error":"#DIV/0!"},{"$error":"#DIV/0!"},{"$f":"IF(OR(Hiteladatok!$I$8=0,E100>$B$4),0,IF(D100>Hiteladatok!$U$40,0,$B$14+IF(Hiteladatok!$I$10=Hiteladatok!$N$33,$B$15,0)))","v":0},{"$error":"#DIV/0!"},{"$error":"#DIV/0!"},null,{"$error":"#DIV/0!"},{"$error":"#DIV/0!"},{"$error":"#DIV/0!"},{"$error":"#DIV/0!"},{"$error":"#DIV/0!"},{"$error":"#DIV/0!"},{"$error":"#DIV/0!"},null,8,{"$f":"INT((E100-1)/Hiteladatok!$U$29)+1","v":1},{"$error":"#DIV/0!"},{"$error":"#DIV/0!"},{"$error":"#DIV/0!"},{"$error":"#DIV/0!"},{"$error":"#DIV/0!"},null,{"$error":"#DIV/0!"},{"$error":"#DIV/0!"},{"$error":"#DIV/0!"},{"$error":"#DIV/0!"},{"$error":"#DIV/0!"}]
[null,null,null,12,95,{"$error":"#VALUE!"},{"$error":"#DIV/0!"},{"$error":"#DIV/0!"},{"$error":"#DIV/0!"},{"$error":"#DIV/0!"},{"$error":"#DIV/0!"},{"$error":"#DIV/0!"},{"$f":"IF(OR(Hiteladatok!$I$8=0,E101>$B$4),0,IF(D101>Hiteladatok!$U$40,0,$B$14+IF(Hiteladatok!$I$10=Hiteladatok!$N$33,$B$15,0)))","v":0},{"$error":"#DIV/0!"},{"$error":"#DIV/0!"},null,{"$error":"#DIV/0!"},{"$error":"#DIV/0!"},{"$error":"#DIV/0!"},{"$error":"#DIV/0!"},{"$error":"#DIV/0!"},{"$error":"#DIV/0!"},{"$error":"#DIV/0!"},null,8,{"$f":"INT((E101-1)/Hiteladatok!$U$29)+1","v":1},{"$error":"#DIV/0!"},{"$error":"#DIV/0!"},{"$error":"#DIV/0!"},{"$error":"#DIV/0!"},{"$error":"#DIV/0!"},null,{"$error":"#DIV/0!"},{"$error":"#DIV/0!"},{"$error":"#DIV/0!"},{"$error":"#DIV/0!"},{"$error":"#DIV/0!"}]
[null,null,null,12,96,{"$error":"#VALUE!"},{"$error":"#DIV/0!"},{"$error":"#DIV/0!"},{"$error":"#DIV/0!"},{"$error":"#DIV/0!"},{"$error":"#DIV/0!"},{"$error":"#DIV/0!"},{"$f":"IF(OR(Hiteladatok!$I$8=0,E102>$B$4),0,IF(D102>Hiteladatok!$U$40,0,$B$14+IF(Hiteladatok!$I$10=Hiteladatok!$N$33,$B$15,0)))","v":0},{"$error":"#DIV/0!"},{"$error":"#DIV/0!"},null,{"$error":"#DIV/0!"},{"$error":"#DIV/0!"},{"$error":"#DIV/0!"},{"$error":"#DIV/0!"},{"$error":"#DIV/0!"},{"$error":"#DIV/0!"},{"$error":"#DIV/0!"},null,8,{"$f":"INT((E102-1)/Hiteladatok!$U$29)+1","v":1},{"$error":"#DIV/0!"},{"$error":"#DIV/0!"},{"$error":"#DIV/0!"},{"$error":"#DIV/0!"},{"$error":"#DIV/0!"},null,{"$error":"#DIV/0!"},{"$error":"#DIV/0!"},{"$error":"#DIV/0!"},{"$error":"#DIV/0!"},{"$error":"#DIV/0!"}]
[null,null,null,1,97,{"$error":"#VALUE!"},{"$error":"#DIV/0!"},{"$error":"#DIV/0!"},{"$error":"#DIV/0!"},{"$error":"#DIV/0!"},{"$error":"#DIV/0!"},{"$error":"#DIV/0!"},{"$f":"IF(OR(Hiteladatok!$I$8=0,E103>$B$4),0,IF(D103>Hiteladatok!$U$40,0,$B$14+IF(Hiteladatok!$I$10=Hiteladatok!$N$33,$B$15,0)))","v":0},{"$error":"#DIV/0!"},{"$error":"#DIV/0!"},null,{"$error":"#DIV/0!"},{"$error":"#DIV/0!"},{"$error":"#DIV/0!"},{"$error":"#DIV/0!"},{"$error":"#DIV/0!"},{"$error":"#DIV/0!"},{"$error":"#DIV/0!"},null,9,{"$f":"INT((E103-1)/Hiteladatok!$U$29)+1","v":1},{"$error":"#DIV/0!"},{"$error":"#DIV/0!"},{"$error":"#DIV/0!"},{"$error":"#DIV/0!"},{"$error":"#DIV/0!"},null,{"$error":"#DIV/0!"},{"$error":"#DIV/0!"},{"$error":"#DIV/0!"},{"$error":"#DIV/0!"},{"$error":"#DIV/0!"}]
[null,null,null,12,98,{"$error":"#VALUE!"},{"$error":"#DIV/0!"},{"$error":"#DIV/0!"},{"$error":"#DIV/0!"},{"$error":"#DIV/0!"},{"$error":"#DIV/0!"},{"$error":"#DIV/0!"},{"$f":"IF(OR(Hiteladatok!$I$8=0,E104>$B$4),0,IF(D104>Hiteladatok!$U$40,0,$B$14+IF(Hiteladatok!$I$10=Hiteladatok!$N$33,$B$15,0)))","v":0},{"$error":"#DIV/0!"},{"$error":"#DIV/0!"},null,{"$error":"#DIV/0!"},{"$error":"#DIV/0!"},{"$error":"#DIV/0!"},{"$error":"#DIV/0!"},{"$error":"#DIV/0!"},{"$error":"#DIV/0!"},{"$error":"#DIV/0!"},null,9,{"$f":"INT((E104-1)/Hiteladatok!$U$29)+1","v":1},{"$error":"#DIV/0!"},{"$error":"#DIV/0!"},{"$error":"#DIV/0!"},{"$error":"#DIV/0!"},{"$error":"#DIV/0!"},null,{"$error":"#DIV/0!"},{"$error":"#DIV/0!"},{"$error":"#DIV/0!"},{"$error":"#DIV/0!"},{"$error":"#DIV/0!"}]
[null,null,null,12,99,{"$error":"#VALUE!"},{"$error":"#DIV/0!"},{"$error":"#DIV/0!"},{"$error":"#DIV/0!"},{"$error":"#DIV/0!"},{"$error":"#DIV/0!"},{"$error":"#DIV/0!"},{"$f":"IF(OR(Hiteladatok!$I$8=0,E105>$B$4),0,IF(D105>Hiteladatok!$U$40,0,$B$14+IF(Hiteladatok!$I$10=Hiteladatok!$N$33,$B$15,0)))","v":0},{"$error":"#DIV/0!"},{"$error":"#DIV/0!"},null,{"$error":"#DIV/0!"},{"$error":"#DIV/0!"},{"$error":"#DIV/0!"},{"$error":"#DIV/0!"},{"$error":"#DIV/0!"},{"$error":"#DIV/0!"},{"$error":"#DIV/0!"},null,9,{"$f":"INT((E105-1)/Hiteladatok!$U$29)+1","v":1},{"$error":"#DIV/0!"},{"$error":"#DIV/0!"},{"$error":"#DIV/0!"},{"$error":"#DIV/0!"},{"$error":"#DIV/0!"},null,{"$error":"#DIV/0!"},{"$error":"#DIV/0!"},{"$error":"#DIV/0!"},{"$error":"#DIV/0!"},{"$error":"#DIV/0!"}]
[null,null,null,4,100,{"$error":"#VALUE!"},{"$error":"#DIV/0!"},{"$error":"#DIV/0!"},{"$error":"#DIV/0!"},{"$error":"#DIV/0!"},{"$error":"#DIV/0!"},{"$error":"#DIV/0!"},{"$f":"IF(OR(Hiteladatok!$I$8=0,E106>$B$4),0,IF(D106>Hiteladatok!$U$40,0,$B$14+IF(Hiteladatok!$I$10=Hiteladatok!$N$33,$B$15,0)))","v":0},{"$error":"#DIV/0!"},{"$error":"#DIV/0!"},null,{"$error":"#DIV/0!"},{"$error":"#DIV/0!"},{"$error":"#DIV/0!"},{"$error":"#DIV/0!"},{"$error":"#DIV/0!"},{"$error":"#DIV/0!"},{"$error":"#DIV/0!"},null,9,{"$f":"INT((E106-1)/Hiteladatok!$U$29)+1","v":1},{"$error":"#DIV/0!"},{"$error":"#DIV/0!"},{"$error":"#DIV/0!"},{"$error":"#DIV/0!"},{"$error":"#DIV/0!"},null,{"$error":"#DIV/0!"},{"$error":"#DIV/0!"},{"$error":"#DIV/0!"},{"$error":"#DIV/0!"},{"$error":"#DIV/0!"}]
[null,null,null,12,101,{"$error":"#VALUE!"},{"$error":"#DIV/0!"},{"$error":"#DIV/0!"},{"$error":"#DIV/0!"},{"$error":"#DIV/0!"},{"$error":"#DIV/0!"},{"$error":"#DIV/0!"},{"$f":"IF(OR(Hiteladatok!$I$8=0,E107>$B$4),0,IF(D107>Hiteladatok!$U$40,0,$B$14+IF(Hiteladatok!$I$10=Hiteladatok!$N$33,$B$15,0)))","v":0},{"$error":"#DIV/0!"},{"$error":"#DIV/0!"},null,{"$error":"#DIV/0!"},{"$error":"#DIV/0!"},{"$error":"#DIV/0!"},{"$error":"#DIV/0!"},{"$error":"#DIV/0!"},{"$error":"#DIV/0!"},{"$error":"#DIV/0!"},null,9,{"$f":"INT((E107-1)/Hiteladatok!$U$29)+1","v":1},{"$error":"#DIV/0!"},{"$error":"#DIV/0!"},{"$error":"#DIV/0!"},{"$error":"#DIV/0!"},{"$error":"#DIV/0!"},null,{"$error":"#DIV/0!"},{"$error":"#DIV/0!"},{"$error":"#DIV/0!"},{"$error":"#DIV/0!"},{"$error":"#DIV/0!"}]
[null,null,null,12,102,{"$error":"#VALUE!"},{"$error":"#DIV/0!"},{"$error":"#DIV/0!"},{"$error":"#DIV/0!"},{"$error":"#DIV/0!"},{"$error":"#DIV/0!"},{"$error":"#DIV/0!"},{"$f":"IF(OR(Hiteladatok!$I$8=0,E108>$B$4),0,IF(D108>Hiteladatok!$U$40,0,$B$14+IF(Hiteladatok!$I$10=Hiteladatok!$N$33,$B$15,0)))","v":0},{"$error":"#DIV/0!"},{"$error":"#DIV/0!"},null,{"$error":"#DIV/0!"},{"$error":"#DIV/0!"},{"$error":"#DIV/0!"},{"$error":"#DIV/0!"},{"$error":"#DIV/0!"},{"$error":"#DIV/0!"},{"$error":"#DIV/0!"},null,9,{"$f":"INT((E108-1)/Hiteladatok!$U$29)+1","v":1},{"$error":"#DIV/0!"},{"$error":"#DIV/0!"},{"$error":"#DIV/0!"},{"$error":"#DIV/0!"},{"$error":"#DIV/0!"},null,{"$error":"#DIV/0!"},{"$error":"#DIV/0!"},{"$error":"#DIV/0!"},{"$error":"#DIV/0!"},{"$error":"#DIV/0!"}]
[null,null,null,2,103,{"$error":"#VALUE!"},{"$error":"#DIV/0!"},{"$error":"#DIV/0!"},{"$error":"#DIV/0!"},{"$error":"#DIV/0!"},{"$error":"#DIV/0!"},{"$error":"#DIV/0!"},{"$f":"IF(OR(Hiteladatok!$I$8=0,E109>$B$4),0,IF(D109>Hiteladatok!$U$40,0,$B$14+IF(Hiteladatok!$I$10=Hiteladatok!$N$33,$B$15,0)))","v":0},{"$error":"#DIV/0!"},{"$error":"#DIV/0!"},null,{"$error":"#DIV/0!"},{"$error":"#DIV/0!"},{"$error":"#DIV/0!"},{"$error":"#DIV/0!"},{"$error":"#DIV/0!"},{"$error":"#DIV/0!"},{"$error":"#DIV/0!"},null,9,{"$f":"INT((E109-1)/Hiteladatok!$U$29)+1","v":1},{"$error":"#DIV/0!"},{"$error":"#DIV/0!"},{"$error":"#DIV/0!"},{"$error":"#DIV/0!"},{"$error":"#DIV/0!"},null,{"$error":"#DIV/0!"},{"$error":"#DIV/0!"},{"$error":"#DIV/0!"},{"$error":"#DIV/0!"},{"$error":"#DIV/0!"}]
[null,null,null,12,104,{"$error":"#VALUE!"},{"$error":"#DIV/0!"},{"$error":"#DIV/0!"},{"$error":"#DIV/0!"},{"$error":"#DIV/0!"},{"$error":"#DIV/0!"},{"$error":"#DIV/0!"},{"$f":"IF(OR(Hiteladatok!$I$8=0,E110>$B$4),0,IF(D110>Hiteladatok!$U$40,0,$B$14+IF(Hiteladatok!$I$10=Hiteladatok!$N$33,$B$15,0)))","v":0},{"$error":"#DIV/0!"},{"$error":"#DIV/0!"},null,{"$error":"#DIV/0!"},{"$error":"#DIV/0!"},{"$error":"#DIV/0!"},{"$error":"#DIV/0!"},{"$error":"#DIV/0!"},{"$error":"#DIV/0!"},{"$error":"#DIV/0!"},null,9,{"$f":"INT((E110-1)/Hiteladatok!$U$29)+1","v":1},{"$error":"#DIV/0!"},{"$error":"#DIV/0!"},{"$error":"#DIV/0!"},{"$error":"#DIV/0!"},{"$error":"#DIV/0!"},null,{"$error":"#DIV/0!"},{"$error":"#DIV/0!"},{"$error":"#DIV/0!"},{"$error":"#DIV/0!"},{"$error":"#DIV/0!"}]
[null,null,null,12,105,{"$error":"#VALUE!"},{"$error":"#DIV/0!"},{"$error":"#DIV/0!"},{"$error":"#DIV/0!"},{"$error":"#DIV/0!"},{"$error":"#DIV/0!"},{"$error":"#DIV/0!"},{"$f":"IF(OR(Hiteladatok!$I$8=0,E111>$B$4),0,IF(D111>Hiteladatok!$U$40,0,$B$14+IF(Hiteladatok!$I$10=Hiteladatok!$N$33,$B$15,0)))","v":0},{"$error":"#DIV/0!"},{"$error":"#DIV/0!"},null,{"$error":"#DIV/0!"},{"$error":"#DIV/0!"},{"$error":"#DIV/0!"},{"$error":"#DIV/0!"},{"$error":"#DIV/0!"},{"$error":"#DIV/0!"},{"$error":"#DIV/0!"},null,9,{"$f":"INT((E111-1)/Hiteladatok!$U$29)+1","v":1},{"$error":"#DIV/0!"},{"$error":"#DIV/0!"},{"$error":"#DIV/0!"},{"$error":"#DIV/0!"},{"$error":"#DIV/0!"},null,{"$error":"#DIV/0!"},{"$error":"#DIV/0!"},{"$error":"#DIV/0!"},{"$error":"#DIV/0!"},{"$error":"#DIV/0!"}]
[null,null,null,4,106,{"$error":"#VALUE!"},{"$error":"#DIV/0!"},{"$error":"#DIV/0!"},{"$error":"#DIV/0!"},{"$error":"#DIV/0!"},{"$error":"#DIV/0!"},{"$error":"#DIV/0!"},{"$f":"IF(OR(Hiteladatok!$I$8=0,E112>$B$4),0,IF(D112>Hiteladatok!$U$40,0,$B$14+IF(Hiteladatok!$I$10=Hiteladatok!$N$33,$B$15,0)))","v":0},{"$error":"#DIV/0!"},{"$error":"#DIV/0!"},null,{"$error":"#DIV/0!"},{"$error":"#DIV/0!"},{"$error":"#DIV/0!"},{"$error":"#DIV/0!"},{"$error":"#DIV/0!"},{"$error":"#DIV/0!"},{"$error":"#DIV/0!"},null,9,{"$f":"INT((E112-1)/Hiteladatok!$U$29)+1","v":1},{"$error":"#DIV/0!"},{"$error":"#DIV/0!"},{"$error":"#DIV/0!"},{"$error":"#DIV/0!"},{"$error":"#DIV/0!"},null,{"$error":"#DIV/0!"},{"$error":"#DIV/0!"},{"$error":"#DIV/0!"},{"$error":"#DIV/0!"},{"$error":"#DIV/0!"}]
[null,null,null,12,107,{"$error":"#VALUE!"},{"$error":"#DIV/0!"},{"$error":"#DIV/0!"},{"$error":"#DIV/0!"},{"$error":"#DIV/0!"},{"$error":"#DIV/0!"},{"$error":"#DIV/0!"},{"$f":"IF(OR(Hiteladatok!$I$8=0,E113>$B$4),0,IF(D113>Hiteladatok!$U$40,0,$B$14+IF(Hiteladatok!$I$10=Hiteladatok!$N$33,$B$15,0)))","v":0},{"$error":"#DIV/0!"},{"$error":"#DIV/0!"},null,{"$error":"#DIV/0!"},{"$error":"#DIV/0!"},{"$error":"#DIV/0!"},{"$error":"#DIV/0!"},{"$error":"#DIV/0!"},{"$error":"#DIV/0!"},{"$error":"#DIV/0!"},null,9,{"$f":"INT((E113-1)/Hiteladatok!$U$29)+1","v":1},{"$error":"#DIV/0!"},{"$error":"#DIV/0!"},{"$error":"#DIV/0!"},{"$error":"#DIV/0!"},{"$error":"#DIV/0!"},null,{"$error":"#DIV/0!"},{"$error":"#DIV/0!"},{"$error":"#DIV/0!"},{"$error":"#DIV/0!"},{"$error":"#DIV/0!"}]
[null,null,null,12,108,{"$error":"#VALUE!"},{"$error":"#DIV/0!"},{"$error":"#DIV/0!"},{"$error":"#DIV/0!"},{"$error":"#DIV/0!"},{"$error":"#DIV/0!"},{"$error":"#DIV/0!"},{"$f":"IF(OR(Hiteladatok!$I$8=0,E114>$B$4),0,IF(D114>Hiteladatok!$U$40,0,$B$14+IF(Hiteladatok!$I$10=Hiteladatok!$N$33,$B$15,0)))","v":0},{"$error":"#DIV/0!"},{"$error":"#DIV/0!"},null,{"$error":"#DIV/0!"},{"$error":"#DIV/0!"},{"$error":"#DIV/0!"},{"$error":"#DIV/0!"},{"$error":"#DIV/0!"},{"$error":"#DIV/0!"},{"$error":"#DIV/0!"},null,9,{"$f":"INT((E114-1)/Hiteladatok!$U$29)+1","v":1},{"$error":"#DIV/0!"},{"$error":"#DIV/0!"},{"$error":"#DIV/0!"},{"$error":"#DIV/0!"},{"$error":"#DIV/0!"},null,{"$error":"#DIV/0!"},{"$error":"#DIV/0!"},{"$error":"#DIV/0!"},{"$error":"#DIV/0!"},{"$error":"#DIV/0!"}]
[null,null,null,1,109,{"$error":"#VALUE!"},{"$error":"#DIV/0!"},{"$error":"#DIV/0!"},{"$error":"#DIV/0!"},{"$error":"#DIV/0!"},{"$error":"#DIV/0!"},{"$error":"#DIV/0!"},{"$f":"IF(OR(Hiteladatok!$I$8=0,E115>$B$4),0,IF(D115>Hiteladatok!$U$40,0,$B$14+IF(Hiteladatok!$I$10=Hiteladatok!$N$33,$B$15,0)))","v":0},{"$error":"#DIV/0!"},{"$error":"#DIV/0!"},null,{"$error":"#DIV/0!"},{"$error":"#DIV/0!"},{"$error":"#DIV/0!"},{"$error":"#DIV/0!"},{"$error":"#DIV/0!"},{"$error":"#DIV/0!"},{"$error":"#DIV/0!"},null,10,{"$f":"INT((E115-1)/Hiteladatok!$U$29)+1","v":1},{"$error":"#DIV/0!"},{"$error":"#DIV/0!"},{"$error":"#DIV/0!"},{"$error":"#DIV/0!"},{"$error":"#DIV/0!"},null,{"$error":"#DIV/0!"},{"$error":"#DIV/0!"},{"$error":"#DIV/0!"},{"$error":"#DIV/0!"},{"$error":"#DIV/0!"}]
[null,null,null,12,110,{"$error":"#VALUE!"},{"$error":"#DIV/0!"},{"$error":"#DIV/0!"},{"$error":"#DIV/0!"},{"$error":"#DIV/0!"},{"$error":"#DIV/0!"},{"$error":"#DIV/0!"},{"$f":"IF(OR(Hiteladatok!$I$8=0,E116>$B$4),0,IF(D116>Hiteladatok!$U$40,0,$B$14+IF(Hiteladatok!$I$10=Hiteladatok!$N$33,$B$15,0)))","v":0},{"$error":"#DIV/0!"},{"$error":"#DIV/0!"},null,{"$error":"#DIV/0!"},{"$error":"#DIV/0!"},{"$error":"#DIV/0!"},{"$error":"#DIV/0!"},{"$error":"#DIV/0!"},{"$error":"#DIV/0!"},{"$error":"#DIV/0!"},null,10,{"$f":"INT((E116-1)/Hiteladatok!$U$29)+1","v":1},{"$error":"#DIV/0!"},{"$error":"#DIV/0!"},{"$error":"#DIV/0!"},{"$error":"#DIV/0!"},{"$error":"#DIV/0!"},null,{"$error":"#DIV/0!"},{"$error":"#DIV/0!"},{"$error":"#DIV/0!"},{"$error":"#DIV/0!"},{"$error":"#DIV/0!"}]
[null,null,null,12,111,{"$error":"#VALUE!"},{"$error":"#DIV/0!"},{"$error":"#DIV/0!"},{"$error":"#DIV/0!"},{"$error":"#DIV/0!"},{"$error":"#DIV/0!"},{"$error":"#DIV/0!"},{"$f":"IF(OR(Hiteladatok!$I$8=0,E117>$B$4),0,IF(D117>Hiteladatok!$U$40,0,$B$14+IF(Hiteladatok!$I$10=Hiteladatok!$N$33,$B$15,0)))","v":0},{"$error":"#DIV/0!"},{"$error":"#DIV/0!"},null,{"$error":"#DIV/0!"},{"$error":"#DIV/0!"},{"$error":"#DIV/0!"},{"$error":"#DIV/0!"},{"$error":"#DIV/0!"},{"$error":"#DIV/0!"},{"$error":"#DIV/0!"},null,10,{"$f":"INT((E117-1)/Hiteladatok!$U$29)+1","v":1},{"$error":"#DIV/0!"},{"$error":"#DIV/0!"},{"$error":"#DIV/0!"},{"$error":"#DIV/0!"},{"$error":"#DIV/0!"},null,{"$error":"#DIV/0!"},{"$error":"#DIV/0!"},{"$error":"#DIV/0!"},{"$error":"#DIV/0!"},{"$error":"#DIV/0!"}]
[null,null,null,4,112,{"$error":"#VALUE!"},{"$error":"#DIV/0!"},{"$error":"#DIV/0!"},{"$error":"#DIV/0!"},{"$error":"#DIV/0!"},{"$error":"#DIV/0!"},{"$error":"#DIV/0!"},{"$f":"IF(OR(Hiteladatok!$I$8=0,E118>$B$4),0,IF(D118>Hiteladatok!$U$40,0,$B$14+IF(Hiteladatok!$I$10=Hiteladatok!$N$33,$B$15,0)))","v":0},{"$error":"#DIV/0!"},{"$error":"#DIV/0!"},null,{"$error":"#DIV/0!"},{"$error":"#DIV/0!"},{"$error":"#DIV/0!"},{"$error":"#DIV/0!"},{"$error":"#DIV/0!"},{"$error":"#DIV/0!"},{"$error":"#DIV/0!"},null,10,{"$f":"INT((E118-1)/Hiteladatok!$U$29)+1","v":1},{"$error":"#DIV/0!"},{"$error":"#DIV/0!"},{"$error":"#DIV/0!"},{"$error":"#DIV/0!"},{"$error":"#DIV/0!"},null,{"$error":"#DIV/0!"},{"$error":"#DIV/0!"},{"$error":"#DIV/0!"},{"$error":"#DIV/0!"},{"$error":"#DIV/0!"}]
[null,null,null,12,113,{"$error":"#VALUE!"},{"$error":"#DIV/0!"},{"$error":"#DIV/0!"},{"$error":"#DIV/0!"},{"$error":"#DIV/0!"},{"$error":"#DIV/0!"},{"$error":"#DIV/0!"},{"$f":"IF(OR(Hiteladatok!$I$8=0,E119>$B$4),0,IF(D119>Hiteladatok!$U$40,0,$B$14+IF(Hiteladatok!$I$10=Hiteladatok!$N$33,$B$15,0)))","v":0},{"$error":"#DIV/0!"},{"$error":"#DIV/0!"},null,{"$error":"#DIV/0!"},{"$error":"#DIV/0!"},{"$error":"#DIV/0!"},{"$error":"#DIV/0!"},{"$error":"#DIV/0!"},{"$error":"#DIV/0!"},{"$error":"#DIV/0!"},null,10,{"$f":"INT((E119-1)/Hiteladatok!$U$29)+1","v":1},{"$error":"#DIV/0!"},{"$error":"#DIV/0!"},{"$error":"#DIV/0!"},{"$error":"#DIV/0!"},{"$error":"#DIV/0!"},null,{"$error":"#DIV/0!"},{"$error":"#DIV/0!"},{"$error":"#DIV/0!"},{"$error":"#DIV/0!"},{"$error":"#DIV/0!"}]
[null,null,null,12,114,{"$error":"#VALUE!"},{"$error":"#DIV/0!"},{"$error":"#DIV/0!"},{"$error":"#DIV/0!"},{"$error":"#DIV/0!"},{"$error":"#DIV/0!"},{"$error":"#DIV/0!"},{"$f":"IF(OR(Hiteladatok!$I$8=0,E120>$B$4),0,IF(D120>Hiteladatok!$U$40,0,$B$14+IF(Hiteladatok!$I$10=Hiteladatok!$N$33,$B$15,0)))","v":0},{"$error":"#DIV/0!"},{"$error":"#DIV/0!"},null,{"$error":"#DIV/0!"},{"$error":"#DIV/0!"},{"$error":"#DIV/0!"},{"$error":"#DIV/0!"},{"$error":"#DIV/0!"},{"$error":"#DIV/0!"},{"$error":"#DIV/0!"},null,10,{"$f":"INT((E120-1)/Hiteladatok!$U$29)+1","v":1},{"$error":"#DIV/0!"},{"$error":"#DIV/0!"},{"$error":"#DIV/0!"},{"$error":"#DIV/0!"},{"$error":"#DIV/0!"},null,{"$error":"#DIV/0!"},{"$error":"#DIV/0!"},{"$error":"#DIV/0!"},{"$error":"#DIV/0!"},{"$error":"#DIV/0!"}]
[null,null,null,2,115,{"$error":"#VALUE!"},{"$error":"#DIV/0!"},{"$error":"#DIV/0!"},{"$error":"#DIV/0!"},{"$error":"#DIV/0!"},{"$error":"#DIV/0!"},{"$error":"#DIV/0!"},{"$f":"IF(OR(Hiteladatok!$I$8=0,E121>$B$4),0,IF(D121>Hiteladatok!$U$40,0,$B$14+IF(Hiteladatok!$I$10=Hiteladatok!$N$33,$B$15,0)))","v":0},{"$error":"#DIV/0!"},{"$error":"#DIV/0!"},null,{"$error":"#DIV/0!"},{"$error":"#DIV/0!"},{"$error":"#DIV/0!"},{"$error":"#DIV/0!"},{"$error":"#DIV/0!"},{"$error":"#DIV/0!"},{"$error":"#DIV/0!"},null,10,{"$f":"INT((E121-1)/Hiteladatok!$U$29)+1","v":1},{"$error":"#DIV/0!"},{"$error":"#DIV/0!"},{"$error":"#DIV/0!"},{"$error":"#DIV/0!"},{"$error":"#DIV/0!"},null,{"$error":"#DIV/0!"},{"$error":"#DIV/0!"},{"$error":"#DIV/0!"},{"$error":"#DIV/0!"},{"$error":"#DIV/0!"}]
[null,null,null,12,116,{"$error":"#VALUE!"},{"$error":"#DIV/0!"},{"$error":"#DIV/0!"},{"$error":"#DIV/0!"},{"$error":"#DIV/0!"},{"$error":"#DIV/0!"},{"$error":"#DIV/0!"},{"$f":"IF(OR(Hiteladatok!$I$8=0,E122>$B$4),0,IF(D122>Hiteladatok!$U$40,0,$B$14+IF(Hiteladatok!$I$10=Hiteladatok!$N$33,$B$15,0)))","v":0},{"$error":"#DIV/0!"},{"$error":"#DIV/0!"},null,{"$error":"#DIV/0!"},{"$error":"#DIV/0!"},{"$error":"#DIV/0!"},{"$error":"#DIV/0!"},{"$error":"#DIV/0!"},{"$error":"#DIV/0!"},{"$error":"#DIV/0!"},null,10,{"$f":"INT((E122-1)/Hiteladatok!$U$29)+1","v":1},{"$error":"#DIV/0!"},{"$error":"#DIV/0!"},{"$error":"#DIV/0!"},{"$error":"#DIV/0!"},{"$error":"#DIV/0!"},null,{"$error":"#DIV/0!"},{"$error":"#DIV/0!"},{"$error":"#DIV/0!"},{"$error":"#DIV/0!"},{"$error":"#DIV/0!"}]
[null,null,null,12,117,{"$error":"#VALUE!"},{"$error":"#DIV/0!"},{"$error":"#DIV/0!"},{"$error":"#DIV/0!"},{"$error":"#DIV/0!"},{"$error":"#DIV/0!"},{"$error":"#DIV/0!"},{"$f":"IF(OR(Hiteladatok!$I$8=0,E123>$B$4),0,IF(D123>Hiteladatok!$U$40,0,$B$14+IF(Hiteladatok!$I$10=Hiteladatok!$N$33,$B$15,0)))","v":0},{"$error":"#DIV/0!"},{"$error":"#DIV/0!"},null,{"$error":"#DIV/0!"},{"$error":"#DIV/0!"},{"$error":"#DIV/0!"},{"$error":"#DIV/0!"},{"$error":"#DIV/0!"},{"$error":"#DIV/0!"},{"$error":"#DIV/0!"},null,10,{"$f":"INT((E123-1)/Hiteladatok!$U$29)+1","v":1},{"$error":"#DIV/0!"},{"$error":"#DIV/0!"},{"$error":"#DIV/0!"},{"$error":"#DIV/0!"},{"$error":"#DIV/0!"},null,{"$error":"#DIV/0!"},{"$error":"#DIV/0!"},{"$error":"#DIV/0!"},{"$error":"#DIV/0!"},{"$error":"#DIV/0!"}]
[null,null,null,4,118,{"$error":"#VALUE!"},{"$error":"#DIV/0!"},{"$error":"#DIV/0!"},{"$error":"#DIV/0!"},{"$error":"#DIV/0!"},{"$error":"#DIV/0!"},{"$error":"#DIV/0!"},{"$f":"IF(OR(Hiteladatok!$I$8=0,E124>$B$4),0,IF(D124>Hiteladatok!$U$40,0,$B$14+IF(Hiteladatok!$I$10=Hiteladatok!$N$33,$B$15,0)))","v":0},{"$error":"#DIV/0!"},{"$error":"#DIV/0!"},null,{"$error":"#DIV/0!"},{"$error":"#DIV/0!"},{"$error":"#DIV/0!"},{"$error":"#DIV/0!"},{"$error":"#DIV/0!"},{"$error":"#DIV/0!"},{"$error":"#DIV/0!"},null,10,{"$f":"INT((E124-1)/Hiteladatok!$U$29)+1","v":1},{"$error":"#DIV/0!"},{"$error":"#DIV/0!"},{"$error":"#DIV/0!"},{"$error":"#DIV/0!"},{"$error":"#DIV/0!"},null,{"$error":"#DIV/0!"},{"$error":"#DIV/0!"},{"$error":"#DIV/0!"},{"$error":"#DIV/0!"},{"$error":"#DIV/0!"}]
[null,null,null,12,119,{"$error":"#VALUE!"},{"$error":"#DIV/0!"},{"$error":"#DIV/0!"},{"$error":"#DIV/0!"},{"$error":"#DIV/0!"},{"$error":"#DIV/0!"},{"$error":"#DIV/0!"},{"$f":"IF(OR(Hiteladatok!$I$8=0,E125>$B$4),0,IF(D125>Hiteladatok!$U$40,0,$B$14+IF(Hiteladatok!$I$10=Hiteladatok!$N$33,$B$15,0)))","v":0},{"$error":"#DIV/0!"},{"$error":"#DIV/0!"},null,{"$error":"#DIV/0!"},{"$error":"#DIV/0!"},{"$error":"#DIV/0!"},{"$error":"#DIV/0!"},{"$error":"#DIV/0!"},{"$error":"#DIV/0!"},{"$error":"#DIV/0!"},null,10,{"$f":"INT((E125-1)/Hiteladatok!$U$29)+1","v":1},{"$error":"#DIV/0!"},{"$error":"#DIV/0!"},{"$error":"#DIV/0!"},{"$error":"#DIV/0!"},{"$error":"#DIV/0!"},null,{"$error":"#DIV/0!"},{"$error":"#DIV/0!"},{"$error":"#DIV/0!"},{"$error":"#DIV/0!"},{"$error":"#DIV/0!"}]
[null,null,null,12,120,{"$error":"#VALUE!"},{"$error":"#DIV/0!"},{"$error":"#DIV/0!"},{"$error":"#DIV/0!"},{"$error":"#DIV/0!"},{"$error":"#DIV/0!"},{"$error":"#DIV/0!"},{"$f":"IF(OR(Hiteladatok!$I$8=0,E126>$B$4),0,IF(D126>Hiteladatok!$U$40,0,$B$14+IF(Hiteladatok!$I$10=Hiteladatok!$N$33,$B$15,0)))","v":0},{"$error":"#DIV/0!"},{"$error":"#DIV/0!"},null,{"$error":"#DIV/0!"},{"$error":"#DIV/0!"},{"$error":"#DIV/0!"},{"$error":"#DIV/0!"},{"$error":"#DIV/0!"},{"$error":"#DIV/0!"},{"$error":"#DIV/0!"},null,10,{"$f":"INT((E126-1)/Hiteladatok!$U$29)+1","v":1},{"$error":"#DIV/0!"},{"$error":"#DIV/0!"},{"$error":"#DIV/0!"},{"$error":"#DIV/0!"},{"$error":"#DIV/0!"},null,{"$error":"#DIV/0!"},{"$error":"#DIV/0!"},{"$error":"#DIV/0!"},{"$error":"#DIV/0!"},{"$error":"#DIV/0!"}]
[null,null,null,1,121,{"$error":"#VALUE!"},{"$error":"#DIV/0!"},{"$error":"#DIV/0!"},{"$error":"#DIV/0!"},{"$error":"#DIV/0!"},{"$error":"#DIV/0!"},{"$error":"#DIV/0!"},{"$f":"IF(OR(Hiteladatok!$I$8=0,E127>$B$4),0,IF(D127>Hiteladatok!$U$40,0,$B$14+IF(Hiteladatok!$I$10=Hiteladatok!$N$33,$B$15,0)))","v":0},{"$error":"#DIV/0!"},{"$error":"#DIV/0!"},null,{"$error":"#DIV/0!"},{"$error":"#DIV/0!"},{"$error":"#DIV/0!"},{"$error":"#DIV/0!"},{"$error":"#DIV/0!"},{"$error":"#DIV/0!"},{"$error":"#DIV/0!"},null,11,{"$f":"INT((E127-1)/Hiteladatok!$U$29)+1","v":2},{"$error":"#DIV/0!"},{"$error":"#DIV/0!"},{"$error":"#DIV/0!"},{"$error":"#DIV/0!"},{"$error":"#DIV/0!"},null,{"$error":"#DIV/0!"},{"$error":"#DIV/0!"},{"$error":"#DIV/0!"},{"$error":"#DIV/0!"},{"$error":"#DIV/0!"}]
[null,null,null,12,122,{"$error":"#VALUE!"},{"$error":"#DIV/0!"},{"$error":"#DIV/0!"},{"$error":"#DIV/0!"},{"$error":"#DIV/0!"},{"$error":"#DIV/0!"},{"$error":"#DIV/0!"},{"$f":"IF(OR(Hiteladatok!$I$8=0,E128>$B$4),0,IF(D128>Hiteladatok!$U$40,0,$B$14+IF(Hiteladatok!$I$10=Hiteladatok!$N$33,$B$15,0)))","v":0},{"$error":"#DIV/0!"},{"$error":"#DIV/0!"},null,{"$error":"#DIV/0!"},{"$error":"#DIV/0!"},{"$error":"#DIV/0!"},{"$error":"#DIV/0!"},{"$error":"#DIV/0!"},{"$error":"#DIV/0!"},{"$error":"#DIV/0!"},null,11,{"$f":"INT((E128-1)/Hiteladatok!$U$29)+1","v":2},{"$error":"#DIV/0!"},{"$error":"#DIV/0!"},{"$error":"#DIV/0!"},{"$error":"#DIV/0!"},{"$error":"#DIV/0!"},null,{"$error":"#DIV/0!"},{"$error":"#DIV/0!"},{"$error":"#DIV/0!"},{"$error":"#DIV/0!"},{"$error":"#DIV/0!"}]
[null,null,null,12,123,{"$error":"#VALUE!"},{"$error":"#DIV/0!"},{"$error":"#DIV/0!"},{"$error":"#DIV/0!"},{"$error":"#DIV/0!"},{"$error":"#DIV/0!"},{"$error":"#DIV/0!"},{"$f":"IF(OR(Hiteladatok!$I$8=0,E129>$B$4),0,IF(D129>Hiteladatok!$U$40,0,$B$14+IF(Hiteladatok!$I$10=Hiteladatok!$N$33,$B$15,0)))","v":0},{"$error":"#DIV/0!"},{"$error":"#DIV/0!"},null,{"$error":"#DIV/0!"},{"$error":"#DIV/0!"},{"$error":"#DIV/0!"},{"$error":"#DIV/0!"},{"$error":"#DIV/0!"},{"$error":"#DIV/0!"},{"$error":"#DIV/0!"},null,11,{"$f":"INT((E129-1)/Hiteladatok!$U$29)+1","v":2},{"$error":"#DIV/0!"},{"$error":"#DIV/0!"},{"$error":"#DIV/0!"},{"$error":"#DIV/0!"},{"$error":"#DIV/0!"},null,{"$error":"#DIV/0!"},{"$error":"#DIV/0!"},{"$error":"#DIV/0!"},{"$error":"#DIV/0!"},{"$error":"#DIV/0!"}]
[null,null,null,4,124,{"$error":"#VALUE!"},{"$error":"#DIV/0!"},{"$error":"#DIV/0!"},{"$error":"#DIV/0!"},{"$error":"#DIV/0!"},{"$error":"#DIV/0!"},{"$error":"#DIV/0!"},{"$f":"IF(OR(Hiteladatok!$I$8=0,E130>$B$4),0,IF(D130>Hiteladatok!$U$40,0,$B$14+IF(Hiteladatok!$I$10=Hiteladatok!$N$33,$B$15,0)))","v":0},{"$error":"#DIV/0!"},{"$error":"#DIV/0!"},null,{"$error":"#DIV/0!"},{"$error":"#DIV/0!"},{"$error":"#DIV/0!"},{"$error":"#DIV/0!"},{"$error":"#DIV/0!"},{"$error":"#DIV/0!"},{"$error":"#DIV/0!"},null,11,{"$f":"INT((E130-1)/Hiteladatok!$U$29)+1","v":2},{"$error":"#DIV/0!"},{"$error":"#DIV/0!"},{"$error":"#DIV/0!"},{"$error":"#DIV/0!"},{"$error":"#DIV/0!"},null,{"$error":"#DIV/0!"},{"$error":"#DIV/0!"},{"$error":"#DIV/0!"},{"$error":"#DIV/0!"},{"$error":"#DIV/0!"}]
[null,null,null,12,125,{"$error":"#VALUE!"},{"$error":"#DIV/0!"},{"$error":"#DIV/0!"},{"$error":"#DIV/0!"},{"$error":"#DIV/0!"},{"$error":"#DIV/0!"},{"$error":"#DIV/0!"},{"$f":"IF(OR(Hiteladatok!$I$8=0,E131>$B$4),0,IF(D131>Hiteladatok!$U$40,0,$B$14+IF(Hiteladatok!$I$10=Hiteladatok!$N$33,$B$15,0)))","v":0},{"$error":"#DIV/0!"},{"$error":"#DIV/0!"},null,{"$error":"#DIV/0!"},{"$error":"#DIV/0!"},{"$error":"#DIV/0!"},{"$error":"#DIV/0!"},{"$error":"#DIV/0!"},{"$error":"#DIV/0!"},{"$error":"#DIV/0!"},null,11,{"$f":"INT((E131-1)/Hiteladatok!$U$29)+1","v":2},{"$error":"#DIV/0!"},{"$error":"#DIV/0!"},{"$error":"#DIV/0!"},{"$error":"#DIV/0!"},{"$error":"#DIV/0!"},null,{"$error":"#DIV/0!"},{"$error":"#DIV/0!"},{"$error":"#DIV/0!"},{"$error":"#DIV/0!"},{"$error":"#DIV/0!"}]
[null,null,null,12,126,{"$error":"#VALUE!"},{"$error":"#DIV/0!"},{"$error":"#DIV/0!"},{"$error":"#DIV/0!"},{"$error":"#DIV/0!"},{"$error":"#DIV/0!"},{"$error":"#DIV/0!"},{"$f":"IF(OR(Hiteladatok!$I$8=0,E132>$B$4),0,IF(D132>Hiteladatok!$U$40,0,$B$14+IF(Hiteladatok!$I$10=Hiteladatok!$N$33,$B$15,0)))","v":0},{"$error":"#DIV/0!"},{"$error":"#DIV/0!"},null,{"$error":"#DIV/0!"},{"$error":"#DIV/0!"},{"$error":"#DIV/0!"},{"$error":"#DIV/0!"},{"$error":"#DIV/0!"},{"$error":"#DIV/0!"},{"$error":"#DIV/0!"},null,11,{"$f":"INT((E132-1)/Hiteladatok!$U$29)+1","v":2},{"$error":"#DIV/0!"},{"$error":"#DIV/0!"},{"$error":"#DIV/0!"},{"$error":"#DIV/0!"},{"$error":"#DIV/0!"},null,{"$error":"#DIV/0!"},{"$error":"#DIV/0!"},{"$error":"#DIV/0!"},{"$error":"#DIV/0!"},{"$error":"#DIV/0!"}]
[null,null,null,2,127,{"$error":"#VALUE!"},{"$error":"#DIV/0!"},{"$error":"#DIV/0!"},{"$error":"#DIV/0!"},{"$error":"#DIV/0!"},{"$error":"#DIV/0!"},{"$error":"#DIV/0!"},{"$f":"IF(OR(Hiteladatok!$I$8=0,E133>$B$4),0,IF(D133>Hiteladatok!$U$40,0,$B$14+IF(Hiteladatok!$I$10=Hiteladatok!$N$33,$B$15,0)))","v":0},{"$error":"#DIV/0!"},{"$error":"#DIV/0!"},null,{"$error":"#DIV/0!"},{"$error":"#DIV/0!"},{"$error":"#DIV/0!"},{"$error":"#DIV/0!"},{"$error":"#DIV/0!"},{"$error":"#DIV/0!"},{"$error":"#DIV/0!"},null,11,{"$f":"INT((E133-1)/Hiteladatok!$U$29)+1","v":2},{"$error":"#DIV/0!"},{"$error":"#DIV/0!"},{"$error":"#DIV/0!"},{"$error":"#DIV/0!"},{"$error":"#DIV/0!"},null,{"$error":"#DIV/0!"},{"$error":"#DIV/0!"},{"$error":"#DIV/0!"},{"$error":"#DIV/0!"},{"$error":"#DIV/0!"}]
[null,null,null,12,128,{"$error":"#VALUE!"},{"$error":"#DIV/0!"},{"$error":"#DIV/0!"},{"$error":"#DIV/0!"},{"$error":"#DIV/0!"},{"$error":"#DIV/0!"},{"$error":"#DIV/0!"},{"$f":"IF(OR(Hiteladatok!$I$8=0,E134>$B$4),0,IF(D134>Hiteladatok!$U$40,0,$B$14+IF(Hiteladatok!$I$10=Hiteladatok!$N$33,$B$15,0)))","v":0},{"$error":"#DIV/0!"},{"$error":"#DIV/0!"},null,{"$error":"#DIV/0!"},{"$error":"#DIV/0!"},{"$error":"#DIV/0!"},{"$error":"#DIV/0!"},{"$error":"#DIV/0!"},{"$error":"#DIV/0!"},{"$error":"#DIV/0!"},null,11,{"$f":"INT((E134-1)/Hiteladatok!$U$29)+1","v":2},{"$error":"#DIV/0!"},{"$error":"#DIV/0!"},{"$error":"#DIV/0!"},{"$error":"#DIV/0!"},{"$error":"#DIV/0!"},null,{"$error":"#DIV/0!"},{"$error":"#DIV/0!"},{"$error":"#DIV/0!"},{"$error":"#DIV/0!"},{"$error":"#DIV/0!"}]
[null,null,null,12,129,{"$error":"#VALUE!"},{"$error":"#DIV/0!"},{"$error":"#DIV/0!"},{"$error":"#DIV/0!"},{"$error":"#DIV/0!"},{"$error":"#DIV/0!"},{"$error":"#DIV/0!"},{"$f":"IF(OR(Hiteladatok!$I$8=0,E135>$B$4),0,IF(D135>Hiteladatok!$U$40,0,$B$14+IF(Hiteladatok!$I$10=Hiteladatok!$N$33,$B$15,0)))","v":0},{"$error":"#DIV/0!"},{"$error":"#DIV/0!"},null,{"$error":"#DIV/0!"},{"$error":"#DIV/0!"},{"$error":"#DIV/0!"},{"$error":"#DIV/0!"},{"$f":"Q135+S135-T135","v":{"$error":"#DIV/0!"}},{"$error":"#DIV/0!"},{"$error":"#DIV/0!"},null,11,{"$f":"INT((E135-1)/Hiteladatok!$U$29)+1","v":2},{"$error":"#DIV/0!"},{"$error":"#DIV/0!"},{"$error":"#DIV/0!"},{"$error":"#DIV/0!"},{"$error":"#DIV/0!"},null,{"$error":"#DIV/0!"},{"$error":"#DIV/0!"},{"$error":"#DIV/0!"},{"$error":"#DIV/0!"},{"$error":"#DIV/0!"}]
[null,null,null,4,130,{"$f":"$F$1*E136+$B$9","v":{"$error":"#VALUE!"}},{"$error":"#DIV/0!"},{"$error":"#DIV/0!"},{"$error":"#DIV/0!"},{"$error":"#DIV/0!"},{"$error":"#DIV/0!"},{"$error":"#DIV/0!"},{"$f":"IF(OR(Hiteladatok!$I$8=0,E136>$B$4),0,IF(D136>Hiteladatok!$U$40,0,$B$14+IF(Hiteladatok!$I$10=Hiteladatok!$N$33,$B$15,0)))","v":0},{"$f":"I136+K136+L136+M136","v":{"$error":"#DIV/0!"}},{"$error":"#DIV/0!"},null,{"$error":"#DIV/0!"},{"$error":"#DIV/0!"},{"$error":"#DIV/0!"},{"$error":"#DIV/0!"},{"$error":"#DIV/0!"},{"$f":"T136+K136+L136+M136","v":{"$error":"#DIV/0!"}},{"$error":"#DIV/0!"},null,11,{"$f":"INT((E136-1)/Hiteladatok!$U$29)+1","v":2},{"$error":"#DIV/0!"},{"$error":"#DIV/0!"},{"$error":"#DIV/0!"},{"$error":"#DIV/0!"},{"$error":"#DIV/0!"},null,{"$error":"#DIV/0!"},{"$error":"#DIV/0!"},{"$error":"#DIV/0!"},{"$error":"#DIV/0!"},{"$error":"#DIV/0!"}]
[null,null,null,12,{"$f":"E136+1","v":131},{"$error":"#VALUE!"},{"$f":"J136","v":{"$error":"#DIV/0!"}},{"$f":"IF(E137>$B$4,0,G137*$B$3/12)","v":{"$error":"#DIV/0!"}},{"$f":"IF(E137>$B$4,0,$B$10)","v":{"$error":"#DIV/0!"}},{"$f":"G137+H137-I137","v":{"$error":"#DIV/0!"}},{"$f":"I137*$C$12","v":{"$error":"#DIV/0!"}},{"$error":"#DIV/0!"},{"$f":"IF(OR(Hiteladatok!$I$8=0,E137>$B$4),0,IF(D137>Hiteladatok!$U$40,0,$B$14+IF(Hiteladatok!$I$10=Hiteladatok!$N$33,$B$15,0)))","v":0},{"$error":"#DIV/0!"},{"$f":"O136+N137/(1+$O$1)^(F137/365)","v":{"$error":"#DIV/0!"}},null,{"$f":"U136","v":{"$error":"#DIV/0!"}},{"$f":"IF(E137<$R$2,$R$3,$R$4)","v":{"$error":"#DIV/0!"}},{"$f":"Q137*R137/12","v":{"$error":"#DIV/0!"}},{"$f":"IF(E137>$B$4,0,PMT(R137/12,$B$4-E137+1,-Q137))","v":{"$error":"#DIV/0!"}},{"$error":"#DIV/0!"},{"$error":"#DIV/0!"},{"$f":"W136+V137/(1+$W$1)^(F137/365)","v":{"$error":"#DIV/0!"}},null,11,{"$f":"INT((E137-1)/Hiteladatok!$U$29)+1","v":2},{"$f":"AE136","v":{"$error":"#DIV/0!"}},{"$f":"IF(E137<$AB$2,$AB$3,$AB$4)","v":{"$error":"#DIV/0!"}},{"$f":"AA137*AB137/12","v":{"$error":"#DIV/0!"}},{"$f":"IF(E137>$B$4,0,PMT(AB137/12,$B$4-E137+1,-AA137))","v":{"$error":"#DIV/0!"}},{"$f":"AA137+AC137-AD137","v":{"$error":"#DIV/0!"}},null,{"$f":"AK136","v":{"$error":"#DIV/0!"}},{"$f":"IF(E137<$AH$2,$AH$3,$AH$4)","v":{"$error":"#DIV/0!"}},{"$f":"AG137*AH137/12","v":{"$error":"#DIV/0!"}},{"$f":"IF(E137>$B$4,0,PMT(AH137/12,$B$4-E137+1,-AG137))","v":{"$error":"#DIV/0!"}},{"$f":"AG137+AI137-AJ137","v":{"$error":"#DIV/0!"}}]
[null,null,null,12,132,{"$error":"#VALUE!"},{"$error":"#DIV/0!"},{"$error":"#DIV/0!"},{"$error":"#DIV/0!"},{"$error":"#DIV/0!"},{"$error":"#DIV/0!"},{"$error":"#DIV/0!"},{"$f":"IF(OR(Hiteladatok!$I$8=0,E138>$B$4),0,IF(D138>Hiteladatok!$U$40,0,$B$14+IF(Hiteladatok!$I$10=Hiteladatok!$N$33,$B$15,0)))","v":0},{"$error":"#DIV/0!"},{"$error":"#DIV/0!"},null,{"$error":"#DIV/0!"},{"$error":"#DIV/0!"},{"$error":"#DIV/0!"},{"$error":"#DIV/0!"},{"$error":"#DIV/0!"},{"$error":"#DIV/0!"},{"$error":"#DIV/0!"},null,11,{"$f":"INT((E138-1)/Hiteladatok!$U$29)+1","v":2},{"$error":"#DIV/0!"},{"$error":"#DIV/0!"},{"$error":"#DIV/0!"},{"$error":"#DIV/0!"},{"$error":"#DIV/0!"},null,{"$error":"#DIV/0!"},{"$error":"#DIV/0!"},{"$error":"#DIV/0!"},{"$error":"#DIV/0!"},{"$error":"#DIV/0!"}]
[null,null,null,1,133,{"$error":"#VALUE!"},{"$error":"#DIV/0!"},{"$error":"#DIV/0!"},{"$error":"#DIV/0!"},{"$error":"#DIV/0!"},{"$error":"#DIV/0!"},{"$error":"#DIV/0!"},{"$f":"IF(OR(Hiteladatok!$I$8=0,E139>$B$4),0,IF(D139>Hiteladatok!$U$40,0,$B$14+IF(Hiteladatok!$I$10=Hiteladatok!$N$33,$B$15,0)))","v":0},{"$error":"#DIV/0!"},{"$error":"#DIV/0!"},null,{"$error":"#DIV/0!"},{"$error":"#DIV/0!"},{"$error":"#DIV/0!"},{"$error":"#DIV/0!"},{"$error":"#DIV/0!"},{"$error":"#DIV/0!"},{"$error":"#DIV/0!"},null,12,{"$f":"INT((E139-1)/Hiteladatok!$U$29)+1","v":2},{"$error":"#DIV/0!"},{"$error":"#DIV/0!"},{"$error":"#DIV/0!"},{"$error":"#DIV/0!"},{"$error":"#DIV/0!"},null,{"$error":"#DIV/0!"},{"$error":"#DIV/0!"},{"$error":"#DIV/0!"},{"$error":"#DIV/0!"},{"$error":"#DIV/0!"}]
[null,null,null,12,134,{"$error":"#VALUE!"},{"$error":"#DIV/0!"},{"$error":"#DIV/0!"},{"$error":"#DIV/0!"},{"$error":"#DIV/0!"},{"$error":"#DIV/0!"},{"$error":"#DIV/0!"},{"$f":"IF(OR(Hiteladatok!$I$8=0,E140>$B$4),0,IF(D140>Hiteladatok!$U$40,0,$B$14+IF(Hiteladatok!$I$10=Hiteladatok!$N$33,$B$15,0)))","v":0},{"$error":"#DIV/0!"},{"$error":"#DIV/0!"},null,{"$error":"#DIV/0!"},{"$error":"#DIV/0!"},{"$error":"#DIV/0!"},{"$error":"#DIV/0!"},{"$error":"#DIV/0!"},{"$error":"#DIV/0!"},{"$error":"#DIV/0!"},null,12,{"$f":"INT((E140-1)/Hiteladatok!$U$29)+1","v":2},{"$error":"#DIV/0!"},{"$error":"#DIV/0!"},{"$error":"#DIV/0!"},{"$error":"#DIV/0!"},{"$error":"#DIV/0!"},null,{"$error":"#DIV/0!"},{"$error":"#DIV/0!"},{"$error":"#DIV/0!"},{"$error":"#DIV/0!"},{"$error":"#DIV/0!"}]
[null,null,null,12,135,{"$error":"#VALUE!"},{"$error":"#DIV/0!"},{"$error":"#DIV/0!"},{"$error":"#DIV/0!"},{"$error":"#DIV/0!"},{"$error":"#DIV/0!"},{"$error":"#DIV/0!"},{"$f":"IF(OR(Hiteladatok!$I$8=0,E141>$B$4),0,IF(D141>Hiteladatok!$U$40,0,$B$14+IF(Hiteladatok!$I$10=Hiteladatok!$N$33,$B$15,0)))","v":0},{"$error":"#DIV/0!"},{"$error":"#DIV/0!"},null,{"$error":"#DIV/0!"},{"$error":"#DIV/0!"},{"$error":"#DIV/0!"},{"$error":"#DIV/0!"},{"$error":"#DIV/0!"},{"$error":"#DIV/0!"},{"$error":"#DIV/0!"},null,12,{"$f":"INT((E141-1)/Hiteladatok!$U$29)+1","v":2},{"$error":"#DIV/0!"},{"$error":"#DIV/0!"},{"$error":"#DIV/0!"},{"$error":"#DIV/0!"},{"$error":"#DIV/0!"},null,{"$error":"#DIV/0!"},{"$error":"#DIV/0!"},{"$error":"#DIV/0!"},{"$error":"#DIV/0!"},{"$error":"#DIV/0!"}]
[null,null,null,4,136,{"$error":"#VALUE!"},{"$error":"#DIV/0!"},{"$error":"#DIV/0!"},{"$error":"#DIV/0!"},{"$error":"#DIV/0!"},{"$error":"#DIV/0!"},{"$error":"#DIV/0!"},{"$f":"IF(OR(Hiteladatok!$I$8=0,E142>$B$4),0,IF(D142>Hiteladatok!$U$40,0,$B$14+IF(Hiteladatok!$I$10=Hiteladatok!$N$33,$B$15,0)))","v":0},{"$error":"#DIV/0!"},{"$error":"#DIV/0!"},null,{"$error":"#DIV/0!"},{"$error":"#DIV/0!"},{"$error":"#DIV/0!"},{"$error":"#DIV/0!"},{"$error":"#DIV/0!"},{"$error":"#DIV/0!"},{"$error":"#DIV/0!"},null,12,{"$f":"INT((E142-1)/Hiteladatok!$U$29)+1","v":2},{"$error":"#DIV/0!"},{"$error":"#DIV/0!"},{"$error":"#DIV/0!"},{"$error":"#DIV/0!"},{"$error":"#DIV/0!"},null,{"$error":"#DIV/0!"},{"$error":"#DIV/0!"},{"$error":"#DIV/0!"},{"$error":"#DIV/0!"},{"$error":"#DIV/0!"}]
[null,null,null,12,137,{"$error":"#VALUE!"},{"$error":"#DIV/0!"},{"$error":"#DIV/0!"},{"$error":"#DIV/0!"},{"$error":"#DIV/0!"},{"$error":"#DIV/0!"},{"$error":"#DIV/0!"},{"$f":"IF(OR(Hiteladatok!$I$8=0,E143>$B$4),0,IF(D143>Hiteladatok!$U$40,0,$B$14+IF(Hiteladatok!$I$10=Hiteladatok!$N$33,$B$15,0)))","v":0},{"$error":"#DIV/0!"},{"$error":"#DIV/0!"},null,{"$error":"#DIV/0!"},{"$error":"#DIV/0!"},{"$error":"#DIV/0!"},{"$error":"#DIV/0!"},{"$error":"#DIV/0!"},{"$error":"#DIV/0!"},{"$error":"#DIV/0!"},null,12,{"$f":"INT((E143-1)/Hiteladatok!$U$29)+1","v":2},{"$error":"#DIV/0!"},{"$error":"#DIV/0!"},{"$error":"#DIV/0!"},{"$error":"#DIV/0!"},{"$error":"#DIV/0!"},null,{"$error":"#DIV/0!"},{"$error":"#DIV/0!"},{"$error":"#DIV/0!"},{"$error":"#DIV/0!"},{"$error":"#DIV/0!"}]
[null,null,null,12,138,{"$error":"#VALUE!"},{"$error":"#DIV/0!"},{"$error":"#DIV/0!"},{"$error":"#DIV/0!"},{"$error":"#DIV/0!"},{"$error":"#DIV/0!"},{"$error":"#DIV/0!"},{"$f":"IF(OR(Hiteladatok!$I$8=0,E144>$B$4),0,IF(D144>Hiteladatok!$U$40,0,$B$14+IF(Hiteladatok!$I$10=Hiteladatok!$N$33,$B$15,0)))","v":0},{"$error":"#DIV/0!"},{"$error":"#DIV/0!"},null,{"$error":"#DIV/0!"},{"$error":"#DIV/0!"},{"$error":"#DIV/0!"},{"$error":"#DIV/0!"},{"$error":"#DIV/0!"},{"$error":"#DIV/0!"},{"$error":"#DIV/0!"},null,12,{"$f":"INT((E144-1)/Hiteladatok!$U$29)+1","v":2},{"$error":"#DIV/0!"},{"$error":"#DIV/0!"},{"$error":"#DIV/0!"},{"$error":"#DIV/0!"},{"$error":"#DIV/0!"},null,{"$error":"#DIV/0!"},{"$error":"#DIV/0!"},{"$error":"#DIV/0!"},{"$error":"#DIV/0!"},{"$error":"#DIV/0!"}]
[null,null,null,2,139,{"$error":"#VALUE!"},{"$error":"#DIV/0!"},{"$error":"#DIV/0!"},{"$error":"#DIV/0!"},{"$error":"#DIV/0!"},{"$error":"#DIV/0!"},{"$error":"#DIV/0!"},{"$f":"IF(OR(Hiteladatok!$I$8=0,E145>$B$4),0,IF(D145>Hiteladatok!$U$40,0,$B$14+IF(Hiteladatok!$I$10=Hiteladatok!$N$33,$B$15,0)))","v":0},{"$error":"#DIV/0!"},{"$error":"#DIV/0!"},null,{"$error":"#DIV/0!"},{"$error":"#DIV/0!"},{"$error":"#DIV/0!"},{"$error":"#DIV/0!"},{"$error":"#DIV/0!"},{"$error":"#DIV/0!"},{"$error":"#DIV/0!"},null,12,{"$f":"INT((E145-1)/Hiteladatok!$U$29)+1","v":2},{"$error":"#DIV/0!"},{"$error":"#DIV/0!"},{"$error":"#DIV/0!"},{"$error":"#DIV/0!"},{"$error":"#DIV/0!"},null,{"$error":"#DIV/0!"},{"$error":"#DIV/0!"},{"$error":"#DIV/0!"},{"$error":"#DIV/0!"},{"$error":"#DIV/0!"}]
[null,null,null,12,140,{"$error":"#VALUE!"},{"$error":"#DIV/0!"},{"$error":"#DIV/0!"},{"$error":"#DIV/0!"},{"$error":"#DIV/0!"},{"$error":"#DIV/0!"},{"$error":"#DIV/0!"},{"$f":"IF(OR(Hiteladatok!$I$8=0,E146>$B$4),0,IF(D146>Hiteladatok!$U$40,0,$B$14+IF(Hiteladatok!$I$10=Hiteladatok!$N$33,$B$15,0)))","v":0},{"$error":"#DIV/0!"},{"$error":"#DIV/0!"},null,{"$error":"#DIV/0!"},{"$error":"#DIV/0!"},{"$error":"#DIV/0!"},{"$error":"#DIV/0!"},{"$error":"#DIV/0!"},{"$error":"#DIV/0!"},{"$error":"#DIV/0!"},null,12,{"$f":"INT((E146-1)/Hiteladatok!$U$29)+1","v":2},{"$error":"#DIV/0!"},{"$error":"#DIV/0!"},{"$error":"#DIV/0!"},{"$error":"#DIV/0!"},{"$error":"#DIV/0!"},null,{"$error":"#DIV/0!"},{"$error":"#DIV/0!"},{"$error":"#DIV/0!"},{"$error":"#DIV/0!"},{"$error":"#DIV/0!"}]
[null,null,null,12,141,{"$error":"#VALUE!"},{"$error":"#DIV/0!"},{"$error":"#DIV/0!"},{"$error":"#DIV/0!"},{"$error":"#DIV/0!"},{"$error":"#DIV/0!"},{"$error":"#DIV/0!"},{"$f":"IF(OR(Hiteladatok!$I$8=0,E147>$B$4),0,IF(D147>Hiteladatok!$U$40,0,$B$14+IF(Hiteladatok!$I$10=Hiteladatok!$N$33,$B$15,0)))","v":0},{"$error":"#DIV/0!"},{"$error":"#DIV/0!"},null,{"$error":"#DIV/0!"},{"$error":"#DIV/0!"},{"$error":"#DIV/0!"},{"$error":"#DIV/0!"},{"$error":"#DIV/0!"},{"$error":"#DIV/0!"},{"$error":"#DIV/0!"},null,12,{"$f":"INT((E147-1)/Hiteladatok!$U$29)+1","v":2},{"$error":"#DIV/0!"},{"$error":"#DIV/0!"},{"$error":"#DIV/0!"},{"$error":"#DIV/0!"},{"$error":"#DIV/0!"},null,{"$error":"#DIV/0!"},{"$error":"#DIV/0!"},{"$error":"#DIV/0!"},{"$error":"#DIV/0!"},{"$error":"#DIV/0!"}]
[null,null,null,4,142,{"$error":"#VALUE!"},{"$error":"#DIV/0!"},{"$error":"#DIV/0!"},{"$error":"#DIV/0!"},{"$error":"#DIV/0!"},{"$error":"#DIV/0!"},{"$error":"#DIV/0!"},{"$f":"IF(OR(Hiteladatok!$I$8=0,E148>$B$4),0,IF(D148>Hiteladatok!$U$40,0,$B$14+IF(Hiteladatok!$I$10=Hiteladatok!$N$33,$B$15,0)))","v":0},{"$error":"#DIV/0!"},{"$error":"#DIV/0!"},null,{"$error":"#DIV/0!"},{"$error":"#DIV/0!"},{"$error":"#DIV/0!"},{"$error":"#DIV/0!"},{"$error":"#DIV/0!"},{"$error":"#DIV/0!"},{"$error":"#DIV/0!"},null,{"$f":"Y136+1","v":12},{"$f":"INT((E148-1)/Hiteladatok!$U$29)+1","v":2},{"$error":"#DIV/0!"},{"$error":"#DIV/0!"},{"$error":"#DIV/0!"},{"$error":"#DIV/0!"},{"$error":"#DIV/0!"},null,{"$error":"#DIV/0!"},{"$error":"#DIV/0!"},{"$error":"#DIV/0!"},{"$error":"#DIV/0!"},{"$error":"#DIV/0!"}]
[null,null,null,12,143,{"$error":"#VALUE!"},{"$error":"#DIV/0!"},{"$error":"#DIV/0!"},{"$error":"#DIV/0!"},{"$error":"#DIV/0!"},{"$error":"#DIV/0!"},{"$error":"#DIV/0!"},{"$f":"IF(OR(Hiteladatok!$I$8=0,E149>$B$4),0,IF(D149>Hiteladatok!$U$40,0,$B$14+IF(Hiteladatok!$I$10=Hiteladatok!$N$33,$B$15,0)))","v":0},{"$error":"#DIV/0!"},{"$error":"#DIV/0!"},null,{"$error":"#DIV/0!"},{"$error":"#DIV/0!"},{"$error":"#DIV/0!"},{"$error":"#DIV/0!"},{"$error":"#DIV/0!"},{"$error":"#DIV/0!"},{"$error":"#DIV/0!"},null,12,{"$f":"INT((E149-1)/Hiteladatok!$U$29)+1","v":2},{"$error":"#DIV/0!"},{"$error":"#DIV/0!"},{"$error":"#DIV/0!"},{"$error":"#DIV/0!"},{"$error":"#DIV/0!"},null,{"$error":"#DIV/0!"},{"$error":"#DIV/0!"},{"$error":"#DIV/0!"},{"$error":"#DIV/0!"},{"$error":"#DIV/0!"}]
[null,null,null,12,144,{"$error":"#VALUE!"},{"$error":"#DIV/0!"},{"$error":"#DIV/0!"},{"$error":"#DIV/0!"},{"$error":"#DIV/0!"},{"$error":"#DIV/0!"},{"$error":"#DIV/0!"},{"$f":"IF(OR(Hiteladatok!$I$8=0,E150>$B$4),0,IF(D150>Hiteladatok!$U$40,0,$B$14+IF(Hiteladatok!$I$10=Hiteladatok!$N$33,$B$15,0)))","v":0},{"$error":"#DIV/0!"},{"$error":"#DIV/0!"},null,{"$error":"#DIV/0!"},{"$error":"#DIV/0!"},{"$error":"#DIV/0!"},{"$error":"#DIV/0!"},{"$error":"#DIV/0!"},{"$error":"#DIV/0!"},{"$error":"#DIV/0!"},null,12,{"$f":"INT((E150-1)/Hiteladatok!$U$29)+1","v":2},{"$error":"#DIV/0!"},{"$error":"#DIV/0!"},{"$error":"#DIV/0!"},{"$error":"#DIV/0!"},{"$error":"#DIV/0!"},null,{"$error":"#DIV/0!"},{"$error":"#DIV/0!"},{"$error":"#DIV/0!"},{"$error":"#DIV/0!"},{"$error":"#DIV/0!"}]
[null,null,null,1,145,{"$error":"#VALUE!"},{"$error":"#DIV/0!"},{"$error":"#DIV/0!"},{"$error":"#DIV/0!"},{"$error":"#DIV/0!"},{"$error":"#DIV/0!"},{"$f":"IF(E151>$B$4,0,$C$13)","v":{"$error":"#DIV/0!"}},{"$f":"IF(OR(Hiteladatok!$I$8=0,E151>$B$4),0,IF(D151>Hiteladatok!$U$40,0,$B$14+IF(Hiteladatok!$I$10=Hiteladatok!$N$33,$B$15,0)))","v":0},{"$error":"#DIV/0!"},{"$error":"#DIV/0!"},null,{"$error":"#DIV/0!"},{"$error":"#DIV/0!"},{"$error":"#DIV/0!"},{"$error":"#DIV/0!"},{"$error":"#DIV/0!"},{"$error":"#DIV/0!"},{"$error":"#DIV/0!"},null,13,{"$f":"INT((E151-1)/Hiteladatok!$U$29)+1","v":2},{"$error":"#DIV/0!"},{"$error":"#DIV/0!"},{"$error":"#DIV/0!"},{"$error":"#DIV/0!"},{"$error":"#DIV/0!"},null,{"$error":"#DIV/0!"},{"$error":"#DIV/0!"},{"$error":"#DIV/0!"},{"$error":"#DIV/0!"},{"$error":"#DIV/0!"}]
[null,null,null,12,146,{"$error":"#VALUE!"},{"$error":"#DIV/0!"},{"$error":"#DIV/0!"},{"$error":"#DIV/0!"},{"$error":"#DIV/0!"},{"$error":"#DIV/0!"},{"$error":"#DIV/0!"},{"$f":"IF(OR(Hiteladatok!$I$8=0,E152>$B$4),0,IF(D152>Hiteladatok!$U$40,0,$B$14+IF(Hiteladatok!$I$10=Hiteladatok!$N$33,$B$15,0)))","v":0},{"$error":"#DIV/0!"},{"$error":"#DIV/0!"},null,{"$error":"#DIV/0!"},{"$error":"#DIV/0!"},{"$error":"#DIV/0!"},{"$error":"#DIV/0!"},{"$error":"#DIV/0!"},{"$error":"#DIV/0!"},{"$error":"#DIV/0!"},null,13,{"$f":"INT((E152-1)/Hiteladatok!$U$29)+1","v":2},{"$error":"#DIV/0!"},{"$error":"#DIV/0!"},{"$error":"#DIV/0!"},{"$error":"#DIV/0!"},{"$error":"#DIV/0!"},null,{"$error":"#DIV/0!"},{"$error":"#DIV/0!"},{"$error":"#DIV/0!"},{"$error":"#DIV/0!"},{"$error":"#DIV/0!"}]
[null,null,null,12,147,{"$error":"#VALUE!"},{"$error":"#DIV/0!"},{"$error":"#DIV/0!"},{"$error":"#DIV/0!"},{"$error":"#DIV/0!"},{"$error":"#DIV/0!"},{"$error":"#DIV/0!"},{"$f":"IF(OR(Hiteladatok!$I$8=0,E153>$B$4),0,IF(D153>Hiteladatok!$U$40,0,$B$14+IF(Hiteladatok!$I$10=Hiteladatok!$N$33,$B$15,0)))","v":0},{"$error":"#DIV/0!"},{"$error":"#DIV/0!"},null,{"$error":"#DIV/0!"},{"$error":"#DIV/0!"},{"$error":"#DIV/0!"},{"$error":"#DIV/0!"},{"$error":"#DIV/0!"},{"$error":"#DIV/0!"},{"$error":"#DIV/0!"},null,13,{"$f":"INT((E153-1)/Hiteladatok!$U$29)+1","v":2},{"$error":"#DIV/0!"},{"$error":"#DIV/0!"},{"$error":"#DIV/0!"},{"$error":"#DIV/0!"},{"$error":"#DIV/0!"},null,{"$error":"#DIV/0!"},{"$error":"#DIV/0!"},{"$error":"#DIV/0!"},{"$error":"#DIV/0!"},{"$error":"#DIV/0!"}]
[null,null,null,4,148,{"$error":"#VALUE!"},{"$error":"#DIV/0!"},{"$error":"#DIV/0!"},{"$error":"#DIV/0!"},{"$error":"#DIV/0!"},{"$error":"#DIV/0!"},{"$error":"#DIV/0!"},{"$f":"IF(OR(Hiteladatok!$I$8=0,E154>$B$4),0,IF(D154>Hiteladatok!$U$40,0,$B$14+IF(Hiteladatok!$I$10=Hiteladatok!$N$33,$B$15,0)))","v":0},{"$error":"#DIV/0!"},{"$error":"#DIV/0!"},null,{"$error":"#DIV/0!"},{"$error":"#DIV/0!"},{"$error":"#DIV/0!"},{"$error":"#DIV/0!"},{"$error":"#DIV/0!"},{"$error":"#DIV/0!"},{"$error":"#DIV/0!"},null,13,{"$f":"INT((E154-1)/Hiteladatok!$U$29)+1","v":2},{"$error":"#DIV/0!"},{"$error":"#DIV/0!"},{"$error":"#DIV/0!"},{"$error":"#DIV/0!"},{"$error":"#DIV/0!"},null,{"$error":"#DIV/0!"},{"$error":"#DIV/0!"},{"$error":"#DIV/0!"},{"$error":"#DIV/0!"},{"$error":"#DIV/0!"}]
[null,null,null,12,149,{"$error":"#VALUE!"},{"$error":"#DIV/0!"},{"$error":"#DIV/0!"},{"$error":"#DIV/0!"},{"$error":"#DIV/0!"},{"$error":"#DIV/0!"},{"$error":"#DIV/0!"},{"$f":"IF(OR(Hiteladatok!$I$8=0,E155>$B$4),0,IF(D155>Hiteladatok!$U$40,0,$B$14+IF(Hiteladatok!$I$10=Hiteladatok!$N$33,$B$15,0)))","v":0},{"$error":"#DIV/0!"},{"$error":"#DIV/0!"},null,{"$error":"#DIV/0!"},{"$error":"#DIV/0!"},{"$error":"#DIV/0!"},{"$error":"#DIV/0!"},{"$error":"#DIV/0!"},{"$error":"#DIV/0!"},{"$error":"#DIV/0!"},null,13,{"$f":"INT((E155-1)/Hiteladatok!$U$29)+1","v":2},{"$error":"#DIV/0!"},{"$error":"#DIV/0!"},{"$error":"#DIV/0!"},{"$error":"#DIV/0!"},{"$error":"#DIV/0!"},null,{"$error":"#DIV/0!"},{"$error":"#DIV/0!"},{"$error":"#DIV/0!"},{"$error":"#DIV/0!"},{"$error":"#DIV/0!"}]
[null,null,null,12,150,{"$error":"#VALUE!"},{"$error":"#DIV/0!"},{"$error":"#DIV/0!"},{"$error":"#DIV/0!"},{"$error":"#DIV/0!"},{"$error":"#DIV/0!"},{"$error":"#DIV/0!"},{"$f":"IF(OR(Hiteladatok!$I$8=0,E156>$B$4),0,IF(D156>Hiteladatok!$U$40,0,$B$14+IF(Hiteladatok!$I$10=Hiteladatok!$N$33,$B$15,0)))","v":0},{"$error":"#DIV/0!"},{"$error":"#DIV/0!"},null,{"$error":"#DIV/0!"},{"$error":"#DIV/0!"},{"$error":"#DIV/0!"},{"$error":"#DIV/0!"},{"$error":"#DIV/0!"},{"$error":"#DIV/0!"},{"$error":"#DIV/0!"},null,13,{"$f":"INT((E156-1)/Hiteladatok!$U$29)+1","v":2},{"$error":"#DIV/0!"},{"$error":"#DIV/0!"},{"$error":"#DIV/0!"},{"$error":"#DIV/0!"},{"$error":"#DIV/0!"},null,{"$error":"#DIV/0!"},{"$error":"#DIV/0!"},{"$error":"#DIV/0!"},{"$error":"#DIV/0!"},{"$error":"#DIV/0!"}]
[null,null,null,2,151,{"$error":"#VALUE!"},{"$error":"#DIV/0!"},{"$error":"#DIV/0!"},{"$error":"#DIV/0!"},{"$error":"#DIV/0!"},{"$error":"#DIV/0!"},{"$error":"#DIV/0!"},{"$f":"IF(OR(Hiteladatok!$I$8=0,E157>$B$4),0,IF(D157>Hiteladatok!$U$40,0,$B$14+IF(Hiteladatok!$I$10=Hiteladatok!$N$33,$B$15,0)))","v":0},{"$error":"#DIV/0!"},{"$error":"#DIV/0!"},null,{"$error":"#DIV/0!"},{"$error":"#DIV/0!"},{"$error":"#DIV/0!"},{"$error":"#DIV/0!"},{"$error":"#DIV/0!"},{"$error":"#DIV/0!"},{"$error":"#DIV/0!"},null,13,{"$f":"INT((E157-1)/Hiteladatok!$U$29)+1","v":2},{"$error":"#DIV/0!"},{"$error":"#DIV/0!"},{"$error":"#DIV/0!"},{"$error":"#DIV/0!"},{"$error":"#DIV/0!"},null,{"$error":"#DIV/0!"},{"$error":"#DIV/0!"},{"$error":"#DIV/0!"},{"$error":"#DIV/0!"},{"$error":"#DIV/0!"}]
[null,null,null,12,152,{"$error":"#VALUE!"},{"$error":"#DIV/0!"},{"$error":"#DIV/0!"},{"$error":"#DIV/0!"},{"$error":"#DIV/0!"},{"$error":"#DIV/0!"},{"$error":"#DIV/0!"},{"$f":"IF(OR(Hiteladatok!$I$8=0,E158>$B$4),0,IF(D158>Hiteladatok!$U$40,0,$B$14+IF(Hiteladatok!$I$10=Hiteladatok!$N$33,$B$15,0)))","v":0},{"$error":"#DIV/0!"},{"$error":"#DIV/0!"},null,{"$error":"#DIV/0!"},{"$error":"#DIV/0!"},{"$error":"#DIV/0!"},{"$error":"#DIV/0!"},{"$error":"#DIV/0!"},{"$error":"#DIV/0!"},{"$error":"#DIV/0!"},null,13,{"$f":"INT((E158-1)/Hiteladatok!$U$29)+1","v":2},{"$error":"#DIV/0!"},{"$error":"#DIV/0!"},{"$error":"#DIV/0!"},{"$error":"#DIV/0!"},{"$error":"#DIV/0!"},null,{"$error":"#DIV/0!"},{"$error":"#DIV/0!"},{"$error":"#DIV/0!"},{"$error":"#DIV/0!"},{"$error":"#DIV/0!"}]
[null,null,null,12,153,{"$error":"#VALUE!"},{"$error":"#DIV/0!"},{"$error":"#DIV/0!"},{"$error":"#DIV/0!"},{"$error":"#DIV/0!"},{"$error":"#DIV/0!"},{"$error":"#DIV/0!"},{"$f":"IF(OR(Hiteladatok!$I$8=0,E159>$B$4),0,IF(D159>Hiteladatok!$U$40,0,$B$14+IF(Hiteladatok!$I$10=Hiteladatok!$N$33,$B$15,0)))","v":0},{"$error":"#DIV/0!"},{"$error":"#DIV/0!"},null,{"$error":"#DIV/0!"},{"$error":"#DIV/0!"},{"$error":"#DIV/0!"},{"$error":"#DIV/0!"},{"$error":"#DIV/0!"},{"$error":"#DIV/0!"},{"$error":"#DIV/0!"},null,13,{"$f":"INT((E159-1)/Hiteladatok!$U$29)+1","v":2},{"$error":"#DIV/0!"},{"$error":"#DIV/0!"},{"$error":"#DIV/0!"},{"$error":"#DIV/0!"},{"$error":"#DIV/0!"},null,{"$error":"#DIV/0!"},{"$error":"#DIV/0!"},{"$error":"#DIV/0!"},{"$error":"#DIV/0!"},{"$error":"#DIV/0!"}]
[null,null,null,4,154,{"$error":"#VALUE!"},{"$error":"#DIV/0!"},{"$error":"#DIV/0!"},{"$error":"#DIV/0!"},{"$error":"#DIV/0!"},{"$error":"#DIV/0!"},{"$error":"#DIV/0!"},{"$f":"IF(OR(Hiteladatok!$I$8=0,E160>$B$4),0,IF(D160>Hiteladatok!$U$40,0,$B$14+IF(Hiteladatok!$I$10=Hiteladatok!$N$33,$B$15,0)))","v":0},{"$error":"#DIV/0!"},{"$error":"#DIV/0!"},null,{"$error":"#DIV/0!"},{"$error":"#DIV/0!"},{"$error":"#DIV/0!"},{"$error":"#DIV/0!"},{"$error":"#DIV/0!"},{"$error":"#DIV/0!"},{"$error":"#DIV/0!"},null,13,{"$f":"INT((E160-1)/Hiteladatok!$U$29)+1","v":2},{"$error":"#DIV/0!"},{"$error":"#DIV/0!"},{"$error":"#DIV/0!"},{"$error":"#DIV/0!"},{"$error":"#DIV/0!"},null,{"$error":"#DIV/0!"},{"$error":"#DIV/0!"},{"$error":"#DIV/0!"},{"$error":"#DIV/0!"},{"$error":"#DIV/0!"}]
[null,null,null,12,155,{"$error":"#VALUE!"},{"$error":"#DIV/0!"},{"$error":"#DIV/0!"},{"$error":"#DIV/0!"},{"$error":"#DIV/0!"},{"$error":"#DIV/0!"},{"$error":"#DIV/0!"},{"$f":"IF(OR(Hiteladatok!$I$8=0,E161>$B$4),0,IF(D161>Hiteladatok!$U$40,0,$B$14+IF(Hiteladatok!$I$10=Hiteladatok!$N$33,$B$15,0)))","v":0},{"$error":"#DIV/0!"},{"$error":"#DIV/0!"},null,{"$error":"#DIV/0!"},{"$error":"#DIV/0!"},{"$error":"#DIV/0!"},{"$error":"#DIV/0!"},{"$error":"#DIV/0!"},{"$error":"#DIV/0!"},{"$error":"#DIV/0!"},null,13,{"$f":"INT((E161-1)/Hiteladatok!$U$29)+1","v":2},{"$error":"#DIV/0!"},{"$error":"#DIV/0!"},{"$error":"#DIV/0!"},{"$error":"#DIV/0!"},{"$error":"#DIV/0!"},null,{"$error":"#DIV/0!"},{"$error":"#DIV/0!"},{"$error":"#DIV/0!"},{"$error":"#DIV/0!"},{"$error":"#DIV/0!"}]
[null,null,null,12,156,{"$error":"#VALUE!"},{"$error":"#DIV/0!"},{"$error":"#DIV/0!"},{"$error":"#DIV/0!"},{"$error":"#DIV/0!"},{"$error":"#DIV/0!"},{"$error":"#DIV/0!"},{"$f":"IF(OR(Hiteladatok!$I$8=0,E162>$B$4),0,IF(D162>Hiteladatok!$U$40,0,$B$14+IF(Hiteladatok!$I$10=Hiteladatok!$N$33,$B$15,0)))","v":0},{"$error":"#DIV/0!"},{"$error":"#DIV/0!"},null,{"$error":"#DIV/0!"},{"$error":"#DIV/0!"},{"$error":"#DIV/0!"},{"$error":"#DIV/0!"},{"$error":"#DIV/0!"},{"$error":"#DIV/0!"},{"$error":"#DIV/0!"},null,13,{"$f":"INT((E162-1)/Hiteladatok!$U$29)+1","v":2},{"$error":"#DIV/0!"},{"$error":"#DIV/0!"},{"$error":"#DIV/0!"},{"$error":"#DIV/0!"},{"$error":"#DIV/0!"},null,{"$error":"#DIV/0!"},{"$error":"#DIV/0!"},{"$error":"#DIV/0!"},{"$error":"#DIV/0!"},{"$error":"#DIV/0!"}]
[null,null,null,1,157,{"$error":"#VALUE!"},{"$error":"#DIV/0!"},{"$error":"#DIV/0!"},{"$error":"#DIV/0!"},{"$error":"#DIV/0!"},{"$error":"#DIV/0!"},{"$error":"#DIV/0!"},{"$f":"IF(OR(Hiteladatok!$I$8=0,E163>$B$4),0,IF(D163>Hiteladatok!$U$40,0,$B$14+IF(Hiteladatok!$I$10=Hiteladatok!$N$33,$B$15,0)))","v":0},{"$error":"#DIV/0!"},{"$error":"#DIV/0!"},null,{"$error":"#DIV/0!"},{"$error":"#DIV/0!"},{"$error":"#DIV/0!"},{"$error":"#DIV/0!"},{"$error":"#DIV/0!"},{"$error":"#DIV/0!"},{"$error":"#DIV/0!"},null,14,{"$f":"INT((E163-1)/Hiteladatok!$U$29)+1","v":2},{"$error":"#DIV/0!"},{"$error":"#DIV/0!"},{"$error":"#DIV/0!"},{"$error":"#DIV/0!"},{"$error":"#DIV/0!"},null,{"$error":"#DIV/0!"},{"$error":"#DIV/0!"},{"$error":"#DIV/0!"},{"$error":"#DIV/0!"},{"$error":"#DIV/0!"}]
[null,null,null,12,158,{"$error":"#VALUE!"},{"$error":"#DIV/0!"},{"$error":"#DIV/0!"},{"$error":"#DIV/0!"},{"$error":"#DIV/0!"},{"$error":"#DIV/0!"},{"$error":"#DIV/0!"},{"$f":"IF(OR(Hiteladatok!$I$8=0,E164>$B$4),0,IF(D164>Hiteladatok!$U$40,0,$B$14+IF(Hiteladatok!$I$10=Hiteladatok!$N$33,$B$15,0)))","v":0},{"$error":"#DIV/0!"},{"$error":"#DIV/0!"},null,{"$error":"#DIV/0!"},{"$error":"#DIV/0!"},{"$error":"#DIV/0!"},{"$error":"#DIV/0!"},{"$error":"#DIV/0!"},{"$error":"#DIV/0!"},{"$error":"#DIV/0!"},null,14,{"$f":"INT((E164-1)/Hiteladatok!$U$29)+1","v":2},{"$error":"#DIV/0!"},{"$error":"#DIV/0!"},{"$error":"#DIV/0!"},{"$error":"#DIV/0!"},{"$error":"#DIV/0!"},null,{"$error":"#DIV/0!"},{"$error":"#DIV/0!"},{"$error":"#DIV/0!"},{"$error":"#DIV/0!"},{"$error":"#DIV/0!"}]
[null,null,null,12,159,{"$error":"#VALUE!"},{"$error":"#DIV/0!"},{"$error":"#DIV/0!"},{"$error":"#DIV/0!"},{"$error":"#DIV/0!"},{"$error":"#DIV/0!"},{"$error":"#DIV/0!"},{"$f":"IF(OR(Hiteladatok!$I$8=0,E165>$B$4),0,IF(D165>Hiteladatok!$U$40,0,$B$14+IF(Hiteladatok!$I$10=Hiteladatok!$N$33,$B$15,0)))","v":0},{"$error":"#DIV/0!"},{"$error":"#DIV/0!"},null,{"$error":"#DIV/0!"},{"$error":"#DIV/0!"},{"$error":"#DIV/0!"},{"$error":"#DIV/0!"},{"$error":"#DIV/0!"},{"$error":"#DIV/0!"},{"$error":"#DIV/0!"},null,14,{"$f":"INT((E165-1)/Hiteladatok!$U$29)+1","v":2},{"$error":"#DIV/0!"},{"$error":"#DIV/0!"},{"$error":"#DIV/0!"},{"$error":"#DIV/0!"},{"$error":"#DIV/0!"},null,{"$error":"#DIV/0!"},{"$error":"#DIV/0!"},{"$error":"#DIV/0!"},{"$error":"#DIV/0!"},{"$error":"#DIV/0!"}]
[null,null,null,4,160,{"$error":"#VALUE!"},{"$error":"#DIV/0!"},{"$error":"#DIV/0!"},{"$error":"#DIV/0!"},{"$error":"#DIV/0!"},{"$error":"#DIV/0!"},{"$error":"#DIV/0!"},{"$f":"IF(OR(Hiteladatok!$I$8=0,E166>$B$4),0,IF(D166>Hiteladatok!$U$40,0,$B$14+IF(Hiteladatok!$I$10=Hiteladatok!$N$33,$B$15,0)))","v":0},{"$error":"#DIV/0!"},{"$error":"#DIV/0!"},null,{"$error":"#DIV/0!"},{"$error":"#DIV/0!"},{"$error":"#DIV/0!"},{"$error":"#DIV/0!"},{"$error":"#DIV/0!"},{"$error":"#DIV/0!"},{"$error":"#DIV/0!"},null,14,{"$f":"INT((E166-1)/Hiteladatok!$U$29)+1","v":2},{"$error":"#DIV/0!"},{"$error":"#DIV/0!"},{"$error":"#DIV/0!"},{"$error":"#DIV/0!"},{"$error":"#DIV/0!"},null,{"$error":"#DIV/0!"},{"$error":"#DIV/0!"},{"$error":"#DIV/0!"},{"$error":"#DIV/0!"},{"$error":"#DIV/0!"}]
[null,null,null,12,161,{"$error":"#VALUE!"},{"$error":"#DIV/0!"},{"$error":"#DIV/0!"},{"$error":"#DIV/0!"},{"$error":"#DIV/0!"},{"$error":"#DIV/0!"},{"$error":"#DIV/0!"},{"$f":"IF(OR(Hiteladatok!$I$8=0,E167>$B$4),0,IF(D167>Hiteladatok!$U$40,0,$B$14+IF(Hiteladatok!$I$10=Hiteladatok!$N$33,$B$15,0)))","v":0},{"$error":"#DIV/0!"},{"$error":"#DIV/0!"},null,{"$error":"#DIV/0!"},{"$error":"#DIV/0!"},{"$error":"#DIV/0!"},{"$error":"#DIV/0!"},{"$error":"#DIV/0!"},{"$error":"#DIV/0!"},{"$error":"#DIV/0!"},null,14,{"$f":"INT((E167-1)/Hiteladatok!$U$29)+1","v":2},{"$error":"#DIV/0!"},{"$error":"#DIV/0!"},{"$error":"#DIV/0!"},{"$error":"#DIV/0!"},{"$error":"#DIV/0!"},null,{"$error":"#DIV/0!"},{"$error":"#DIV/0!"},{"$error":"#DIV/0!"},{"$error":"#DIV/0!"},{"$error":"#DIV/0!"}]
[null,null,null,12,162,{"$error":"#VALUE!"},{"$error":"#DIV/0!"},{"$error":"#DIV/0!"},{"$error":"#DIV/0!"},{"$error":"#DIV/0!"},{"$error":"#DIV/0!"},{"$error":"#DIV/0!"},{"$f":"IF(OR(Hiteladatok!$I$8=0,E168>$B$4),0,IF(D168>Hiteladatok!$U$40,0,$B$14+IF(Hiteladatok!$I$10=Hiteladatok!$N$33,$B$15,0)))","v":0},{"$error":"#DIV/0!"},{"$error":"#DIV/0!"},null,{"$error":"#DIV/0!"},{"$error":"#DIV/0!"},{"$error":"#DIV/0!"},{"$error":"#DIV/0!"},{"$error":"#DIV/0!"},{"$error":"#DIV/0!"},{"$error":"#DIV/0!"},null,14,{"$f":"INT((E168-1)/Hiteladatok!$U$29)+1","v":2},{"$error":"#DIV/0!"},{"$error":"#DIV/0!"},{"$error":"#DIV/0!"},{"$error":"#DIV/0!"},{"$error":"#DIV/0!"},null,{"$error":"#DIV/0!"},{"$error":"#DIV/0!"},{"$error":"#DIV/0!"},{"$error":"#DIV/0!"},{"$error":"#DIV/0!"}]
[null,null,null,2,163,{"$error":"#VALUE!"},{"$error":"#DIV/0!"},{"$error":"#DIV/0!"},{"$error":"#DIV/0!"},{"$error":"#DIV/0!"},{"$error":"#DIV/0!"},{"$error":"#DIV/0!"},{"$f":"IF(OR(Hiteladatok!$I$8=0,E169>$B$4),0,IF(D169>Hiteladatok!$U$40,0,$B$14+IF(Hiteladatok!$I$10=Hiteladatok!$N$33,$B$15,0)))","v":0},{"$error":"#DIV/0!"},{"$error":"#DIV/0!"},null,{"$error":"#DIV/0!"},{"$error":"#DIV/0!"},{"$error":"#DIV/0!"},{"$error":"#DIV/0!"},{"$error":"#DIV/0!"},{"$error":"#DIV/0!"},{"$error":"#DIV/0!"},null,14,{"$f":"INT((E169-1)/Hiteladatok!$U$29)+1","v":2},{"$error":"#DIV/0!"},{"$error":"#DIV/0!"},{"$error":"#DIV/0!"},{"$error":"#DIV/0!"},{"$error":"#DIV/0!"},null,{"$error":"#DIV/0!"},{"$error":"#DIV/0!"},{"$error":"#DIV/0!"},{"$error":"#DIV/0!"},{"$error":"#DIV/0!"}]
[null,null,null,12,164,{"$error":"#VALUE!"},{"$error":"#DIV/0!"},{"$error":"#DIV/0!"},{"$error":"#DIV/0!"},{"$error":"#DIV/0!"},{"$error":"#DIV/0!"},{"$error":"#DIV/0!"},{"$f":"IF(OR(Hiteladatok!$I$8=0,E170>$B$4),0,IF(D170>Hiteladatok!$U$40,0,$B$14+IF(Hiteladatok!$I$10=Hiteladatok!$N$33,$B$15,0)))","v":0},{"$error":"#DIV/0!"},{"$error":"#DIV/0!"},null,{"$error":"#DIV/0!"},{"$error":"#DIV/0!"},{"$error":"#DIV/0!"},{"$error":"#DIV/0!"},{"$error":"#DIV/0!"},{"$error":"#DIV/0!"},{"$error":"#DIV/0!"},null,14,{"$f":"INT((E170-1)/Hiteladatok!$U$29)+1","v":2},{"$error":"#DIV/0!"},{"$error":"#DIV/0!"},{"$error":"#DIV/0!"},{"$error":"#DIV/0!"},{"$error":"#DIV/0!"},null,{"$error":"#DIV/0!"},{"$error":"#DIV/0!"},{"$error":"#DIV/0!"},{"$error":"#DIV/0!"},{"$error":"#DIV/0!"}]
[null,null,null,12,165,{"$error":"#VALUE!"},{"$error":"#DIV/0!"},{"$error":"#DIV/0!"},{"$error":"#DIV/0!"},{"$error":"#DIV/0!"},{"$error":"#DIV/0!"},{"$error":"#DIV/0!"},{"$f":"IF(OR(Hiteladatok!$I$8=0,E171>$B$4),0,IF(D171>Hiteladatok!$U$40,0,$B$14+IF(Hiteladatok!$I$10=Hiteladatok!$N$33,$B$15,0)))","v":0},{"$error":"#DIV/0!"},{"$error":"#DIV/0!"},null,{"$error":"#DIV/0!"},{"$error":"#DIV/0!"},{"$error":"#DIV/0!"},{"$error":"#DIV/0!"},{"$error":"#DIV/0!"},{"$error":"#DIV/0!"},{"$error":"#DIV/0!"},null,14,{"$f":"INT((E171-1)/Hiteladatok!$U$29)+1","v":2},{"$error":"#DIV/0!"},{"$error":"#DIV/0!"},{"$error":"#DIV/0!"},{"$error":"#DIV/0!"},{"$error":"#DIV/0!"},null,{"$error":"#DIV/0!"},{"$error":"#DIV/0!"},{"$error":"#DIV/0!"},{"$error":"#DIV/0!"},{"$error":"#DIV/0!"}]
[null,null,null,4,166,{"$error":"#VALUE!"},{"$error":"#DIV/0!"},{"$error":"#DIV/0!"},{"$error":"#DIV/0!"},{"$error":"#DIV/0!"},{"$error":"#DIV/0!"},{"$error":"#DIV/0!"},{"$f":"IF(OR(Hiteladatok!$I$8=0,E172>$B$4),0,IF(D172>Hiteladatok!$U$40,0,$B$14+IF(Hiteladatok!$I$10=Hiteladatok!$N$33,$B$15,0)))","v":0},{"$error":"#DIV/0!"},{"$error":"#DIV/0!"},null,{"$error":"#DIV/0!"},{"$error":"#DIV/0!"},{"$error":"#DIV/0!"},{"$error":"#DIV/0!"},{"$error":"#DIV/0!"},{"$error":"#DIV/0!"},{"$error":"#DIV/0!"},null,14,{"$f":"INT((E172-1)/Hiteladatok!$U$29)+1","v":2},{"$error":"#DIV/0!"},{"$error":"#DIV/0!"},{"$error":"#DIV/0!"},{"$error":"#DIV/0!"},{"$error":"#DIV/0!"},null,{"$error":"#DIV/0!"},{"$error":"#DIV/0!"},{"$error":"#DIV/0!"},{"$error":"#DIV/0!"},{"$error":"#DIV/0!"}]
[null,null,null,12,167,{"$error":"#VALUE!"},{"$error":"#DIV/0!"},{"$error":"#DIV/0!"},{"$error":"#DIV/0!"},{"$error":"#DIV/0!"},{"$error":"#DIV/0!"},{"$error":"#DIV/0!"},{"$f":"IF(OR(Hiteladatok!$I$8=0,E173>$B$4),0,IF(D173>Hiteladatok!$U$40,0,$B$14+IF(Hiteladatok!$I$10=Hiteladatok!$N$33,$B$15,0)))","v":0},{"$error":"#DIV/0!"},{"$error":"#DIV/0!"},null,{"$error":"#DIV/0!"},{"$error":"#DIV/0!"},{"$error":"#DIV/0!"},{"$error":"#DIV/0!"},{"$error":"#DIV/0!"},{"$error":"#DIV/0!"},{"$error":"#DIV/0!"},null,14,{"$f":"INT((E173-1)/Hiteladatok!$U$29)+1","v":2},{"$error":"#DIV/0!"},{"$error":"#DIV/0!"},{"$error":"#DIV/0!"},{"$error":"#DIV/0!"},{"$error":"#DIV/0!"},null,{"$error":"#DIV/0!"},{"$error":"#DIV/0!"},{"$error":"#DIV/0!"},{"$error":"#DIV/0!"},{"$error":"#DIV/0!"}]
[null,null,null,12,168,{"$error":"#VALUE!"},{"$error":"#DIV/0!"},{"$error":"#DIV/0!"},{"$error":"#DIV/0!"},{"$error":"#DIV/0!"},{"$error":"#DIV/0!"},{"$error":"#DIV/0!"},{"$f":"IF(OR(Hiteladatok!$I$8=0,E174>$B$4),0,IF(D174>Hiteladatok!$U$40,0,$B$14+IF(Hiteladatok!$I$10=Hiteladatok!$N$33,$B$15,0)))","v":0},{"$error":"#DIV/0!"},{"$error":"#DIV/0!"},null,{"$error":"#DIV/0!"},{"$error":"#DIV/0!"},{"$error":"#DIV/0!"},{"$error":"#DIV/0!"},{"$error":"#DIV/0!"},{"$error":"#DIV/0!"},{"$error":"#DIV/0!"},null,14,{"$f":"INT((E174-1)/Hiteladatok!$U$29)+1","v":2},{"$error":"#DIV/0!"},{"$error":"#DIV/0!"},{"$error":"#DIV/0!"},{"$error":"#DIV/0!"},{"$error":"#DIV/0!"},null,{"$error":"#DIV/0!"},{"$error":"#DIV/0!"},{"$error":"#DIV/0!"},{"$error":"#DIV/0!"},{"$error":"#DIV/0!"}]
[null,null,null,1,169,{"$error":"#VALUE!"},{"$error":"#DIV/0!"},{"$error":"#DIV/0!"},{"$error":"#DIV/0!"},{"$error":"#DIV/0!"},{"$error":"#DIV/0!"},{"$error":"#DIV/0!"},{"$f":"IF(OR(Hiteladatok!$I$8=0,E175>$B$4),0,IF(D175>Hiteladatok!$U$40,0,$B$14+IF(Hiteladatok!$I$10=Hiteladatok!$N$33,$B$15,0)))","v":0},{"$error":"#DIV/0!"},{"$error":"#DIV/0!"},null,{"$error":"#DIV/0!"},{"$error":"#DIV/0!"},{"$error":"#DIV/0!"},{"$error":"#DIV/0!"},{"$error":"#DIV/0!"},{"$error":"#DIV/0!"},{"$error":"#DIV/0!"},null,15,{"$f":"INT((E175-1)/Hiteladatok!$U$29)+1","v":2},{"$error":"#DIV/0!"},{"$error":"#DIV/0!"},{"$error":"#DIV/0!"},{"$error":"#DIV/0!"},{"$error":"#DIV/0!"},null,{"$error":"#DIV/0!"},{"$error":"#DIV/0!"},{"$error":"#DIV/0!"},{"$error":"#DIV/0!"},{"$error":"#DIV/0!"}]
[null,null,null,12,170,{"$error":"#VALUE!"},{"$error":"#DIV/0!"},{"$error":"#DIV/0!"},{"$error":"#DIV/0!"},{"$error":"#DIV/0!"},{"$error":"#DIV/0!"},{"$error":"#DIV/0!"},{"$f":"IF(OR(Hiteladatok!$I$8=0,E176>$B$4),0,IF(D176>Hiteladatok!$U$40,0,$B$14+IF(Hiteladatok!$I$10=Hiteladatok!$N$33,$B$15,0)))","v":0},{"$error":"#DIV/0!"},{"$error":"#DIV/0!"},null,{"$error":"#DIV/0!"},{"$error":"#DIV/0!"},{"$error":"#DIV/0!"},{"$error":"#DIV/0!"},{"$error":"#DIV/0!"},{"$error":"#DIV/0!"},{"$error":"#DIV/0!"},null,15,{"$f":"INT((E176-1)/Hiteladatok!$U$29)+1","v":2},{"$error":"#DIV/0!"},{"$error":"#DIV/0!"},{"$error":"#DIV/0!"},{"$error":"#DIV/0!"},{"$error":"#DIV/0!"},null,{"$error":"#DIV/0!"},{"$error":"#DIV/0!"},{"$error":"#DIV/0!"},{"$error":"#DIV/0!"},{"$error":"#DIV/0!"}]
[null,null,null,12,171,{"$error":"#VALUE!"},{"$error":"#DIV/0!"},{"$error":"#DIV/0!"},{"$error":"#DIV/0!"},{"$error":"#DIV/0!"},{"$error":"#DIV/0!"},{"$error":"#DIV/0!"},{"$f":"IF(OR(Hiteladatok!$I$8=0,E177>$B$4),0,IF(D177>Hiteladatok!$U$40,0,$B$14+IF(Hiteladatok!$I$10=Hiteladatok!$N$33,$B$15,0)))","v":0},{"$error":"#DIV/0!"},{"$error":"#DIV/0!"},null,{"$error":"#DIV/0!"},{"$error":"#DIV/0!"},{"$error":"#DIV/0!"},{"$error":"#DIV/0!"},{"$error":"#DIV/0!"},{"$error":"#DIV/0!"},{"$error":"#DIV/0!"},null,15,{"$f":"INT((E177-1)/Hiteladatok!$U$29)+1","v":2},{"$error":"#DIV/0!"},{"$error":"#DIV/0!"},{"$error":"#DIV/0!"},{"$error":"#DIV/0!"},{"$error":"#DIV/0!"},null,{"$error":"#DIV/0!"},{"$error":"#DIV/0!"},{"$error":"#DIV/0!"},{"$error":"#DIV/0!"},{"$error":"#DIV/0!"}]
[null,null,null,4,172,{"$error":"#VALUE!"},{"$error":"#DIV/0!"},{"$error":"#DIV/0!"},{"$error":"#DIV/0!"},{"$error":"#DIV/0!"},{"$error":"#DIV/0!"},{"$error":"#DIV/0!"},{"$f":"IF(OR(Hiteladatok!$I$8=0,E178>$B$4),0,IF(D178>Hiteladatok!$U$40,0,$B$14+IF(Hiteladatok!$I$10=Hiteladatok!$N$33,$B$15,0)))","v":0},{"$error":"#DIV/0!"},{"$error":"#DIV/0!"},null,{"$error":"#DIV/0!"},{"$error":"#DIV/0!"},{"$error":"#DIV/0!"},{"$error":"#DIV/0!"},{"$error":"#DIV/0!"},{"$error":"#DIV/0!"},{"$error":"#DIV/0!"},null,15,{"$f":"INT((E178-1)/Hiteladatok!$U$29)+1","v":2},{"$error":"#DIV/0!"},{"$error":"#DIV/0!"},{"$error":"#DIV/0!"},{"$error":"#DIV/0!"},{"$error":"#DIV/0!"},null,{"$error":"#DIV/0!"},{"$error":"#DIV/0!"},{"$error":"#DIV/0!"},{"$error":"#DIV/0!"},{"$error":"#DIV/0!"}]
[null,null,null,12,173,{"$error":"#VALUE!"},{"$error":"#DIV/0!"},{"$error":"#DIV/0!"},{"$error":"#DIV/0!"},{"$error":"#DIV/0!"},{"$error":"#DIV/0!"},{"$error":"#DIV/0!"},{"$f":"IF(OR(Hiteladatok!$I$8=0,E179>$B$4),0,IF(D179>Hiteladatok!$U$40,0,$B$14+IF(Hiteladatok!$I$10=Hiteladatok!$N$33,$B$15,0)))","v":0},{"$error":"#DIV/0!"},{"$error":"#DIV/0!"},null,{"$error":"#DIV/0!"},{"$error":"#DIV/0!"},{"$error":"#DIV/0!"},{"$error":"#DIV/0!"},{"$error":"#DIV/0!"},{"$error":"#DIV/0!"},{"$error":"#DIV/0!"},null,15,{"$f":"INT((E179-1)/Hiteladatok!$U$29)+1","v":2},{"$error":"#DIV/0!"},{"$error":"#DIV/0!"},{"$error":"#DIV/0!"},{"$error":"#DIV/0!"},{"$error":"#DIV/0!"},null,{"$error":"#DIV/0!"},{"$error":"#DIV/0!"},{"$error":"#DIV/0!"},{"$error":"#DIV/0!"},{"$error":"#DIV/0!"}]
[null,null,null,12,174,{"$error":"#VALUE!"},{"$error":"#DIV/0!"},{"$error":"#DIV/0!"},{"$error":"#DIV/0!"},{"$error":"#DIV/0!"},{"$error":"#DIV/0!"},{"$error":"#DIV/0!"},{"$f":"IF(OR(Hiteladatok!$I$8=0,E180>$B$4),0,IF(D180>Hiteladatok!$U$40,0,$B$14+IF(Hiteladatok!$I$10=Hiteladatok!$N$33,$B$15,0)))","v":0},{"$error":"#DIV/0!"},{"$error":"#DIV/0!"},null,{"$error":"#DIV/0!"},{"$error":"#DIV/0!"},{"$error":"#DIV/0!"},{"$error":"#DIV/0!"},{"$error":"#DIV/0!"},{"$error":"#DIV/0!"},{"$error":"#DIV/0!"},null,15,{"$f":"INT((E180-1)/Hiteladatok!$U$29)+1","v":2},{"$error":"#DIV/0!"},{"$error":"#DIV/0!"},{"$error":"#DIV/0!"},{"$error":"#DIV/0!"},{"$error":"#DIV/0!"},null,{"$error":"#DIV/0!"},{"$error":"#DIV/0!"},{"$error":"#DIV/0!"},{"$error":"#DIV/0!"},{"$error":"#DIV/0!"}]
[null,null,null,2,175,{"$error":"#VALUE!"},{"$error":"#DIV/0!"},{"$error":"#DIV/0!"},{"$error":"#DIV/0!"},{"$error":"#DIV/0!"},{"$error":"#DIV/0!"},{"$error":"#DIV/0!"},{"$f":"IF(OR(Hiteladatok!$I$8=0,E181>$B$4),0,IF(D181>Hiteladatok!$U$40,0,$B$14+IF(Hiteladatok!$I$10=Hiteladatok!$N$33,$B$15,0)))","v":0},{"$error":"#DIV/0!"},{"$error":"#DIV/0!"},null,{"$error":"#DIV/0!"},{"$error":"#DIV/0!"},{"$error":"#DIV/0!"},{"$error":"#DIV/0!"},{"$error":"#DIV/0!"},{"$error":"#DIV/0!"},{"$error":"#DIV/0!"},null,15,{"$f":"INT((E181-1)/Hiteladatok!$U$29)+1","v":2},{"$error":"#DIV/0!"},{"$error":"#DIV/0!"},{"$error":"#DIV/0!"},{"$error":"#DIV/0!"},{"$error":"#DIV/0!"},null,{"$error":"#DIV/0!"},{"$error":"#DIV/0!"},{"$error":"#DIV/0!"},{"$error":"#DIV/0!"},{"$error":"#DIV/0!"}]
[null,null,null,12,176,{"$error":"#VALUE!"},{"$error":"#DIV/0!"},{"$error":"#DIV/0!"},{"$error":"#DIV/0!"},{"$error":"#DIV/0!"},{"$error":"#DIV/0!"},{"$error":"#DIV/0!"},{"$f":"IF(OR(Hiteladatok!$I$8=0,E182>$B$4),0,IF(D182>Hiteladatok!$U$40,0,$B$14+IF(Hiteladatok!$I$10=Hiteladatok!$N$33,$B$15,0)))","v":0},{"$error":"#DIV/0!"},{"$error":"#DIV/0!"},null,{"$error":"#DIV/0!"},{"$error":"#DIV/0!"},{"$error":"#DIV/0!"},{"$error":"#DIV/0!"},{"$error":"#DIV/0!"},{"$error":"#DIV/0!"},{"$error":"#DIV/0!"},null,15,{"$f":"INT((E182-1)/Hiteladatok!$U$29)+1","v":2},{"$error":"#DIV/0!"},{"$error":"#DIV/0!"},{"$error":"#DIV/0!"},{"$error":"#DIV/0!"},{"$error":"#DIV/0!"},null,{"$error":"#DIV/0!"},{"$error":"#DIV/0!"},{"$error":"#DIV/0!"},{"$error":"#DIV/0!"},{"$error":"#DIV/0!"}]
[null,null,null,12,177,{"$error":"#VALUE!"},{"$error":"#DIV/0!"},{"$error":"#DIV/0!"},{"$error":"#DIV/0!"},{"$error":"#DIV/0!"},{"$error":"#DIV/0!"},{"$error":"#DIV/0!"},{"$f":"IF(OR(Hiteladatok!$I$8=0,E183>$B$4),0,IF(D183>Hiteladatok!$U$40,0,$B$14+IF(Hiteladatok!$I$10=Hiteladatok!$N$33,$B$15,0)))","v":0},{"$error":"#DIV/0!"},{"$error":"#DIV/0!"},null,{"$error":"#DIV/0!"},{"$error":"#DIV/0!"},{"$error":"#DIV/0!"},{"$error":"#DIV/0!"},{"$error":"#DIV/0!"},{"$error":"#DIV/0!"},{"$error":"#DIV/0!"},null,15,{"$f":"INT((E183-1)/Hiteladatok!$U$29)+1","v":2},{"$error":"#DIV/0!"},{"$error":"#DIV/0!"},{"$error":"#DIV/0!"},{"$error":"#DIV/0!"},{"$error":"#DIV/0!"},null,{"$error":"#DIV/0!"},{"$error":"#DIV/0!"},{"$error":"#DIV/0!"},{"$error":"#DIV/0!"},{"$error":"#DIV/0!"}]
[null,null,null,4,178,{"$error":"#VALUE!"},{"$error":"#DIV/0!"},{"$error":"#DIV/0!"},{"$error":"#DIV/0!"},{"$error":"#DIV/0!"},{"$error":"#DIV/0!"},{"$error":"#DIV/0!"},{"$f":"IF(OR(Hiteladatok!$I$8=0,E184>$B$4),0,IF(D184>Hiteladatok!$U$40,0,$B$14+IF(Hiteladatok!$I$10=Hiteladatok!$N$33,$B$15,0)))","v":0},{"$error":"#DIV/0!"},{"$error":"#DIV/0!"},null,{"$error":"#DIV/0!"},{"$error":"#DIV/0!"},{"$error":"#DIV/0!"},{"$error":"#DIV/0!"},{"$error":"#DIV/0!"},{"$error":"#DIV/0!"},{"$error":"#DIV/0!"},null,15,{"$f":"INT((E184-1)/Hiteladatok!$U$29)+1","v":2},{"$error":"#DIV/0!"},{"$error":"#DIV/0!"},{"$error":"#DIV/0!"},{"$error":"#DIV/0!"},{"$error":"#DIV/0!"},null,{"$error":"#DIV/0!"},{"$error":"#DIV/0!"},{"$error":"#DIV/0!"},{"$error":"#DIV/0!"},{"$error":"#DIV/0!"}]
[null,null,null,12,179,{"$error":"#VALUE!"},{"$error":"#DIV/0!"},{"$error":"#DIV/0!"},{"$error":"#DIV/0!"},{"$error":"#DIV/0!"},{"$error":"#DIV/0!"},{"$error":"#DIV/0!"},{"$f":"IF(OR(Hiteladatok!$I$8=0,E185>$B$4),0,IF(D185>Hiteladatok!$U$40,0,$B$14+IF(Hiteladatok!$I$10=Hiteladatok!$N$33,$B$15,0)))","v":0},{"$error":"#DIV/0!"},{"$error":"#DIV/0!"},null,{"$error":"#DIV/0!"},{"$error":"#DIV/0!"},{"$error":"#DIV/0!"},{"$error":"#DIV/0!"},{"$error":"#DIV/0!"},{"$error":"#DIV/0!"},{"$error":"#DIV/0!"},null,15,{"$f":"INT((E185-1)/Hiteladatok!$U$29)+1","v":2},{"$error":"#DIV/0!"},{"$error":"#DIV/0!"},{"$error":"#DIV/0!"},{"$error":"#DIV/0!"},{"$error":"#DIV/0!"},null,{"$error":"#DIV/0!"},{"$error":"#DIV/0!"},{"$error":"#DIV/0!"},{"$error":"#DIV/0!"},{"$error":"#DIV/0!"}]
[null,null,null,12,180,{"$error":"#VALUE!"},{"$error":"#DIV/0!"},{"$error":"#DIV/0!"},{"$error":"#DIV/0!"},{"$error":"#DIV/0!"},{"$error":"#DIV/0!"},{"$error":"#DIV/0!"},{"$f":"IF(OR(Hiteladatok!$I$8=0,E186>$B$4),0,IF(D186>Hiteladatok!$U$40,0,$B$14+IF(Hiteladatok!$I$10=Hiteladatok!$N$33,$B$15,0)))","v":0},{"$error":"#DIV/0!"},{"$error":"#DIV/0!"},null,{"$error":"#DIV/0!"},{"$error":"#DIV/0!"},{"$error":"#DIV/0!"},{"$error":"#DIV/0!"},{"$error":"#DIV/0!"},{"$error":"#DIV/0!"},{"$error":"#DIV/0!"},null,15,{"$f":"INT((E186-1)/Hiteladatok!$U$29)+1","v":2},{"$error":"#DIV/0!"},{"$error":"#DIV/0!"},{"$error":"#DIV/0!"},{"$error":"#DIV/0!"},{"$error":"#DIV/0!"},null,{"$error":"#DIV/0!"},{"$error":"#DIV/0!"},{"$error":"#DIV/0!"},{"$error":"#DIV/0!"},{"$error":"#DIV/0!"}]
[null,null,null,1,181,{"$error":"#VALUE!"},{"$error":"#DIV/0!"},{"$error":"#DIV/0!"},{"$error":"#DIV/0!"},{"$error":"#DIV/0!"},{"$error":"#DIV/0!"},{"$error":"#DIV/0!"},{"$f":"IF(OR(Hiteladatok!$I$8=0,E187>$B$4),0,IF(D187>Hiteladatok!$U$40,0,$B$14+IF(Hiteladatok!$I$10=Hiteladatok!$N$33,$B$15,0)))","v":0},{"$error":"#DIV/0!"},{"$error":"#DIV/0!"},null,{"$error":"#DIV/0!"},{"$error":"#DIV/0!"},{"$error":"#DIV/0!"},{"$error":"#DIV/0!"},{"$error":"#DIV/0!"},{"$error":"#DIV/0!"},{"$error":"#DIV/0!"},null,16,{"$f":"INT((E187-1)/Hiteladatok!$U$29)+1","v":2},{"$error":"#DIV/0!"},{"$error":"#DIV/0!"},{"$error":"#DIV/0!"},{"$error":"#DIV/0!"},{"$error":"#DIV/0!"},null,{"$error":"#DIV/0!"},{"$error":"#DIV/0!"},{"$error":"#DIV/0!"},{"$error":"#DIV/0!"},{"$error":"#DIV/0!"}]
[null,null,null,12,182,{"$error":"#VALUE!"},{"$error":"#DIV/0!"},{"$error":"#DIV/0!"},{"$error":"#DIV/0!"},{"$error":"#DIV/0!"},{"$error":"#DIV/0!"},{"$error":"#DIV/0!"},{"$f":"IF(OR(Hiteladatok!$I$8=0,E188>$B$4),0,IF(D188>Hiteladatok!$U$40,0,$B$14+IF(Hiteladatok!$I$10=Hiteladatok!$N$33,$B$15,0)))","v":0},{"$error":"#DIV/0!"},{"$error":"#DIV/0!"},null,{"$error":"#DIV/0!"},{"$error":"#DIV/0!"},{"$error":"#DIV/0!"},{"$error":"#DIV/0!"},{"$error":"#DIV/0!"},{"$error":"#DIV/0!"},{"$error":"#DIV/0!"},null,16,{"$f":"INT((E188-1)/Hiteladatok!$U$29)+1","v":2},{"$error":"#DIV/0!"},{"$error":"#DIV/0!"},{"$error":"#DIV/0!"},{"$error":"#DIV/0!"},{"$error":"#DIV/0!"},null,{"$error":"#DIV/0!"},{"$error":"#DIV/0!"},{"$error":"#DIV/0!"},{"$error":"#DIV/0!"},{"$error":"#DIV/0!"}]
[null,null,null,12,183,{"$error":"#VALUE!"},{"$error":"#DIV/0!"},{"$error":"#DIV/0!"},{"$error":"#DIV/0!"},{"$error":"#DIV/0!"},{"$error":"#DIV/0!"},{"$error":"#DIV/0!"},{"$f":"IF(OR(Hiteladatok!$I$8=0,E189>$B$4),0,IF(D189>Hiteladatok!$U$40,0,$B$14+IF(Hiteladatok!$I$10=Hiteladatok!$N$33,$B$15,0)))","v":0},{"$error":"#DIV/0!"},{"$error":"#DIV/0!"},null,{"$error":"#DIV/0!"},{"$error":"#DIV/0!"},{"$error":"#DIV/0!"},{"$error":"#DIV/0!"},{"$error":"#DIV/0!"},{"$error":"#DIV/0!"},{"$error":"#DIV/0!"},null,16,{"$f":"INT((E189-1)/Hiteladatok!$U$29)+1","v":2},{"$error":"#DIV/0!"},{"$error":"#DIV/0!"},{"$error":"#DIV/0!"},{"$error":"#DIV/0!"},{"$error":"#DIV/0!"},null,{"$error":"#DIV/0!"},{"$error":"#DIV/0!"},{"$error":"#DIV/0!"},{"$error":"#DIV/0!"},{"$error":"#DIV/0!"}]
[null,null,null,4,184,{"$error":"#VALUE!"},{"$error":"#DIV/0!"},{"$error":"#DIV/0!"},{"$error":"#DIV/0!"},{"$error":"#DIV/0!"},{"$error":"#DIV/0!"},{"$error":"#DIV/0!"},{"$f":"IF(OR(Hiteladatok!$I$8=0,E190>$B$4),0,IF(D190>Hiteladatok!$U$40,0,$B$14+IF(Hiteladatok!$I$10=Hiteladatok!$N$33,$B$15,0)))","v":0},{"$error":"#DIV/0!"},{"$error":"#DIV/0!"},null,{"$error":"#DIV/0!"},{"$error":"#DIV/0!"},{"$error":"#DIV/0!"},{"$error":"#DIV/0!"},{"$error":"#DIV/0!"},{"$error":"#DIV/0!"},{"$error":"#DIV/0!"},null,16,{"$f":"INT((E190-1)/Hiteladatok!$U$29)+1","v":2},{"$error":"#DIV/0!"},{"$error":"#DIV/0!"},{"$error":"#DIV/0!"},{"$error":"#DIV/0!"},{"$error":"#DIV/0!"},null,{"$error":"#DIV/0!"},{"$error":"#DIV/0!"},{"$error":"#DIV/0!"},{"$error":"#DIV/0!"},{"$error":"#DIV/0!"}]
[null,null,null,12,185,{"$error":"#VALUE!"},{"$error":"#DIV/0!"},{"$error":"#DIV/0!"},{"$error":"#DIV/0!"},{"$error":"#DIV/0!"},{"$error":"#DIV/0!"},{"$error":"#DIV/0!"},{"$f":"IF(OR(Hiteladatok!$I$8=0,E191>$B$4),0,IF(D191>Hiteladatok!$U$40,0,$B$14+IF(Hiteladatok!$I$10=Hiteladatok!$N$33,$B$15,0)))","v":0},{"$error":"#DIV/0!"},{"$error":"#DIV/0!"},null,{"$error":"#DIV/0!"},{"$error":"#DIV/0!"},{"$error":"#DIV/0!"},{"$error":"#DIV/0!"},{"$error":"#DIV/0!"},{"$error":"#DIV/0!"},{"$error":"#DIV/0!"},null,16,{"$f":"INT((E191-1)/Hiteladatok!$U$29)+1","v":2},{"$error":"#DIV/0!"},{"$error":"#DIV/0!"},{"$error":"#DIV/0!"},{"$error":"#DIV/0!"},{"$error":"#DIV/0!"},null,{"$error":"#DIV/0!"},{"$error":"#DIV/0!"},{"$error":"#DIV/0!"},{"$error":"#DIV/0!"},{"$error":"#DIV/0!"}]
[null,null,null,12,186,{"$error":"#VALUE!"},{"$error":"#DIV/0!"},{"$error":"#DIV/0!"},{"$error":"#DIV/0!"},{"$error":"#DIV/0!"},{"$error":"#DIV/0!"},{"$error":"#DIV/0!"},{"$f":"IF(OR(Hiteladatok!$I$8=0,E192>$B$4),0,IF(D192>Hiteladatok!$U$40,0,$B$14+IF(Hiteladatok!$I$10=Hiteladatok!$N$33,$B$15,0)))","v":0},{"$error":"#DIV/0!"},{"$error":"#DIV/0!"},null,{"$error":"#DIV/0!"},{"$error":"#DIV/0!"},{"$error":"#DIV/0!"},{"$error":"#DIV/0!"},{"$error":"#DIV/0!"},{"$error":"#DIV/0!"},{"$error":"#DIV/0!"},null,16,{"$f":"INT((E192-1)/Hiteladatok!$U$29)+1","v":2},{"$error":"#DIV/0!"},{"$error":"#DIV/0!"},{"$error":"#DIV/0!"},{"$error":"#DIV/0!"},{"$error":"#DIV/0!"},null,{"$error":"#DIV/0!"},{"$error":"#DIV/0!"},{"$error":"#DIV/0!"},{"$error":"#DIV/0!"},{"$error":"#DIV/0!"}]
[null,null,null,2,187,{"$error":"#VALUE!"},{"$error":"#DIV/0!"},{"$error":"#DIV/0!"},{"$error":"#DIV/0!"},{"$error":"#DIV/0!"},{"$error":"#DIV/0!"},{"$error":"#DIV/0!"},{"$f":"IF(OR(Hiteladatok!$I$8=0,E193>$B$4),0,IF(D193>Hiteladatok!$U$40,0,$B$14+IF(Hiteladatok!$I$10=Hiteladatok!$N$33,$B$15,0)))","v":0},{"$error":"#DIV/0!"},{"$error":"#DIV/0!"},null,{"$error":"#DIV/0!"},{"$error":"#DIV/0!"},{"$error":"#DIV/0!"},{"$error":"#DIV/0!"},{"$error":"#DIV/0!"},{"$error":"#DIV/0!"},{"$error":"#DIV/0!"},null,16,{"$f":"INT((E193-1)/Hiteladatok!$U$29)+1","v":2},{"$error":"#DIV/0!"},{"$error":"#DIV/0!"},{"$error":"#DIV/0!"},{"$error":"#DIV/0!"},{"$error":"#DIV/0!"},null,{"$error":"#DIV/0!"},{"$error":"#DIV/0!"},{"$error":"#DIV/0!"},{"$error":"#DIV/0!"},{"$error":"#DIV/0!"}]
[null,null,null,12,188,{"$error":"#VALUE!"},{"$error":"#DIV/0!"},{"$error":"#DIV/0!"},{"$error":"#DIV/0!"},{"$error":"#DIV/0!"},{"$error":"#DIV/0!"},{"$error":"#DIV/0!"},{"$f":"IF(OR(Hiteladatok!$I$8=0,E194>$B$4),0,IF(D194>Hiteladatok!$U$40,0,$B$14+IF(Hiteladatok!$I$10=Hiteladatok!$N$33,$B$15,0)))","v":0},{"$error":"#DIV/0!"},{"$error":"#DIV/0!"},null,{"$error":"#DIV/0!"},{"$error":"#DIV/0!"},{"$error":"#DIV/0!"},{"$error":"#DIV/0!"},{"$error":"#DIV/0!"},{"$error":"#DIV/0!"},{"$error":"#DIV/0!"},null,16,{"$f":"INT((E194-1)/Hiteladatok!$U$29)+1","v":2},{"$error":"#DIV/0!"},{"$error":"#DIV/0!"},{"$error":"#DIV/0!"},{"$error":"#DIV/0!"},{"$error":"#DIV/0!"},null,{"$error":"#DIV/0!"},{"$error":"#DIV/0!"},{"$error":"#DIV/0!"},{"$error":"#DIV/0!"},{"$error":"#DIV/0!"}]
[null,null,null,12,189,{"$error":"#VALUE!"},{"$error":"#DIV/0!"},{"$error":"#DIV/0!"},{"$error":"#DIV/0!"},{"$error":"#DIV/0!"},{"$error":"#DIV/0!"},{"$error":"#DIV/0!"},{"$f":"IF(OR(Hiteladatok!$I$8=0,E195>$B$4),0,IF(D195>Hiteladatok!$U$40,0,$B$14+IF(Hiteladatok!$I$10=Hiteladatok!$N$33,$B$15,0)))","v":0},{"$error":"#DIV/0!"},{"$error":"#DIV/0!"},null,{"$error":"#DIV/0!"},{"$error":"#DIV/0!"},{"$error":"#DIV/0!"},{"$error":"#DIV/0!"},{"$error":"#DIV/0!"},{"$error":"#DIV/0!"},{"$error":"#DIV/0!"},null,16,{"$f":"INT((E195-1)/Hiteladatok!$U$29)+1","v":2},{"$error":"#DIV/0!"},{"$error":"#DIV/0!"},{"$error":"#DIV/0!"},{"$error":"#DIV/0!"},{"$error":"#DIV/0!"},null,{"$error":"#DIV/0!"},{"$error":"#DIV/0!"},{"$error":"#DIV/0!"},{"$error":"#DIV/0!"},{"$error":"#DIV/0!"}]
[null,null,null,4,190,{"$error":"#VALUE!"},{"$error":"#DIV/0!"},{"$error":"#DIV/0!"},{"$error":"#DIV/0!"},{"$error":"#DIV/0!"},{"$error":"#DIV/0!"},{"$error":"#DIV/0!"},{"$f":"IF(OR(Hiteladatok!$I$8=0,E196>$B$4),0,IF(D196>Hiteladatok!$U$40,0,$B$14+IF(Hiteladatok!$I$10=Hiteladatok!$N$33,$B$15,0)))","v":0},{"$error":"#DIV/0!"},{"$error":"#DIV/0!"},null,{"$error":"#DIV/0!"},{"$error":"#DIV/0!"},{"$error":"#DIV/0!"},{"$error":"#DIV/0!"},{"$error":"#DIV/0!"},{"$error":"#DIV/0!"},{"$error":"#DIV/0!"},null,16,{"$f":"INT((E196-1)/Hiteladatok!$U$29)+1","v":2},{"$error":"#DIV/0!"},{"$error":"#DIV/0!"},{"$error":"#DIV/0!"},{"$error":"#DIV/0!"},{"$error":"#DIV/0!"},null,{"$error":"#DIV/0!"},{"$error":"#DIV/0!"},{"$error":"#DIV/0!"},{"$error":"#DIV/0!"},{"$error":"#DIV/0!"}]
[null,null,null,12,191,{"$error":"#VALUE!"},{"$error":"#DIV/0!"},{"$error":"#DIV/0!"},{"$error":"#DIV/0!"},{"$error":"#DIV/0!"},{"$error":"#DIV/0!"},{"$error":"#DIV/0!"},{"$f":"IF(OR(Hiteladatok!$I$8=0,E197>$B$4),0,IF(D197>Hiteladatok!$U$40,0,$B$14+IF(Hiteladatok!$I$10=Hiteladatok!$N$33,$B$15,0)))","v":0},{"$error":"#DIV/0!"},{"$error":"#DIV/0!"},null,{"$error":"#DIV/0!"},{"$error":"#DIV/0!"},{"$error":"#DIV/0!"},{"$error":"#DIV/0!"},{"$error":"#DIV/0!"},{"$error":"#DIV/0!"},{"$error":"#DIV/0!"},null,16,{"$f":"INT((E197-1)/Hiteladatok!$U$29)+1","v":2},{"$error":"#DIV/0!"},{"$error":"#DIV/0!"},{"$error":"#DIV/0!"},{"$error":"#DIV/0!"},{"$error":"#DIV/0!"},null,{"$error":"#DIV/0!"},{"$error":"#DIV/0!"},{"$error":"#DIV/0!"},{"$error":"#DIV/0!"},{"$error":"#DIV/0!"}]
[null,null,null,12,192,{"$error":"#VALUE!"},{"$error":"#DIV/0!"},{"$error":"#DIV/0!"},{"$error":"#DIV/0!"},{"$error":"#DIV/0!"},{"$error":"#DIV/0!"},{"$error":"#DIV/0!"},{"$f":"IF(OR(Hiteladatok!$I$8=0,E198>$B$4),0,IF(D198>Hiteladatok!$U$40,0,$B$14+IF(Hiteladatok!$I$10=Hiteladatok!$N$33,$B$15,0)))","v":0},{"$error":"#DIV/0!"},{"$error":"#DIV/0!"},null,{"$error":"#DIV/0!"},{"$error":"#DIV/0!"},{"$error":"#DIV/0!"},{"$error":"#DIV/0!"},{"$error":"#DIV/0!"},{"$error":"#DIV/0!"},{"$error":"#DIV/0!"},null,16,{"$f":"INT((E198-1)/Hiteladatok!$U$29)+1","v":2},{"$error":"#DIV/0!"},{"$error":"#DIV/0!"},{"$error":"#DIV/0!"},{"$error":"#DIV/0!"},{"$error":"#DIV/0!"},null,{"$error":"#DIV/0!"},{"$error":"#DIV/0!"},{"$error":"#DIV/0!"},{"$error":"#DIV/0!"},{"$error":"#DIV/0!"}]
[null,null,null,1,193,{"$error":"#VALUE!"},{"$error":"#DIV/0!"},{"$error":"#DIV/0!"},{"$error":"#DIV/0!"},{"$error":"#DIV/0!"},{"$error":"#DIV/0!"},{"$error":"#DIV/0!"},{"$f":"IF(OR(Hiteladatok!$I$8=0,E199>$B$4),0,IF(D199>Hiteladatok!$U$40,0,$B$14+IF(Hiteladatok!$I$10=Hiteladatok!$N$33,$B$15,0)))","v":0},{"$error":"#DIV/0!"},{"$error":"#DIV/0!"},null,{"$error":"#DIV/0!"},{"$error":"#DIV/0!"},{"$error":"#DIV/0!"},{"$error":"#DIV/0!"},{"$f":"Q199+S199-T199","v":{"$error":"#DIV/0!"}},{"$error":"#DIV/0!"},{"$error":"#DIV/0!"},null,17,{"$f":"INT((E199-1)/Hiteladatok!$U$29)+1","v":2},{"$error":"#DIV/0!"},{"$error":"#DIV/0!"},{"$error":"#DIV/0!"},{"$error":"#DIV/0!"},{"$error":"#DIV/0!"},null,{"$error":"#DIV/0!"},{"$error":"#DIV/0!"},{"$error":"#DIV/0!"},{"$error":"#DIV/0!"},{"$error":"#DIV/0!"}]
[null,null,null,12,194,{"$f":"$F$1*E200+$B$9","v":{"$error":"#VALUE!"}},{"$error":"#DIV/0!"},{"$error":"#DIV/0!"},{"$error":"#DIV/0!"},{"$error":"#DIV/0!"},{"$error":"#DIV/0!"},{"$error":"#DIV/0!"},{"$f":"IF(OR(Hiteladatok!$I$8=0,E200>$B$4),0,IF(D200>Hiteladatok!$U$40,0,$B$14+IF(Hiteladatok!$I$10=Hiteladatok!$N$33,$B$15,0)))","v":0},{"$f":"I200+K200+L200+M200","v":{"$error":"#DIV/0!"}},{"$error":"#DIV/0!"},null,{"$error":"#DIV/0!"},{"$error":"#DIV/0!"},{"$error":"#DIV/0!"},{"$error":"#DIV/0!"},{"$error":"#DIV/0!"},{"$f":"T200+K200+L200+M200","v":{"$error":"#DIV/0!"}},{"$error":"#DIV/0!"},null,17,{"$f":"INT((E200-1)/Hiteladatok!$U$29)+1","v":2},{"$error":"#DIV/0!"},{"$error":"#DIV/0!"},{"$error":"#DIV/0!"},{"$error":"#DIV/0!"},{"$error":"#DIV/0!"},null,{"$error":"#DIV/0!"},{"$error":"#DIV/0!"},{"$error":"#DIV/0!"},{"$error":"#DIV/0!"},{"$error":"#DIV/0!"}]
[null,null,null,12,{"$f":"E200+1","v":195},{"$error":"#VALUE!"},{"$f":"J200","v":{"$error":"#DIV/0!"}},{"$f":"IF(E201>$B$4,0,G201*$B$3/12)","v":{"$error":"#DIV/0!"}},{"$f":"IF(E201>$B$4,0,$B$10)","v":{"$error":"#DIV/0!"}},{"$f":"G201+H201-I201","v":{"$error":"#DIV/0!"}},{"$f":"I201*$C$12","v":{"$error":"#DIV/0!"}},{"$error":"#DIV/0!"},{"$f":"IF(OR(Hiteladatok!$I$8=0,E201>$B$4),0,IF(D201>Hiteladatok!$U$40,0,$B$14+IF(Hiteladatok!$I$10=Hiteladatok!$N$33,$B$15,0)))","v":0},{"$error":"#DIV/0!"},{"$f":"O200+N201/(1+$O$1)^(F201/365)","v":{"$error":"#DIV/0!"}},null,{"$f":"U200","v":{"$error":"#DIV/0!"}},{"$f":"IF(E201<$R$2,$R$3,$R$4)","v":{"$error":"#DIV/0!"}},{"$f":"Q201*R201/12","v":{"$error":"#DIV/0!"}},{"$f":"IF(E201>$B$4,0,PMT(R201/12,$B$4-E201+1,-Q201))","v":{"$error":"#DIV/0!"}},{"$error":"#DIV/0!"},{"$error":"#DIV/0!"},{"$f":"W200+V201/(1+$W$1)^(F201/365)","v":{"$error":"#DIV/0!"}},null,17,{"$f":"INT((E201-1)/Hiteladatok!$U$29)+1","v":2},{"$f":"AE200","v":{"$error":"#DIV/0!"}},{"$f":"IF(E201<$AB$2,$AB$3,$AB$4)","v":{"$error":"#DIV/0!"}},{"$f":"AA201*AB201/12","v":{"$error":"#DIV/0!"}},{"$f":"IF(E201>$B$4,0,PMT(AB201/12,$B$4-E201+1,-AA201))","v":{"$error":"#DIV/0!"}},{"$f":"AA201+AC201-AD201","v":{"$error":"#DIV/0!"}},null,{"$f":"AK200","v":{"$error":"#DIV/0!"}},{"$f":"IF(E201<$AH$2,$AH$3,$AH$4)","v":{"$error":"#DIV/0!"}},{"$f":"AG201*AH201/12","v":{"$error":"#DIV/0!"}},{"$f":"IF(E201>$B$4,0,PMT(AH201/12,$B$4-E201+1,-AG201))","v":{"$error":"#DIV/0!"}},{"$f":"AG201+AI201-AJ201","v":{"$error":"#DIV/0!"}}]
[null,null,null,4,196,{"$error":"#VALUE!"},{"$error":"#DIV/0!"},{"$error":"#DIV/0!"},{"$error":"#DIV/0!"},{"$error":"#DIV/0!"},{"$error":"#DIV/0!"},{"$error":"#DIV/0!"},{"$f":"IF(OR(Hiteladatok!$I$8=0,E202>$B$4),0,IF(D202>Hiteladatok!$U$40,0,$B$14+IF(Hiteladatok!$I$10=Hiteladatok!$N$33,$B$15,0)))","v":0},{"$error":"#DIV/0!"},{"$error":"#DIV/0!"},null,{"$error":"#DIV/0!"},{"$error":"#DIV/0!"},{"$error":"#DIV/0!"},{"$error":"#DIV/0!"},{"$error":"#DIV/0!"},{"$error":"#DIV/0!"},{"$error":"#DIV/0!"},null,17,{"$f":"INT((E202-1)/Hiteladatok!$U$29)+1","v":2},{"$error":"#DIV/0!"},{"$error":"#DIV/0!"},{"$error":"#DIV/0!"},{"$error":"#DIV/0!"},{"$error":"#DIV/0!"},null,{"$error":"#DIV/0!"},{"$error":"#DIV/0!"},{"$error":"#DIV/0!"},{"$error":"#DIV/0!"},{"$error":"#DIV/0!"}]
[null,null,null,12,197,{"$error":"#VALUE!"},{"$error":"#DIV/0!"},{"$error":"#DIV/0!"},{"$error":"#DIV/0!"},{"$error":"#DIV/0!"},{"$error":"#DIV/0!"},{"$error":"#DIV/0!"},{"$f":"IF(OR(Hiteladatok!$I$8=0,E203>$B$4),0,IF(D203>Hiteladatok!$U$40,0,$B$14+IF(Hiteladatok!$I$10=Hiteladatok!$N$33,$B$15,0)))","v":0},{"$error":"#DIV/0!"},{"$error":"#DIV/0!"},null,{"$error":"#DIV/0!"},{"$error":"#DIV/0!"},{"$error":"#DIV/0!"},{"$error":"#DIV/0!"},{"$error":"#DIV/0!"},{"$error":"#DIV/0!"},{"$error":"#DIV/0!"},null,17,{"$f":"INT((E203-1)/Hiteladatok!$U$29)+1","v":2},{"$error":"#DIV/0!"},{"$error":"#DIV/0!"},{"$error":"#DIV/0!"},{"$error":"#DIV/0!"},{"$error":"#DIV/0!"},null,{"$error":"#DIV/0!"},{"$error":"#DIV/0!"},{"$error":"#DIV/0!"},{"$error":"#DIV/0!"},{"$error":"#DIV/0!"}]
[null,null,null,12,198,{"$error":"#VALUE!"},{"$error":"#DIV/0!"},{"$error":"#DIV/0!"},{"$error":"#DIV/0!"},{"$error":"#DIV/0!"},{"$error":"#DIV/0!"},{"$error":"#DIV/0!"},{"$f":"IF(OR(Hiteladatok!$I$8=0,E204>$B$4),0,IF(D204>Hiteladatok!$U$40,0,$B$14+IF(Hiteladatok!$I$10=Hiteladatok!$N$33,$B$15,0)))","v":0},{"$error":"#DIV/0!"},{"$error":"#DIV/0!"},null,{"$error":"#DIV/0!"},{"$error":"#DIV/0!"},{"$error":"#DIV/0!"},{"$error":"#DIV/0!"},{"$error":"#DIV/0!"},{"$error":"#DIV/0!"},{"$error":"#DIV/0!"},null,17,{"$f":"INT((E204-1)/Hiteladatok!$U$29)+1","v":2},{"$error":"#DIV/0!"},{"$error":"#DIV/0!"},{"$error":"#DIV/0!"},{"$error":"#DIV/0!"},{"$error":"#DIV/0!"},null,{"$error":"#DIV/0!"},{"$error":"#DIV/0!"},{"$error":"#DIV/0!"},{"$error":"#DIV/0!"},{"$error":"#DIV/0!"}]
[null,null,null,2,199,{"$error":"#VALUE!"},{"$error":"#DIV/0!"},{"$error":"#DIV/0!"},{"$error":"#DIV/0!"},{"$error":"#DIV/0!"},{"$error":"#DIV/0!"},{"$error":"#DIV/0!"},{"$f":"IF(OR(Hiteladatok!$I$8=0,E205>$B$4),0,IF(D205>Hiteladatok!$U$40,0,$B$14+IF(Hiteladatok!$I$10=Hiteladatok!$N$33,$B$15,0)))","v":0},{"$error":"#DIV/0!"},{"$error":"#DIV/0!"},null,{"$error":"#DIV/0!"},{"$error":"#DIV/0!"},{"$error":"#DIV/0!"},{"$error":"#DIV/0!"},{"$error":"#DIV/0!"},{"$error":"#DIV/0!"},{"$error":"#DIV/0!"},null,17,{"$f":"INT((E205-1)/Hiteladatok!$U$29)+1","v":2},{"$error":"#DIV/0!"},{"$error":"#DIV/0!"},{"$error":"#DIV/0!"},{"$error":"#DIV/0!"},{"$error":"#DIV/0!"},null,{"$error":"#DIV/0!"},{"$error":"#DIV/0!"},{"$error":"#DIV/0!"},{"$error":"#DIV/0!"},{"$error":"#DIV/0!"}]
[null,null,null,12,200,{"$error":"#VALUE!"},{"$error":"#DIV/0!"},{"$error":"#DIV/0!"},{"$error":"#DIV/0!"},{"$error":"#DIV/0!"},{"$error":"#DIV/0!"},{"$error":"#DIV/0!"},{"$f":"IF(OR(Hiteladatok!$I$8=0,E206>$B$4),0,IF(D206>Hiteladatok!$U$40,0,$B$14+IF(Hiteladatok!$I$10=Hiteladatok!$N$33,$B$15,0)))","v":0},{"$error":"#DIV/0!"},{"$error":"#DIV/0!"},null,{"$error":"#DIV/0!"},{"$error":"#DIV/0!"},{"$error":"#DIV/0!"},{"$error":"#DIV/0!"},{"$error":"#DIV/0!"},{"$error":"#DIV/0!"},{"$error":"#DIV/0!"},null,17,{"$f":"INT((E206-1)/Hiteladatok!$U$29)+1","v":2},{"$error":"#DIV/0!"},{"$error":"#DIV/0!"},{"$error":"#DIV/0!"},{"$error":"#DIV/0!"},{"$error":"#DIV/0!"},null,{"$error":"#DIV/0!"},{"$error":"#DIV/0!"},{"$error":"#DIV/0!"},{"$error":"#DIV/0!"},{"$error":"#DIV/0!"}]
[null,null,null,12,201,{"$error":"#VALUE!"},{"$error":"#DIV/0!"},{"$error":"#DIV/0!"},{"$error":"#DIV/0!"},{"$error":"#DIV/0!"},{"$error":"#DIV/0!"},{"$error":"#DIV/0!"},{"$f":"IF(OR(Hiteladatok!$I$8=0,E207>$B$4),0,IF(D207>Hiteladatok!$U$40,0,$B$14+IF(Hiteladatok!$I$10=Hiteladatok!$N$33,$B$15,0)))","v":0},{"$error":"#DIV/0!"},{"$error":"#DIV/0!"},null,{"$error":"#DIV/0!"},{"$error":"#DIV/0!"},{"$error":"#DIV/0!"},{"$error":"#DIV/0!"},{"$error":"#DIV/0!"},{"$error":"#DIV/0!"},{"$error":"#DIV/0!"},null,17,{"$f":"INT((E207-1)/Hiteladatok!$U$29)+1","v":2},{"$error":"#DIV/0!"},{"$error":"#DIV/0!"},{"$error":"#DIV/0!"},{"$error":"#DIV/0!"},{"$error":"#DIV/0!"},null,{"$error":"#DIV/0!"},{"$error":"#DIV/0!"},{"$error":"#DIV/0!"},{"$error":"#DIV/0!"},{"$error":"#DIV/0!"}]
[null,null,null,4,202,{"$error":"#VALUE!"},{"$error":"#DIV/0!"},{"$error":"#DIV/0!"},{"$error":"#DIV/0!"},{"$error":"#DIV/0!"},{"$error":"#DIV/0!"},{"$error":"#DIV/0!"},{"$f":"IF(OR(Hiteladatok!$I$8=0,E208>$B$4),0,IF(D208>Hiteladatok!$U$40,0,$B$14+IF(Hiteladatok!$I$10=Hiteladatok!$N$33,$B$15,0)))","v":0},{"$error":"#DIV/0!"},{"$error":"#DIV/0!"},null,{"$error":"#DIV/0!"},{"$error":"#DIV/0!"},{"$error":"#DIV/0!"},{"$error":"#DIV/0!"},{"$error":"#DIV/0!"},{"$error":"#DIV/0!"},{"$error":"#DIV/0!"},null,17,{"$f":"INT((E208-1)/Hiteladatok!$U$29)+1","v":2},{"$error":"#DIV/0!"},{"$error":"#DIV/0!"},{"$error":"#DIV/0!"},{"$error":"#DIV/0!"},{"$error":"#DIV/0!"},null,{"$error":"#DIV/0!"},{"$error":"#DIV/0!"},{"$error":"#DIV/0!"},{"$error":"#DIV/0!"},{"$error":"#DIV/0!"}]
[null,null,null,12,203,{"$error":"#VALUE!"},{"$error":"#DIV/0!"},{"$error":"#DIV/0!"},{"$error":"#DIV/0!"},{"$error":"#DIV/0!"},{"$error":"#DIV/0!"},{"$error":"#DIV/0!"},{"$f":"IF(OR(Hiteladatok!$I$8=0,E209>$B$4),0,IF(D209>Hiteladatok!$U$40,0,$B$14+IF(Hiteladatok!$I$10=Hiteladatok!$N$33,$B$15,0)))","v":0},{"$error":"#DIV/0!"},{"$error":"#DIV/0!"},null,{"$error":"#DIV/0!"},{"$error":"#DIV/0!"},{"$error":"#DIV/0!"},{"$error":"#DIV/0!"},{"$error":"#DIV/0!"},{"$error":"#DIV/0!"},{"$error":"#DIV/0!"},null,17,{"$f":"INT((E209-1)/Hiteladatok!$U$29)+1","v":2},{"$error":"#DIV/0!"},{"$error":"#DIV/0!"},{"$error":"#DIV/0!"},{"$error":"#DIV/0!"},{"$error":"#DIV/0!"},null,{"$error":"#DIV/0!"},{"$error":"#DIV/0!"},{"$error":"#DIV/0!"},{"$error":"#DIV/0!"},{"$error":"#DIV/0!"}]
[null,null,null,12,204,{"$error":"#VALUE!"},{"$error":"#DIV/0!"},{"$error":"#DIV/0!"},{"$error":"#DIV/0!"},{"$error":"#DIV/0!"},{"$error":"#DIV/0!"},{"$error":"#DIV/0!"},{"$f":"IF(OR(Hiteladatok!$I$8=0,E210>$B$4),0,IF(D210>Hiteladatok!$U$40,0,$B$14+IF(Hiteladatok!$I$10=Hiteladatok!$N$33,$B$15,0)))","v":0},{"$error":"#DIV/0!"},{"$error":"#DIV/0!"},null,{"$error":"#DIV/0!"},{"$error":"#DIV/0!"},{"$error":"#DIV/0!"},{"$error":"#DIV/0!"},{"$error":"#DIV/0!"},{"$error":"#DIV/0!"},{"$error":"#DIV/0!"},null,17,{"$f":"INT((E210-1)/Hiteladatok!$U$29)+1","v":2},{"$error":"#DIV/0!"},{"$error":"#DIV/0!"},{"$error":"#DIV/0!"},{"$error":"#DIV/0!"},{"$error":"#DIV/0!"},null,{"$error":"#DIV/0!"},{"$error":"#DIV/0!"},{"$error":"#DIV/0!"},{"$error":"#DIV/0!"},{"$error":"#DIV/0!"}]
[null,null,null,1,205,{"$error":"#VALUE!"},{"$error":"#DIV/0!"},{"$error":"#DIV/0!"},{"$error":"#DIV/0!"},{"$error":"#DIV/0!"},{"$error":"#DIV/0!"},{"$error":"#DIV/0!"},{"$f":"IF(OR(Hiteladatok!$I$8=0,E211>$B$4),0,IF(D211>Hiteladatok!$U$40,0,$B$14+IF(Hiteladatok!$I$10=Hiteladatok!$N$33,$B$15,0)))","v":0},{"$error":"#DIV/0!"},{"$error":"#DIV/0!"},null,{"$error":"#DIV/0!"},{"$error":"#DIV/0!"},{"$error":"#DIV/0!"},{"$error":"#DIV/0!"},{"$error":"#DIV/0!"},{"$error":"#DIV/0!"},{"$error":"#DIV/0!"},null,18,{"$f":"INT((E211-1)/Hiteladatok!$U$29)+1","v":2},{"$error":"#DIV/0!"},{"$error":"#DIV/0!"},{"$error":"#DIV/0!"},{"$error":"#DIV/0!"},{"$error":"#DIV/0!"},null,{"$error":"#DIV/0!"},{"$error":"#DIV/0!"},{"$error":"#DIV/0!"},{"$error":"#DIV/0!"},{"$error":"#DIV/0!"}]
[null,null,null,12,206,{"$error":"#VALUE!"},{"$error":"#DIV/0!"},{"$error":"#DIV/0!"},{"$error":"#DIV/0!"},{"$error":"#DIV/0!"},{"$error":"#DIV/0!"},{"$error":"#DIV/0!"},{"$f":"IF(OR(Hiteladatok!$I$8=0,E212>$B$4),0,IF(D212>Hiteladatok!$U$40,0,$B$14+IF(Hiteladatok!$I$10=Hiteladatok!$N$33,$B$15,0)))","v":0},{"$error":"#DIV/0!"},{"$error":"#DIV/0!"},null,{"$error":"#DIV/0!"},{"$error":"#DIV/0!"},{"$error":"#DIV/0!"},{"$error":"#DIV/0!"},{"$error":"#DIV/0!"},{"$error":"#DIV/0!"},{"$error":"#DIV/0!"},null,{"$f":"Y200+1","v":18},{"$f":"INT((E212-1)/Hiteladatok!$U$29)+1","v":2},{"$error":"#DIV/0!"},{"$error":"#DIV/0!"},{"$error":"#DIV/0!"},{"$error":"#DIV/0!"},{"$error":"#DIV/0!"},null,{"$error":"#DIV/0!"},{"$error":"#DIV/0!"},{"$error":"#DIV/0!"},{"$error":"#DIV/0!"},{"$error":"#DIV/0!"}]
[null,null,null,12,207,{"$error":"#VALUE!"},{"$error":"#DIV/0!"},{"$error":"#DIV/0!"},{"$error":"#DIV/0!"},{"$error":"#DIV/0!"},{"$error":"#DIV/0!"},{"$error":"#DIV/0!"},{"$f":"IF(OR(Hiteladatok!$I$8=0,E213>$B$4),0,IF(D213>Hiteladatok!$U$40,0,$B$14+IF(Hiteladatok!$I$10=Hiteladatok!$N$33,$B$15,0)))","v":0},{"$error":"#DIV/0!"},{"$error":"#DIV/0!"},null,{"$error":"#DIV/0!"},{"$error":"#DIV/0!"},{"$error":"#DIV/0!"},{"$error":"#DIV/0!"},{"$error":"#DIV/0!"},{"$error":"#DIV/0!"},{"$error":"#DIV/0!"},null,18,{"$f":"INT((E213-1)/Hiteladatok!$U$29)+1","v":2},{"$error":"#DIV/0!"},{"$error":"#DIV/0!"},{"$error":"#DIV/0!"},{"$error":"#DIV/0!"},{"$error":"#DIV/0!"},null,{"$error":"#DIV/0!"},{"$error":"#DIV/0!"},{"$error":"#DIV/0!"},{"$error":"#DIV/0!"},{"$error":"#DIV/0!"}]
[null,null,null,4,208,{"$error":"#VALUE!"},{"$error":"#DIV/0!"},{"$error":"#DIV/0!"},{"$error":"#DIV/0!"},{"$error":"#DIV/0!"},{"$error":"#DIV/0!"},{"$error":"#DIV/0!"},{"$f":"IF(OR(Hiteladatok!$I$8=0,E214>$B$4),0,IF(D214>Hiteladatok!$U$40,0,$B$14+IF(Hiteladatok!$I$10=Hiteladatok!$N$33,$B$15,0)))","v":0},{"$error":"#DIV/0!"},{"$error":"#DIV/0!"},null,{"$error":"#DIV/0!"},{"$error":"#DIV/0!"},{"$error":"#DIV/0!"},{"$error":"#DIV/0!"},{"$error":"#DIV/0!"},{"$error":"#DIV/0!"},{"$error":"#DIV/0!"},null,18,{"$f":"INT((E214-1)/Hiteladatok!$U$29)+1","v":2},{"$error":"#DIV/0!"},{"$error":"#DIV/0!"},{"$error":"#DIV/0!"},{"$error":"#DIV/0!"},{"$error":"#DIV/0!"},null,{"$error":"#DIV/0!"},{"$error":"#DIV/0!"},{"$error":"#DIV/0!"},{"$error":"#DIV/0!"},{"$error":"#DIV/0!"}]
[null,null,null,12,209,{"$error":"#VALUE!"},{"$error":"#DIV/0!"},{"$error":"#DIV/0!"},{"$error":"#DIV/0!"},{"$error":"#DIV/0!"},{"$error":"#DIV/0!"},{"$f":"IF(E215>$B$4,0,$C$13)","v":{"$error":"#DIV/0!"}},{"$f":"IF(OR(Hiteladatok!$I$8=0,E215>$B$4),0,IF(D215>Hiteladatok!$U$40,0,$B$14+IF(Hiteladatok!$I$10=Hiteladatok!$N$33,$B$15,0)))","v":0},{"$error":"#DIV/0!"},{"$error":"#DIV/0!"},null,{"$error":"#DIV/0!"},{"$error":"#DIV/0!"},{"$error":"#DIV/0!"},{"$error":"#DIV/0!"},{"$error":"#DIV/0!"},{"$error":"#DIV/0!"},{"$error":"#DIV/0!"},null,18,{"$f":"INT((E215-1)/Hiteladatok!$U$29)+1","v":2},{"$error":"#DIV/0!"},{"$error":"#DIV/0!"},{"$error":"#DIV/0!"},{"$error":"#DIV/0!"},{"$error":"#DIV/0!"},null,{"$error":"#DIV/0!"},{"$error":"#DIV/0!"},{"$error":"#DIV/0!"},{"$error":"#DIV/0!"},{"$error":"#DIV/0!"}]
[null,null,null,12,210,{"$error":"#VALUE!"},{"$error":"#DIV/0!"},{"$error":"#DIV/0!"},{"$error":"#DIV/0!"},{"$error":"#DIV/0!"},{"$error":"#DIV/0!"},{"$error":"#DIV/0!"},{"$f":"IF(OR(Hiteladatok!$I$8=0,E216>$B$4),0,IF(D216>Hiteladatok!$U$40,0,$B$14+IF(Hiteladatok!$I$10=Hiteladatok!$N$33,$B$15,0)))","v":0},{"$error":"#DIV/0!"},{"$error":"#DIV/0!"},null,{"$error":"#DIV/0!"},{"$error":"#DIV/0!"},{"$error":"#DIV/0!"},{"$error":"#DIV/0!"},{"$error":"#DIV/0!"},{"$error":"#DIV/0!"},{"$error":"#DIV/0!"},null,18,{"$f":"INT((E216-1)/Hiteladatok!$U$29)+1","v":2},{"$error":"#DIV/0!"},{"$error":"#DIV/0!"},{"$error":"#DIV/0!"},{"$error":"#DIV/0!"},{"$error":"#DIV/0!"},null,{"$error":"#DIV/0!"},{"$error":"#DIV/0!"},{"$error":"#DIV/0!"},{"$error":"#DIV/0!"},{"$error":"#DIV/0!"}]
[null,null,null,2,211,{"$error":"#VALUE!"},{"$error":"#DIV/0!"},{"$error":"#DIV/0!"},{"$error":"#DIV/0!"},{"$error":"#DIV/0!"},{"$error":"#DIV/0!"},{"$error":"#DIV/0!"},{"$f":"IF(OR(Hiteladatok!$I$8=0,E217>$B$4),0,IF(D217>Hiteladatok!$U$40,0,$B$14+IF(Hiteladatok!$I$10=Hiteladatok!$N$33,$B$15,0)))","v":0},{"$error":"#DIV/0!"},{"$error":"#DIV/0!"},null,{"$error":"#DIV/0!"},{"$error":"#DIV/0!"},{"$error":"#DIV/0!"},{"$error":"#DIV/0!"},{"$error":"#DIV/0!"},{"$error":"#DIV/0!"},{"$error":"#DIV/0!"},null,18,{"$f":"INT((E217-1)/Hiteladatok!$U$29)+1","v":2},{"$error":"#DIV/0!"},{"$error":"#DIV/0!"},{"$error":"#DIV/0!"},{"$error":"#DIV/0!"},{"$error":"#DIV/0!"},null,{"$error":"#DIV/0!"},{"$error":"#DIV/0!"},{"$error":"#DIV/0!"},{"$error":"#DIV/0!"},{"$error":"#DIV/0!"}]
[null,null,null,12,212,{"$error":"#VALUE!"},{"$error":"#DIV/0!"},{"$error":"#DIV/0!"},{"$error":"#DIV/0!"},{"$error":"#DIV/0!"},{"$error":"#DIV/0!"},{"$error":"#DIV/0!"},{"$f":"IF(OR(Hiteladatok!$I$8=0,E218>$B$4),0,IF(D218>Hiteladatok!$U$40,0,$B$14+IF(Hiteladatok!$I$10=Hiteladatok!$N$33,$B$15,0)))","v":0},{"$error":"#DIV/0!"},{"$error":"#DIV/0!"},null,{"$error":"#DIV/0!"},{"$error":"#DIV/0!"},{"$error":"#DIV/0!"},{"$error":"#DIV/0!"},{"$error":"#DIV/0!"},{"$error":"#DIV/0!"},{"$error":"#DIV/0!"},null,18,{"$f":"INT((E218-1)/Hiteladatok!$U$29)+1","v":2},{"$error":"#DIV/0!"},{"$error":"#DIV/0!"},{"$error":"#DIV/0!"},{"$error":"#DIV/0!"},{"$error":"#DIV/0!"},null,{"$error":"#DIV/0!"},{"$error":"#DIV/0!"},{"$error":"#DIV/0!"},{"$error":"#DIV/0!"},{"$error":"#DIV/0!"}]
[null,null,null,12,213,{"$error":"#VALUE!"},{"$error":"#DIV/0!"},{"$error":"#DIV/0!"},{"$error":"#DIV/0!"},{"$error":"#DIV/0!"},{"$error":"#DIV/0!"},{"$error":"#DIV/0!"},{"$f":"IF(OR(Hiteladatok!$I$8=0,E219>$B$4),0,IF(D219>Hiteladatok!$U$40,0,$B$14+IF(Hiteladatok!$I$10=Hiteladatok!$N$33,$B$15,0)))","v":0},{"$error":"#DIV/0!"},{"$error":"#DIV/0!"},null,{"$error":"#DIV/0!"},{"$error":"#DIV/0!"},{"$error":"#DIV/0!"},{"$error":"#DIV/0!"},{"$error":"#DIV/0!"},{"$error":"#DIV/0!"},{"$error":"#DIV/0!"},null,18,{"$f":"INT((E219-1)/Hiteladatok!$U$29)+1","v":2},{"$error":"#DIV/0!"},{"$error":"#DIV/0!"},{"$error":"#DIV/0!"},{"$error":"#DIV/0!"},{"$error":"#DIV/0!"},null,{"$error":"#DIV/0!"},{"$error":"#DIV/0!"},{"$error":"#DIV/0!"},{"$error":"#DIV/0!"},{"$error":"#DIV/0!"}]
[null,null,null,4,214,{"$error":"#VALUE!"},{"$error":"#DIV/0!"},{"$error":"#DIV/0!"},{"$error":"#DIV/0!"},{"$error":"#DIV/0!"},{"$error":"#DIV/0!"},{"$error":"#DIV/0!"},{"$f":"IF(OR(Hiteladatok!$I$8=0,E220>$B$4),0,IF(D220>Hiteladatok!$U$40,0,$B$14+IF(Hiteladatok!$I$10=Hiteladatok!$N$33,$B$15,0)))","v":0},{"$error":"#DIV/0!"},{"$error":"#DIV/0!"},null,{"$error":"#DIV/0!"},{"$error":"#DIV/0!"},{"$error":"#DIV/0!"},{"$error":"#DIV/0!"},{"$error":"#DIV/0!"},{"$error":"#DIV/0!"},{"$error":"#DIV/0!"},null,18,{"$f":"INT((E220-1)/Hiteladatok!$U$29)+1","v":2},{"$error":"#DIV/0!"},{"$error":"#DIV/0!"},{"$error":"#DIV/0!"},{"$error":"#DIV/0!"},{"$error":"#DIV/0!"},null,{"$error":"#DIV/0!"},{"$error":"#DIV/0!"},{"$error":"#DIV/0!"},{"$error":"#DIV/0!"},{"$error":"#DIV/0!"}]
[null,null,null,12,215,{"$error":"#VALUE!"},{"$error":"#DIV/0!"},{"$error":"#DIV/0!"},{"$error":"#DIV/0!"},{"$error":"#DIV/0!"},{"$error":"#DIV/0!"},{"$error":"#DIV/0!"},{"$f":"IF(OR(Hiteladatok!$I$8=0,E221>$B$4),0,IF(D221>Hiteladatok!$U$40,0,$B$14+IF(Hiteladatok!$I$10=Hiteladatok!$N$33,$B$15,0)))","v":0},{"$error":"#DIV/0!"},{"$error":"#DIV/0!"},null,{"$error":"#DIV/0!"},{"$error":"#DIV/0!"},{"$error":"#DIV/0!"},{"$error":"#DIV/0!"},{"$error":"#DIV/0!"},{"$error":"#DIV/0!"},{"$error":"#DIV/0!"},null,18,{"$f":"INT((E221-1)/Hiteladatok!$U$29)+1","v":2},{"$error":"#DIV/0!"},{"$error":"#DIV/0!"},{"$error":"#DIV/0!"},{"$error":"#DIV/0!"},{"$error":"#DIV/0!"},null,{"$error":"#DIV/0!"},{"$error":"#DIV/0!"},{"$error":"#DIV/0!"},{"$error":"#DIV/0!"},{"$error":"#DIV/0!"}]
[null,null,null,12,216,{"$error":"#VALUE!"},{"$error":"#DIV/0!"},{"$error":"#DIV/0!"},{"$error":"#DIV/0!"},{"$error":"#DIV/0!"},{"$error":"#DIV/0!"},{"$error":"#DIV/0!"},{"$f":"IF(OR(Hiteladatok!$I$8=0,E222>$B$4),0,IF(D222>Hiteladatok!$U$40,0,$B$14+IF(Hiteladatok!$I$10=Hiteladatok!$N$33,$B$15,0)))","v":0},{"$error":"#DIV/0!"},{"$error":"#DIV/0!"},null,{"$error":"#DIV/0!"},{"$error":"#DIV/0!"},{"$error":"#DIV/0!"},{"$error":"#DIV/0!"},{"$error":"#DIV/0!"},{"$error":"#DIV/0!"},{"$error":"#DIV/0!"},null,18,{"$f":"INT((E222-1)/Hiteladatok!$U$29)+1","v":2},{"$error":"#DIV/0!"},{"$error":"#DIV/0!"},{"$error":"#DIV/0!"},{"$error":"#DIV/0!"},{"$error":"#DIV/0!"},null,{"$error":"#DIV/0!"},{"$error":"#DIV/0!"},{"$error":"#DIV/0!"},{"$error":"#DIV/0!"},{"$error":"#DIV/0!"}]
[null,null,null,1,217,{"$error":"#VALUE!"},{"$error":"#DIV/0!"},{"$error":"#DIV/0!"},{"$error":"#DIV/0!"},{"$error":"#DIV/0!"},{"$error":"#DIV/0!"},{"$error":"#DIV/0!"},{"$f":"IF(OR(Hiteladatok!$I$8=0,E223>$B$4),0,IF(D223>Hiteladatok!$U$40,0,$B$14+IF(Hiteladatok!$I$10=Hiteladatok!$N$33,$B$15,0)))","v":0},{"$error":"#DIV/0!"},{"$error":"#DIV/0!"},null,{"$error":"#DIV/0!"},{"$error":"#DIV/0!"},{"$error":"#DIV/0!"},{"$error":"#DIV/0!"},{"$error":"#DIV/0!"},{"$error":"#DIV/0!"},{"$error":"#DIV/0!"},null,19,{"$f":"INT((E223-1)/Hiteladatok!$U$29)+1","v":2},{"$error":"#DIV/0!"},{"$error":"#DIV/0!"},{"$error":"#DIV/0!"},{"$error":"#DIV/0!"},{"$error":"#DIV/0!"},null,{"$error":"#DIV/0!"},{"$error":"#DIV/0!"},{"$error":"#DIV/0!"},{"$error":"#DIV/0!"},{"$error":"#DIV/0!"}]
[null,null,null,12,218,{"$error":"#VALUE!"},{"$error":"#DIV/0!"},{"$error":"#DIV/0!"},{"$error":"#DIV/0!"},{"$error":"#DIV/0!"},{"$error":"#DIV/0!"},{"$error":"#DIV/0!"},{"$f":"IF(OR(Hiteladatok!$I$8=0,E224>$B$4),0,IF(D224>Hiteladatok!$U$40,0,$B$14+IF(Hiteladatok!$I$10=Hiteladatok!$N$33,$B$15,0)))","v":0},{"$error":"#DIV/0!"},{"$error":"#DIV/0!"},null,{"$error":"#DIV/0!"},{"$error":"#DIV/0!"},{"$error":"#DIV/0!"},{"$error":"#DIV/0!"},{"$error":"#DIV/0!"},{"$error":"#DIV/0!"},{"$error":"#DIV/0!"},null,19,{"$f":"INT((E224-1)/Hiteladatok!$U$29)+1","v":2},{"$error":"#DIV/0!"},{"$error":"#DIV/0!"},{"$error":"#DIV/0!"},{"$error":"#DIV/0!"},{"$error":"#DIV/0!"},null,{"$error":"#DIV/0!"},{"$error":"#DIV/0!"},{"$error":"#DIV/0!"},{"$error":"#DIV/0!"},{"$error":"#DIV/0!"}]
[null,null,null,12,219,{"$error":"#VALUE!"},{"$error":"#DIV/0!"},{"$error":"#DIV/0!"},{"$error":"#DIV/0!"},{"$error":"#DIV/0!"},{"$error":"#DIV/0!"},{"$error":"#DIV/0!"},{"$f":"IF(OR(Hiteladatok!$I$8=0,E225>$B$4),0,IF(D225>Hiteladatok!$U$40,0,$B$14+IF(Hiteladatok!$I$10=Hiteladatok!$N$33,$B$15,0)))","v":0},{"$error":"#DIV/0!"},{"$error":"#DIV/0!"},null,{"$error":"#DIV/0!"},{"$error":"#DIV/0!"},{"$error":"#DIV/0!"},{"$error":"#DIV/0!"},{"$error":"#DIV/0!"},{"$error":"#DIV/0!"},{"$error":"#DIV/0!"},null,19,{"$f":"INT((E225-1)/Hiteladatok!$U$29)+1","v":2},{"$error":"#DIV/0!"},{"$error":"#DIV/0!"},{"$error":"#DIV/0!"},{"$error":"#DIV/0!"},{"$error":"#DIV/0!"},null,{"$error":"#DIV/0!"},{"$error":"#DIV/0!"},{"$error":"#DIV/0!"},{"$error":"#DIV/0!"},{"$error":"#DIV/0!"}]
[null,null,null,4,220,{"$error":"#VALUE!"},{"$error":"#DIV/0!"},{"$error":"#DIV/0!"},{"$error":"#DIV/0!"},{"$error":"#DIV/0!"},{"$error":"#DIV/0!"},{"$error":"#DIV/0!"},{"$f":"IF(OR(Hiteladatok!$I$8=0,E226>$B$4),0,IF(D226>Hiteladatok!$U$40,0,$B$14+IF(Hiteladatok!$I$10=Hiteladatok!$N$33,$B$15,0)))","v":0},{"$error":"#DIV/0!"},{"$error":"#DIV/0!"},null,{"$error":"#DIV/0!"},{"$error":"#DIV/0!"},{"$error":"#DIV/0!"},{"$error":"#DIV/0!"},{"$error":"#DIV/0!"},{"$error":"#DIV/0!"},{"$error":"#DIV/0!"},null,19,{"$f":"INT((E226-1)/Hiteladatok!$U$29)+1","v":2},{"$error":"#DIV/0!"},{"$error":"#DIV/0!"},{"$error":"#DIV/0!"},{"$error":"#DIV/0!"},{"$error":"#DIV/0!"},null,{"$error":"#DIV/0!"},{"$error":"#DIV/0!"},{"$error":"#DIV/0!"},{"$error":"#DIV/0!"},{"$error":"#DIV/0!"}]
[null,null,null,12,221,{"$error":"#VALUE!"},{"$error":"#DIV/0!"},{"$error":"#DIV/0!"},{"$error":"#DIV/0!"},{"$error":"#DIV/0!"},{"$error":"#DIV/0!"},{"$error":"#DIV/0!"},{"$f":"IF(OR(Hiteladatok!$I$8=0,E227>$B$4),0,IF(D227>Hiteladatok!$U$40,0,$B$14+IF(Hiteladatok!$I$10=Hiteladatok!$N$33,$B$15,0)))","v":0},{"$error":"#DIV/0!"},{"$error":"#DIV/0!"},null,{"$error":"#DIV/0!"},{"$error":"#DIV/0!"},{"$error":"#DIV/0!"},{"$error":"#DIV/0!"},{"$error":"#DIV/0!"},{"$error":"#DIV/0!"},{"$error":"#DIV/0!"},null,19,{"$f":"INT((E227-1)/Hiteladatok!$U$29)+1","v":2},{"$error":"#DIV/0!"},{"$error":"#DIV/0!"},{"$error":"#DIV/0!"},{"$error":"#DIV/0!"},{"$error":"#DIV/0!"},null,{"$error":"#DIV/0!"},{"$error":"#DIV/0!"},{"$error":"#DIV/0!"},{"$error":"#DIV/0!"},{"$error":"#DIV/0!"}]
[null,null,null,12,222,{"$error":"#VALUE!"},{"$error":"#DIV/0!"},{"$error":"#DIV/0!"},{"$error":"#DIV/0!"},{"$error":"#DIV/0!"},{"$error":"#DIV/0!"},{"$error":"#DIV/0!"},{"$f":"IF(OR(Hiteladatok!$I$8=0,E228>$B$4),0,IF(D228>Hiteladatok!$U$40,0,$B$14+IF(Hiteladatok!$I$10=Hiteladatok!$N$33,$B$15,0)))","v":0},{"$error":"#DIV/0!"},{"$error":"#DIV/0!"},null,{"$error":"#DIV/0!"},{"$error":"#DIV/0!"},{"$error":"#DIV/0!"},{"$error":"#DIV/0!"},{"$error":"#DIV/0!"},{"$error":"#DIV/0!"},{"$error":"#DIV/0!"},null,19,{"$f":"INT((E228-1)/Hiteladatok!$U$29)+1","v":2},{"$error":"#DIV/0!"},{"$error":"#DIV/0!"},{"$error":"#DIV/0!"},{"$error":"#DIV/0!"},{"$error":"#DIV/0!"},null,{"$error":"#DIV/0!"},{"$error":"#DIV/0!"},{"$error":"#DIV/0!"},{"$error":"#DIV/0!"},{"$error":"#DIV/0!"}]
[null,null,null,2,223,{"$error":"#VALUE!"},{"$error":"#DIV/0!"},{"$error":"#DIV/0!"},{"$error":"#DIV/0!"},{"$error":"#DIV/0!"},{"$error":"#DIV/0!"},{"$error":"#DIV/0!"},{"$f":"IF(OR(Hiteladatok!$I$8=0,E229>$B$4),0,IF(D229>Hiteladatok!$U$40,0,$B$14+IF(Hiteladatok!$I$10=Hiteladatok!$N$33,$B$15,0)))","v":0},{"$error":"#DIV/0!"},{"$error":"#DIV/0!"},null,{"$error":"#DIV/0!"},{"$error":"#DIV/0!"},{"$error":"#DIV/0!"},{"$error":"#DIV/0!"},{"$error":"#DIV/0!"},{"$error":"#DIV/0!"},{"$error":"#DIV/0!"},null,19,{"$f":"INT((E229-1)/Hiteladatok!$U$29)+1","v":2},{"$error":"#DIV/0!"},{"$error":"#DIV/0!"},{"$error":"#DIV/0!"},{"$error":"#DIV/0!"},{"$error":"#DIV/0!"},null,{"$error":"#DIV/0!"},{"$error":"#DIV/0!"},{"$error":"#DIV/0!"},{"$error":"#DIV/0!"},{"$error":"#DIV/0!"}]
[null,null,null,12,224,{"$error":"#VALUE!"},{"$error":"#DIV/0!"},{"$error":"#DIV/0!"},{"$error":"#DIV/0!"},{"$error":"#DIV/0!"},{"$error":"#DIV/0!"},{"$error":"#DIV/0!"},{"$f":"IF(OR(Hiteladatok!$I$8=0,E230>$B$4),0,IF(D230>Hiteladatok!$U$40,0,$B$14+IF(Hiteladatok!$I$10=Hiteladatok!$N$33,$B$15,0)))","v":0},{"$error":"#DIV/0!"},{"$error":"#DIV/0!"},null,{"$error":"#DIV/0!"},{"$error":"#DIV/0!"},{"$error":"#DIV/0!"},{"$error":"#DIV/0!"},{"$error":"#DIV/0!"},{"$error":"#DIV/0!"},{"$error":"#DIV/0!"},null,19,{"$f":"INT((E230-1)/Hiteladatok!$U$29)+1","v":2},{"$error":"#DIV/0!"},{"$error":"#DIV/0!"},{"$error":"#DIV/0!"},{"$error":"#DIV/0!"},{"$error":"#DIV/0!"},null,{"$error":"#DIV/0!"},{"$error":"#DIV/0!"},{"$error":"#DIV/0!"},{"$error":"#DIV/0!"},{"$error":"#DIV/0!"}]
[null,null,null,12,225,{"$error":"#VALUE!"},{"$error":"#DIV/0!"},{"$error":"#DIV/0!"},{"$error":"#DIV/0!"},{"$error":"#DIV/0!"},{"$error":"#DIV/0!"},{"$error":"#DIV/0!"},{"$f":"IF(OR(Hiteladatok!$I$8=0,E231>$B$4),0,IF(D231>Hiteladatok!$U$40,0,$B$14+IF(Hiteladatok!$I$10=Hiteladatok!$N$33,$B$15,0)))","v":0},{"$error":"#DIV/0!"},{"$error":"#DIV/0!"},null,{"$error":"#DIV/0!"},{"$error":"#DIV/0!"},{"$error":"#DIV/0!"},{"$error":"#DIV/0!"},{"$error":"#DIV/0!"},{"$error":"#DIV/0!"},{"$error":"#DIV/0!"},null,19,{"$f":"INT((E231-1)/Hiteladatok!$U$29)+1","v":2},{"$error":"#DIV/0!"},{"$error":"#DIV/0!"},{"$error":"#DIV/0!"},{"$error":"#DIV/0!"},{"$error":"#DIV/0!"},null,{"$error":"#DIV/0!"},{"$error":"#DIV/0!"},{"$error":"#DIV/0!"},{"$error":"#DIV/0!"},{"$error":"#DIV/0!"}]
[null,null,null,4,226,{"$error":"#VALUE!"},{"$error":"#DIV/0!"},{"$error":"#DIV/0!"},{"$error":"#DIV/0!"},{"$error":"#DIV/0!"},{"$error":"#DIV/0!"},{"$error":"#DIV/0!"},{"$f":"IF(OR(Hiteladatok!$I$8=0,E232>$B$4),0,IF(D232>Hiteladatok!$U$40,0,$B$14+IF(Hiteladatok!$I$10=Hiteladatok!$N$33,$B$15,0)))","v":0},{"$error":"#DIV/0!"},{"$error":"#DIV/0!"},null,{"$error":"#DIV/0!"},{"$error":"#DIV/0!"},{"$error":"#DIV/0!"},{"$error":"#DIV/0!"},{"$error":"#DIV/0!"},{"$error":"#DIV/0!"},{"$error":"#DIV/0!"},null,19,{"$f":"INT((E232-1)/Hiteladatok!$U$29)+1","v":2},{"$error":"#DIV/0!"},{"$error":"#DIV/0!"},{"$error":"#DIV/0!"},{"$error":"#DIV/0!"},{"$error":"#DIV/0!"},null,{"$error":"#DIV/0!"},{"$error":"#DIV/0!"},{"$error":"#DIV/0!"},{"$error":"#DIV/0!"},{"$error":"#DIV/0!"}]
[null,null,null,12,227,{"$error":"#VALUE!"},{"$error":"#DIV/0!"},{"$error":"#DIV/0!"},{"$error":"#DIV/0!"},{"$error":"#DIV/0!"},{"$error":"#DIV/0!"},{"$error":"#DIV/0!"},{"$f":"IF(OR(Hiteladatok!$I$8=0,E233>$B$4),0,IF(D233>Hiteladatok!$U$40,0,$B$14+IF(Hiteladatok!$I$10=Hiteladatok!$N$33,$B$15,0)))","v":0},{"$error":"#DIV/0!"},{"$error":"#DIV/0!"},null,{"$error":"#DIV/0!"},{"$error":"#DIV/0!"},{"$error":"#DIV/0!"},{"$error":"#DIV/0!"},{"$error":"#DIV/0!"},{"$error":"#DIV/0!"},{"$error":"#DIV/0!"},null,19,{"$f":"INT((E233-1)/Hiteladatok!$U$29)+1","v":2},{"$error":"#DIV/0!"},{"$error":"#DIV/0!"},{"$error":"#DIV/0!"},{"$error":"#DIV/0!"},{"$error":"#DIV/0!"},null,{"$error":"#DIV/0!"},{"$error":"#DIV/0!"},{"$error":"#DIV/0!"},{"$error":"#DIV/0!"},{"$error":"#DIV/0!"}]
[null,null,null,12,228,{"$error":"#VALUE!"},{"$error":"#DIV/0!"},{"$error":"#DIV/0!"},{"$error":"#DIV/0!"},{"$error":"#DIV/0!"},{"$error":"#DIV/0!"},{"$error":"#DIV/0!"},{"$f":"IF(OR(Hiteladatok!$I$8=0,E234>$B$4),0,IF(D234>Hiteladatok!$U$40,0,$B$14+IF(Hiteladatok!$I$10=Hiteladatok!$N$33,$B$15,0)))","v":0},{"$error":"#DIV/0!"},{"$error":"#DIV/0!"},null,{"$error":"#DIV/0!"},{"$error":"#DIV/0!"},{"$error":"#DIV/0!"},{"$error":"#DIV/0!"},{"$error":"#DIV/0!"},{"$error":"#DIV/0!"},{"$error":"#DIV/0!"},null,19,{"$f":"INT((E234-1)/Hiteladatok!$U$29)+1","v":2},{"$error":"#DIV/0!"},{"$error":"#DIV/0!"},{"$error":"#DIV/0!"},{"$error":"#DIV/0!"},{"$error":"#DIV/0!"},null,{"$error":"#DIV/0!"},{"$error":"#DIV/0!"},{"$error":"#DIV/0!"},{"$error":"#DIV/0!"},{"$error":"#DIV/0!"}]
[null,null,null,1,229,{"$error":"#VALUE!"},{"$error":"#DIV/0!"},{"$error":"#DIV/0!"},{"$error":"#DIV/0!"},{"$error":"#DIV/0!"},{"$error":"#DIV/0!"},{"$error":"#DIV/0!"},{"$f":"IF(OR(Hiteladatok!$I$8=0,E235>$B$4),0,IF(D235>Hiteladatok!$U$40,0,$B$14+IF(Hiteladatok!$I$10=Hiteladatok!$N$33,$B$15,0)))","v":0},{"$error":"#DIV/0!"},{"$error":"#DIV/0!"},null,{"$error":"#DIV/0!"},{"$error":"#DIV/0!"},{"$error":"#DIV/0!"},{"$error":"#DIV/0!"},{"$error":"#DIV/0!"},{"$error":"#DIV/0!"},{"$error":"#DIV/0!"},null,20,{"$f":"INT((E235-1)/Hiteladatok!$U$29)+1","v":2},{"$error":"#DIV/0!"},{"$error":"#DIV/0!"},{"$error":"#DIV/0!"},{"$error":"#DIV/0!"},{"$error":"#DIV/0!"},null,{"$error":"#DIV/0!"},{"$error":"#DIV/0!"},{"$error":"#DIV/0!"},{"$error":"#DIV/0!"},{"$error":"#DIV/0!"}]
[null,null,null,12,230,{"$error":"#VALUE!"},{"$error":"#DIV/0!"},{"$error":"#DIV/0!"},{"$error":"#DIV/0!"},{"$error":"#DIV/0!"},{"$error":"#DIV/0!"},{"$error":"#DIV/0!"},{"$f":"IF(OR(Hiteladatok!$I$8=0,E236>$B$4),0,IF(D236>Hiteladatok!$U$40,0,$B$14+IF(Hiteladatok!$I$10=Hiteladatok!$N$33,$B$15,0)))","v":0},{"$error":"#DIV/0!"},{"$error":"#DIV/0!"},null,{"$error":"#DIV/0!"},{"$error":"#DIV/0!"},{"$error":"#DIV/0!"},{"$error":"#DIV/0!"},{"$error":"#DIV/0!"},{"$error":"#DIV/0!"},{"$error":"#DIV/0!"},null,20,{"$f":"INT((E236-1)/Hiteladatok!$U$29)+1","v":2},{"$error":"#DIV/0!"},{"$error":"#DIV/0!"},{"$error":"#DIV/0!"},{"$error":"#DIV/0!"},{"$error":"#DIV/0!"},null,{"$error":"#DIV/0!"},{"$error":"#DIV/0!"},{"$error":"#DIV/0!"},{"$error":"#DIV/0!"},{"$error":"#DIV/0!"}]
[null,null,null,12,231,{"$error":"#VALUE!"},{"$error":"#DIV/0!"},{"$error":"#DIV/0!"},{"$error":"#DIV/0!"},{"$error":"#DIV/0!"},{"$error":"#DIV/0!"},{"$error":"#DIV/0!"},{"$f":"IF(OR(Hiteladatok!$I$8=0,E237>$B$4),0,IF(D237>Hiteladatok!$U$40,0,$B$14+IF(Hiteladatok!$I$10=Hiteladatok!$N$33,$B$15,0)))","v":0},{"$error":"#DIV/0!"},{"$error":"#DIV/0!"},null,{"$error":"#DIV/0!"},{"$error":"#DIV/0!"},{"$error":"#DIV/0!"},{"$error":"#DIV/0!"},{"$error":"#DIV/0!"},{"$error":"#DIV/0!"},{"$error":"#DIV/0!"},null,20,{"$f":"INT((E237-1)/Hiteladatok!$U$29)+1","v":2},{"$error":"#DIV/0!"},{"$error":"#DIV/0!"},{"$error":"#DIV/0!"},{"$error":"#DIV/0!"},{"$error":"#DIV/0!"},null,{"$error":"#DIV/0!"},{"$error":"#DIV/0!"},{"$error":"#DIV/0!"},{"$error":"#DIV/0!"},{"$error":"#DIV/0!"}]
[null,null,null,4,232,{"$error":"#VALUE!"},{"$error":"#DIV/0!"},{"$error":"#DIV/0!"},{"$error":"#DIV/0!"},{"$error":"#DIV/0!"},{"$error":"#DIV/0!"},{"$error":"#DIV/0!"},{"$f":"IF(OR(Hiteladatok!$I$8=0,E238>$B$4),0,IF(D238>Hiteladatok!$U$40,0,$B$14+IF(Hiteladatok!$I$10=Hiteladatok!$N$33,$B$15,0)))","v":0},{"$error":"#DIV/0!"},{"$error":"#DIV/0!"},null,{"$error":"#DIV/0!"},{"$error":"#DIV/0!"},{"$error":"#DIV/0!"},{"$error":"#DIV/0!"},{"$error":"#DIV/0!"},{"$error":"#DIV/0!"},{"$error":"#DIV/0!"},null,20,{"$f":"INT((E238-1)/Hiteladatok!$U$29)+1","v":2},{"$error":"#DIV/0!"},{"$error":"#DIV/0!"},{"$error":"#DIV/0!"},{"$error":"#DIV/0!"},{"$error":"#DIV/0!"},null,{"$error":"#DIV/0!"},{"$error":"#DIV/0!"},{"$error":"#DIV/0!"},{"$error":"#DIV/0!"},{"$error":"#DIV/0!"}]
[null,null,null,12,233,{"$error":"#VALUE!"},{"$error":"#DIV/0!"},{"$error":"#DIV/0!"},{"$error":"#DIV/0!"},{"$error":"#DIV/0!"},{"$error":"#DIV/0!"},{"$error":"#DIV/0!"},{"$f":"IF(OR(Hiteladatok!$I$8=0,E239>$B$4),0,IF(D239>Hiteladatok!$U$40,0,$B$14+IF(Hiteladatok!$I$10=Hiteladatok!$N$33,$B$15,0)))","v":0},{"$error":"#DIV/0!"},{"$error":"#DIV/0!"},null,{"$error":"#DIV/0!"},{"$error":"#DIV/0!"},{"$error":"#DIV/0!"},{"$error":"#DIV/0!"},{"$error":"#DIV/0!"},{"$error":"#DIV/0!"},{"$error":"#DIV/0!"},null,20,{"$f":"INT((E239-1)/Hiteladatok!$U$29)+1","v":2},{"$error":"#DIV/0!"},{"$error":"#DIV/0!"},{"$error":"#DIV/0!"},{"$error":"#DIV/0!"},{"$error":"#DIV/0!"},null,{"$error":"#DIV/0!"},{"$error":"#DIV/0!"},{"$error":"#DIV/0!"},{"$error":"#DIV/0!"},{"$error":"#DIV/0!"}]
[null,null,null,12,234,{"$error":"#VALUE!"},{"$error":"#DIV/0!"},{"$error":"#DIV/0!"},{"$error":"#DIV/0!"},{"$error":"#DIV/0!"},{"$error":"#DIV/0!"},{"$error":"#DIV/0!"},{"$f":"IF(OR(Hiteladatok!$I$8=0,E240>$B$4),0,IF(D240>Hiteladatok!$U$40,0,$B$14+IF(Hiteladatok!$I$10=Hiteladatok!$N$33,$B$15,0)))","v":0},{"$error":"#DIV/0!"},{"$error":"#DIV/0!"},null,{"$error":"#DIV/0!"},{"$error":"#DIV/0!"},{"$error":"#DIV/0!"},{"$error":"#DIV/0!"},{"$error":"#DIV/0!"},{"$error":"#DIV/0!"},{"$error":"#DIV/0!"},null,20,{"$f":"INT((E240-1)/Hiteladatok!$U$29)+1","v":2},{"$error":"#DIV/0!"},{"$error":"#DIV/0!"},{"$error":"#DIV/0!"},{"$error":"#DIV/0!"},{"$error":"#DIV/0!"},null,{"$error":"#DIV/0!"},{"$error":"#DIV/0!"},{"$error":"#DIV/0!"},{"$error":"#DIV/0!"},{"$error":"#DIV/0!"}]
[null,null,null,2,235,{"$error":"#VALUE!"},{"$error":"#DIV/0!"},{"$error":"#DIV/0!"},{"$error":"#DIV/0!"},{"$error":"#DIV/0!"},{"$error":"#DIV/0!"},{"$error":"#DIV/0!"},{"$f":"IF(OR(Hiteladatok!$I$8=0,E241>$B$4),0,IF(D241>Hiteladatok!$U$40,0,$B$14+IF(Hiteladatok!$I$10=Hiteladatok!$N$33,$B$15,0)))","v":0},{"$error":"#DIV/0!"},{"$error":"#DIV/0!"},null,{"$error":"#DIV/0!"},{"$error":"#DIV/0!"},{"$error":"#DIV/0!"},{"$error":"#DIV/0!"},{"$error":"#DIV/0!"},{"$error":"#DIV/0!"},{"$error":"#DIV/0!"},null,20,{"$f":"INT((E241-1)/Hiteladatok!$U$29)+1","v":2},{"$error":"#DIV/0!"},{"$error":"#DIV/0!"},{"$error":"#DIV/0!"},{"$error":"#DIV/0!"},{"$error":"#DIV/0!"},null,{"$error":"#DIV/0!"},{"$error":"#DIV/0!"},{"$error":"#DIV/0!"},{"$error":"#DIV/0!"},{"$error":"#DIV/0!"}]
[null,null,null,12,236,{"$error":"#VALUE!"},{"$error":"#DIV/0!"},{"$error":"#DIV/0!"},{"$error":"#DIV/0!"},{"$error":"#DIV/0!"},{"$error":"#DIV/0!"},{"$error":"#DIV/0!"},{"$f":"IF(OR(Hiteladatok!$I$8=0,E242>$B$4),0,IF(D242>Hiteladatok!$U$40,0,$B$14+IF(Hiteladatok!$I$10=Hiteladatok!$N$33,$B$15,0)))","v":0},{"$error":"#DIV/0!"},{"$error":"#DIV/0!"},null,{"$error":"#DIV/0!"},{"$error":"#DIV/0!"},{"$error":"#DIV/0!"},{"$error":"#DIV/0!"},{"$error":"#DIV/0!"},{"$error":"#DIV/0!"},{"$error":"#DIV/0!"},null,20,{"$f":"INT((E242-1)/Hiteladatok!$U$29)+1","v":2},{"$error":"#DIV/0!"},{"$error":"#DIV/0!"},{"$error":"#DIV/0!"},{"$error":"#DIV/0!"},{"$error":"#DIV/0!"},null,{"$error":"#DIV/0!"},{"$error":"#DIV/0!"},{"$error":"#DIV/0!"},{"$error":"#DIV/0!"},{"$error":"#DIV/0!"}]
[null,null,null,12,237,{"$error":"#VALUE!"},{"$error":"#DIV/0!"},{"$error":"#DIV/0!"},{"$error":"#DIV/0!"},{"$error":"#DIV/0!"},{"$error":"#DIV/0!"},{"$error":"#DIV/0!"},{"$f":"IF(OR(Hiteladatok!$I$8=0,E243>$B$4),0,IF(D243>Hiteladatok!$U$40,0,$B$14+IF(Hiteladatok!$I$10=Hiteladatok!$N$33,$B$15,0)))","v":0},{"$error":"#DIV/0!"},{"$error":"#DIV/0!"},null,{"$error":"#DIV/0!"},{"$error":"#DIV/0!"},{"$error":"#DIV/0!"},{"$error":"#DIV/0!"},{"$error":"#DIV/0!"},{"$error":"#DIV/0!"},{"$error":"#DIV/0!"},null,20,{"$f":"INT((E243-1)/Hiteladatok!$U$29)+1","v":2},{"$error":"#DIV/0!"},{"$error":"#DIV/0!"},{"$error":"#DIV/0!"},{"$error":"#DIV/0!"},{"$error":"#DIV/0!"},null,{"$error":"#DIV/0!"},{"$error":"#DIV/0!"},{"$error":"#DIV/0!"},{"$error":"#DIV/0!"},{"$error":"#DIV/0!"}]
[null,null,null,4,238,{"$error":"#VALUE!"},{"$error":"#DIV/0!"},{"$error":"#DIV/0!"},{"$error":"#DIV/0!"},{"$error":"#DIV/0!"},{"$error":"#DIV/0!"},{"$error":"#DIV/0!"},{"$f":"IF(OR(Hiteladatok!$I$8=0,E244>$B$4),0,IF(D244>Hiteladatok!$U$40,0,$B$14+IF(Hiteladatok!$I$10=Hiteladatok!$N$33,$B$15,0)))","v":0},{"$error":"#DIV/0!"},{"$error":"#DIV/0!"},null,{"$error":"#DIV/0!"},{"$error":"#DIV/0!"},{"$error":"#DIV/0!"},{"$error":"#DIV/0!"},{"$error":"#DIV/0!"},{"$error":"#DIV/0!"},{"$error":"#DIV/0!"},null,20,{"$f":"INT((E244-1)/Hiteladatok!$U$29)+1","v":2},{"$error":"#DIV/0!"},{"$error":"#DIV/0!"},{"$error":"#DIV/0!"},{"$error":"#DIV/0!"},{"$error":"#DIV/0!"},null,{"$error":"#DIV/0!"},{"$error":"#DIV/0!"},{"$error":"#DIV/0!"},{"$error":"#DIV/0!"},{"$error":"#DIV/0!"}]
[null,null,null,12,239,{"$error":"#VALUE!"},{"$error":"#DIV/0!"},{"$error":"#DIV/0!"},{"$error":"#DIV/0!"},{"$error":"#DIV/0!"},{"$error":"#DIV/0!"},{"$error":"#DIV/0!"},{"$f":"IF(OR(Hiteladatok!$I$8=0,E245>$B$4),0,IF(D245>Hiteladatok!$U$40,0,$B$14+IF(Hiteladatok!$I$10=Hiteladatok!$N$33,$B$15,0)))","v":0},{"$error":"#DIV/0!"},{"$error":"#DIV/0!"},null,{"$error":"#DIV/0!"},{"$error":"#DIV/0!"},{"$error":"#DIV/0!"},{"$error":"#DIV/0!"},{"$error":"#DIV/0!"},{"$error":"#DIV/0!"},{"$error":"#DIV/0!"},null,20,{"$f":"INT((E245-1)/Hiteladatok!$U$29)+1","v":2},{"$error":"#DIV/0!"},{"$error":"#DIV/0!"},{"$error":"#DIV/0!"},{"$error":"#DIV/0!"},{"$error":"#DIV/0!"},null,{"$error":"#DIV/0!"},{"$error":"#DIV/0!"},{"$error":"#DIV/0!"},{"$error":"#DIV/0!"},{"$error":"#DIV/0!"}]
[null,null,null,12,240,{"$error":"#VALUE!"},{"$error":"#DIV/0!"},{"$error":"#DIV/0!"},{"$error":"#DIV/0!"},{"$error":"#DIV/0!"},{"$error":"#DIV/0!"},{"$error":"#DIV/0!"},{"$f":"IF(OR(Hiteladatok!$I$8=0,E246>$B$4),0,IF(D246>Hiteladatok!$U$40,0,$B$14+IF(Hiteladatok!$I$10=Hiteladatok!$N$33,$B$15,0)))","v":0},{"$error":"#DIV/0!"},{"$error":"#DIV/0!"},null,{"$f":"U245","v":{"$error":"#DIV/0!"}},{"$error":"#DIV/0!"},{"$error":"#DIV/0!"},{"$error":"#DIV/0!"},{"$error":"#DIV/0!"},{"$error":"#DIV/0!"},{"$error":"#DIV/0!"},null,20,{"$f":"INT((E246-1)/Hiteladatok!$U$29)+1","v":2},{"$error":"#DIV/0!"},{"$error":"#DIV/0!"},{"$error":"#DIV/0!"},{"$error":"#DIV/0!"},{"$error":"#DIV/0!"},null,{"$error":"#DIV/0!"},{"$error":"#DIV/0!"},{"$error":"#DIV/0!"},{"$error":"#DIV/0!"},{"$error":"#DIV/0!"}]
[null,null,null,1,241,{"$error":"#VALUE!"},{"$error":"#DIV/0!"},0,0,{"$error":"#DIV/0!"},0,0,{"$f":"IF(OR(Hiteladatok!$I$8=0,E247>$B$4),0,IF(D247>Hiteladatok!$U$40,0,$B$14+IF(Hiteladatok!$I$10=Hiteladatok!$N$33,$B$15,0)))","v":0},0,{"$error":"#DIV/0!"},null,{"$error":"#DIV/0!"},{"$error":"#DIV/0!"},{"$error":"#DIV/0!"},0,{"$error":"#DIV/0!"},0,{"$error":"#DIV/0!"},null,21,{"$f":"INT((E247-1)/Hiteladatok!$U$29)+1","v":3},{"$error":"#DIV/0!"},{"$error":"#DIV/0!"},{"$error":"#DIV/0!"},0,{"$error":"#DIV/0!"},null,{"$error":"#DIV/0!"},{"$error":"#DIV/0!"},{"$error":"#DIV/0!"},0,{"$error":"#DIV/0!"}]
[null,null,null,12,242,{"$error":"#VALUE!"},{"$error":"#DIV/0!"},0,0,{"$error":"#DIV/0!"},0,0,{"$f":"IF(OR(Hiteladatok!$I$8=0,E248>$B$4),0,IF(D248>Hiteladatok!$U$40,0,$B$14+IF(Hiteladatok!$I$10=Hiteladatok!$N$33,$B$15,0)))","v":0},0,{"$error":"#DIV/0!"},null,{"$error":"#DIV/0!"},{"$error":"#DIV/0!"},{"$error":"#DIV/0!"},0,{"$error":"#DIV/0!"},0,{"$error":"#DIV/0!"},null,21,{"$f":"INT((E248-1)/Hiteladatok!$U$29)+1","v":3},{"$error":"#DIV/0!"},{"$error":"#DIV/0!"},{"$error":"#DIV/0!"},0,{"$error":"#DIV/0!"},null,{"$error":"#DIV/0!"},{"$error":"#DIV/0!"},{"$error":"#DIV/0!"},0,{"$error":"#DIV/0!"}]
[null,null,null,12,243,{"$error":"#VALUE!"},{"$error":"#DIV/0!"},0,0,{"$error":"#DIV/0!"},0,0,{"$f":"IF(OR(Hiteladatok!$I$8=0,E249>$B$4),0,IF(D249>Hiteladatok!$U$40,0,$B$14+IF(Hiteladatok!$I$10=Hiteladatok!$N$33,$B$15,0)))","v":0},0,{"$error":"#DIV/0!"},null,{"$error":"#DIV/0!"},{"$error":"#DIV/0!"},{"$error":"#DIV/0!"},0,{"$error":"#DIV/0!"},0,{"$error":"#DIV/0!"},null,21,{"$f":"INT((E249-1)/Hiteladatok!$U$29)+1","v":3},{"$error":"#DIV/0!"},{"$error":"#DIV/0!"},{"$error":"#DIV/0!"},0,{"$error":"#DIV/0!"},null,{"$error":"#DIV/0!"},{"$error":"#DIV/0!"},{"$error":"#DIV/0!"},0,{"$error":"#DIV/0!"}]
[null,null,null,4,244,{"$error":"#VALUE!"},{"$error":"#DIV/0!"},0,0,{"$error":"#DIV/0!"},0,0,{"$f":"IF(OR(Hiteladatok!$I$8=0,E250>$B$4),0,IF(D250>Hiteladatok!$U$40,0,$B$14+IF(Hiteladatok!$I$10=Hiteladatok!$N$33,$B$15,0)))","v":0},0,{"$error":"#DIV/0!"},null,{"$error":"#DIV/0!"},{"$error":"#DIV/0!"},{"$error":"#DIV/0!"},0,{"$error":"#DIV/0!"},0,{"$error":"#DIV/0!"},null,21,{"$f":"INT((E250-1)/Hiteladatok!$U$29)+1","v":3},{"$error":"#DIV/0!"},{"$error":"#DIV/0!"},{"$error":"#DIV/0!"},0,{"$error":"#DIV/0!"},null,{"$error":"#DIV/0!"},{"$error":"#DIV/0!"},{"$error":"#DIV/0!"},0,{"$error":"#DIV/0!"}]
[null,null,null,12,245,{"$error":"#VALUE!"},{"$error":"#DIV/0!"},0,0,{"$error":"#DIV/0!"},0,0,{"$f":"IF(OR(Hiteladatok!$I$8=0,E251>$B$4),0,IF(D251>Hiteladatok!$U$40,0,$B$14+IF(Hiteladatok!$I$10=Hiteladatok!$N$33,$B$15,0)))","v":0},0,{"$error":"#DIV/0!"},null,{"$error":"#DIV/0!"},{"$error":"#DIV/0!"},{"$error":"#DIV/0!"},0,{"$error":"#DIV/0!"},0,{"$error":"#DIV/0!"},null,21,{"$f":"INT((E251-1)/Hiteladatok!$U$29)+1","v":3},{"$error":"#DIV/0!"},{"$error":"#DIV/0!"},{"$error":"#DIV/0!"},0,{"$error":"#DIV/0!"},null,{"$error":"#DIV/0!"},{"$error":"#DIV/0!"},{"$error":"#DIV/0!"},0,{"$error":"#DIV/0!"}]
[null,null,null,12,246,{"$error":"#VALUE!"},{"$error":"#DIV/0!"},0,0,{"$error":"#DIV/0!"},0,0,{"$f":"IF(OR(Hiteladatok!$I$8=0,E252>$B$4),0,IF(D252>Hiteladatok!$U$40,0,$B$14+IF(Hiteladatok!$I$10=Hiteladatok!$N$33,$B$15,0)))","v":0},0,{"$error":"#DIV/0!"},null,{"$error":"#DIV/0!"},{"$error":"#DIV/0!"},{"$error":"#DIV/0!"},0,{"$error":"#DIV/0!"},0,{"$error":"#DIV/0!"},null,21,{"$f":"INT((E252-1)/Hiteladatok!$U$29)+1","v":3},{"$error":"#DIV/0!"},{"$error":"#DIV/0!"},{"$error":"#DIV/0!"},0,{"$error":"#DIV/0!"},null,{"$error":"#DIV/0!"},{"$error":"#DIV/0!"},{"$error":"#DIV/0!"},0,{"$error":"#DIV/0!"}]
[null,null,null,2,247,{"$error":"#VALUE!"},{"$error":"#DIV/0!"},0,0,{"$error":"#DIV/0!"},0,0,{"$f":"IF(OR(Hiteladatok!$I$8=0,E253>$B$4),0,IF(D253>Hiteladatok!$U$40,0,$B$14+IF(Hiteladatok!$I$10=Hiteladatok!$N$33,$B$15,0)))","v":0},0,{"$error":"#DIV/0!"},null,{"$error":"#DIV/0!"},{"$error":"#DIV/0!"},{"$error":"#DIV/0!"},0,{"$error":"#DIV/0!"},0,{"$error":"#DIV/0!"},null,21,{"$f":"INT((E253-1)/Hiteladatok!$U$29)+1","v":3},{"$error":"#DIV/0!"},{"$error":"#DIV/0!"},{"$error":"#DIV/0!"},0,{"$error":"#DIV/0!"},null,{"$error":"#DIV/0!"},{"$error":"#DIV/0!"},{"$error":"#DIV/0!"},0,{"$error":"#DIV/0!"}]
[null,null,null,12,248,{"$error":"#VALUE!"},{"$error":"#DIV/0!"},0,0,{"$error":"#DIV/0!"},0,0,{"$f":"IF(OR(Hiteladatok!$I$8=0,E254>$B$4),0,IF(D254>Hiteladatok!$U$40,0,$B$14+IF(Hiteladatok!$I$10=Hiteladatok!$N$33,$B$15,0)))","v":0},0,{"$error":"#DIV/0!"},null,{"$error":"#DIV/0!"},{"$error":"#DIV/0!"},{"$error":"#DIV/0!"},0,{"$error":"#DIV/0!"},0,{"$error":"#DIV/0!"},null,21,{"$f":"INT((E254-1)/Hiteladatok!$U$29)+1","v":3},{"$error":"#DIV/0!"},{"$error":"#DIV/0!"},{"$error":"#DIV/0!"},0,{"$error":"#DIV/0!"},null,{"$error":"#DIV/0!"},{"$error":"#DIV/0!"},{"$error":"#DIV/0!"},0,{"$error":"#DIV/0!"}]
[null,null,null,12,249,{"$error":"#VALUE!"},{"$error":"#DIV/0!"},0,0,{"$error":"#DIV/0!"},0,0,{"$f":"IF(OR(Hiteladatok!$I$8=0,E255>$B$4),0,IF(D255>Hiteladatok!$U$40,0,$B$14+IF(Hiteladatok!$I$10=Hiteladatok!$N$33,$B$15,0)))","v":0},0,{"$error":"#DIV/0!"},null,{"$error":"#DIV/0!"},{"$error":"#DIV/0!"},{"$error":"#DIV/0!"},0,{"$error":"#DIV/0!"},0,{"$error":"#DIV/0!"},null,21,{"$f":"INT((E255-1)/Hiteladatok!$U$29)+1","v":3},{"$error":"#DIV/0!"},{"$error":"#DIV/0!"},{"$error":"#DIV/0!"},0,{"$error":"#DIV/0!"},null,{"$error":"#DIV/0!"},{"$error":"#DIV/0!"},{"$error":"#DIV/0!"},0,{"$error":"#DIV/0!"}]
[null,null,null,4,250,{"$error":"#VALUE!"},{"$error":"#DIV/0!"},0,0,{"$error":"#DIV/0!"},0,0,{"$f":"IF(OR(Hiteladatok!$I$8=0,E256>$B$4),0,IF(D256>Hiteladatok!$U$40,0,$B$14+IF(Hiteladatok!$I$10=Hiteladatok!$N$33,$B$15,0)))","v":0},0,{"$error":"#DIV/0!"},null,{"$error":"#DIV/0!"},{"$error":"#DIV/0!"},{"$error":"#DIV/0!"},0,{"$error":"#DIV/0!"},0,{"$error":"#DIV/0!"},null,21,{"$f":"INT((E256-1)/Hiteladatok!$U$29)+1","v":3},{"$error":"#DIV/0!"},{"$error":"#DIV/0!"},{"$error":"#DIV/0!"},0,{"$error":"#DIV/0!"},null,{"$error":"#DIV/0!"},{"$error":"#DIV/0!"},{"$error":"#DIV/0!"},0,{"$error":"#DIV/0!"}]
[null,null,null,12,251,{"$error":"#VALUE!"},{"$error":"#DIV/0!"},0,0,{"$error":"#DIV/0!"},0,0,{"$f":"IF(OR(Hiteladatok!$I$8=0,E257>$B$4),0,IF(D257>Hiteladatok!$U$40,0,$B$14+IF(Hiteladatok!$I$10=Hiteladatok!$N$33,$B$15,0)))","v":0},0,{"$error":"#DIV/0!"},null,{"$error":"#DIV/0!"},{"$error":"#DIV/0!"},{"$error":"#DIV/0!"},0,{"$error":"#DIV/0!"},0,{"$error":"#DIV/0!"},null,21,{"$f":"INT((E257-1)/Hiteladatok!$U$29)+1","v":3},{"$error":"#DIV/0!"},{"$error":"#DIV/0!"},{"$error":"#DIV/0!"},0,{"$error":"#DIV/0!"},null,{"$error":"#DIV/0!"},{"$error":"#DIV/0!"},{"$error":"#DIV/0!"},0,{"$error":"#DIV/0!"}]
[null,null,null,12,252,{"$error":"#VALUE!"},{"$error":"#DIV/0!"},0,0,{"$error":"#DIV/0!"},0,0,{"$f":"IF(OR(Hiteladatok!$I$8=0,E258>$B$4),0,IF(D258>Hiteladatok!$U$40,0,$B$14+IF(Hiteladatok!$I$10=Hiteladatok!$N$33,$B$15,0)))","v":0},0,{"$error":"#DIV/0!"},null,{"$error":"#DIV/0!"},{"$error":"#DIV/0!"},{"$error":"#DIV/0!"},0,{"$error":"#DIV/0!"},0,{"$error":"#DIV/0!"},null,21,{"$f":"INT((E258-1)/Hiteladatok!$U$29)+1","v":3},{"$error":"#DIV/0!"},{"$error":"#DIV/0!"},{"$error":"#DIV/0!"},0,{"$error":"#DIV/0!"},null,{"$error":"#DIV/0!"},{"$error":"#DIV/0!"},{"$error":"#DIV/0!"},0,{"$error":"#DIV/0!"}]
[null,null,null,1,253,{"$error":"#VALUE!"},{"$error":"#DIV/0!"},0,0,{"$error":"#DIV/0!"},0,0,{"$f":"IF(OR(Hiteladatok!$I$8=0,E259>$B$4),0,IF(D259>Hiteladatok!$U$40,0,$B$14+IF(Hiteladatok!$I$10=Hiteladatok!$N$33,$B$15,0)))","v":0},0,{"$error":"#DIV/0!"},null,{"$error":"#DIV/0!"},{"$error":"#DIV/0!"},{"$error":"#DIV/0!"},0,{"$error":"#DIV/0!"},0,{"$error":"#DIV/0!"},null,22,{"$f":"INT((E259-1)/Hiteladatok!$U$29)+1","v":3},{"$error":"#DIV/0!"},{"$error":"#DIV/0!"},{"$error":"#DIV/0!"},0,{"$error":"#DIV/0!"},null,{"$error":"#DIV/0!"},{"$error":"#DIV/0!"},{"$error":"#DIV/0!"},0,{"$error":"#DIV/0!"}]
[null,null,null,12,254,{"$error":"#VALUE!"},{"$error":"#DIV/0!"},0,0,{"$error":"#DIV/0!"},0,0,{"$f":"IF(OR(Hiteladatok!$I$8=0,E260>$B$4),0,IF(D260>Hiteladatok!$U$40,0,$B$14+IF(Hiteladatok!$I$10=Hiteladatok!$N$33,$B$15,0)))","v":0},0,{"$error":"#DIV/0!"},null,{"$error":"#DIV/0!"},{"$error":"#DIV/0!"},{"$error":"#DIV/0!"},0,{"$error":"#DIV/0!"},0,{"$error":"#DIV/0!"},null,22,{"$f":"INT((E260-1)/Hiteladatok!$U$29)+1","v":3},{"$error":"#DIV/0!"},{"$error":"#DIV/0!"},{"$error":"#DIV/0!"},0,{"$error":"#DIV/0!"},null,{"$error":"#DIV/0!"},{"$error":"#DIV/0!"},{"$error":"#DIV/0!"},0,{"$error":"#DIV/0!"}]
[null,null,null,12,255,{"$error":"#VALUE!"},{"$error":"#DIV/0!"},0,0,{"$error":"#DIV/0!"},0,0,{"$f":"IF(OR(Hiteladatok!$I$8=0,E261>$B$4),0,IF(D261>Hiteladatok!$U$40,0,$B$14+IF(Hiteladatok!$I$10=Hiteladatok!$N$33,$B$15,0)))","v":0},0,{"$error":"#DIV/0!"},null,{"$error":"#DIV/0!"},{"$error":"#DIV/0!"},{"$error":"#DIV/0!"},0,{"$error":"#DIV/0!"},0,{"$error":"#DIV/0!"},null,22,{"$f":"INT((E261-1)/Hiteladatok!$U$29)+1","v":3},{"$error":"#DIV/0!"},{"$error":"#DIV/0!"},{"$error":"#DIV/0!"},0,{"$error":"#DIV/0!"},null,{"$error":"#DIV/0!"},{"$error":"#DIV/0!"},{"$error":"#DIV/0!"},0,{"$error":"#DIV/0!"}]
[null,null,null,4,256,{"$error":"#VALUE!"},{"$error":"#DIV/0!"},0,0,{"$error":"#DIV/0!"},0,0,{"$f":"IF(OR(Hiteladatok!$I$8=0,E262>$B$4),0,IF(D262>Hiteladatok!$U$40,0,$B$14+IF(Hiteladatok!$I$10=Hiteladatok!$N$33,$B$15,0)))","v":0},0,{"$error":"#DIV/0!"},null,{"$error":"#DIV/0!"},{"$error":"#DIV/0!"},{"$error":"#DIV/0!"},0,{"$error":"#DIV/0!"},0,{"$error":"#DIV/0!"},null,22,{"$f":"INT((E262-1)/Hiteladatok!$U$29)+1","v":3},{"$error":"#DIV/0!"},{"$error":"#DIV/0!"},{"$error":"#DIV/0!"},0,{"$error":"#DIV/0!"},null,{"$error":"#DIV/0!"},{"$error":"#DIV/0!"},{"$error":"#DIV/0!"},0,{"$error":"#DIV/0!"}]
[null,null,null,12,257,{"$error":"#VALUE!"},{"$error":"#DIV/0!"},0,0,{"$error":"#DIV/0!"},0,0,{"$f":"IF(OR(Hiteladatok!$I$8=0,E263>$B$4),0,IF(D263>Hiteladatok!$U$40,0,$B$14+IF(Hiteladatok!$I$10=Hiteladatok!$N$33,$B$15,0)))","v":0},0,{"$error":"#DIV/0!"},null,{"$error":"#DIV/0!"},{"$error":"#DIV/0!"},{"$error":"#DIV/0!"},0,{"$f":"Q263+S263-T263","v":{"$error":"#DIV/0!"}},0,{"$error":"#DIV/0!"},null,22,{"$f":"INT((E263-1)/Hiteladatok!$U$29)+1","v":3},{"$error":"#DIV/0!"},{"$error":"#DIV/0!"},{"$error":"#DIV/0!"},0,{"$error":"#DIV/0!"},null,{"$error":"#DIV/0!"},{"$error":"#DIV/0!"},{"$error":"#DIV/0!"},0,{"$error":"#DIV/0!"}]
[null,null,null,12,258,{"$f":"$F$1*E264+$B$9","v":{"$error":"#VALUE!"}},{"$error":"#DIV/0!"},0,0,{"$error":"#DIV/0!"},0,0,{"$f":"IF(OR(Hiteladatok!$I$8=0,E264>$B$4),0,IF(D264>Hiteladatok!$U$40,0,$B$14+IF(Hiteladatok!$I$10=Hiteladatok!$N$33,$B$15,0)))","v":0},{"$f":"I264+K264+L264+M264","v":0},{"$error":"#DIV/0!"},null,{"$error":"#DIV/0!"},{"$error":"#DIV/0!"},{"$error":"#DIV/0!"},0,{"$error":"#DIV/0!"},{"$f":"T264+K264+L264+M264","v":0},{"$error":"#DIV/0!"},null,22,{"$f":"INT((E264-1)/Hiteladatok!$U$29)+1","v":3},{"$error":"#DIV/0!"},{"$error":"#DIV/0!"},{"$error":"#DIV/0!"},0,{"$error":"#DIV/0!"},null,{"$error":"#DIV/0!"},{"$error":"#DIV/0!"},{"$error":"#DIV/0!"},0,{"$error":"#DIV/0!"}]
[null,null,null,2,{"$f":"E264+1","v":259},{"$error":"#VALUE!"},{"$f":"J264","v":{"$error":"#DIV/0!"}},{"$f":"IF(E265>$B$4,0,G265*$B$3/12)","v":0},{"$f":"IF(E265>$B$4,0,$B$10)","v":0},{"$f":"G265+H265-I265","v":{"$error":"#DIV/0!"}},{"$f":"I265*$C$12","v":0},0,{"$f":"IF(OR(Hiteladatok!$I$8=0,E265>$B$4),0,IF(D265>Hiteladatok!$U$40,0,$B$14+IF(Hiteladatok!$I$10=Hiteladatok!$N$33,$B$15,0)))","v":0},0,{"$f":"O264+N265/(1+$O$1)^(F265/365)","v":{"$error":"#DIV/0!"}},null,{"$error":"#DIV/0!"},{"$f":"IF(E265<$R$2,$R$3,$R$4)","v":{"$error":"#DIV/0!"}},{"$f":"Q265*R265/12","v":{"$error":"#DIV/0!"}},{"$f":"IF(E265>$B$4,0,PMT(R265/12,$B$4-E265+1,-Q265))","v":0},{"$error":"#DIV/0!"},0,{"$f":"W264+V265/(1+$W$1)^(F265/365)","v":{"$error":"#DIV/0!"}},null,22,{"$f":"INT((E265-1)/Hiteladatok!$U$29)+1","v":3},{"$f":"AE264","v":{"$error":"#DIV/0!"}},{"$f":"IF(E265<$AB$2,$AB$3,$AB$4)","v":{"$error":"#DIV/0!"}},{"$f":"AA265*AB265/12","v":{"$error":"#DIV/0!"}},{"$f":"IF(E265>$B$4,0,PMT(AB265/12,$B$4-E265+1,-AA265))","v":0},{"$f":"AA265+AC265-AD265","v":{"$error":"#DIV/0!"}},null,{"$f":"AK264","v":{"$error":"#DIV/0!"}},{"$f":"IF(E265<$AH$2,$AH$3,$AH$4)","v":{"$error":"#DIV/0!"}},{"$f":"AG265*AH265/12","v":{"$error":"#DIV/0!"}},{"$f":"IF(E265>$B$4,0,PMT(AH265/12,$B$4-E265+1,-AG265))","v":0},{"$f":"AG265+AI265-AJ265","v":{"$error":"#DIV/0!"}}]
[null,null,null,12,260,{"$error":"#VALUE!"},{"$error":"#DIV/0!"},0,0,{"$error":"#DIV/0!"},0,0,{"$f":"IF(OR(Hiteladatok!$I$8=0,E266>$B$4),0,IF(D266>Hiteladatok!$U$40,0,$B$14+IF(Hiteladatok!$I$10=Hiteladatok!$N$33,$B$15,0)))","v":0},0,{"$error":"#DIV/0!"},null,{"$error":"#DIV/0!"},{"$error":"#DIV/0!"},{"$error":"#DIV/0!"},0,{"$error":"#DIV/0!"},0,{"$error":"#DIV/0!"},null,22,{"$f":"INT((E266-1)/Hiteladatok!$U$29)+1","v":3},{"$error":"#DIV/0!"},{"$error":"#DIV/0!"},{"$error":"#DIV/0!"},0,{"$error":"#DIV/0!"},null,{"$error":"#DIV/0!"},{"$error":"#DIV/0!"},{"$error":"#DIV/0!"},0,{"$error":"#DIV/0!"}]
[null,null,null,12,261,{"$error":"#VALUE!"},{"$error":"#DIV/0!"},0,0,{"$error":"#DIV/0!"},0,0,{"$f":"IF(OR(Hiteladatok!$I$8=0,E267>$B$4),0,IF(D267>Hiteladatok!$U$40,0,$B$14+IF(Hiteladatok!$I$10=Hiteladatok!$N$33,$B$15,0)))","v":0},0,{"$error":"#DIV/0!"},null,{"$error":"#DIV/0!"},{"$error":"#DIV/0!"},{"$error":"#DIV/0!"},0,{"$error":"#DIV/0!"},0,{"$error":"#DIV/0!"},null,22,{"$f":"INT((E267-1)/Hiteladatok!$U$29)+1","v":3},{"$error":"#DIV/0!"},{"$error":"#DIV/0!"},{"$error":"#DIV/0!"},0,{"$error":"#DIV/0!"},null,{"$error":"#DIV/0!"},{"$error":"#DIV/0!"},{"$error":"#DIV/0!"},0,{"$error":"#DIV/0!"}]
[null,null,null,4,262,{"$error":"#VALUE!"},{"$error":"#DIV/0!"},0,0,{"$error":"#DIV/0!"},0,0,{"$f":"IF(OR(Hiteladatok!$I$8=0,E268>$B$4),0,IF(D268>Hiteladatok!$U$40,0,$B$14+IF(Hiteladatok!$I$10=Hiteladatok!$N$33,$B$15,0)))","v":0},0,{"$error":"#DIV/0!"},null,{"$error":"#DIV/0!"},{"$error":"#DIV/0!"},{"$error":"#DIV/0!"},0,{"$error":"#DIV/0!"},0,{"$error":"#DIV/0!"},null,22,{"$f":"INT((E268-1)/Hiteladatok!$U$29)+1","v":3},{"$error":"#DIV/0!"},{"$error":"#DIV/0!"},{"$error":"#DIV/0!"},0,{"$error":"#DIV/0!"},null,{"$error":"#DIV/0!"},{"$error":"#DIV/0!"},{"$error":"#DIV/0!"},0,{"$error":"#DIV/0!"}]
[null,null,null,12,263,{"$error":"#VALUE!"},{"$error":"#DIV/0!"},0,0,{"$error":"#DIV/0!"},0,0,{"$f":"IF(OR(Hiteladatok!$I$8=0,E269>$B$4),0,IF(D269>Hiteladatok!$U$40,0,$B$14+IF(Hiteladatok!$I$10=Hiteladatok!$N$33,$B$15,0)))","v":0},0,{"$error":"#DIV/0!"},null,{"$error":"#DIV/0!"},{"$error":"#DIV/0!"},{"$error":"#DIV/0!"},0,{"$error":"#DIV/0!"},0,{"$error":"#DIV/0!"},null,22,{"$f":"INT((E269-1)/Hiteladatok!$U$29)+1","v":3},{"$error":"#DIV/0!"},{"$error":"#DIV/0!"},{"$error":"#DIV/0!"},0,{"$error":"#DIV/0!"},null,{"$error":"#DIV/0!"},{"$error":"#DIV/0!"},{"$error":"#DIV/0!"},0,{"$error":"#DIV/0!"}]
[null,null,null,12,264,{"$error":"#VALUE!"},{"$error":"#DIV/0!"},0,0,{"$error":"#DIV/0!"},0,0,{"$f":"IF(OR(Hiteladatok!$I$8=0,E270>$B$4),0,IF(D270>Hiteladatok!$U$40,0,$B$14+IF(Hiteladatok!$I$10=Hiteladatok!$N$33,$B$15,0)))","v":0},0,{"$error":"#DIV/0!"},null,{"$error":"#DIV/0!"},{"$error":"#DIV/0!"},{"$error":"#DIV/0!"},0,{"$error":"#DIV/0!"},0,{"$error":"#DIV/0!"},null,22,{"$f":"INT((E270-1)/Hiteladatok!$U$29)+1","v":3},{"$error":"#DIV/0!"},{"$error":"#DIV/0!"},{"$error":"#DIV/0!"},0,{"$error":"#DIV/0!"},null,{"$error":"#DIV/0!"},{"$error":"#DIV/0!"},{"$error":"#DIV/0!"},0,{"$error":"#DIV/0!"}]
[null,null,null,1,265,{"$error":"#VALUE!"},{"$error":"#DIV/0!"},0,0,{"$error":"#DIV/0!"},0,0,{"$f":"IF(OR(Hiteladatok!$I$8=0,E271>$B$4),0,IF(D271>Hiteladatok!$U$40,0,$B$14+IF(Hiteladatok!$I$10=Hiteladatok!$N$33,$B$15,0)))","v":0},0,{"$error":"#DIV/0!"},null,{"$error":"#DIV/0!"},{"$error":"#DIV/0!"},{"$error":"#DIV/0!"},0,{"$error":"#DIV/0!"},0,{"$error":"#DIV/0!"},null,23,{"$f":"INT((E271-1)/Hiteladatok!$U$29)+1","v":3},{"$error":"#DIV/0!"},{"$error":"#DIV/0!"},{"$error":"#DIV/0!"},0,{"$error":"#DIV/0!"},null,{"$error":"#DIV/0!"},{"$error":"#DIV/0!"},{"$error":"#DIV/0!"},0,{"$error":"#DIV/0!"}]
[null,null,null,12,266,{"$error":"#VALUE!"},{"$error":"#DIV/0!"},0,0,{"$error":"#DIV/0!"},0,0,{"$f":"IF(OR(Hiteladatok!$I$8=0,E272>$B$4),0,IF(D272>Hiteladatok!$U$40,0,$B$14+IF(Hiteladatok!$I$10=Hiteladatok!$N$33,$B$15,0)))","v":0},0,{"$error":"#DIV/0!"},null,{"$error":"#DIV/0!"},{"$error":"#DIV/0!"},{"$error":"#DIV/0!"},0,{"$error":"#DIV/0!"},0,{"$error":"#DIV/0!"},null,23,{"$f":"INT((E272-1)/Hiteladatok!$U$29)+1","v":3},{"$error":"#DIV/0!"},{"$error":"#DIV/0!"},{"$error":"#DIV/0!"},0,{"$error":"#DIV/0!"},null,{"$error":"#DIV/0!"},{"$error":"#DIV/0!"},{"$error":"#DIV/0!"},0,{"$error":"#DIV/0!"}]
[null,null,null,12,267,{"$error":"#VALUE!"},{"$error":"#DIV/0!"},0,0,{"$error":"#DIV/0!"},0,0,{"$f":"IF(OR(Hiteladatok!$I$8=0,E273>$B$4),0,IF(D273>Hiteladatok!$U$40,0,$B$14+IF(Hiteladatok!$I$10=Hiteladatok!$N$33,$B$15,0)))","v":0},0,{"$error":"#DIV/0!"},null,{"$error":"#DIV/0!"},{"$error":"#DIV/0!"},{"$error":"#DIV/0!"},0,{"$error":"#DIV/0!"},0,{"$error":"#DIV/0!"},null,23,{"$f":"INT((E273-1)/Hiteladatok!$U$29)+1","v":3},{"$error":"#DIV/0!"},{"$error":"#DIV/0!"},{"$error":"#DIV/0!"},0,{"$error":"#DIV/0!"},null,{"$error":"#DIV/0!"},{"$error":"#DIV/0!"},{"$error":"#DIV/0!"},0,{"$error":"#DIV/0!"}]
[null,null,null,4,268,{"$error":"#VALUE!"},{"$error":"#DIV/0!"},0,0,{"$error":"#DIV/0!"},0,0,{"$f":"IF(OR(Hiteladatok!$I$8=0,E274>$B$4),0,IF(D274>Hiteladatok!$U$40,0,$B$14+IF(Hiteladatok!$I$10=Hiteladatok!$N$33,$B$15,0)))","v":0},0,{"$error":"#DIV/0!"},null,{"$error":"#DIV/0!"},{"$error":"#DIV/0!"},{"$error":"#DIV/0!"},0,{"$error":"#DIV/0!"},0,{"$error":"#DIV/0!"},null,23,{"$f":"INT((E274-1)/Hiteladatok!$U$29)+1","v":3},{"$error":"#DIV/0!"},{"$error":"#DIV/0!"},{"$error":"#DIV/0!"},0,{"$error":"#DIV/0!"},null,{"$error":"#DIV/0!"},{"$error":"#DIV/0!"},{"$error":"#DIV/0!"},0,{"$error":"#DIV/0!"}]
[null,null,null,12,269,{"$error":"#VALUE!"},{"$error":"#DIV/0!"},0,0,{"$error":"#DIV/0!"},0,0,{"$f":"IF(OR(Hiteladatok!$I$8=0,E275>$B$4),0,IF(D275>Hiteladatok!$U$40,0,$B$14+IF(Hiteladatok!$I$10=Hiteladatok!$N$33,$B$15,0)))","v":0},0,{"$error":"#DIV/0!"},null,{"$error":"#DIV/0!"},{"$error":"#DIV/0!"},{"$error":"#DIV/0!"},0,{"$error":"#DIV/0!"},0,{"$error":"#DIV/0!"},null,23,{"$f":"INT((E275-1)/Hiteladatok!$U$29)+1","v":3},{"$error":"#DIV/0!"},{"$error":"#DIV/0!"},{"$error":"#DIV/0!"},0,{"$error":"#DIV/0!"},null,{"$error":"#DIV/0!"},{"$error":"#DIV/0!"},{"$error":"#DIV/0!"},0,{"$error":"#DIV/0!"}]
[null,null,null,12,270,{"$error":"#VALUE!"},{"$error":"#DIV/0!"},0,0,{"$error":"#DIV/0!"},0,0,{"$f":"IF(OR(Hiteladatok!$I$8=0,E276>$B$4),0,IF(D276>Hiteladatok!$U$40,0,$B$14+IF(Hiteladatok!$I$10=Hiteladatok!$N$33,$B$15,0)))","v":0},0,{"$error":"#DIV/0!"},null,{"$error":"#DIV/0!"},{"$error":"#DIV/0!"},{"$error":"#DIV/0!"},0,{"$error":"#DIV/0!"},0,{"$error":"#DIV/0!"},null,{"$f":"Y264+1","v":23},{"$f":"INT((E276-1)/Hiteladatok!$U$29)+1","v":3},{"$error":"#DIV/0!"},{"$error":"#DIV/0!"},{"$error":"#DIV/0!"},0,{"$error":"#DIV/0!"},null,{"$error":"#DIV/0!"},{"$error":"#DIV/0!"},{"$error":"#DIV/0!"},0,{"$error":"#DIV/0!"}]
[null,null,null,2,271,{"$error":"#VALUE!"},{"$error":"#DIV/0!"},0,0,{"$error":"#DIV/0!"},0,0,{"$f":"IF(OR(Hiteladatok!$I$8=0,E277>$B$4),0,IF(D277>Hiteladatok!$U$40,0,$B$14+IF(Hiteladatok!$I$10=Hiteladatok!$N$33,$B$15,0)))","v":0},0,{"$error":"#DIV/0!"},null,{"$error":"#DIV/0!"},{"$error":"#DIV/0!"},{"$error":"#DIV/0!"},0,{"$error":"#DIV/0!"},0,{"$error":"#DIV/0!"},null,23,{"$f":"INT((E277-1)/Hiteladatok!$U$29)+1","v":3},{"$error":"#DIV/0!"},{"$error":"#DIV/0!"},{"$error":"#DIV/0!"},0,{"$error":"#DIV/0!"},null,{"$error":"#DIV/0!"},{"$error":"#DIV/0!"},{"$error":"#DIV/0!"},0,{"$error":"#DIV/0!"}]
[null,null,null,12,272,{"$error":"#VALUE!"},{"$error":"#DIV/0!"},0,0,{"$error":"#DIV/0!"},0,0,{"$f":"IF(OR(Hiteladatok!$I$8=0,E278>$B$4),0,IF(D278>Hiteladatok!$U$40,0,$B$14+IF(Hiteladatok!$I$10=Hiteladatok!$N$33,$B$15,0)))","v":0},0,{"$error":"#DIV/0!"},null,{"$error":"#DIV/0!"},{"$error":"#DIV/0!"},{"$error":"#DIV/0!"},0,{"$error":"#DIV/0!"},0,{"$error":"#DIV/0!"},null,23,{"$f":"INT((E278-1)/Hiteladatok!$U$29)+1","v":3},{"$error":"#DIV/0!"},{"$error":"#DIV/0!"},{"$error":"#DIV/0!"},0,{"$error":"#DIV/0!"},null,{"$error":"#DIV/0!"},{"$error":"#DIV/0!"},{"$error":"#DIV/0!"},0,{"$error":"#DIV/0!"}]
[null,null,null,12,273,{"$error":"#VALUE!"},{"$error":"#DIV/0!"},0,0,{"$error":"#DIV/0!"},0,{"$f":"IF(E279>$B$4,0,$C$13)","v":0},{"$f":"IF(OR(Hiteladatok!$I$8=0,E279>$B$4),0,IF(D279>Hiteladatok!$U$40,0,$B$14+IF(Hiteladatok!$I$10=Hiteladatok!$N$33,$B$15,0)))","v":0},0,{"$error":"#DIV/0!"},null,{"$error":"#DIV/0!"},{"$error":"#DIV/0!"},{"$error":"#DIV/0!"},0,{"$error":"#DIV/0!"},0,{"$error":"#DIV/0!"},null,23,{"$f":"INT((E279-1)/Hiteladatok!$U$29)+1","v":3},{"$error":"#DIV/0!"},{"$error":"#DIV/0!"},{"$error":"#DIV/0!"},0,{"$error":"#DIV/0!"},null,{"$error":"#DIV/0!"},{"$error":"#DIV/0!"},{"$error":"#DIV/0!"},0,{"$error":"#DIV/0!"}]
[null,null,null,4,274,{"$error":"#VALUE!"},{"$error":"#DIV/0!"},0,0,{"$error":"#DIV/0!"},0,0,{"$f":"IF(OR(Hiteladatok!$I$8=0,E280>$B$4),0,IF(D280>Hiteladatok!$U$40,0,$B$14+IF(Hiteladatok!$I$10=Hiteladatok!$N$33,$B$15,0)))","v":0},0,{"$error":"#DIV/0!"},null,{"$error":"#DIV/0!"},{"$error":"#DIV/0!"},{"$error":"#DIV/0!"},0,{"$error":"#DIV/0!"},0,{"$error":"#DIV/0!"},null,23,{"$f":"INT((E280-1)/Hiteladatok!$U$29)+1","v":3},{"$error":"#DIV/0!"},{"$error":"#DIV/0!"},{"$error":"#DIV/0!"},0,{"$error":"#DIV/0!"},null,{"$error":"#DIV/0!"},{"$error":"#DIV/0!"},{"$error":"#DIV/0!"},0,{"$error":"#DIV/0!"}]
[null,null,null,12,275,{"$error":"#VALUE!"},{"$error":"#DIV/0!"},0,0,{"$error":"#DIV/0!"},0,0,{"$f":"IF(OR(Hiteladatok!$I$8=0,E281>$B$4),0,IF(D281>Hiteladatok!$U$40,0,$B$14+IF(Hiteladatok!$I$10=Hiteladatok!$N$33,$B$15,0)))","v":0},0,{"$error":"#DIV/0!"},null,{"$error":"#DIV/0!"},{"$error":"#DIV/0!"},{"$error":"#DIV/0!"},0,{"$error":"#DIV/0!"},0,{"$error":"#DIV/0!"},null,23,{"$f":"INT((E281-1)/Hiteladatok!$U$29)+1","v":3},{"$error":"#DIV/0!"},{"$error":"#DIV/0!"},{"$error":"#DIV/0!"},0,{"$error":"#DIV/0!"},null,{"$error":"#DIV/0!"},{"$error":"#DIV/0!"},{"$error":"#DIV/0!"},0,{"$error":"#DIV/0!"}]
[null,null,null,12,276,{"$error":"#VALUE!"},{"$error":"#DIV/0!"},0,0,{"$error":"#DIV/0!"},0,0,{"$f":"IF(OR(Hiteladatok!$I$8=0,E282>$B$4),0,IF(D282>Hiteladatok!$U$40,0,$B$14+IF(Hiteladatok!$I$10=Hiteladatok!$N$33,$B$15,0)))","v":0},0,{"$error":"#DIV/0!"},null,{"$error":"#DIV/0!"},{"$error":"#DIV/0!"},{"$error":"#DIV/0!"},0,{"$error":"#DIV/0!"},0,{"$error":"#DIV/0!"},null,23,{"$f":"INT((E282-1)/Hiteladatok!$U$29)+1","v":3},{"$error":"#DIV/0!"},{"$error":"#DIV/0!"},{"$error":"#DIV/0!"},0,{"$error":"#DIV/0!"},null,{"$error":"#DIV/0!"},{"$error":"#DIV/0!"},{"$error":"#DIV/0!"},0,{"$error":"#DIV/0!"}]
[null,null,null,1,277,{"$error":"#VALUE!"},{"$error":"#DIV/0!"},0,0,{"$error":"#DIV/0!"},0,0,{"$f":"IF(OR(Hiteladatok!$I$8=0,E283>$B$4),0,IF(D283>Hiteladatok!$U$40,0,$B$14+IF(Hiteladatok!$I$10=Hiteladatok!$N$33,$B$15,0)))","v":0},0,{"$error":"#DIV/0!"},null,{"$error":"#DIV/0!"},{"$error":"#DIV/0!"},{"$error":"#DIV/0!"},0,{"$error":"#DIV/0!"},0,{"$error":"#DIV/0!"},null,24,{"$f":"INT((E283-1)/Hiteladatok!$U$29)+1","v":3},{"$error":"#DIV/0!"},{"$error":"#DIV/0!"},{"$error":"#DIV/0!"},0,{"$error":"#DIV/0!"},null,{"$error":"#DIV/0!"},{"$error":"#DIV/0!"},{"$error":"#DIV/0!"},0,{"$error":"#DIV/0!"}]
[null,null,null,12,278,{"$error":"#VALUE!"},{"$error":"#DIV/0!"},0,0,{"$error":"#DIV/0!"},0,0,{"$f":"IF(OR(Hiteladatok!$I$8=0,E284>$B$4),0,IF(D284>Hiteladatok!$U$40,0,$B$14+IF(Hiteladatok!$I$10=Hiteladatok!$N$33,$B$15,0)))","v":0},0,{"$error":"#DIV/0!"},null,{"$error":"#DIV/0!"},{"$error":"#DIV/0!"},{"$error":"#DIV/0!"},0,{"$error":"#DIV/0!"},0,{"$error":"#DIV/0!"},null,24,{"$f":"INT((E284-1)/Hiteladatok!$U$29)+1","v":3},{"$error":"#DIV/0!"},{"$error":"#DIV/0!"},{"$error":"#DIV/0!"},0,{"$error":"#DIV/0!"},null,{"$error":"#DIV/0!"},{"$error":"#DIV/0!"},{"$error":"#DIV/0!"},0,{"$error":"#DIV/0!"}]
[null,null,null,12,279,{"$error":"#VALUE!"},{"$error":"#DIV/0!"},0,0,{"$error":"#DIV/0!"},0,0,{"$f":"IF(OR(Hiteladatok!$I$8=0,E285>$B$4),0,IF(D285>Hiteladatok!$U$40,0,$B$14+IF(Hiteladatok!$I$10=Hiteladatok!$N$33,$B$15,0)))","v":0},0,{"$error":"#DIV/0!"},null,{"$error":"#DIV/0!"},{"$error":"#DIV/0!"},{"$error":"#DIV/0!"},0,{"$error":"#DIV/0!"},0,{"$error":"#DIV/0!"},null,24,{"$f":"INT((E285-1)/Hiteladatok!$U$29)+1","v":3},{"$error":"#DIV/0!"},{"$error":"#DIV/0!"},{"$error":"#DIV/0!"},0,{"$error":"#DIV/0!"},null,{"$error":"#DIV/0!"},{"$error":"#DIV/0!"},{"$error":"#DIV/0!"},0,{"$error":"#DIV/0!"}]
[null,null,null,4,280,{"$error":"#VALUE!"},{"$error":"#DIV/0!"},0,0,{"$error":"#DIV/0!"},0,0,{"$f":"IF(OR(Hiteladatok!$I$8=0,E286>$B$4),0,IF(D286>Hiteladatok!$U$40,0,$B$14+IF(Hiteladatok!$I$10=Hiteladatok!$N$33,$B$15,0)))","v":0},0,{"$error":"#DIV/0!"},null,{"$error":"#DIV/0!"},{"$error":"#DIV/0!"},{"$error":"#DIV/0!"},0,{"$error":"#DIV/0!"},0,{"$error":"#DIV/0!"},null,24,{"$f":"INT((E286-1)/Hiteladatok!$U$29)+1","v":3},{"$error":"#DIV/0!"},{"$error":"#DIV/0!"},{"$error":"#DIV/0!"},0,{"$error":"#DIV/0!"},null,{"$error":"#DIV/0!"},{"$error":"#DIV/0!"},{"$error":"#DIV/0!"},0,{"$error":"#DIV/0!"}]
[null,null,null,12,281,{"$error":"#VALUE!"},{"$error":"#DIV/0!"},0,0,{"$error":"#DIV/0!"},0,0,{"$f":"IF(OR(Hiteladatok!$I$8=0,E287>$B$4),0,IF(D287>Hiteladatok!$U$40,0,$B$14+IF(Hiteladatok!$I$10=Hiteladatok!$N$33,$B$15,0)))","v":0},0,{"$error":"#DIV/0!"},null,{"$error":"#DIV/0!"},{"$error":"#DIV/0!"},{"$error":"#DIV/0!"},0,{"$error":"#DIV/0!"},0,{"$error":"#DIV/0!"},null,24,{"$f":"INT((E287-1)/Hiteladatok!$U$29)+1","v":3},{"$error":"#DIV/0!"},{"$error":"#DIV/0!"},{"$error":"#DIV/0!"},0,{"$error":"#DIV/0!"},null,{"$error":"#DIV/0!"},{"$error":"#DIV/0!"},{"$error":"#DIV/0!"},0,{"$error":"#DIV/0!"}]
[null,null,null,12,282,{"$error":"#VALUE!"},{"$error":"#DIV/0!"},0,0,{"$error":"#DIV/0!"},0,0,{"$f":"IF(OR(Hiteladatok!$I$8=0,E288>$B$4),0,IF(D288>Hiteladatok!$U$40,0,$B$14+IF(Hiteladatok!$I$10=Hiteladatok!$N$33,$B$15,0)))","v":0},0,{"$error":"#DIV/0!"},null,{"$error":"#DIV/0!"},{"$error":"#DIV/0!"},{"$error":"#DIV/0!"},0,{"$error":"#DIV/0!"},0,{"$error":"#DIV/0!"},null,24,{"$f":"INT((E288-1)/Hiteladatok!$U$29)+1","v":3},{"$error":"#DIV/0!"},{"$error":"#DIV/0!"},{"$error":"#DIV/0!"},0,{"$error":"#DIV/0!"},null,{"$error":"#DIV/0!"},{"$error":"#DIV/0!"},{"$error":"#DIV/0!"},0,{"$error":"#DIV/0!"}]
[null,null,null,2,283,{"$error":"#VALUE!"},{"$error":"#DIV/0!"},0,0,{"$error":"#DIV/0!"},0,0,{"$f":"IF(OR(Hiteladatok!$I$8=0,E289>$B$4),0,IF(D289>Hiteladatok!$U$40,0,$B$14+IF(Hiteladatok!$I$10=Hiteladatok!$N$33,$B$15,0)))","v":0},0,{"$error":"#DIV/0!"},null,{"$error":"#DIV/0!"},{"$error":"#DIV/0!"},{"$error":"#DIV/0!"},0,{"$error":"#DIV/0!"},0,{"$error":"#DIV/0!"},null,24,{"$f":"INT((E289-1)/Hiteladatok!$U$29)+1","v":3},{"$error":"#DIV/0!"},{"$error":"#DIV/0!"},{"$error":"#DIV/0!"},0,{"$error":"#DIV/0!"},null,{"$error":"#DIV/0!"},{"$error":"#DIV/0!"},{"$error":"#DIV/0!"},0,{"$error":"#DIV/0!"}]
[null,null,null,12,284,{"$error":"#VALUE!"},{"$error":"#DIV/0!"},0,0,{"$error":"#DIV/0!"},0,0,{"$f":"IF(OR(Hiteladatok!$I$8=0,E290>$B$4),0,IF(D290>Hiteladatok!$U$40,0,$B$14+IF(Hiteladatok!$I$10=Hiteladatok!$N$33,$B$15,0)))","v":0},0,{"$error":"#DIV/0!"},null,{"$error":"#DIV/0!"},{"$error":"#DIV/0!"},{"$error":"#DIV/0!"},0,{"$error":"#DIV/0!"},0,{"$error":"#DIV/0!"},null,24,{"$f":"INT((E290-1)/Hiteladatok!$U$29)+1","v":3},{"$error":"#DIV/0!"},{"$error":"#DIV/0!"},{"$error":"#DIV/0!"},0,{"$error":"#DIV/0!"},null,{"$error":"#DIV/0!"},{"$error":"#DIV/0!"},{"$error":"#DIV/0!"},0,{"$error":"#DIV/0!"}]
[null,null,null,12,285,{"$error":"#VALUE!"},{"$error":"#DIV/0!"},0,0,{"$error":"#DIV/0!"},0,0,{"$f":"IF(OR(Hiteladatok!$I$8=0,E291>$B$4),0,IF(D291>Hiteladatok!$U$40,0,$B$14+IF(Hiteladatok!$I$10=Hiteladatok!$N$33,$B$15,0)))","v":0},0,{"$error":"#DIV/0!"},null,{"$error":"#DIV/0!"},{"$error":"#DIV/0!"},{"$error":"#DIV/0!"},0,{"$error":"#DIV/0!"},0,{"$error":"#DIV/0!"},null,24,{"$f":"INT((E291-1)/Hiteladatok!$U$29)+1","v":3},{"$error":"#DIV/0!"},{"$error":"#DIV/0!"},{"$error":"#DIV/0!"},0,{"$error":"#DIV/0!"},null,{"$error":"#DIV/0!"},{"$error":"#DIV/0!"},{"$error":"#DIV/0!"},0,{"$error":"#DIV/0!"}]
[null,null,null,4,286,{"$error":"#VALUE!"},{"$error":"#DIV/0!"},0,0,{"$error":"#DIV/0!"},0,0,{"$f":"IF(OR(Hiteladatok!$I$8=0,E292>$B$4),0,IF(D292>Hiteladatok!$U$40,0,$B$14+IF(Hiteladatok!$I$10=Hiteladatok!$N$33,$B$15,0)))","v":0},0,{"$error":"#DIV/0!"},null,{"$error":"#DIV/0!"},{"$error":"#DIV/0!"},{"$error":"#DIV/0!"},0,{"$error":"#DIV/0!"},0,{"$error":"#DIV/0!"},null,24,{"$f":"INT((E292-1)/Hiteladatok!$U$29)+1","v":3},{"$error":"#DIV/0!"},{"$error":"#DIV/0!"},{"$error":"#DIV/0!"},0,{"$error":"#DIV/0!"},null,{"$error":"#DIV/0!"},{"$error":"#DIV/0!"},{"$error":"#DIV/0!"},0,{"$error":"#DIV/0!"}]
[null,null,null,12,287,{"$error":"#VALUE!"},{"$error":"#DIV/0!"},0,0,{"$error":"#DIV/0!"},0,0,{"$f":"IF(OR(Hiteladatok!$I$8=0,E293>$B$4),0,IF(D293>Hiteladatok!$U$40,0,$B$14+IF(Hiteladatok!$I$10=Hiteladatok!$N$33,$B$15,0)))","v":0},0,{"$error":"#DIV/0!"},null,{"$error":"#DIV/0!"},{"$error":"#DIV/0!"},{"$error":"#DIV/0!"},0,{"$error":"#DIV/0!"},0,{"$error":"#DIV/0!"},null,24,{"$f":"INT((E293-1)/Hiteladatok!$U$29)+1","v":3},{"$error":"#DIV/0!"},{"$error":"#DIV/0!"},{"$error":"#DIV/0!"},0,{"$error":"#DIV/0!"},null,{"$error":"#DIV/0!"},{"$error":"#DIV/0!"},{"$error":"#DIV/0!"},0,{"$error":"#DIV/0!"}]
[null,null,null,12,288,{"$error":"#VALUE!"},{"$error":"#DIV/0!"},0,0,{"$error":"#DIV/0!"},0,0,{"$f":"IF(OR(Hiteladatok!$I$8=0,E294>$B$4),0,IF(D294>Hiteladatok!$U$40,0,$B$14+IF(Hiteladatok!$I$10=Hiteladatok!$N$33,$B$15,0)))","v":0},0,{"$error":"#DIV/0!"},null,{"$error":"#DIV/0!"},{"$error":"#DIV/0!"},{"$error":"#DIV/0!"},0,{"$error":"#DIV/0!"},0,{"$error":"#DIV/0!"},null,24,{"$f":"INT((E294-1)/Hiteladatok!$U$29)+1","v":3},{"$error":"#DIV/0!"},{"$error":"#DIV/0!"},{"$error":"#DIV/0!"},0,{"$error":"#DIV/0!"},null,{"$error":"#DIV/0!"},{"$error":"#DIV/0!"},{"$error":"#DIV/0!"},0,{"$error":"#DIV/0!"}]
[null,null,null,1,289,{"$error":"#VALUE!"},{"$error":"#DIV/0!"},0,0,{"$error":"#DIV/0!"},0,0,{"$f":"IF(OR(Hiteladatok!$I$8=0,E295>$B$4),0,IF(D295>Hiteladatok!$U$40,0,$B$14+IF(Hiteladatok!$I$10=Hiteladatok!$N$33,$B$15,0)))","v":0},0,{"$error":"#DIV/0!"},null,{"$error":"#DIV/0!"},{"$error":"#DIV/0!"},{"$error":"#DIV/0!"},0,{"$error":"#DIV/0!"},0,{"$error":"#DIV/0!"},null,25,{"$f":"INT((E295-1)/Hiteladatok!$U$29)+1","v":3},{"$error":"#DIV/0!"},{"$error":"#DIV/0!"},{"$error":"#DIV/0!"},0,{"$error":"#DIV/0!"},null,{"$error":"#DIV/0!"},{"$error":"#DIV/0!"},{"$error":"#DIV/0!"},0,{"$error":"#DIV/0!"}]
[null,null,null,12,290,{"$error":"#VALUE!"},{"$error":"#DIV/0!"},0,0,{"$error":"#DIV/0!"},0,0,{"$f":"IF(OR(Hiteladatok!$I$8=0,E296>$B$4),0,IF(D296>Hiteladatok!$U$40,0,$B$14+IF(Hiteladatok!$I$10=Hiteladatok!$N$33,$B$15,0)))","v":0},0,{"$error":"#DIV/0!"},null,{"$error":"#DIV/0!"},{"$error":"#DIV/0!"},{"$error":"#DIV/0!"},0,{"$error":"#DIV/0!"},0,{"$error":"#DIV/0!"},null,25,{"$f":"INT((E296-1)/Hiteladatok!$U$29)+1","v":3},{"$error":"#DIV/0!"},{"$error":"#DIV/0!"},{"$error":"#DIV/0!"},0,{"$error":"#DIV/0!"},null,{"$error":"#DIV/0!"},{"$error":"#DIV/0!"},{"$error":"#DIV/0!"},0,{"$error":"#DIV/0!"}]
[null,null,null,12,291,{"$error":"#VALUE!"},{"$error":"#DIV/0!"},0,0,{"$error":"#DIV/0!"},0,0,{"$f":"IF(OR(Hiteladatok!$I$8=0,E297>$B$4),0,IF(D297>Hiteladatok!$U$40,0,$B$14+IF(Hiteladatok!$I$10=Hiteladatok!$N$33,$B$15,0)))","v":0},0,{"$error":"#DIV/0!"},null,{"$error":"#DIV/0!"},{"$error":"#DIV/0!"},{"$error":"#DIV/0!"},0,{"$error":"#DIV/0!"},0,{"$error":"#DIV/0!"},null,25,{"$f":"INT((E297-1)/Hiteladatok!$U$29)+1","v":3},{"$error":"#DIV/0!"},{"$error":"#DIV/0!"},{"$error":"#DIV/0!"},0,{"$error":"#DIV/0!"},null,{"$error":"#DIV/0!"},{"$error":"#DIV/0!"},{"$error":"#DIV/0!"},0,{"$error":"#DIV/0!"}]
[null,null,null,4,292,{"$error":"#VALUE!"},{"$error":"#DIV/0!"},0,0,{"$error":"#DIV/0!"},0,0,{"$f":"IF(OR(Hiteladatok!$I$8=0,E298>$B$4),0,IF(D298>Hiteladatok!$U$40,0,$B$14+IF(Hiteladatok!$I$10=Hiteladatok!$N$33,$B$15,0)))","v":0},0,{"$error":"#DIV/0!"},null,{"$error":"#DIV/0!"},{"$error":"#DIV/0!"},{"$error":"#DIV/0!"},0,{"$error":"#DIV/0!"},0,{"$error":"#DIV/0!"},null,25,{"$f":"INT((E298-1)/Hiteladatok!$U$29)+1","v":3},{"$error":"#DIV/0!"},{"$error":"#DIV/0!"},{"$error":"#DIV/0!"},0,{"$error":"#DIV/0!"},null,{"$error":"#DIV/0!"},{"$error":"#DIV/0!"},{"$error":"#DIV/0!"},0,{"$error":"#DIV/0!"}]
[null,null,null,12,293,{"$error":"#VALUE!"},{"$error":"#DIV/0!"},0,0,{"$error":"#DIV/0!"},0,0,{"$f":"IF(OR(Hiteladatok!$I$8=0,E299>$B$4),0,IF(D299>Hiteladatok!$U$40,0,$B$14+IF(Hiteladatok!$I$10=Hiteladatok!$N$33,$B$15,0)))","v":0},0,{"$error":"#DIV/0!"},null,{"$error":"#DIV/0!"},{"$error":"#DIV/0!"},{"$error":"#DIV/0!"},0,{"$error":"#DIV/0!"},0,{"$error":"#DIV/0!"},null,25,{"$f":"INT((E299-1)/Hiteladatok!$U$29)+1","v":3},{"$error":"#DIV/0!"},{"$error":"#DIV/0!"},{"$error":"#DIV/0!"},0,{"$error":"#DIV/0!"},null,{"$error":"#DIV/0!"},{"$error":"#DIV/0!"},{"$error":"#DIV/0!"},0,{"$error":"#DIV/0!"}]
[null,null,null,12,294,{"$error":"#VALUE!"},{"$error":"#DIV/0!"},0,0,{"$error":"#DIV/0!"},0,0,{"$f":"IF(OR(Hiteladatok!$I$8=0,E300>$B$4),0,IF(D300>Hiteladatok!$U$40,0,$B$14+IF(Hiteladatok!$I$10=Hiteladatok!$N$33,$B$15,0)))","v":0},0,{"$error":"#DIV/0!"},null,{"$error":"#DIV/0!"},{"$error":"#DIV/0!"},{"$error":"#DIV/0!"},0,{"$error":"#DIV/0!"},0,{"$error":"#DIV/0!"},null,25,{"$f":"INT((E300-1)/Hiteladatok!$U$29)+1","v":3},{"$error":"#DIV/0!"},{"$error":"#DIV/0!"},{"$error":"#DIV/0!"},0,{"$error":"#DIV/0!"},null,{"$error":"#DIV/0!"},{"$error":"#DIV/0!"},{"$error":"#DIV/0!"},0,{"$error":"#DIV/0!"}]
[null,null,null,2,295,{"$error":"#VALUE!"},{"$error":"#DIV/0!"},0,0,{"$error":"#DIV/0!"},0,0,{"$f":"IF(OR(Hiteladatok!$I$8=0,E301>$B$4),0,IF(D301>Hiteladatok!$U$40,0,$B$14+IF(Hiteladatok!$I$10=Hiteladatok!$N$33,$B$15,0)))","v":0},0,{"$error":"#DIV/0!"},null,{"$error":"#DIV/0!"},{"$error":"#DIV/0!"},{"$error":"#DIV/0!"},0,{"$error":"#DIV/0!"},0,{"$error":"#DIV/0!"},null,25,{"$f":"INT((E301-1)/Hiteladatok!$U$29)+1","v":3},{"$error":"#DIV/0!"},{"$error":"#DIV/0!"},{"$error":"#DIV/0!"},0,{"$error":"#DIV/0!"},null,{"$error":"#DIV/0!"},{"$error":"#DIV/0!"},{"$error":"#DIV/0!"},0,{"$error":"#DIV/0!"}]
[null,null,null,12,296,{"$error":"#VALUE!"},{"$error":"#DIV/0!"},0,0,{"$error":"#DIV/0!"},0,0,{"$f":"IF(OR(Hiteladatok!$I$8=0,E302>$B$4),0,IF(D302>Hiteladatok!$U$40,0,$B$14+IF(Hiteladatok!$I$10=Hiteladatok!$N$33,$B$15,0)))","v":0},0,{"$error":"#DIV/0!"},null,{"$error":"#DIV/0!"},{"$error":"#DIV/0!"},{"$error":"#DIV/0!"},0,{"$error":"#DIV/0!"},0,{"$error":"#DIV/0!"},null,25,{"$f":"INT((E302-1)/Hiteladatok!$U$29)+1","v":3},{"$error":"#DIV/0!"},{"$error":"#DIV/0!"},{"$error":"#DIV/0!"},0,{"$error":"#DIV/0!"},null,{"$error":"#DIV/0!"},{"$error":"#DIV/0!"},{"$error":"#DIV/0!"},0,{"$error":"#DIV/0!"}]
[null,null,null,12,297,{"$error":"#VALUE!"},{"$error":"#DIV/0!"},0,0,{"$error":"#DIV/0!"},0,0,{"$f":"IF(OR(Hiteladatok!$I$8=0,E303>$B$4),0,IF(D303>Hiteladatok!$U$40,0,$B$14+IF(Hiteladatok!$I$10=Hiteladatok!$N$33,$B$15,0)))","v":0},0,{"$error":"#DIV/0!"},null,{"$error":"#DIV/0!"},{"$error":"#DIV/0!"},{"$error":"#DIV/0!"},0,{"$error":"#DIV/0!"},0,{"$error":"#DIV/0!"},null,25,{"$f":"INT((E303-1)/Hiteladatok!$U$29)+1","v":3},{"$error":"#DIV/0!"},{"$error":"#DIV/0!"},{"$error":"#DIV/0!"},0,{"$error":"#DIV/0!"},null,{"$error":"#DIV/0!"},{"$error":"#DIV/0!"},{"$error":"#DIV/0!"},0,{"$error":"#DIV/0!"}]
[null,null,null,4,298,{"$error":"#VALUE!"},{"$error":"#DIV/0!"},0,0,{"$error":"#DIV/0!"},0,0,{"$f":"IF(OR(Hiteladatok!$I$8=0,E304>$B$4),0,IF(D304>Hiteladatok!$U$40,0,$B$14+IF(Hiteladatok!$I$10=Hiteladatok!$N$33,$B$15,0)))","v":0},0,{"$error":"#DIV/0!"},null,{"$error":"#DIV/0!"},{"$error":"#DIV/0!"},{"$error":"#DIV/0!"},0,{"$error":"#DIV/0!"},0,{"$error":"#DIV/0!"},null,25,{"$f":"INT((E304-1)/Hiteladatok!$U$29)+1","v":3},{"$error":"#DIV/0!"},{"$error":"#DIV/0!"},{"$error":"#DIV/0!"},0,{"$error":"#DIV/0!"},null,{"$error":"#DIV/0!"},{"$error":"#DIV/0!"},{"$error":"#DIV/0!"},0,{"$error":"#DIV/0!"}]
[null,null,null,12,299,{"$error":"#VALUE!"},{"$error":"#DIV/0!"},0,0,{"$error":"#DIV/0!"},0,0,{"$f":"IF(OR(Hiteladatok!$I$8=0,E305>$B$4),0,IF(D305>Hiteladatok!$U$40,0,$B$14+IF(Hiteladatok!$I$10=Hiteladatok!$N$33,$B$15,0)))","v":0},0,{"$error":"#DIV/0!"},null,{"$error":"#DIV/0!"},{"$error":"#DIV/0!"},{"$error":"#DIV/0!"},0,{"$error":"#DIV/0!"},0,{"$error":"#DIV/0!"},null,25,{"$f":"INT((E305-1)/Hiteladatok!$U$29)+1","v":3},{"$error":"#DIV/0!"},{"$error":"#DIV/0!"},{"$error":"#DIV/0!"},0,{"$error":"#DIV/0!"},null,{"$error":"#DIV/0!"},{"$error":"#DIV/0!"},{"$error":"#DIV/0!"},0,{"$error":"#DIV/0!"}]
[null,null,null,12,300,{"$error":"#VALUE!"},{"$error":"#DIV/0!"},0,0,{"$error":"#DIV/0!"},0,0,{"$f":"IF(OR(Hiteladatok!$I$8=0,E306>$B$4),0,IF(D306>Hiteladatok!$U$40,0,$B$14+IF(Hiteladatok!$I$10=Hiteladatok!$N$33,$B$15,0)))","v":0},0,{"$error":"#DIV/0!"},null,{"$error":"#DIV/0!"},{"$error":"#DIV/0!"},{"$error":"#DIV/0!"},0,{"$error":"#DIV/0!"},0,{"$error":"#DIV/0!"},null,25,{"$f":"INT((E306-1)/Hiteladatok!$U$29)+1","v":3},{"$error":"#DIV/0!"},{"$error":"#DIV/0!"},{"$error":"#DIV/0!"},0,{"$error":"#DIV/0!"},null,{"$error":"#DIV/0!"},{"$error":"#DIV/0!"},{"$error":"#DIV/0!"},0,{"$error":"#DIV/0!"}]
[null,null,null,1,301,{"$error":"#VALUE!"},{"$error":"#DIV/0!"},0,0,{"$error":"#DIV/0!"},0,0,{"$f":"IF(OR(Hiteladatok!$I$8=0,E307>$B$4),0,IF(D307>Hiteladatok!$U$40,0,$B$14+IF(Hiteladatok!$I$10=Hiteladatok!$N$33,$B$15,0)))","v":0},0,{"$error":"#DIV/0!"},null,{"$error":"#DIV/0!"},{"$error":"#DIV/0!"},{"$error":"#DIV/0!"},0,{"$error":"#DIV/0!"},0,{"$error":"#DIV/0!"},null,26,{"$f":"INT((E307-1)/Hiteladatok!$U$29)+1","v":3},{"$error":"#DIV/0!"},{"$error":"#DIV/0!"},{"$error":"#DIV/0!"},0,{"$error":"#DIV/0!"},null,{"$error":"#DIV/0!"},{"$error":"#DIV/0!"},{"$error":"#DIV/0!"},0,{"$error":"#DIV/0!"}]
[null,null,null,12,302,{"$error":"#VALUE!"},{"$error":"#DIV/0!"},0,0,{"$error":"#DIV/0!"},0,0,{"$f":"IF(OR(Hiteladatok!$I$8=0,E308>$B$4),0,IF(D308>Hiteladatok!$U$40,0,$B$14+IF(Hiteladatok!$I$10=Hiteladatok!$N$33,$B$15,0)))","v":0},0,{"$error":"#DIV/0!"},null,{"$error":"#DIV/0!"},{"$error":"#DIV/0!"},{"$error":"#DIV/0!"},0,{"$error":"#DIV/0!"},0,{"$error":"#DIV/0!"},null,26,{"$f":"INT((E308-1)/Hiteladatok!$U$29)+1","v":3},{"$error":"#DIV/0!"},{"$error":"#DIV/0!"},{"$error":"#DIV/0!"},0,{"$error":"#DIV/0!"},null,{"$error":"#DIV/0!"},{"$error":"#DIV/0!"},{"$error":"#DIV/0!"},0,{"$error":"#DIV/0!"}]
[null,null,null,12,303,{"$error":"#VALUE!"},{"$error":"#DIV/0!"},0,0,{"$error":"#DIV/0!"},0,0,{"$f":"IF(OR(Hiteladatok!$I$8=0,E309>$B$4),0,IF(D309>Hiteladatok!$U$40,0,$B$14+IF(Hiteladatok!$I$10=Hiteladatok!$N$33,$B$15,0)))","v":0},0,{"$error":"#DIV/0!"},null,{"$error":"#DIV/0!"},{"$error":"#DIV/0!"},{"$error":"#DIV/0!"},0,{"$error":"#DIV/0!"},0,{"$error":"#DIV/0!"},null,26,{"$f":"INT((E309-1)/Hiteladatok!$U$29)+1","v":3},{"$error":"#DIV/0!"},{"$error":"#DIV/0!"},{"$error":"#DIV/0!"},0,{"$error":"#DIV/0!"},null,{"$error":"#DIV/0!"},{"$error":"#DIV/0!"},{"$error":"#DIV/0!"},0,{"$error":"#DIV/0!"}]
[null,null,null,4,304,{"$error":"#VALUE!"},{"$error":"#DIV/0!"},0,0,{"$error":"#DIV/0!"},0,0,{"$f":"IF(OR(Hiteladatok!$I$8=0,E310>$B$4),0,IF(D310>Hiteladatok!$U$40,0,$B$14+IF(Hiteladatok!$I$10=Hiteladatok!$N$33,$B$15,0)))","v":0},0,{"$error":"#DIV/0!"},null,{"$f":"U309","v":{"$error":"#DIV/0!"}},{"$error":"#DIV/0!"},{"$error":"#DIV/0!"},0,{"$error":"#DIV/0!"},0,{"$error":"#DIV/0!"},null,26,{"$f":"INT((E310-1)/Hiteladatok!$U$29)+1","v":3},{"$error":"#DIV/0!"},{"$error":"#DIV/0!"},{"$error":"#DIV/0!"},0,{"$error":"#DIV/0!"},null,{"$error":"#DIV/0!"},{"$error":"#DIV/0!"},{"$error":"#DIV/0!"},0,{"$error":"#DIV/0!"}]
[null,null,null,12,305,{"$error":"#VALUE!"},{"$error":"#DIV/0!"},0,0,{"$error":"#DIV/0!"},0,0,{"$f":"IF(OR(Hiteladatok!$I$8=0,E311>$B$4),0,IF(D311>Hiteladatok!$U$40,0,$B$14+IF(Hiteladatok!$I$10=Hiteladatok!$N$33,$B$15,0)))","v":0},0,{"$error":"#DIV/0!"},null,{"$error":"#DIV/0!"},{"$error":"#DIV/0!"},{"$error":"#DIV/0!"},0,{"$error":"#DIV/0!"},0,{"$error":"#DIV/0!"},null,26,{"$f":"INT((E311-1)/Hiteladatok!$U$29)+1","v":3},{"$error":"#DIV/0!"},{"$error":"#DIV/0!"},{"$error":"#DIV/0!"},0,{"$error":"#DIV/0!"},null,{"$error":"#DIV/0!"},{"$error":"#DIV/0!"},{"$error":"#DIV/0!"},0,{"$error":"#DIV/0!"}]
[null,null,null,12,306,{"$error":"#VALUE!"},{"$error":"#DIV/0!"},0,0,{"$error":"#DIV/0!"},0,0,{"$f":"IF(OR(Hiteladatok!$I$8=0,E312>$B$4),0,IF(D312>Hiteladatok!$U$40,0,$B$14+IF(Hiteladatok!$I$10=Hiteladatok!$N$33,$B$15,0)))","v":0},0,{"$error":"#DIV/0!"},null,{"$error":"#DIV/0!"},{"$error":"#DIV/0!"},{"$error":"#DIV/0!"},0,{"$error":"#DIV/0!"},0,{"$error":"#DIV/0!"},null,26,{"$f":"INT((E312-1)/Hiteladatok!$U$29)+1","v":3},{"$error":"#DIV/0!"},{"$error":"#DIV/0!"},{"$error":"#DIV/0!"},0,{"$error":"#DIV/0!"},null,{"$error":"#DIV/0!"},{"$error":"#DIV/0!"},{"$error":"#DIV/0!"},0,{"$error":"#DIV/0!"}]
[null,null,null,2,307,{"$error":"#VALUE!"},{"$error":"#DIV/0!"},0,0,{"$error":"#DIV/0!"},0,0,{"$f":"IF(OR(Hiteladatok!$I$8=0,E313>$B$4),0,IF(D313>Hiteladatok!$U$40,0,$B$14+IF(Hiteladatok!$I$10=Hiteladatok!$N$33,$B$15,0)))","v":0},0,{"$error":"#DIV/0!"},null,{"$error":"#DIV/0!"},{"$error":"#DIV/0!"},{"$error":"#DIV/0!"},0,{"$error":"#DIV/0!"},0,{"$error":"#DIV/0!"},null,26,{"$f":"INT((E313-1)/Hiteladatok!$U$29)+1","v":3},{"$error":"#DIV/0!"},{"$error":"#DIV/0!"},{"$error":"#DIV/0!"},0,{"$error":"#DIV/0!"},null,{"$error":"#DIV/0!"},{"$error":"#DIV/0!"},{"$error":"#DIV/0!"},0,{"$error":"#DIV/0!"}]
[null,null,null,12,308,{"$error":"#VALUE!"},{"$error":"#DIV/0!"},0,0,{"$error":"#DIV/0!"},0,0,{"$f":"IF(OR(Hiteladatok!$I$8=0,E314>$B$4),0,IF(D314>Hiteladatok!$U$40,0,$B$14+IF(Hiteladatok!$I$10=Hiteladatok!$N$33,$B$15,0)))","v":0},0,{"$error":"#DIV/0!"},null,{"$error":"#DIV/0!"},{"$error":"#DIV/0!"},{"$error":"#DIV/0!"},0,{"$error":"#DIV/0!"},0,{"$error":"#DIV/0!"},null,26,{"$f":"INT((E314-1)/Hiteladatok!$U$29)+1","v":3},{"$error":"#DIV/0!"},{"$error":"#DIV/0!"},{"$error":"#DIV/0!"},0,{"$error":"#DIV/0!"},null,{"$error":"#DIV/0!"},{"$error":"#DIV/0!"},{"$error":"#DIV/0!"},0,{"$error":"#DIV/0!"}]
[null,null,null,12,309,{"$error":"#VALUE!"},{"$error":"#DIV/0!"},0,0,{"$error":"#DIV/0!"},0,0,{"$f":"IF(OR(Hiteladatok!$I$8=0,E315>$B$4),0,IF(D315>Hiteladatok!$U$40,0,$B$14+IF(Hiteladatok!$I$10=Hiteladatok!$N$33,$B$15,0)))","v":0},0,{"$error":"#DIV/0!"},null,{"$error":"#DIV/0!"},{"$error":"#DIV/0!"},{"$error":"#DIV/0!"},0,{"$error":"#DIV/0!"},0,{"$error":"#DIV/0!"},null,26,{"$f":"INT((E315-1)/Hiteladatok!$U$29)+1","v":3},{"$error":"#DIV/0!"},{"$error":"#DIV/0!"},{"$error":"#DIV/0!"},0,{"$error":"#DIV/0!"},null,{"$error":"#DIV/0!"},{"$error":"#DIV/0!"},{"$error":"#DIV/0!"},0,{"$error":"#DIV/0!"}]
[null,null,null,4,310,{"$error":"#VALUE!"},{"$error":"#DIV/0!"},0,0,{"$error":"#DIV/0!"},0,0,{"$f":"IF(OR(Hiteladatok!$I$8=0,E316>$B$4),0,IF(D316>Hiteladatok!$U$40,0,$B$14+IF(Hiteladatok!$I$10=Hiteladatok!$N$33,$B$15,0)))","v":0},0,{"$error":"#DIV/0!"},null,{"$error":"#DIV/0!"},{"$error":"#DIV/0!"},{"$error":"#DIV/0!"},0,{"$error":"#DIV/0!"},0,{"$error":"#DIV/0!"},null,26,{"$f":"INT((E316-1)/Hiteladatok!$U$29)+1","v":3},{"$error":"#DIV/0!"},{"$error":"#DIV/0!"},{"$error":"#DIV/0!"},0,{"$error":"#DIV/0!"},null,{"$error":"#DIV/0!"},{"$error":"#DIV/0!"},{"$error":"#DIV/0!"},0,{"$error":"#DIV/0!"}]
[null,null,null,12,311,{"$error":"#VALUE!"},{"$error":"#DIV/0!"},0,0,{"$error":"#DIV/0!"},0,0,{"$f":"IF(OR(Hiteladatok!$I$8=0,E317>$B$4),0,IF(D317>Hiteladatok!$U$40,0,$B$14+IF(Hiteladatok!$I$10=Hiteladatok!$N$33,$B$15,0)))","v":0},0,{"$error":"#DIV/0!"},null,{"$error":"#DIV/0!"},{"$error":"#DIV/0!"},{"$error":"#DIV/0!"},0,{"$error":"#DIV/0!"},0,{"$error":"#DIV/0!"},null,26,{"$f":"INT((E317-1)/Hiteladatok!$U$29)+1","v":3},{"$error":"#DIV/0!"},{"$error":"#DIV/0!"},{"$error":"#DIV/0!"},0,{"$error":"#DIV/0!"},null,{"$error":"#DIV/0!"},{"$error":"#DIV/0!"},{"$error":"#DIV/0!"},0,{"$error":"#DIV/0!"}]
[null,null,null,12,312,{"$error":"#VALUE!"},{"$error":"#DIV/0!"},0,0,{"$error":"#DIV/0!"},0,0,{"$f":"IF(OR(Hiteladatok!$I$8=0,E318>$B$4),0,IF(D318>Hiteladatok!$U$40,0,$B$14+IF(Hiteladatok!$I$10=Hiteladatok!$N$33,$B$15,0)))","v":0},0,{"$error":"#DIV/0!"},null,{"$error":"#DIV/0!"},{"$error":"#DIV/0!"},{"$error":"#DIV/0!"},0,{"$error":"#DIV/0!"},0,{"$error":"#DIV/0!"},null,26,{"$f":"INT((E318-1)/Hiteladatok!$U$29)+1","v":3},{"$error":"#DIV/0!"},{"$error":"#DIV/0!"},{"$error":"#DIV/0!"},0,{"$error":"#DIV/0!"},null,{"$error":"#DIV/0!"},{"$error":"#DIV/0!"},{"$error":"#DIV/0!"},0,{"$error":"#DIV/0!"}]
[null,null,null,1,313,{"$error":"#VALUE!"},{"$error":"#DIV/0!"},0,0,{"$error":"#DIV/0!"},0,0,{"$f":"IF(OR(Hiteladatok!$I$8=0,E319>$B$4),0,IF(D319>Hiteladatok!$U$40,0,$B$14+IF(Hiteladatok!$I$10=Hiteladatok!$N$33,$B$15,0)))","v":0},0,{"$error":"#DIV/0!"},null,{"$error":"#DIV/0!"},{"$error":"#DIV/0!"},{"$error":"#DIV/0!"},0,{"$error":"#DIV/0!"},0,{"$error":"#DIV/0!"},null,27,{"$f":"INT((E319-1)/Hiteladatok!$U$29)+1","v":3},{"$error":"#DIV/0!"},{"$error":"#DIV/0!"},{"$error":"#DIV/0!"},0,{"$error":"#DIV/0!"},null,{"$error":"#DIV/0!"},{"$error":"#DIV/0!"},{"$error":"#DIV/0!"},0,{"$error":"#DIV/0!"}]
[null,null,null,12,314,{"$error":"#VALUE!"},{"$error":"#DIV/0!"},0,0,{"$error":"#DIV/0!"},0,0,{"$f":"IF(OR(Hiteladatok!$I$8=0,E320>$B$4),0,IF(D320>Hiteladatok!$U$40,0,$B$14+IF(Hiteladatok!$I$10=Hiteladatok!$N$33,$B$15,0)))","v":0},0,{"$error":"#DIV/0!"},null,{"$error":"#DIV/0!"},{"$error":"#DIV/0!"},{"$error":"#DIV/0!"},0,{"$error":"#DIV/0!"},0,{"$error":"#DIV/0!"},null,27,{"$f":"INT((E320-1)/Hiteladatok!$U$29)+1","v":3},{"$error":"#DIV/0!"},{"$error":"#DIV/0!"},{"$error":"#DIV/0!"},0,{"$error":"#DIV/0!"},null,{"$error":"#DIV/0!"},{"$error":"#DIV/0!"},{"$error":"#DIV/0!"},0,{"$error":"#DIV/0!"}]
[null,null,null,12,315,{"$error":"#VALUE!"},{"$error":"#DIV/0!"},0,0,{"$error":"#DIV/0!"},0,0,{"$f":"IF(OR(Hiteladatok!$I$8=0,E321>$B$4),0,IF(D321>Hiteladatok!$U$40,0,$B$14+IF(Hiteladatok!$I$10=Hiteladatok!$N$33,$B$15,0)))","v":0},0,{"$error":"#DIV/0!"},null,{"$error":"#DIV/0!"},{"$error":"#DIV/0!"},{"$error":"#DIV/0!"},0,{"$error":"#DIV/0!"},0,{"$error":"#DIV/0!"},null,27,{"$f":"INT((E321-1)/Hiteladatok!$U$29)+1","v":3},{"$error":"#DIV/0!"},{"$error":"#DIV/0!"},{"$error":"#DIV/0!"},0,{"$error":"#DIV/0!"},null,{"$error":"#DIV/0!"},{"$error":"#DIV/0!"},{"$error":"#DIV/0!"},0,{"$error":"#DIV/0!"}]
[null,null,null,4,316,{"$error":"#VALUE!"},{"$error":"#DIV/0!"},0,0,{"$error":"#DIV/0!"},0,0,{"$f":"IF(OR(Hiteladatok!$I$8=0,E322>$B$4),0,IF(D322>Hiteladatok!$U$40,0,$B$14+IF(Hiteladatok!$I$10=Hiteladatok!$N$33,$B$15,0)))","v":0},0,{"$error":"#DIV/0!"},null,{"$error":"#DIV/0!"},{"$error":"#DIV/0!"},{"$error":"#DIV/0!"},0,{"$error":"#DIV/0!"},0,{"$error":"#DIV/0!"},null,27,{"$f":"INT((E322-1)/Hiteladatok!$U$29)+1","v":3},{"$error":"#DIV/0!"},{"$error":"#DIV/0!"},{"$error":"#DIV/0!"},0,{"$error":"#DIV/0!"},null,{"$error":"#DIV/0!"},{"$error":"#DIV/0!"},{"$error":"#DIV/0!"},0,{"$error":"#DIV/0!"}]
[null,null,null,12,317,{"$error":"#VALUE!"},{"$error":"#DIV/0!"},0,0,{"$error":"#DIV/0!"},0,0,{"$f":"IF(OR(Hiteladatok!$I$8=0,E323>$B$4),0,IF(D323>Hiteladatok!$U$40,0,$B$14+IF(Hiteladatok!$I$10=Hiteladatok!$N$33,$B$15,0)))","v":0},0,{"$error":"#DIV/0!"},null,{"$error":"#DIV/0!"},{"$error":"#DIV/0!"},{"$error":"#DIV/0!"},0,{"$error":"#DIV/0!"},0,{"$error":"#DIV/0!"},null,27,{"$f":"INT((E323-1)/Hiteladatok!$U$29)+1","v":3},{"$error":"#DIV/0!"},{"$error":"#DIV/0!"},{"$error":"#DIV/0!"},0,{"$error":"#DIV/0!"},null,{"$error":"#DIV/0!"},{"$error":"#DIV/0!"},{"$error":"#DIV/0!"},0,{"$error":"#DIV/0!"}]
[null,null,null,12,318,{"$error":"#VALUE!"},{"$error":"#DIV/0!"},0,0,{"$error":"#DIV/0!"},0,0,{"$f":"IF(OR(Hiteladatok!$I$8=0,E324>$B$4),0,IF(D324>Hiteladatok!$U$40,0,$B$14+IF(Hiteladatok!$I$10=Hiteladatok!$N$33,$B$15,0)))","v":0},0,{"$error":"#DIV/0!"},null,{"$error":"#DIV/0!"},{"$error":"#DIV/0!"},{"$error":"#DIV/0!"},0,{"$error":"#DIV/0!"},0,{"$error":"#DIV/0!"},null,27,{"$f":"INT((E324-1)/Hiteladatok!$U$29)+1","v":3},{"$error":"#DIV/0!"},{"$error":"#DIV/0!"},{"$error":"#DIV/0!"},0,{"$error":"#DIV/0!"},null,{"$error":"#DIV/0!"},{"$error":"#DIV/0!"},{"$error":"#DIV/0!"},0,{"$error":"#DIV/0!"}]
[null,null,null,2,319,{"$error":"#VALUE!"},{"$error":"#DIV/0!"},0,0,{"$error":"#DIV/0!"},0,0,{"$f":"IF(OR(Hiteladatok!$I$8=0,E325>$B$4),0,IF(D325>Hiteladatok!$U$40,0,$B$14+IF(Hiteladatok!$I$10=Hiteladatok!$N$33,$B$15,0)))","v":0},0,{"$error":"#DIV/0!"},null,{"$error":"#DIV/0!"},{"$error":"#DIV/0!"},{"$error":"#DIV/0!"},0,{"$error":"#DIV/0!"},0,{"$error":"#DIV/0!"},null,27,{"$f":"INT((E325-1)/Hiteladatok!$U$29)+1","v":3},{"$error":"#DIV/0!"},{"$error":"#DIV/0!"},{"$error":"#DIV/0!"},0,{"$error":"#DIV/0!"},null,{"$error":"#DIV/0!"},{"$error":"#DIV/0!"},{"$error":"#DIV/0!"},0,{"$error":"#DIV/0!"}]
[null,null,null,12,320,{"$error":"#VALUE!"},{"$error":"#DIV/0!"},0,0,{"$error":"#DIV/0!"},0,0,{"$f":"IF(OR(Hiteladatok!$I$8=0,E326>$B$4),0,IF(D326>Hiteladatok!$U$40,0,$B$14+IF(Hiteladatok!$I$10=Hiteladatok!$N$33,$B$15,0)))","v":0},0,{"$error":"#DIV/0!"},null,{"$error":"#DIV/0!"},{"$error":"#DIV/0!"},{"$error":"#DIV/0!"},0,{"$error":"#DIV/0!"},0,{"$error":"#DIV/0!"},null,27,{"$f":"INT((E326-1)/Hiteladatok!$U$29)+1","v":3},{"$error":"#DIV/0!"},{"$error":"#DIV/0!"},{"$error":"#DIV/0!"},0,{"$error":"#DIV/0!"},null,{"$error":"#DIV/0!"},{"$error":"#DIV/0!"},{"$error":"#DIV/0!"},0,{"$error":"#DIV/0!"}]
[null,null,null,12,321,{"$error":"#VALUE!"},{"$error":"#DIV/0!"},0,0,{"$error":"#DIV/0!"},0,0,{"$f":"IF(OR(Hiteladatok!$I$8=0,E327>$B$4),0,IF(D327>Hiteladatok!$U$40,0,$B$14+IF(Hiteladatok!$I$10=Hiteladatok!$N$33,$B$15,0)))","v":0},0,{"$error":"#DIV/0!"},null,{"$error":"#DIV/0!"},{"$error":"#DIV/0!"},{"$error":"#DIV/0!"},0,{"$f":"Q327+S327-T327","v":{"$error":"#DIV/0!"}},0,{"$error":"#DIV/0!"},null,27,{"$f":"INT((E327-1)/Hiteladatok!$U$29)+1","v":3},{"$error":"#DIV/0!"},{"$error":"#DIV/0!"},{"$error":"#DIV/0!"},0,{"$error":"#DIV/0!"},null,{"$error":"#DIV/0!"},{"$error":"#DIV/0!"},{"$error":"#DIV/0!"},0,{"$error":"#DIV/0!"}]
[null,null,null,4,322,{"$f":"$F$1*E328+$B$9","v":{"$error":"#VALUE!"}},{"$error":"#DIV/0!"},0,0,{"$error":"#DIV/0!"},0,0,{"$f":"IF(OR(Hiteladatok!$I$8=0,E328>$B$4),0,IF(D328>Hiteladatok!$U$40,0,$B$14+IF(Hiteladatok!$I$10=Hiteladatok!$N$33,$B$15,0)))","v":0},{"$f":"I328+K328+L328+M328","v":0},{"$error":"#DIV/0!"},null,{"$error":"#DIV/0!"},{"$error":"#DIV/0!"},{"$error":"#DIV/0!"},0,{"$error":"#DIV/0!"},{"$f":"T328+K328+L328+M328","v":0},{"$error":"#DIV/0!"},null,27,{"$f":"INT((E328-1)/Hiteladatok!$U$29)+1","v":3},{"$error":"#DIV/0!"},{"$error":"#DIV/0!"},{"$error":"#DIV/0!"},0,{"$error":"#DIV/0!"},null,{"$error":"#DIV/0!"},{"$error":"#DIV/0!"},{"$error":"#DIV/0!"},0,{"$error":"#DIV/0!"}]
[null,null,null,12,{"$f":"E328+1","v":323},{"$error":"#VALUE!"},{"$f":"J328","v":{"$error":"#DIV/0!"}},{"$f":"IF(E329>$B$4,0,G329*$B$3/12)","v":0},{"$f":"IF(E329>$B$4,0,$B$10)","v":0},{"$f":"G329+H329-I329","v":{"$error":"#DIV/0!"}},{"$f":"I329*$C$12","v":0},0,{"$f":"IF(OR(Hiteladatok!$I$8=0,E329>$B$4),0,IF(D329>Hiteladatok!$U$40,0,$B$14+IF(Hiteladatok!$I$10=Hiteladatok!$N$33,$B$15,0)))","v":0},0,{"$f":"O328+N329/(1+$O$1)^(F329/365)","v":{"$error":"#DIV/0!"}},null,{"$error":"#DIV/0!"},{"$f":"IF(E329<$R$2,$R$3,$R$4)","v":{"$error":"#DIV/0!"}},{"$f":"Q329*R329/12","v":{"$error":"#DIV/0!"}},{"$f":"IF(E329>$B$4,0,PMT(R329/12,$B$4-E329+1,-Q329))","v":0},{"$error":"#DIV/0!"},0,{"$f":"W328+V329/(1+$W$1)^(F329/365)","v":{"$error":"#DIV/0!"}},null,27,{"$f":"INT((E329-1)/Hiteladatok!$U$29)+1","v":3},{"$f":"AE328","v":{"$error":"#DIV/0!"}},{"$f":"IF(E329<$AB$2,$AB$3,$AB$4)","v":{"$error":"#DIV/0!"}},{"$f":"AA329*AB329/12","v":{"$error":"#DIV/0!"}},{"$f":"IF(E329>$B$4,0,PMT(AB329/12,$B$4-E329+1,-AA329))","v":0},{"$f":"AA329+AC329-AD329","v":{"$error":"#DIV/0!"}},null,{"$f":"AK328","v":{"$error":"#DIV/0!"}},{"$f":"IF(E329<$AH$2,$AH$3,$AH$4)","v":{"$error":"#DIV/0!"}},{"$f":"AG329*AH329/12","v":{"$error":"#DIV/0!"}},{"$f":"IF(E329>$B$4,0,PMT(AH329/12,$B$4-E329+1,-AG329))","v":0},{"$f":"AG329+AI329-AJ329","v":{"$error":"#DIV/0!"}}]
[null,null,null,12,324,{"$error":"#VALUE!"},{"$error":"#DIV/0!"},0,0,{"$error":"#DIV/0!"},0,0,{"$f":"IF(OR(Hiteladatok!$I$8=0,E330>$B$4),0,IF(D330>Hiteladatok!$U$40,0,$B$14+IF(Hiteladatok!$I$10=Hiteladatok!$N$33,$B$15,0)))","v":0},0,{"$error":"#DIV/0!"},null,{"$error":"#DIV/0!"},{"$error":"#DIV/0!"},{"$error":"#DIV/0!"},0,{"$error":"#DIV/0!"},0,{"$error":"#DIV/0!"},null,27,{"$f":"INT((E330-1)/Hiteladatok!$U$29)+1","v":3},{"$error":"#DIV/0!"},{"$error":"#DIV/0!"},{"$error":"#DIV/0!"},0,{"$error":"#DIV/0!"},null,{"$error":"#DIV/0!"},{"$error":"#DIV/0!"},{"$error":"#DIV/0!"},0,{"$error":"#DIV/0!"}]
[null,null,null,1,325,{"$error":"#VALUE!"},{"$error":"#DIV/0!"},0,0,{"$error":"#DIV/0!"},0,0,{"$f":"IF(OR(Hiteladatok!$I$8=0,E331>$B$4),0,IF(D331>Hiteladatok!$U$40,0,$B$14+IF(Hiteladatok!$I$10=Hiteladatok!$N$33,$B$15,0)))","v":0},0,{"$error":"#DIV/0!"},null,{"$error":"#DIV/0!"},{"$error":"#DIV/0!"},{"$error":"#DIV/0!"},0,{"$error":"#DIV/0!"},0,{"$error":"#DIV/0!"},null,28,{"$f":"INT((E331-1)/Hiteladatok!$U$29)+1","v":3},{"$error":"#DIV/0!"},{"$error":"#DIV/0!"},{"$error":"#DIV/0!"},0,{"$error":"#DIV/0!"},null,{"$error":"#DIV/0!"},{"$error":"#DIV/0!"},{"$error":"#DIV/0!"},0,{"$error":"#DIV/0!"}]
[null,null,null,12,326,{"$error":"#VALUE!"},{"$error":"#DIV/0!"},0,0,{"$error":"#DIV/0!"},0,0,{"$f":"IF(OR(Hiteladatok!$I$8=0,E332>$B$4),0,IF(D332>Hiteladatok!$U$40,0,$B$14+IF(Hiteladatok!$I$10=Hiteladatok!$N$33,$B$15,0)))","v":0},0,{"$error":"#DIV/0!"},null,{"$error":"#DIV/0!"},{"$error":"#DIV/0!"},{"$error":"#DIV/0!"},0,{"$error":"#DIV/0!"},0,{"$error":"#DIV/0!"},null,28,{"$f":"INT((E332-1)/Hiteladatok!$U$29)+1","v":3},{"$error":"#DIV/0!"},{"$error":"#DIV/0!"},{"$error":"#DIV/0!"},0,{"$error":"#DIV/0!"},null,{"$error":"#DIV/0!"},{"$error":"#DIV/0!"},{"$error":"#DIV/0!"},0,{"$error":"#DIV/0!"}]
[null,null,null,12,327,{"$error":"#VALUE!"},{"$error":"#DIV/0!"},0,0,{"$error":"#DIV/0!"},0,0,{"$f":"IF(OR(Hiteladatok!$I$8=0,E333>$B$4),0,IF(D333>Hiteladatok!$U$40,0,$B$14+IF(Hiteladatok!$I$10=Hiteladatok!$N$33,$B$15,0)))","v":0},0,{"$error":"#DIV/0!"},null,{"$error":"#DIV/0!"},{"$error":"#DIV/0!"},{"$error":"#DIV/0!"},0,{"$error":"#DIV/0!"},0,{"$error":"#DIV/0!"},null,28,{"$f":"INT((E333-1)/Hiteladatok!$U$29)+1","v":3},{"$error":"#DIV/0!"},{"$error":"#DIV/0!"},{"$error":"#DIV/0!"},0,{"$error":"#DIV/0!"},null,{"$error":"#DIV/0!"},{"$error":"#DIV/0!"},{"$error":"#DIV/0!"},0,{"$error":"#DIV/0!"}]
[null,null,null,4,328,{"$error":"#VALUE!"},{"$error":"#DIV/0!"},0,0,{"$error":"#DIV/0!"},0,0,{"$f":"IF(OR(Hiteladatok!$I$8=0,E334>$B$4),0,IF(D334>Hiteladatok!$U$40,0,$B$14+IF(Hiteladatok!$I$10=Hiteladatok!$N$33,$B$15,0)))","v":0},0,{"$error":"#DIV/0!"},null,{"$error":"#DIV/0!"},{"$error":"#DIV/0!"},{"$error":"#DIV/0!"},0,{"$error":"#DIV/0!"},0,{"$error":"#DIV/0!"},null,28,{"$f":"INT((E334-1)/Hiteladatok!$U$29)+1","v":3},{"$error":"#DIV/0!"},{"$error":"#DIV/0!"},{"$error":"#DIV/0!"},0,{"$error":"#DIV/0!"},null,{"$error":"#DIV/0!"},{"$error":"#DIV/0!"},{"$error":"#DIV/0!"},0,{"$error":"#DIV/0!"}]
[null,null,null,12,329,{"$error":"#VALUE!"},{"$error":"#DIV/0!"},0,0,{"$error":"#DIV/0!"},0,0,{"$f":"IF(OR(Hiteladatok!$I$8=0,E335>$B$4),0,IF(D335>Hiteladatok!$U$40,0,$B$14+IF(Hiteladatok!$I$10=Hiteladatok!$N$33,$B$15,0)))","v":0},0,{"$error":"#DIV/0!"},null,{"$error":"#DIV/0!"},{"$error":"#DIV/0!"},{"$error":"#DIV/0!"},0,{"$error":"#DIV/0!"},0,{"$error":"#DIV/0!"},null,28,{"$f":"INT((E335-1)/Hiteladatok!$U$29)+1","v":3},{"$error":"#DIV/0!"},{"$error":"#DIV/0!"},{"$error":"#DIV/0!"},0,{"$error":"#DIV/0!"},null,{"$error":"#DIV/0!"},{"$error":"#DIV/0!"},{"$error":"#DIV/0!"},0,{"$error":"#DIV/0!"}]
[null,null,null,12,330,{"$error":"#VALUE!"},{"$error":"#DIV/0!"},0,0,{"$error":"#DIV/0!"},0,0,{"$f":"IF(OR(Hiteladatok!$I$8=0,E336>$B$4),0,IF(D336>Hiteladatok!$U$40,0,$B$14+IF(Hiteladatok!$I$10=Hiteladatok!$N$33,$B$15,0)))","v":0},0,{"$error":"#DIV/0!"},null,{"$error":"#DIV/0!"},{"$error":"#DIV/0!"},{"$error":"#DIV/0!"},0,{"$error":"#DIV/0!"},0,{"$error":"#DIV/0!"},null,28,{"$f":"INT((E336-1)/Hiteladatok!$U$29)+1","v":3},{"$error":"#DIV/0!"},{"$error":"#DIV/0!"},{"$error":"#DIV/0!"},0,{"$error":"#DIV/0!"},null,{"$error":"#DIV/0!"},{"$error":"#DIV/0!"},{"$error":"#DIV/0!"},0,{"$error":"#DIV/0!"}]
[null,null,null,2,331,{"$error":"#VALUE!"},{"$error":"#DIV/0!"},0,0,{"$error":"#DIV/0!"},0,0,{"$f":"IF(OR(Hiteladatok!$I$8=0,E337>$B$4),0,IF(D337>Hiteladatok!$U$40,0,$B$14+IF(Hiteladatok!$I$10=Hiteladatok!$N$33,$B$15,0)))","v":0},0,{"$error":"#DIV/0!"},null,{"$error":"#DIV/0!"},{"$error":"#DIV/0!"},{"$error":"#DIV/0!"},0,{"$error":"#DIV/0!"},0,{"$error":"#DIV/0!"},null,28,{"$f":"INT((E337-1)/Hiteladatok!$U$29)+1","v":3},{"$error":"#DIV/0!"},{"$error":"#DIV/0!"},{"$error":"#DIV/0!"},0,{"$error":"#DIV/0!"},null,{"$error":"#DIV/0!"},{"$error":"#DIV/0!"},{"$error":"#DIV/0!"},0,{"$error":"#DIV/0!"}]
[null,null,null,12,332,{"$error":"#VALUE!"},{"$error":"#DIV/0!"},0,0,{"$error":"#DIV/0!"},0,0,{"$f":"IF(OR(Hiteladatok!$I$8=0,E338>$B$4),0,IF(D338>Hiteladatok!$U$40,0,$B$14+IF(Hiteladatok!$I$10=Hiteladatok!$N$33,$B$15,0)))","v":0},0,{"$error":"#DIV/0!"},null,{"$error":"#DIV/0!"},{"$error":"#DIV/0!"},{"$error":"#DIV/0!"},0,{"$error":"#DIV/0!"},0,{"$error":"#DIV/0!"},null,28,{"$f":"INT((E338-1)/Hiteladatok!$U$29)+1","v":3},{"$error":"#DIV/0!"},{"$error":"#DIV/0!"},{"$error":"#DIV/0!"},0,{"$error":"#DIV/0!"},null,{"$error":"#DIV/0!"},{"$error":"#DIV/0!"},{"$error":"#DIV/0!"},0,{"$error":"#DIV/0!"}]
[null,null,null,12,333,{"$error":"#VALUE!"},{"$error":"#DIV/0!"},0,0,{"$error":"#DIV/0!"},0,0,{"$f":"IF(OR(Hiteladatok!$I$8=0,E339>$B$4),0,IF(D339>Hiteladatok!$U$40,0,$B$14+IF(Hiteladatok!$I$10=Hiteladatok!$N$33,$B$15,0)))","v":0},0,{"$error":"#DIV/0!"},null,{"$error":"#DIV/0!"},{"$error":"#DIV/0!"},{"$error":"#DIV/0!"},0,{"$error":"#DIV/0!"},0,{"$error":"#DIV/0!"},null,28,{"$f":"INT((E339-1)/Hiteladatok!$U$29)+1","v":3},{"$error":"#DIV/0!"},{"$error":"#DIV/0!"},{"$error":"#DIV/0!"},0,{"$error":"#DIV/0!"},null,{"$error":"#DIV/0!"},{"$error":"#DIV/0!"},{"$error":"#DIV/0!"},0,{"$error":"#DIV/0!"}]
[null,null,null,4,334,{"$error":"#VALUE!"},{"$error":"#DIV/0!"},0,0,{"$error":"#DIV/0!"},0,0,{"$f":"IF(OR(Hiteladatok!$I$8=0,E340>$B$4),0,IF(D340>Hiteladatok!$U$40,0,$B$14+IF(Hiteladatok!$I$10=Hiteladatok!$N$33,$B$15,0)))","v":0},0,{"$error":"#DIV/0!"},null,{"$error":"#DIV/0!"},{"$error":"#DIV/0!"},{"$error":"#DIV/0!"},0,{"$error":"#DIV/0!"},0,{"$error":"#DIV/0!"},null,{"$f":"Y328+1","v":28},{"$f":"INT((E340-1)/Hiteladatok!$U$29)+1","v":3},{"$error":"#DIV/0!"},{"$error":"#DIV/0!"},{"$error":"#DIV/0!"},0,{"$error":"#DIV/0!"},null,{"$error":"#DIV/0!"},{"$error":"#DIV/0!"},{"$error":"#DIV/0!"},0,{"$error":"#DIV/0!"}]
[null,null,null,12,335,{"$error":"#VALUE!"},{"$error":"#DIV/0!"},0,0,{"$error":"#DIV/0!"},0,0,{"$f":"IF(OR(Hiteladatok!$I$8=0,E341>$B$4),0,IF(D341>Hiteladatok!$U$40,0,$B$14+IF(Hiteladatok!$I$10=Hiteladatok!$N$33,$B$15,0)))","v":0},0,{"$error":"#DIV/0!"},null,{"$error":"#DIV/0!"},{"$error":"#DIV/0!"},{"$error":"#DIV/0!"},0,{"$error":"#DIV/0!"},0,{"$error":"#DIV/0!"},null,28,{"$f":"INT((E341-1)/Hiteladatok!$U$29)+1","v":3},{"$error":"#DIV/0!"},{"$error":"#DIV/0!"},{"$error":"#DIV/0!"},0,{"$error":"#DIV/0!"},null,{"$error":"#DIV/0!"},{"$error":"#DIV/0!"},{"$error":"#DIV/0!"},0,{"$error":"#DIV/0!"}]
[null,null,null,12,336,{"$error":"#VALUE!"},{"$error":"#DIV/0!"},0,0,{"$error":"#DIV/0!"},0,0,{"$f":"IF(OR(Hiteladatok!$I$8=0,E342>$B$4),0,IF(D342>Hiteladatok!$U$40,0,$B$14+IF(Hiteladatok!$I$10=Hiteladatok!$N$33,$B$15,0)))","v":0},0,{"$error":"#DIV/0!"},null,{"$error":"#DIV/0!"},{"$error":"#DIV/0!"},{"$error":"#DIV/0!"},0,{"$error":"#DIV/0!"},0,{"$error":"#DIV/0!"},null,28,{"$f":"INT((E342-1)/Hiteladatok!$U$29)+1","v":3},{"$error":"#DIV/0!"},{"$error":"#DIV/0!"},{"$error":"#DIV/0!"},0,{"$error":"#DIV/0!"},null,{"$error":"#DIV/0!"},{"$error":"#DIV/0!"},{"$error":"#DIV/0!"},0,{"$error":"#DIV/0!"}]
[null,null,null,1,337,{"$error":"#VALUE!"},{"$error":"#DIV/0!"},0,0,{"$error":"#DIV/0!"},0,{"$f":"IF(E343>$B$4,0,$C$13)","v":0},{"$f":"IF(OR(Hiteladatok!$I$8=0,E343>$B$4),0,IF(D343>Hiteladatok!$U$40,0,$B$14+IF(Hiteladatok!$I$10=Hiteladatok!$N$33,$B$15,0)))","v":0},0,{"$error":"#DIV/0!"},null,{"$error":"#DIV/0!"},{"$error":"#DIV/0!"},{"$error":"#DIV/0!"},0,{"$error":"#DIV/0!"},0,{"$error":"#DIV/0!"},null,29,{"$f":"INT((E343-1)/Hiteladatok!$U$29)+1","v":3},{"$error":"#DIV/0!"},{"$error":"#DIV/0!"},{"$error":"#DIV/0!"},0,{"$error":"#DIV/0!"},null,{"$error":"#DIV/0!"},{"$error":"#DIV/0!"},{"$error":"#DIV/0!"},0,{"$error":"#DIV/0!"}]
[null,null,null,12,338,{"$error":"#VALUE!"},{"$error":"#DIV/0!"},0,0,{"$error":"#DIV/0!"},0,0,{"$f":"IF(OR(Hiteladatok!$I$8=0,E344>$B$4),0,IF(D344>Hiteladatok!$U$40,0,$B$14+IF(Hiteladatok!$I$10=Hiteladatok!$N$33,$B$15,0)))","v":0},0,{"$error":"#DIV/0!"},null,{"$error":"#DIV/0!"},{"$error":"#DIV/0!"},{"$error":"#DIV/0!"},0,{"$error":"#DIV/0!"},0,{"$error":"#DIV/0!"},null,29,{"$f":"INT((E344-1)/Hiteladatok!$U$29)+1","v":3},{"$error":"#DIV/0!"},{"$error":"#DIV/0!"},{"$error":"#DIV/0!"},0,{"$error":"#DIV/0!"},null,{"$error":"#DIV/0!"},{"$error":"#DIV/0!"},{"$error":"#DIV/0!"},0,{"$error":"#DIV/0!"}]
[null,null,null,12,339,{"$error":"#VALUE!"},{"$error":"#DIV/0!"},0,0,{"$error":"#DIV/0!"},0,0,{"$f":"IF(OR(Hiteladatok!$I$8=0,E345>$B$4),0,IF(D345>Hiteladatok!$U$40,0,$B$14+IF(Hiteladatok!$I$10=Hiteladatok!$N$33,$B$15,0)))","v":0},0,{"$error":"#DIV/0!"},null,{"$error":"#DIV/0!"},{"$error":"#DIV/0!"},{"$error":"#DIV/0!"},0,{"$error":"#DIV/0!"},0,{"$error":"#DIV/0!"},null,29,{"$f":"INT((E345-1)/Hiteladatok!$U$29)+1","v":3},{"$error":"#DIV/0!"},{"$error":"#DIV/0!"},{"$error":"#DIV/0!"},0,{"$error":"#DIV/0!"},null,{"$error":"#DIV/0!"},{"$error":"#DIV/0!"},{"$error":"#DIV/0!"},0,{"$error":"#DIV/0!"}]
[null,null,null,4,340,{"$error":"#VALUE!"},{"$error":"#DIV/0!"},0,0,{"$error":"#DIV/0!"},0,0,{"$f":"IF(OR(Hiteladatok!$I$8=0,E346>$B$4),0,IF(D346>Hiteladatok!$U$40,0,$B$14+IF(Hiteladatok!$I$10=Hiteladatok!$N$33,$B$15,0)))","v":0},0,{"$error":"#DIV/0!"},null,{"$error":"#DIV/0!"},{"$error":"#DIV/0!"},{"$error":"#DIV/0!"},0,{"$error":"#DIV/0!"},0,{"$error":"#DIV/0!"},null,29,{"$f":"INT((E346-1)/Hiteladatok!$U$29)+1","v":3},{"$error":"#DIV/0!"},{"$error":"#DIV/0!"},{"$error":"#DIV/0!"},0,{"$error":"#DIV/0!"},null,{"$error":"#DIV/0!"},{"$error":"#DIV/0!"},{"$error":"#DIV/0!"},0,{"$error":"#DIV/0!"}]
[null,null,null,12,341,{"$error":"#VALUE!"},{"$error":"#DIV/0!"},0,0,{"$error":"#DIV/0!"},0,0,{"$f":"IF(OR(Hiteladatok!$I$8=0,E347>$B$4),0,IF(D347>Hiteladatok!$U$40,0,$B$14+IF(Hiteladatok!$I$10=Hiteladatok!$N$33,$B$15,0)))","v":0},0,{"$error":"#DIV/0!"},null,{"$error":"#DIV/0!"},{"$error":"#DIV/0!"},{"$error":"#DIV/0!"},0,{"$error":"#DIV/0!"},0,{"$error":"#DIV/0!"},null,29,{"$f":"INT((E347-1)/Hiteladatok!$U$29)+1","v":3},{"$error":"#DIV/0!"},{"$error":"#DIV/0!"},{"$error":"#DIV/0!"},0,{"$error":"#DIV/0!"},null,{"$error":"#DIV/0!"},{"$error":"#DIV/0!"},{"$error":"#DIV/0!"},0,{"$error":"#DIV/0!"}]
[null,null,null,12,342,{"$error":"#VALUE!"},{"$error":"#DIV/0!"},0,0,{"$error":"#DIV/0!"},0,0,{"$f":"IF(OR(Hiteladatok!$I$8=0,E348>$B$4),0,IF(D348>Hiteladatok!$U$40,0,$B$14+IF(Hiteladatok!$I$10=Hiteladatok!$N$33,$B$15,0)))","v":0},0,{"$error":"#DIV/0!"},null,{"$error":"#DIV/0!"},{"$error":"#DIV/0!"},{"$error":"#DIV/0!"},0,{"$error":"#DIV/0!"},0,{"$error":"#DIV/0!"},null,29,{"$f":"INT((E348-1)/Hiteladatok!$U$29)+1","v":3},{"$error":"#DIV/0!"},{"$error":"#DIV/0!"},{"$error":"#DIV/0!"},0,{"$error":"#DIV/0!"},null,{"$error":"#DIV/0!"},{"$error":"#DIV/0!"},{"$error":"#DIV/0!"},0,{"$error":"#DIV/0!"}]
[null,null,null,2,343,{"$error":"#VALUE!"},{"$error":"#DIV/0!"},0,0,{"$error":"#DIV/0!"},0,0,{"$f":"IF(OR(Hiteladatok!$I$8=0,E349>$B$4),0,IF(D349>Hiteladatok!$U$40,0,$B$14+IF(Hiteladatok!$I$10=Hiteladatok!$N$33,$B$15,0)))","v":0},0,{"$error":"#DIV/0!"},null,{"$error":"#DIV/0!"},{"$error":"#DIV/0!"},{"$error":"#DIV/0!"},0,{"$error":"#DIV/0!"},0,{"$error":"#DIV/0!"},null,29,{"$f":"INT((E349-1)/Hiteladatok!$U$29)+1","v":3},{"$error":"#DIV/0!"},{"$error":"#DIV/0!"},{"$error":"#DIV/0!"},0,{"$error":"#DIV/0!"},null,{"$error":"#DIV/0!"},{"$error":"#DIV/0!"},{"$error":"#DIV/0!"},0,{"$error":"#DIV/0!"}]
[null,null,null,12,344,{"$error":"#VALUE!"},{"$error":"#DIV/0!"},0,0,{"$error":"#DIV/0!"},0,0,{"$f":"IF(OR(Hiteladatok!$I$8=0,E350>$B$4),0,IF(D350>Hiteladatok!$U$40,0,$B$14+IF(Hiteladatok!$I$10=Hiteladatok!$N$33,$B$15,0)))","v":0},0,{"$error":"#DIV/0!"},null,{"$error":"#DIV/0!"},{"$error":"#DIV/0!"},{"$error":"#DIV/0!"},0,{"$error":"#DIV/0!"},0,{"$error":"#DIV/0!"},null,29,{"$f":"INT((E350-1)/Hiteladatok!$U$29)+1","v":3},{"$error":"#DIV/0!"},{"$error":"#DIV/0!"},{"$error":"#DIV/0!"},0,{"$error":"#DIV/0!"},null,{"$error":"#DIV/0!"},{"$error":"#DIV/0!"},{"$error":"#DIV/0!"},0,{"$error":"#DIV/0!"}]
[null,null,null,12,345,{"$error":"#VALUE!"},{"$error":"#DIV/0!"},0,0,{"$error":"#DIV/0!"},0,0,{"$f":"IF(OR(Hiteladatok!$I$8=0,E351>$B$4),0,IF(D351>Hiteladatok!$U$40,0,$B$14+IF(Hiteladatok!$I$10=Hiteladatok!$N$33,$B$15,0)))","v":0},0,{"$error":"#DIV/0!"},null,{"$error":"#DIV/0!"},{"$error":"#DIV/0!"},{"$error":"#DIV/0!"},0,{"$error":"#DIV/0!"},0,{"$error":"#DIV/0!"},null,29,{"$f":"INT((E351-1)/Hiteladatok!$U$29)+1","v":3},{"$error":"#DIV/0!"},{"$error":"#DIV/0!"},{"$error":"#DIV/0!"},0,{"$error":"#DIV/0!"},null,{"$error":"#DIV/0!"},{"$error":"#DIV/0!"},{"$error":"#DIV/0!"},0,{"$error":"#DIV/0!"}]
[null,null,null,4,346,{"$error":"#VALUE!"},{"$error":"#DIV/0!"},0,0,{"$error":"#DIV/0!"},0,0,{"$f":"IF(OR(Hiteladatok!$I$8=0,E352>$B$4),0,IF(D352>Hiteladatok!$U$40,0,$B$14+IF(Hiteladatok!$I$10=Hiteladatok!$N$33,$B$15,0)))","v":0},0,{"$error":"#DIV/0!"},null,{"$error":"#DIV/0!"},{"$error":"#DIV/0!"},{"$error":"#DIV/0!"},0,{"$error":"#DIV/0!"},0,{"$error":"#DIV/0!"},null,29,{"$f":"INT((E352-1)/Hiteladatok!$U$29)+1","v":3},{"$error":"#DIV/0!"},{"$error":"#DIV/0!"},{"$error":"#DIV/0!"},0,{"$error":"#DIV/0!"},null,{"$error":"#DIV/0!"},{"$error":"#DIV/0!"},{"$error":"#DIV/0!"},0,{"$error":"#DIV/0!"}]
[null,null,null,12,347,{"$error":"#VALUE!"},{"$error":"#DIV/0!"},0,0,{"$error":"#DIV/0!"},0,0,{"$f":"IF(OR(Hiteladatok!$I$8=0,E353>$B$4),0,IF(D353>Hiteladatok!$U$40,0,$B$14+IF(Hiteladatok!$I$10=Hiteladatok!$N$33,$B$15,0)))","v":0},0,{"$error":"#DIV/0!"},null,{"$error":"#DIV/0!"},{"$error":"#DIV/0!"},{"$error":"#DIV/0!"},0,{"$error":"#DIV/0!"},0,{"$error":"#DIV/0!"},null,29,{"$f":"INT((E353-1)/Hiteladatok!$U$29)+1","v":3},{"$error":"#DIV/0!"},{"$error":"#DIV/0!"},{"$error":"#DIV/0!"},0,{"$error":"#DIV/0!"},null,{"$error":"#DIV/0!"},{"$error":"#DIV/0!"},{"$error":"#DIV/0!"},0,{"$error":"#DIV/0!"}]
[null,null,null,12,348,{"$error":"#VALUE!"},{"$error":"#DIV/0!"},0,0,{"$error":"#DIV/0!"},0,0,{"$f":"IF(OR(Hiteladatok!$I$8=0,E354>$B$4),0,IF(D354>Hiteladatok!$U$40,0,$B$14+IF(Hiteladatok!$I$10=Hiteladatok!$N$33,$B$15,0)))","v":0},0,{"$error":"#DIV/0!"},null,{"$error":"#DIV/0!"},{"$error":"#DIV/0!"},{"$error":"#DIV/0!"},0,{"$error":"#DIV/0!"},0,{"$error":"#DIV/0!"},null,29,{"$f":"INT((E354-1)/Hiteladatok!$U$29)+1","v":3},{"$error":"#DIV/0!"},{"$error":"#DIV/0!"},{"$error":"#DIV/0!"},0,{"$error":"#DIV/0!"},null,{"$error":"#DIV/0!"},{"$error":"#DIV/0!"},{"$error":"#DIV/0!"},0,{"$error":"#DIV/0!"}]
[null,null,null,1,349,{"$error":"#VALUE!"},{"$error":"#DIV/0!"},0,0,{"$error":"#DIV/0!"},0,0,{"$f":"IF(OR(Hiteladatok!$I$8=0,E355>$B$4),0,IF(D355>Hiteladatok!$U$40,0,$B$14+IF(Hiteladatok!$I$10=Hiteladatok!$N$33,$B$15,0)))","v":0},0,{"$error":"#DIV/0!"},null,{"$error":"#DIV/0!"},{"$error":"#DIV/0!"},{"$error":"#DIV/0!"},0,{"$error":"#DIV/0!"},0,{"$error":"#DIV/0!"},null,30,{"$f":"INT((E355-1)/Hiteladatok!$U$29)+1","v":3},{"$error":"#DIV/0!"},{"$error":"#DIV/0!"},{"$error":"#DIV/0!"},0,{"$error":"#DIV/0!"},null,{"$error":"#DIV/0!"},{"$error":"#DIV/0!"},{"$error":"#DIV/0!"},0,{"$error":"#DIV/0!"}]
[null,null,null,12,350,{"$error":"#VALUE!"},{"$error":"#DIV/0!"},0,0,{"$error":"#DIV/0!"},0,0,{"$f":"IF(OR(Hiteladatok!$I$8=0,E356>$B$4),0,IF(D356>Hiteladatok!$U$40,0,$B$14+IF(Hiteladatok!$I$10=Hiteladatok!$N$33,$B$15,0)))","v":0},0,{"$error":"#DIV/0!"},null,{"$error":"#DIV/0!"},{"$error":"#DIV/0!"},{"$error":"#DIV/0!"},0,{"$error":"#DIV/0!"},0,{"$error":"#DIV/0!"},null,30,{"$f":"INT((E356-1)/Hiteladatok!$U$29)+1","v":3},{"$error":"#DIV/0!"},{"$error":"#DIV/0!"},{"$error":"#DIV/0!"},0,{"$error":"#DIV/0!"},null,{"$error":"#DIV/0!"},{"$error":"#DIV/0!"},{"$error":"#DIV/0!"},0,{"$error":"#DIV/0!"}]
[null,null,null,12,351,{"$error":"#VALUE!"},{"$error":"#DIV/0!"},0,0,{"$error":"#DIV/0!"},0,0,{"$f":"IF(OR(Hiteladatok!$I$8=0,E357>$B$4),0,IF(D357>Hiteladatok!$U$40,0,$B$14+IF(Hiteladatok!$I$10=Hiteladatok!$N$33,$B$15,0)))","v":0},0,{"$error":"#DIV/0!"},null,{"$error":"#DIV/0!"},{"$error":"#DIV/0!"},{"$error":"#DIV/0!"},0,{"$error":"#DIV/0!"},0,{"$error":"#DIV/0!"},null,30,{"$f":"INT((E357-1)/Hiteladatok!$U$29)+1","v":3},{"$error":"#DIV/0!"},{"$error":"#DIV/0!"},{"$error":"#DIV/0!"},0,{"$error":"#DIV/0!"},null,{"$error":"#DIV/0!"},{"$error":"#DIV/0!"},{"$error":"#DIV/0!"},0,{"$error":"#DIV/0!"}]
[null,null,null,4,352,{"$error":"#VALUE!"},{"$error":"#DIV/0!"},0,0,{"$error":"#DIV/0!"},0,0,{"$f":"IF(OR(Hiteladatok!$I$8=0,E358>$B$4),0,IF(D358>Hiteladatok!$U$40,0,$B$14+IF(Hiteladatok!$I$10=Hiteladatok!$N$33,$B$15,0)))","v":0},0,{"$error":"#DIV/0!"},null,{"$error":"#DIV/0!"},{"$error":"#DIV/0!"},{"$error":"#DIV/0!"},0,{"$error":"#DIV/0!"},0,{"$error":"#DIV/0!"},null,30,{"$f":"INT((E358-1)/Hiteladatok!$U$29)+1","v":3},{"$error":"#DIV/0!"},{"$error":"#DIV/0!"},{"$error":"#DIV/0!"},0,{"$error":"#DIV/0!"},null,{"$error":"#DIV/0!"},{"$error":"#DIV/0!"},{"$error":"#DIV/0!"},0,{"$error":"#DIV/0!"}]
[null,null,null,12,353,{"$error":"#VALUE!"},{"$error":"#DIV/0!"},0,0,{"$error":"#DIV/0!"},0,0,{"$f":"IF(OR(Hiteladatok!$I$8=0,E359>$B$4),0,IF(D359>Hiteladatok!$U$40,0,$B$14+IF(Hiteladatok!$I$10=Hiteladatok!$N$33,$B$15,0)))","v":0},0,{"$error":"#DIV/0!"},null,{"$error":"#DIV/0!"},{"$error":"#DIV/0!"},{"$error":"#DIV/0!"},0,{"$error":"#DIV/0!"},0,{"$error":"#DIV/0!"},null,30,{"$f":"INT((E359-1)/Hiteladatok!$U$29)+1","v":3},{"$error":"#DIV/0!"},{"$error":"#DIV/0!"},{"$error":"#DIV/0!"},0,{"$error":"#DIV/0!"},null,{"$error":"#DIV/0!"},{"$error":"#DIV/0!"},{"$error":"#DIV/0!"},0,{"$error":"#DIV/0!"}]
[null,null,null,12,354,{"$error":"#VALUE!"},{"$error":"#DIV/0!"},0,0,{"$error":"#DIV/0!"},0,0,{"$f":"IF(OR(Hiteladatok!$I$8=0,E360>$B$4),0,IF(D360>Hiteladatok!$U$40,0,$B$14+IF(Hiteladatok!$I$10=Hiteladatok!$N$33,$B$15,0)))","v":0},0,{"$error":"#DIV/0!"},null,{"$error":"#DIV/0!"},{"$error":"#DIV/0!"},{"$error":"#DIV/0!"},0,{"$error":"#DIV/0!"},0,{"$error":"#DIV/0!"},null,30,{"$f":"INT((E360-1)/Hiteladatok!$U$29)+1","v":3},{"$error":"#DIV/0!"},{"$error":"#DIV/0!"},{"$error":"#DIV/0!"},0,{"$error":"#DIV/0!"},null,{"$error":"#DIV/0!"},{"$error":"#DIV/0!"},{"$error":"#DIV/0!"},0,{"$error":"#DIV/0!"}]
[null,null,null,2,355,{"$error":"#VALUE!"},{"$error":"#DIV/0!"},0,0,{"$error":"#DIV/0!"},0,0,{"$f":"IF(OR(Hiteladatok!$I$8=0,E361>$B$4),0,IF(D361>Hiteladatok!$U$40,0,$B$14+IF(Hiteladatok!$I$10=Hiteladatok!$N$33,$B$15,0)))","v":0},0,{"$error":"#DIV/0!"},null,{"$error":"#DIV/0!"},{"$error":"#DIV/0!"},{"$error":"#DIV/0!"},0,{"$error":"#DIV/0!"},0,{"$error":"#DIV/0!"},null,30,{"$f":"INT((E361-1)/Hiteladatok!$U$29)+1","v":3},{"$error":"#DIV/0!"},{"$error":"#DIV/0!"},{"$error":"#DIV/0!"},0,{"$error":"#DIV/0!"},null,{"$error":"#DIV/0!"},{"$error":"#DIV/0!"},{"$error":"#DIV/0!"},0,{"$error":"#DIV/0!"}]
[null,null,null,12,356,{"$error":"#VALUE!"},{"$error":"#DIV/0!"},0,0,{"$error":"#DIV/0!"},0,0,{"$f":"IF(OR(Hiteladatok!$I$8=0,E362>$B$4),0,IF(D362>Hiteladatok!$U$40,0,$B$14+IF(Hiteladatok!$I$10=Hiteladatok!$N$33,$B$15,0)))","v":0},0,{"$error":"#DIV/0!"},null,{"$error":"#DIV/0!"},{"$error":"#DIV/0!"},{"$error":"#DIV/0!"},0,{"$error":"#DIV/0!"},0,{"$error":"#DIV/0!"},null,30,{"$f":"INT((E362-1)/Hiteladatok!$U$29)+1","v":3},{"$error":"#DIV/0!"},{"$error":"#DIV/0!"},{"$error":"#DIV/0!"},0,{"$error":"#DIV/0!"},null,{"$error":"#DIV/0!"},{"$error":"#DIV/0!"},{"$error":"#DIV/0!"},0,{"$error":"#DIV/0!"}]
[null,null,null,12,357,{"$error":"#VALUE!"},{"$error":"#DIV/0!"},0,0,{"$error":"#DIV/0!"},0,0,{"$f":"IF(OR(Hiteladatok!$I$8=0,E363>$B$4),0,IF(D363>Hiteladatok!$U$40,0,$B$14+IF(Hiteladatok!$I$10=Hiteladatok!$N$33,$B$15,0)))","v":0},0,{"$error":"#DIV/0!"},null,{"$error":"#DIV/0!"},{"$error":"#DIV/0!"},{"$error":"#DIV/0!"},0,{"$error":"#DIV/0!"},0,{"$error":"#DIV/0!"},null,30,{"$f":"INT((E363-1)/Hiteladatok!$U$29)+1","v":3},{"$error":"#DIV/0!"},{"$error":"#DIV/0!"},{"$error":"#DIV/0!"},0,{"$error":"#DIV/0!"},null,{"$error":"#DIV/0!"},{"$error":"#DIV/0!"},{"$error":"#DIV/0!"},0,{"$error":"#DIV/0!"}]
[null,null,null,4,358,{"$error":"#VALUE!"},{"$error":"#DIV/0!"},0,0,{"$error":"#DIV/0!"},0,0,{"$f":"IF(OR(Hiteladatok!$I$8=0,E364>$B$4),0,IF(D364>Hiteladatok!$U$40,0,$B$14+IF(Hiteladatok!$I$10=Hiteladatok!$N$33,$B$15,0)))","v":0},0,{"$error":"#DIV/0!"},null,{"$error":"#DIV/0!"},{"$error":"#DIV/0!"},{"$error":"#DIV/0!"},0,{"$error":"#DIV/0!"},0,{"$error":"#DIV/0!"},null,30,{"$f":"INT((E364-1)/Hiteladatok!$U$29)+1","v":3},{"$error":"#DIV/0!"},{"$error":"#DIV/0!"},{"$error":"#DIV/0!"},0,{"$error":"#DIV/0!"},null,{"$error":"#DIV/0!"},{"$error":"#DIV/0!"},{"$error":"#DIV/0!"},0,{"$error":"#DIV/0!"}]
[null,null,null,12,359,{"$error":"#VALUE!"},{"$error":"#DIV/0!"},0,0,{"$error":"#DIV/0!"},0,0,{"$f":"IF(OR(Hiteladatok!$I$8=0,E365>$B$4),0,IF(D365>Hiteladatok!$U$40,0,$B$14+IF(Hiteladatok!$I$10=Hiteladatok!$N$33,$B$15,0)))","v":0},0,{"$error":"#DIV/0!"},null,{"$error":"#DIV/0!"},{"$error":"#DIV/0!"},{"$error":"#DIV/0!"},0,{"$error":"#DIV/0!"},0,{"$error":"#DIV/0!"},null,30,{"$f":"INT((E365-1)/Hiteladatok!$U$29)+1","v":3},{"$error":"#DIV/0!"},{"$error":"#DIV/0!"},{"$error":"#DIV/0!"},0,{"$error":"#DIV/0!"},null,{"$error":"#DIV/0!"},{"$error":"#DIV/0!"},{"$error":"#DIV/0!"},0,{"$error":"#DIV/0!"}]
[null,null,null,12,360,{"$error":"#VALUE!"},{"$error":"#DIV/0!"},0,0,{"$error":"#DIV/0!"},0,0,{"$f":"IF(OR(Hiteladatok!$I$8=0,E366>$B$4),0,IF(D366>Hiteladatok!$U$40,0,$B$14+IF(Hiteladatok!$I$10=Hiteladatok!$N$33,$B$15,0)))","v":0},0,{"$error":"#DIV/0!"},null,{"$error":"#DIV/0!"},{"$error":"#DIV/0!"},{"$error":"#DIV/0!"},0,{"$error":"#DIV/0!"},0,{"$error":"#DIV/0!"},null,30,{"$f":"INT((E366-1)/Hiteladatok!$U$29)+1","v":3},{"$error":"#DIV/0!"},{"$error":"#DIV/0!"},{"$error":"#DIV/0!"},0,{"$error":"#DIV/0!"},null,{"$error":"#DIV/0!"},{"$error":"#DIV/0!"},{"$error":"#DIV/0!"},0,{"$error":"#DIV/0!"}]

{"sheet":"OTK","index":14,"n_rows":304,"n_cols":22,"rows_kept":304,"cut":false,"hidden":true,"merged":[[2,6,2,10],[2,12,2,19]]}
[null,null,null,null,null,null,null,null,null,null,null,null,30.41666,null,null,null,null,null,null,3.0844794632713956E-2]
["tőke",{"$f":"Hiteladatok!F15","v":0},null,null,null,null,null,null,null,null,null,null,null,null,null,{"$f":"SUM(P5:P304)","v":{"$error":"#VALUE!"}}]
["kamat",{"$f":"kondíciók!G5","v":0.03},null,{"$f":"kondíciók!B10*1.3+kondíciók!G6","v":5.3790000000000004E-2},null,null,"bírálathoz",null,null,null,null,null,"THM-hez, törlesztési tervhez"]
["futamidő",{"$f":"Hiteladatok!F16","v":240},null,null,"sorszám",null,"nyitó","kamat","törl.","záró","tőketörl",null,"eltelt nap","nyitó","kamat","részlet","záró","számla","havi teher",{"$f":"B2-B17-T304","v":{"$error":"#VALUE!"}},null,"év"]
[{"$f":"Hiteladatok!A18","v":"Folyósítás várható dátuma"},{"$f":"Hiteladatok!F18","v":""},null,null,1,{"$f":"$B$4-E5+1","v":240},{"$f":"B2","v":0},{"$f":"G5*$B$3/12","v":0},{"$f":"IF(F5<=0,0,PMT($B$3/12,F5,-G5))","v":0},{"$f":"G5+H5-I5","v":0},{"$f":"G5-J5","v":0},null,{"$f":"$M$1*E5+$B$9","v":{"$error":"#VALUE!"}},{"$f":"B2","v":0},{"$f":"N5*$B$3/12+C9","v":{"$error":"#VALUE!"}},{"$f":"B11","v":{"$error":"#VALUE!"}},{"$f":"N5+O5-P5","v":{"$error":"#VALUE!"}},{"$f":"IF(E5>$B$4,0,$C$13)","v":{"$error":"#DIV/0!"}},{"$f":"P5+R5","v":{"$error":"#VALUE!"}},{"$f":"S5/(1+$T$1)^(M5/365)","v":{"$error":"#VALUE!"}},null,1]
[{"$f":"Hiteladatok!A19","v":"Törlesztés kezdete"},{"$f":"Hiteladatok!F19","v":""},null,{"$f":"I5","v":0},{"$f":"E5+1","v":2},239,{"$f":"J5","v":0},{"$f":"G6*$B$3/12","v":0},{"$f":"IF(F6<=0,0,PMT($B$3/12,F6,-G6))","v":0},{"$f":"G6+H6-I6","v":0},{"$f":"G6-J6","v":0},null,{"$f":"$M$1*E6+$B$9","v":{"$error":"#VALUE!"}},{"$f":"Q5","v":{"$error":"#VALUE!"}},{"$f":"N6*$B$3/12","v":{"$error":"#VALUE!"}},{"$f":"IF(E6>$B$4,0,$B$10)","v":0},{"$f":"N6+O6-P6","v":{"$error":"#VALUE!"}},{"$f":"IF(E6>$B$4,0,$C$13)","v":{"$error":"#DIV/0!"}},{"$f":"P6+R6","v":{"$error":"#DIV/0!"}},{"$f":"T5+S6/(1+$T$1)^(M6/365)","v":{"$error":"#VALUE!"}},null,1]
["napok száma",{"$f":"B6-B5","v":{"$error":"#VALUE!"}},null,{"$f":"I125","v":0},{"$f":"E6+1","v":3},238,{"$f":"J6","v":0},0,0,{"$f":"G7+H7-I7","v":0},0,null,{"$f":"$M$1*E7+$B$9","v":{"$error":"#VALUE!"}},{"$f":"Q6","v":{"$error":"#VALUE!"}},{"$f":"N7*$B$3/12","v":{"$error":"#VALUE!"}},{"$f":"IF(E7>$B$4,0,$B$10)","v":0},{"$error":"#VALUE!"},{"$f":"IF(E7>$B$4,0,$C$13)","v":{"$error":"#DIV/0!"}},{"$error":"#DIV/0!"},{"$f":"T6+S7/(1+$T$1)^(M7/365)","v":{"$error":"#VALUE!"}},null,1]
["kamatnapok száma",{"$f":"30-DAY(B5)+(MONTH(B6)-MONTH(B5))*30+DAY(B6)-30+(YEAR(B6)-YEAR(B5))*360","v":{"$error":"#VALUE!"}},null,{"$f":"PMT(D3/12,B4,-B2)","v":0},4,237,0,0,0,0,0,null,{"$error":"#VALUE!"},{"$error":"#VALUE!"},{"$error":"#VALUE!"},0,{"$error":"#VALUE!"},{"$error":"#DIV/0!"},{"$error":"#DIV/0!"},{"$error":"#VALUE!"},null,1]
["extra napok száma",{"$f":"B8-30","v":{"$error":"#VALUE!"}},{"$f":"B2*B3*B9/360","v":{"$error":"#VALUE!"}},null,5,236,0,0,0,0,0,null,{"$error":"#VALUE!"},{"$error":"#VALUE!"},{"$error":"#VALUE!"},0,{"$error":"#VALUE!"},{"$error":"#DIV/0!"},{"$error":"#DIV/0!"},{"$error":"#VALUE!"},null,1]
["részlet",{"$f":"PMT(B3/12,B4,-B2)","v":0},null,null,6,235,0,0,0,0,0,null,{"$error":"#VALUE!"},{"$error":"#VALUE!"},{"$error":"#VALUE!"},0,{"$error":"#VALUE!"},{"$error":"#DIV/0!"},{"$error":"#DIV/0!"},{"$error":"#VALUE!"},null,1]
["1. részlet",{"$f":"B10+C9","v":{"$error":"#VALUE!"}},null,null,7,234,0,0,0,0,0,null,{"$error":"#VALUE!"},{"$error":"#VALUE!"},{"$error":"#VALUE!"},0,{"$error":"#VALUE!"},{"$error":"#DIV/0!"},{"$error":"#DIV/0!"},{"$error":"#VALUE!"},null,1]
[null,null,null,null,8,233,0,0,0,0,0,null,{"$error":"#VALUE!"},{"$error":"#VALUE!"},{"$error":"#VALUE!"},0,{"$error":"#VALUE!"},{"$error":"#DIV/0!"},{"$error":"#DIV/0!"},{"$error":"#VALUE!"},null,1]
["számla",{"$f":"MFL!B13","v":{"$error":"#DIV/0!"}},{"$f":"IF(Hiteladatok!D6=\"N\",B13,0)","v":{"$error":"#DIV/0!"}},null,9,232,0,0,0,0,0,null,{"$error":"#VALUE!"},{"$error":"#VALUE!"},{"$error":"#VALUE!"},0,{"$error":"#VALUE!"},{"$error":"#DIV/0!"},{"$error":"#DIV/0!"},{"$error":"#VALUE!"},null,1]
[null,null,null,null,10,231,0,0,0,0,0,null,{"$error":"#VALUE!"},{"$error":"#VALUE!"},{"$error":"#VALUE!"},0,{"$error":"#VALUE!"},{"$error":"#DIV/0!"},{"$error":"#DIV/0!"},{"$error":"#VALUE!"},null,1]
[null,null,null,null,11,230,0,0,0,0,0,null,{"$error":"#VALUE!"},{"$error":"#VALUE!"},{"$error":"#VALUE!"},0,{"$error":"#VALUE!"},{"$error":"#DIV/0!"},{"$error":"#DIV/0!"},{"$error":"#VALUE!"},null,1]
[null,null,null,null,12,229,0,0,0,0,0,null,{"$error":"#VALUE!"},{"$error":"#VALUE!"},{"$error":"#VALUE!"},0,{"$error":"#VALUE!"},{"$error":"#DIV/0!"},{"$error":"#DIV/0!"},{"$error":"#VALUE!"},null,1]
["Kezdeti díjak",{"$f":"SUM(B18:B24)","v":0},null,null,13,228,0,0,0,0,0,null,{"$error":"#VALUE!"},{"$error":"#VALUE!"},{"$error":"#VALUE!"},0,{"$error":"#VALUE!"},{"$error":"#DIV/0!"},{"$error":"#DIV/0!"},{"$error":"#VALUE!"},null,{"$f":"V5+1","v":2}]
["földhivatal",{"$f":"IF(Hiteladatok!B15>0,Hiteladatok!D12/2,Hiteladatok!D12)","v":0},null,null,14,227,0,0,0,0,0,null,{"$error":"#VALUE!"},{"$error":"#VALUE!"},{"$error":"#VALUE!"},0,{"$error":"#VALUE!"},{"$error":"#DIV/0!"},{"$error":"#DIV/0!"},{"$error":"#VALUE!"},null,{"$f":"V6+1","v":2}]
["egyszeri életbiztosítás",null,null,null,15,226,0,0,0,0,0,null,{"$error":"#VALUE!"},{"$error":"#VALUE!"},{"$error":"#VALUE!"},0,{"$error":"#VALUE!"},{"$error":"#DIV/0!"},{"$error":"#DIV/0!"},{"$error":"#VALUE!"},null,2]
["ügynöknek fizetett",{"$f":"IF(Finanszírozás!G18=0,0,Hiteladatok!I12/Finanszírozás!G18)","v":0},null,null,16,225,0,0,0,0,0,null,{"$error":"#VALUE!"},{"$error":"#VALUE!"},{"$error":"#VALUE!"},0,{"$error":"#VALUE!"},{"$error":"#DIV/0!"},{"$error":"#DIV/0!"},{"$error":"#VALUE!"},null,2]
[{"$f":"Hiteladatok!D33","v":"Szerződéskötési díj"},{"$f":"Hiteladatok!F33","v":0},null,null,17,224,0,0,0,0,0,null,{"$error":"#VALUE!"},{"$error":"#VALUE!"},{"$error":"#VALUE!"},0,{"$error":"#VALUE!"},{"$error":"#DIV/0!"},{"$error":"#DIV/0!"},{"$error":"#VALUE!"},null,2]
[{"$f":"Hiteladatok!D34","v":"Értékbecslési díjak"},{"$f":"Hiteladatok!F34","v":0},null,null,18,223,0,0,0,0,0,null,{"$error":"#VALUE!"},{"$error":"#VALUE!"},{"$error":"#VALUE!"},0,{"$error":"#VALUE!"},{"$error":"#DIV/0!"},{"$error":"#DIV/0!"},{"$error":"#VALUE!"},null,2]
[{"$f":"Hiteladatok!D35","v":"Takarnet díjak"},{"$f":"Hiteladatok!F35","v":0},null,null,19,222,0,0,0,0,0,null,{"$error":"#VALUE!"},{"$error":"#VALUE!"},{"$error":"#VALUE!"},0,{"$error":"#VALUE!"},{"$error":"#DIV/0!"},{"$error":"#DIV/0!"},{"$error":"#VALUE!"},null,2]
[{"$f":"Hiteladatok!D36","v":"Tulajdoni hányad ellenőrzés"},{"$f":"Hiteladatok!F36","v":0},null,null,20,221,0,0,0,0,0,null,{"$error":"#VALUE!"},{"$error":"#VALUE!"},{"$error":"#VALUE!"},0,{"$error":"#VALUE!"},{"$error":"#DIV/0!"},{"$error":"#DIV/0!"},{"$error":"#VALUE!"},null,2]
[null,null,null,null,21,220,0,0,0,0,0,null,{"$error":"#VALUE!"},{"$error":"#VALUE!"},{"$error":"#VALUE!"},0,{"$error":"#VALUE!"},{"$error":"#DIV/0!"},{"$error":"#DIV/0!"},{"$error":"#VALUE!"},null,2]
[null,null,null,null,22,219,0,0,0,0,0,null,{"$error":"#VALUE!"},{"$error":"#VALUE!"},{"$error":"#VALUE!"},0,{"$error":"#VALUE!"},{"$error":"#DIV/0!"},{"$error":"#DIV/0!"},{"$error":"#VALUE!"},null,2]
[null,null,null,null,23,218,0,0,0,0,0,null,{"$error":"#VALUE!"},{"$error":"#VALUE!"},{"$error":"#VALUE!"},0,{"$error":"#VALUE!"},{"$error":"#DIV/0!"},{"$error":"#DIV/0!"},{"$error":"#VALUE!"},null,2]
[null,null,null,null,24,217,0,0,0,0,0,null,{"$error":"#VALUE!"},{"$error":"#VALUE!"},{"$error":"#VALUE!"},0,{"$error":"#VALUE!"},{"$error":"#DIV/0!"},{"$error":"#DIV/0!"},{"$error":"#VALUE!"},null,2]
[null,null,null,null,25,216,0,0,0,0,0,null,{"$error":"#VALUE!"},{"$error":"#VALUE!"},{"$error":"#VALUE!"},0,{"$error":"#VALUE!"},{"$error":"#DIV/0!"},{"$error":"#DIV/0!"},{"$error":"#VALUE!"},null,3]
[null,null,null,null,26,215,0,0,0,0,0,null,{"$error":"#VALUE!"},{"$error":"#VALUE!"},{"$error":"#VALUE!"},0,{"$error":"#VALUE!"},{"$error":"#DIV/0!"},{"$error":"#DIV/0!"},{"$error":"#VALUE!"},null,3]
[null,null,null,null,27,214,0,0,0,0,0,null,{"$error":"#VALUE!"},{"$error":"#VALUE!"},{"$error":"#VALUE!"},0,{"$error":"#VALUE!"},{"$error":"#DIV/0!"},{"$error":"#DIV/0!"},{"$error":"#VALUE!"},null,3]
[null,null,null,null,28,213,0,0,0,0,0,null,{"$error":"#VALUE!"},{"$error":"#VALUE!"},{"$error":"#VALUE!"},0,{"$error":"#VALUE!"},{"$error":"#DIV/0!"},{"$error":"#DIV/0!"},{"$error":"#VALUE!"},null,3]
[null,null,null,null,29,212,0,0,0,0,0,null,{"$error":"#VALUE!"},{"$error":"#VALUE!"},{"$error":"#VALUE!"},0,{"$error":"#VALUE!"},{"$error":"#DIV/0!"},{"$error":"#DIV/0!"},{"$error":"#VALUE!"},null,3]
[null,null,null,null,30,211,0,0,0,0,0,null,{"$error":"#VALUE!"},{"$error":"#VALUE!"},{"$error":"#VALUE!"},0,{"$error":"#VALUE!"},{"$error":"#DIV/0!"},{"$error":"#DIV/0!"},{"$error":"#VALUE!"},null,3]
[null,null,null,null,31,210,0,0,0,0,0,null,{"$error":"#VALUE!"},{"$error":"#VALUE!"},{"$error":"#VALUE!"},0,{"$error":"#VALUE!"},{"$error":"#DIV/0!"},{"$error":"#DIV/0!"},{"$error":"#VALUE!"},null,3]
[null,null,null,null,32,209,0,0,0,0,0,null,{"$error":"#VALUE!"},{"$error":"#VALUE!"},{"$error":"#VALUE!"},0,{"$error":"#VALUE!"},{"$error":"#DIV/0!"},{"$error":"#DIV/0!"},{"$error":"#VALUE!"},null,3]
[null,null,null,null,33,208,0,{"$f":"G37*$B$3/12","v":0},{"$f":"IF(F37<=0,0,PMT($B$3/12,F37,-G37))","v":0},0,0,null,{"$error":"#VALUE!"},{"$error":"#VALUE!"},{"$error":"#VALUE!"},0,{"$error":"#VALUE!"},{"$error":"#DIV/0!"},{"$error":"#DIV/0!"},{"$error":"#VALUE!"},null,3]
[null,null,null,null,34,207,0,0,0,0,0,null,{"$error":"#VALUE!"},{"$error":"#VALUE!"},{"$error":"#VALUE!"},0,{"$error":"#VALUE!"},{"$error":"#DIV/0!"},{"$error":"#DIV/0!"},{"$error":"#VALUE!"},null,3]
[null,null,null,null,35,206,0,0,0,0,0,null,{"$error":"#VALUE!"},{"$error":"#VALUE!"},{"$error":"#VALUE!"},0,{"$error":"#VALUE!"},{"$error":"#DIV/0!"},{"$error":"#DIV/0!"},{"$error":"#VALUE!"},null,3]
[null,null,null,null,36,205,0,0,0,0,0,null,{"$error":"#VALUE!"},{"$error":"#VALUE!"},{"$error":"#VALUE!"},0,{"$error":"#VALUE!"},{"$error":"#DIV/0!"},{"$error":"#DIV/0!"},{"$error":"#VALUE!"},null,3]
[null,null,null,null,37,204,0,0,0,0,0,null,{"$error":"#VALUE!"},{"$error":"#VALUE!"},{"$error":"#VALUE!"},0,{"$error":"#VALUE!"},{"$error":"#DIV/0!"},{"$error":"#DIV/0!"},{"$error":"#VALUE!"},null,4]
[null,null,null,null,38,203,0,0,0,0,0,null,{"$error":"#VALUE!"},{"$error":"#VALUE!"},{"$error":"#VALUE!"},0,{"$error":"#VALUE!"},{"$error":"#DIV/0!"},{"$error":"#DIV/0!"},{"$error":"#VALUE!"},null,4]
[null,null,null,null,39,202,0,0,0,0,0,null,{"$error":"#VALUE!"},{"$error":"#VALUE!"},{"$error":"#VALUE!"},0,{"$error":"#VALUE!"},{"$error":"#DIV/0!"},{"$error":"#DIV/0!"},{"$error":"#VALUE!"},null,4]
[null,null,null,null,40,201,0,0,0,0,0,null,{"$error":"#VALUE!"},{"$error":"#VALUE!"},{"$error":"#VALUE!"},0,{"$error":"#VALUE!"},{"$error":"#DIV/0!"},{"$error":"#DIV/0!"},{"$error":"#VALUE!"},null,4]
[null,null,null,null,41,200,0,0,0,0,0,null,{"$error":"#VALUE!"},{"$error":"#VALUE!"},{"$error":"#VALUE!"},0,{"$error":"#VALUE!"},{"$error":"#DIV/0!"},{"$error":"#DIV/0!"},{"$error":"#VALUE!"},null,4]
[null,null,null,null,42,199,0,0,0,0,0,null,{"$error":"#VALUE!"},{"$error":"#VALUE!"},{"$error":"#VALUE!"},0,{"$error":"#VALUE!"},{"$error":"#DIV/0!"},{"$error":"#DIV/0!"},{"$error":"#VALUE!"},null,4]
[null,null,null,null,43,198,0,0,0,0,0,null,{"$error":"#VALUE!"},{"$error":"#VALUE!"},{"$error":"#VALUE!"},0,{"$error":"#VALUE!"},{"$error":"#DIV/0!"},{"$error":"#DIV/0!"},{"$error":"#VALUE!"},null,4]
[null,null,null,null,44,197,0,0,0,0,0,null,{"$error":"#VALUE!"},{"$error":"#VALUE!"},{"$error":"#VALUE!"},0,{"$error":"#VALUE!"},{"$error":"#DIV/0!"},{"$error":"#DIV/0!"},{"$error":"#VALUE!"},null,4]
[null,null,null,null,45,196,0,0,0,0,0,null,{"$error":"#VALUE!"},{"$error":"#VALUE!"},{"$error":"#VALUE!"},0,{"$error":"#VALUE!"},{"$error":"#DIV/0!"},{"$error":"#DIV/0!"},{"$error":"#VALUE!"},null,4]
[null,null,null,null,46,195,0,0,0,0,0,null,{"$error":"#VALUE!"},{"$error":"#VALUE!"},{"$error":"#VALUE!"},0,{"$error":"#VALUE!"},{"$error":"#DIV/0!"},{"$error":"#DIV/0!"},{"$error":"#VALUE!"},null,4]
[null,null,null,null,47,194,0,0,0,0,0,null,{"$error":"#VALUE!"},{"$error":"#VALUE!"},{"$error":"#VALUE!"},0,{"$error":"#VALUE!"},{"$error":"#DIV/0!"},{"$error":"#DIV/0!"},{"$error":"#VALUE!"},null,4]
[null,null,null,null,48,193,0,0,0,0,0,null,{"$error":"#VALUE!"},{"$error":"#VALUE!"},{"$error":"#VALUE!"},0,{"$error":"#VALUE!"},{"$error":"#DIV/0!"},{"$error":"#DIV/0!"},{"$error":"#VALUE!"},null,4]
[null,null,null,null,49,192,0,0,0,0,0,null,{"$error":"#VALUE!"},{"$error":"#VALUE!"},{"$error":"#VALUE!"},0,{"$error":"#VALUE!"},{"$error":"#DIV/0!"},{"$error":"#DIV/0!"},{"$error":"#VALUE!"},null,5]
[null,null,null,null,50,191,0,0,0,0,0,null,{"$error":"#VALUE!"},{"$error":"#VALUE!"},{"$error":"#VALUE!"},0,{"$error":"#VALUE!"},{"$error":"#DIV/0!"},{"$error":"#DIV/0!"},{"$error":"#VALUE!"},null,5]
[null,null,null,null,51,190,0,0,0,0,0,null,{"$error":"#VALUE!"},{"$error":"#VALUE!"},{"$error":"#VALUE!"},0,{"$error":"#VALUE!"},{"$error":"#DIV/0!"},{"$error":"#DIV/0!"},{"$error":"#VALUE!"},null,5]
[null,null,null,null,52,189,0,0,0,0,0,null,{"$error":"#VALUE!"},{"$error":"#VALUE!"},{"$error":"#VALUE!"},0,{"$error":"#VALUE!"},{"$error":"#DIV/0!"},{"$error":"#DIV/0!"},{"$error":"#VALUE!"},null,5]
[null,null,null,null,53,188,0,0,0,0,0,null,{"$error":"#VALUE!"},{"$error":"#VALUE!"},{"$error":"#VALUE!"},0,{"$error":"#VALUE!"},{"$error":"#DIV/0!"},{"$error":"#DIV/0!"},{"$error":"#VALUE!"},null,5]
[null,null,null,null,54,187,0,0,0,0,0,null,{"$error":"#VALUE!"},{"$error":"#VALUE!"},{"$error":"#VALUE!"},0,{"$error":"#VALUE!"},{"$error":"#DIV/0!"},{"$error":"#DIV/0!"},{"$error":"#VALUE!"},null,5]
[null,null,null,null,55,186,0,0,0,0,0,null,{"$error":"#VALUE!"},{"$error":"#VALUE!"},{"$error":"#VALUE!"},0,{"$error":"#VALUE!"},{"$error":"#DIV/0!"},{"$error":"#DIV/0!"},{"$error":"#VALUE!"},null,5]
[null,null,null,null,56,185,0,0,0,0,0,null,{"$error":"#VALUE!"},{"$error":"#VALUE!"},{"$error":"#VALUE!"},0,{"$error":"#VALUE!"},{"$error":"#DIV/0!"},{"$error":"#DIV/0!"},{"$error":"#VALUE!"},null,5]
[null,null,null,null,57,184,0,0,0,0,0,null,{"$error":"#VALUE!"},{"$error":"#VALUE!"},{"$error":"#VALUE!"},0,{"$error":"#VALUE!"},{"$error":"#DIV/0!"},{"$error":"#DIV/0!"},{"$error":"#VALUE!"},null,5]
[null,null,null,null,58,183,0,0,0,0,0,null,{"$error":"#VALUE!"},{"$error":"#VALUE!"},{"$error":"#VALUE!"},0,{"$error":"#VALUE!"},{"$error":"#DIV/0!"},{"$error":"#DIV/0!"},{"$error":"#VALUE!"},null,5]
[null,null,null,null,59,182,0,0,0,0,0,null,{"$error":"#VALUE!"},{"$error":"#VALUE!"},{"$error":"#VALUE!"},0,{"$error":"#VALUE!"},{"$error":"#DIV/0!"},{"$error":"#DIV/0!"},{"$error":"#VALUE!"},null,5]
[null,null,null,null,60,181,0,0,0,0,0,null,{"$error":"#VALUE!"},{"$error":"#VALUE!"},{"$error":"#VALUE!"},0,{"$error":"#VALUE!"},{"$error":"#DIV/0!"},{"$error":"#DIV/0!"},{"$error":"#VALUE!"},null,5]
[null,null,null,null,61,180,0,0,0,0,0,null,{"$error":"#VALUE!"},{"$error":"#VALUE!"},{"$error":"#VALUE!"},0,{"$error":"#VALUE!"},{"$error":"#DIV/0!"},{"$error":"#DIV/0!"},{"$error":"#VALUE!"},null,6]
[null,null,null,null,62,179,0,0,0,0,0,null,{"$error":"#VALUE!"},{"$error":"#VALUE!"},{"$error":"#VALUE!"},0,{"$error":"#VALUE!"},{"$error":"#DIV/0!"},{"$error":"#DIV/0!"},{"$error":"#VALUE!"},null,6]
[null,null,null,null,63,178,0,0,0,0,0,null,{"$error":"#VALUE!"},{"$error":"#VALUE!"},{"$error":"#VALUE!"},0,{"$error":"#VALUE!"},{"$error":"#DIV/0!"},{"$error":"#DIV/0!"},{"$error":"#VALUE!"},null,6]
[null,null,null,null,64,177,0,0,0,0,0,null,{"$error":"#VALUE!"},{"$error":"#VALUE!"},{"$error":"#VALUE!"},0,{"$error":"#VALUE!"},{"$error":"#DIV/0!"},{"$error":"#DIV/0!"},{"$error":"#VALUE!"},null,6]
[null,null,null,null,65,{"$f":"$B$4-E69+1","v":176},0,{"$f":"G69*$B$3/12","v":0},{"$f":"IF(F69<=0,0,PMT($B$3/12,F69,-G69))","v":0},0,0,null,{"$error":"#VALUE!"},{"$error":"#VALUE!"},{"$error":"#VALUE!"},0,{"$error":"#VALUE!"},{"$error":"#DIV/0!"},{"$error":"#DIV/0!"},{"$error":"#VALUE!"},null,6]
[null,null,null,null,66,175,0,0,0,0,{"$f":"G70-J70","v":0},null,{"$error":"#VALUE!"},{"$error":"#VALUE!"},{"$error":"#VALUE!"},0,{"$f":"N70+O70-P70","v":{"$error":"#VALUE!"}},{"$error":"#DIV/0!"},{"$f":"P70+R70","v":{"$error":"#DIV/0!"}},{"$error":"#VALUE!"},null,6]
[null,null,null,null,{"$f":"E70+1","v":67},174,{"$f":"J70","v":0},0,0,{"$f":"G71+H71-I71","v":0},0,null,{"$f":"$M$1*E71+$B$9","v":{"$error":"#VALUE!"}},{"$f":"Q70","v":{"$error":"#VALUE!"}},{"$f":"N71*$B$3/12","v":{"$error":"#VALUE!"}},{"$f":"IF(E71>$B$4,0,$B$10)","v":0},{"$error":"#VALUE!"},{"$f":"IF(E71>$B$4,0,$C$13)","v":{"$error":"#DIV/0!"}},{"$error":"#DIV/0!"},{"$f":"T70+S71/(1+$T$1)^(M71/365)","v":{"$error":"#VALUE!"}},null,6]
[null,null,null,null,68,173,0,0,0,0,0,null,{"$error":"#VALUE!"},{"$error":"#VALUE!"},{"$error":"#VALUE!"},0,{"$error":"#VALUE!"},{"$error":"#DIV/0!"},{"$error":"#DIV/0!"},{"$error":"#VALUE!"},null,6]
[null,null,null,null,69,172,0,0,0,0,0,null,{"$error":"#VALUE!"},{"$error":"#VALUE!"},{"$error":"#VALUE!"},0,{"$error":"#VALUE!"},{"$error":"#DIV/0!"},{"$error":"#DIV/0!"},{"$error":"#VALUE!"},null,6]
[null,null,null,null,70,171,0,0,0,0,0,null,{"$error":"#VALUE!"},{"$error":"#VALUE!"},{"$error":"#VALUE!"},0,{"$error":"#VALUE!"},{"$error":"#DIV/0!"},{"$error":"#DIV/0!"},{"$error":"#VALUE!"},null,6]
[null,null,null,null,71,170,0,0,0,0,0,null,{"$error":"#VALUE!"},{"$error":"#VALUE!"},{"$error":"#VALUE!"},0,{"$error":"#VALUE!"},{"$error":"#DIV/0!"},{"$error":"#DIV/0!"},{"$error":"#VALUE!"},null,6]
[null,null,null,null,72,169,0,0,0,0,0,null,{"$error":"#VALUE!"},{"$error":"#VALUE!"},{"$error":"#VALUE!"},0,{"$error":"#VALUE!"},{"$error":"#DIV/0!"},{"$error":"#DIV/0!"},{"$error":"#VALUE!"},null,6]
[null,null,null,null,73,168,0,0,0,0,0,null,{"$error":"#VALUE!"},{"$error":"#VALUE!"},{"$error":"#VALUE!"},0,{"$error":"#VALUE!"},{"$error":"#DIV/0!"},{"$error":"#DIV/0!"},{"$error":"#VALUE!"},null,7]
[null,null,null,null,74,167,0,0,0,0,0,null,{"$error":"#VALUE!"},{"$error":"#VALUE!"},{"$error":"#VALUE!"},0,{"$error":"#VALUE!"},{"$error":"#DIV/0!"},{"$error":"#DIV/0!"},{"$error":"#VALUE!"},null,7]
[null,null,null,null,75,166,0,0,0,0,0,null,{"$error":"#VALUE!"},{"$error":"#VALUE!"},{"$error":"#VALUE!"},0,{"$error":"#VALUE!"},{"$error":"#DIV/0!"},{"$error":"#DIV/0!"},{"$error":"#VALUE!"},null,7]
[null,null,null,null,76,165,0,0,0,0,0,null,{"$error":"#VALUE!"},{"$error":"#VALUE!"},{"$error":"#VALUE!"},0,{"$error":"#VALUE!"},{"$error":"#DIV/0!"},{"$error":"#DIV/0!"},{"$error":"#VALUE!"},null,7]
[null,null,null,null,77,164,0,0,0,0,0,null,{"$error":"#VALUE!"},{"$error":"#VALUE!"},{"$error":"#VALUE!"},0,{"$error":"#VALUE!"},{"$error":"#DIV/0!"},{"$error":"#DIV/0!"},{"$error":"#VALUE!"},null,7]
[null,null,null,null,78,163,0,0,0,0,0,null,{"$error":"#VALUE!"},{"$error":"#VALUE!"},{"$error":"#VALUE!"},0,{"$error":"#VALUE!"},{"$error":"#DIV/0!"},{"$error":"#DIV/0!"},{"$error":"#VALUE!"},null,{"$f":"V70+1","v":7}]
[null,null,null,null,79,162,0,0,0,0,0,null,{"$error":"#VALUE!"},{"$error":"#VALUE!"},{"$error":"#VALUE!"},0,{"$error":"#VALUE!"},{"$error":"#DIV/0!"},{"$error":"#DIV/0!"},{"$error":"#VALUE!"},null,7]
[null,null,null,null,80,161,0,0,0,0,0,null,{"$error":"#VALUE!"},{"$error":"#VALUE!"},{"$error":"#VALUE!"},0,{"$error":"#VALUE!"},{"$error":"#DIV/0!"},{"$error":"#DIV/0!"},{"$error":"#VALUE!"},null,7]
[null,null,null,null,81,160,0,0,0,0,0,null,{"$error":"#VALUE!"},{"$error":"#VALUE!"},{"$error":"#VALUE!"},0,{"$error":"#VALUE!"},{"$error":"#DIV/0!"},{"$error":"#DIV/0!"},{"$error":"#VALUE!"},null,7]
[null,null,null,null,82,159,0,0,0,0,0,null,{"$error":"#VALUE!"},{"$error":"#VALUE!"},{"$error":"#VALUE!"},0,{"$error":"#VALUE!"},{"$error":"#DIV/0!"},{"$error":"#DIV/0!"},{"$error":"#VALUE!"},null,7]
[null,null,null,null,83,158,0,0,0,0,0,null,{"$error":"#VALUE!"},{"$error":"#VALUE!"},{"$error":"#VALUE!"},0,{"$error":"#VALUE!"},{"$error":"#DIV/0!"},{"$error":"#DIV/0!"},{"$error":"#VALUE!"},null,7]
[null,null,null,null,84,157,0,0,0,0,0,null,{"$error":"#VALUE!"},{"$error":"#VALUE!"},{"$error":"#VALUE!"},0,{"$error":"#VALUE!"},{"$error":"#DIV/0!"},{"$error":"#DIV/0!"},{"$error":"#VALUE!"},null,7]
[null,null,null,null,85,156,0,0,0,0,0,null,{"$error":"#VALUE!"},{"$error":"#VALUE!"},{"$error":"#VALUE!"},0,{"$error":"#VALUE!"},{"$error":"#DIV/0!"},{"$error":"#DIV/0!"},{"$error":"#VALUE!"},null,8]
[null,null,null,null,86,155,0,0,0,0,0,null,{"$error":"#VALUE!"},{"$error":"#VALUE!"},{"$error":"#VALUE!"},0,{"$error":"#VALUE!"},{"$error":"#DIV/0!"},{"$error":"#DIV/0!"},{"$error":"#VALUE!"},null,8]
[null,null,null,null,87,154,0,0,0,0,0,null,{"$error":"#VALUE!"},{"$error":"#VALUE!"},{"$error":"#VALUE!"},0,{"$error":"#VALUE!"},{"$error":"#DIV/0!"},{"$error":"#DIV/0!"},{"$error":"#VALUE!"},null,8]
[null,null,null,null,88,153,0,0,0,0,0,null,{"$error":"#VALUE!"},{"$error":"#VALUE!"},{"$error":"#VALUE!"},0,{"$error":"#VALUE!"},{"$error":"#DIV/0!"},{"$error":"#DIV/0!"},{"$error":"#VALUE!"},null,8]
[null,null,null,null,89,152,0,0,0,0,0,null,{"$error":"#VALUE!"},{"$error":"#VALUE!"},{"$error":"#VALUE!"},0,{"$error":"#VALUE!"},{"$error":"#DIV/0!"},{"$error":"#DIV/0!"},{"$error":"#VALUE!"},null,8]
[null,null,null,null,90,151,0,0,0,0,0,null,{"$error":"#VALUE!"},{"$error":"#VALUE!"},{"$error":"#VALUE!"},0,{"$error":"#VALUE!"},{"$error":"#DIV/0!"},{"$error":"#DIV/0!"},{"$error":"#VALUE!"},null,8]
[null,null,null,null,91,150,0,0,0,0,0,null,{"$error":"#VALUE!"},{"$error":"#VALUE!"},{"$error":"#VALUE!"},0,{"$error":"#VALUE!"},{"$error":"#DIV/0!"},{"$error":"#DIV/0!"},{"$error":"#VALUE!"},null,8]
[null,null,null,null,92,149,0,0,0,0,0,null,{"$error":"#VALUE!"},{"$error":"#VALUE!"},{"$error":"#VALUE!"},0,{"$error":"#VALUE!"},{"$error":"#DIV/0!"},{"$error":"#DIV/0!"},{"$error":"#VALUE!"},null,8]
[null,null,null,null,93,148,0,0,0,0,0,null,{"$error":"#VALUE!"},{"$error":"#VALUE!"},{"$error":"#VALUE!"},0,{"$error":"#VALUE!"},{"$error":"#DIV/0!"},{"$error":"#DIV/0!"},{"$error":"#VALUE!"},null,8]
[null,null,null,null,94,147,0,0,0,0,0,null,{"$error":"#VALUE!"},{"$error":"#VALUE!"},{"$error":"#VALUE!"},0,{"$error":"#VALUE!"},{"$error":"#DIV/0!"},{"$error":"#DIV/0!"},{"$error":"#VALUE!"},null,8]
[null,null,null,null,95,146,0,0,0,0,0,null,{"$error":"#VALUE!"},{"$error":"#VALUE!"},{"$error":"#VALUE!"},0,{"$error":"#VALUE!"},{"$error":"#DIV/0!"},{"$error":"#DIV/0!"},{"$error":"#VALUE!"},null,8]
[null,null,null,null,96,145,0,0,0,0,0,null,{"$error":"#VALUE!"},{"$error":"#VALUE!"},{"$error":"#VALUE!"},0,{"$error":"#VALUE!"},{"$error":"#DIV/0!"},{"$error":"#DIV/0!"},{"$error":"#VALUE!"},null,8]
[null,null,null,null,97,144,0,{"$f":"G101*$B$3/12","v":0},{"$f":"IF(F101<=0,0,PMT($B$3/12,F101,-G101))","v":0},0,0,null,{"$error":"#VALUE!"},{"$error":"#VALUE!"},{"$error":"#VALUE!"},0,{"$error":"#VALUE!"},{"$error":"#DIV/0!"},{"$error":"#DIV/0!"},{"$error":"#VALUE!"},null,9]
[null,null,null,null,98,143,0,0,0,0,0,null,{"$error":"#VALUE!"},{"$error":"#VALUE!"},{"$error":"#VALUE!"},0,{"$error":"#VALUE!"},{"$error":"#DIV/0!"},{"$error":"#DIV/0!"},{"$error":"#VALUE!"},null,9]
[null,null,null,null,99,142,0,0,0,0,0,null,{"$error":"#VALUE!"},{"$error":"#VALUE!"},{"$error":"#VALUE!"},0,{"$error":"#VALUE!"},{"$error":"#DIV/0!"},{"$error":"#DIV/0!"},{"$error":"#VALUE!"},null,9]
[null,null,null,null,100,141,0,0,0,0,0,null,{"$error":"#VALUE!"},{"$error":"#VALUE!"},{"$error":"#VALUE!"},0,{"$error":"#VALUE!"},{"$error":"#DIV/0!"},{"$error":"#DIV/0!"},{"$error":"#VALUE!"},null,9]
[null,null,null,null,101,140,0,0,0,0,0,null,{"$error":"#VALUE!"},{"$error":"#VALUE!"},{"$error":"#VALUE!"},0,{"$error":"#VALUE!"},{"$error":"#DIV/0!"},{"$error":"#DIV/0!"},{"$error":"#VALUE!"},null,9]
[null,null,null,null,102,139,0,0,0,0,0,null,{"$error":"#VALUE!"},{"$error":"#VALUE!"},{"$error":"#VALUE!"},0,{"$error":"#VALUE!"},{"$error":"#DIV/0!"},{"$error":"#DIV/0!"},{"$error":"#VALUE!"},null,9]
[null,null,null,null,103,138,0,0,0,0,0,null,{"$error":"#VALUE!"},{"$error":"#VALUE!"},{"$error":"#VALUE!"},0,{"$error":"#VALUE!"},{"$error":"#DIV/0!"},{"$error":"#DIV/0!"},{"$error":"#VALUE!"},null,9]
[null,null,null,null,104,137,0,0,0,0,0,null,{"$error":"#VALUE!"},{"$error":"#VALUE!"},{"$error":"#VALUE!"},0,{"$error":"#VALUE!"},{"$error":"#DIV/0!"},{"$error":"#DIV/0!"},{"$error":"#VALUE!"},null,9]
[null,null,null,null,105,136,0,0,0,0,0,null,{"$error":"#VALUE!"},{"$error":"#VALUE!"},{"$error":"#VALUE!"},0,{"$error":"#VALUE!"},{"$error":"#DIV/0!"},{"$error":"#DIV/0!"},{"$error":"#VALUE!"},null,9]
[null,null,null,null,106,135,0,0,0,0,0,null,{"$error":"#VALUE!"},{"$error":"#VALUE!"},{"$error":"#VALUE!"},0,{"$error":"#VALUE!"},{"$error":"#DIV/0!"},{"$error":"#DIV/0!"},{"$error":"#VALUE!"},null,9]
[null,null,null,null,107,134,0,0,0,0,0,null,{"$error":"#VALUE!"},{"$error":"#VALUE!"},{"$error":"#VALUE!"},0,{"$error":"#VALUE!"},{"$error":"#DIV/0!"},{"$error":"#DIV/0!"},{"$error":"#VALUE!"},null,9]
[null,null,null,null,108,133,0,0,0,0,0,null,{"$error":"#VALUE!"},{"$error":"#VALUE!"},{"$error":"#VALUE!"},0,{"$error":"#VALUE!"},{"$error":"#DIV/0!"},{"$error":"#DIV/0!"},{"$error":"#VALUE!"},null,9]
[null,null,null,null,109,132,0,0,0,0,0,null,{"$error":"#VALUE!"},{"$error":"#VALUE!"},{"$error":"#VALUE!"},0,{"$error":"#VALUE!"},{"$error":"#DIV/0!"},{"$error":"#DIV/0!"},{"$error":"#VALUE!"},null,10]
[null,null,null,null,110,131,0,0,0,0,0,null,{"$error":"#VALUE!"},{"$error":"#VALUE!"},{"$error":"#VALUE!"},0,{"$error":"#VALUE!"},{"$error":"#DIV/0!"},{"$error":"#DIV/0!"},{"$error":"#VALUE!"},null,10]
[null,null,null,null,111,130,0,0,0,0,0,null,{"$error":"#VALUE!"},{"$error":"#VALUE!"},{"$error":"#VALUE!"},0,{"$error":"#VALUE!"},{"$error":"#DIV/0!"},{"$error":"#DIV/0!"},{"$error":"#VALUE!"},null,10]
[null,null,null,null,112,129,0,0,0,0,0,null,{"$error":"#VALUE!"},{"$error":"#VALUE!"},{"$error":"#VALUE!"},0,{"$error":"#VALUE!"},{"$error":"#DIV/0!"},{"$error":"#DIV/0!"},{"$error":"#VALUE!"},null,10]
[null,null,null,null,113,128,0,0,0,0,0,null,{"$error":"#VALUE!"},{"$error":"#VALUE!"},{"$error":"#VALUE!"},0,{"$error":"#VALUE!"},{"$error":"#DIV/0!"},{"$error":"#DIV/0!"},{"$error":"#VALUE!"},null,10]
[null,null,null,null,114,127,0,0,0,0,0,null,{"$error":"#VALUE!"},{"$error":"#VALUE!"},{"$error":"#VALUE!"},0,{"$error":"#VALUE!"},{"$error":"#DIV/0!"},{"$error":"#DIV/0!"},{"$error":"#VALUE!"},null,10]
[null,null,null,null,115,126,0,0,0,0,0,null,{"$error":"#VALUE!"},{"$error":"#VALUE!"},{"$error":"#VALUE!"},0,{"$error":"#VALUE!"},{"$error":"#DIV/0!"},{"$error":"#DIV/0!"},{"$error":"#VALUE!"},null,10]
[null,null,null,null,116,125,0,0,0,0,0,null,{"$error":"#VALUE!"},{"$error":"#VALUE!"},{"$error":"#VALUE!"},0,{"$error":"#VALUE!"},{"$error":"#DIV/0!"},{"$error":"#DIV/0!"},{"$error":"#VALUE!"},null,10]
[null,null,null,null,117,124,0,0,0,0,0,null,{"$error":"#VALUE!"},{"$error":"#VALUE!"},{"$error":"#VALUE!"},0,{"$error":"#VALUE!"},{"$error":"#DIV/0!"},{"$error":"#DIV/0!"},{"$error":"#VALUE!"},null,10]
[null,null,null,null,118,123,0,0,0,0,0,null,{"$error":"#VALUE!"},{"$error":"#VALUE!"},{"$error":"#VALUE!"},0,{"$error":"#VALUE!"},{"$error":"#DIV/0!"},{"$error":"#DIV/0!"},{"$error":"#VALUE!"},null,10]
[null,null,null,null,119,122,0,0,0,0,0,null,{"$error":"#VALUE!"},{"$error":"#VALUE!"},{"$error":"#VALUE!"},0,{"$error":"#VALUE!"},{"$error":"#DIV/0!"},{"$error":"#DIV/0!"},{"$error":"#VALUE!"},null,10]
[null,null,null,null,120,121,0,0,0,0,0,null,{"$error":"#VALUE!"},{"$error":"#VALUE!"},{"$error":"#VALUE!"},0,{"$error":"#VALUE!"},{"$error":"#DIV/0!"},{"$error":"#DIV/0!"},{"$error":"#VALUE!"},null,10]
[null,null,null,null,121,120,0,{"$f":"G125*$D$3/12","v":0},{"$f":"IF(F125<=0,0,PMT($D$3/12,F125,-G125))","v":0},0,0,null,{"$error":"#VALUE!"},{"$error":"#VALUE!"},{"$error":"#VALUE!"},0,{"$error":"#VALUE!"},{"$error":"#DIV/0!"},{"$error":"#DIV/0!"},{"$error":"#VALUE!"},null,11]
[null,null,null,null,122,119,0,0,0,0,0,null,{"$error":"#VALUE!"},{"$error":"#VALUE!"},{"$error":"#VALUE!"},0,{"$error":"#VALUE!"},{"$error":"#DIV/0!"},{"$error":"#DIV/0!"},{"$error":"#VALUE!"},null,11]
[null,null,null,null,123,118,0,0,0,0,0,null,{"$error":"#VALUE!"},{"$error":"#VALUE!"},{"$error":"#VALUE!"},0,{"$error":"#VALUE!"},{"$error":"#DIV/0!"},{"$error":"#DIV/0!"},{"$error":"#VALUE!"},null,11]
[null,null,null,null,124,117,0,0,0,0,0,null,{"$error":"#VALUE!"},{"$error":"#VALUE!"},{"$error":"#VALUE!"},0,{"$error":"#VALUE!"},{"$error":"#DIV/0!"},{"$error":"#DIV/0!"},{"$error":"#VALUE!"},null,11]
[null,null,null,null,125,116,0,0,0,0,0,null,{"$error":"#VALUE!"},{"$error":"#VALUE!"},{"$error":"#VALUE!"},0,{"$error":"#VALUE!"},{"$error":"#DIV/0!"},{"$error":"#DIV/0!"},{"$error":"#VALUE!"},null,11]
[null,null,null,null,126,115,0,0,0,0,0,null,{"$error":"#VALUE!"},{"$error":"#VALUE!"},{"$error":"#VALUE!"},0,{"$error":"#VALUE!"},{"$error":"#DIV/0!"},{"$error":"#DIV/0!"},{"$error":"#VALUE!"},null,11]
[null,null,null,null,127,114,0,0,0,0,0,null,{"$error":"#VALUE!"},{"$error":"#VALUE!"},{"$error":"#VALUE!"},0,{"$error":"#VALUE!"},{"$error":"#DIV/0!"},{"$error":"#DIV/0!"},{"$error":"#VALUE!"},null,11]
[null,null,null,null,128,113,0,0,0,0,0,null,{"$error":"#VALUE!"},{"$error":"#VALUE!"},{"$error":"#VALUE!"},0,{"$error":"#VALUE!"},{"$error":"#DIV/0!"},{"$error":"#DIV/0!"},{"$error":"#VALUE!"},null,11]
[null,null,null,null,129,{"$f":"$B$4-E133+1","v":112},0,0,0,0,0,null,{"$error":"#VALUE!"},{"$error":"#VALUE!"},{"$error":"#VALUE!"},0,{"$error":"#VALUE!"},{"$error":"#DIV/0!"},{"$error":"#DIV/0!"},{"$error":"#VALUE!"},null,11]
[null,null,null,null,130,111,0,0,0,0,{"$f":"G134-J134","v":0},null,{"$error":"#VALUE!"},{"$error":"#VALUE!"},{"$error":"#VALUE!"},0,{"$f":"N134+O134-P134","v":{"$error":"#VALUE!"}},{"$error":"#DIV/0!"},{"$f":"P134+R134","v":{"$error":"#DIV/0!"}},{"$error":"#VALUE!"},null,11]
[null,null,null,null,{"$f":"E134+1","v":131},110,{"$f":"J134","v":0},0,0,{"$f":"G135+H135-I135","v":0},0,null,{"$f":"$M$1*E135+$B$9","v":{"$error":"#VALUE!"}},{"$f":"Q134","v":{"$error":"#VALUE!"}},{"$f":"N135*$B$3/12","v":{"$error":"#VALUE!"}},{"$f":"IF(E135>$B$4,0,$B$10)","v":0},{"$error":"#VALUE!"},{"$f":"IF(E135>$B$4,0,$C$13)","v":{"$error":"#DIV/0!"}},{"$error":"#DIV/0!"},{"$f":"T134+S135/(1+$T$1)^(M135/365)","v":{"$error":"#VALUE!"}},null,11]
[null,null,null,null,132,109,0,0,0,0,0,null,{"$error":"#VALUE!"},{"$error":"#VALUE!"},{"$error":"#VALUE!"},0,{"$error":"#VALUE!"},{"$error":"#DIV/0!"},{"$error":"#DIV/0!"},{"$error":"#VALUE!"},null,11]
[null,null,null,null,133,108,0,0,0,0,0,null,{"$error":"#VALUE!"},{"$error":"#VALUE!"},{"$error":"#VALUE!"},0,{"$error":"#VALUE!"},{"$error":"#DIV/0!"},{"$error":"#DIV/0!"},{"$error":"#VALUE!"},null,12]
[null,null,null,null,134,107,0,0,0,0,0,null,{"$error":"#VALUE!"},{"$error":"#VALUE!"},{"$error":"#VALUE!"},0,{"$error":"#VALUE!"},{"$error":"#DIV/0!"},{"$error":"#DIV/0!"},{"$error":"#VALUE!"},null,12]
[null,null,null,null,135,106,0,0,0,0,0,null,{"$error":"#VALUE!"},{"$error":"#VALUE!"},{"$error":"#VALUE!"},0,{"$error":"#VALUE!"},{"$error":"#DIV/0!"},{"$error":"#DIV/0!"},{"$error":"#VALUE!"},null,12]
[null,null,null,null,136,105,0,0,0,0,0,null,{"$error":"#VALUE!"},{"$error":"#VALUE!"},{"$error":"#VALUE!"},0,{"$error":"#VALUE!"},{"$error":"#DIV/0!"},{"$error":"#DIV/0!"},{"$error":"#VALUE!"},null,12]
[null,null,null,null,137,104,0,0,0,0,0,null,{"$error":"#VALUE!"},{"$error":"#VALUE!"},{"$error":"#VALUE!"},0,{"$error":"#VALUE!"},{"$error":"#DIV/0!"},{"$error":"#DIV/0!"},{"$error":"#VALUE!"},null,12]
[null,null,null,null,138,103,0,0,0,0,0,null,{"$error":"#VALUE!"},{"$error":"#VALUE!"},{"$error":"#VALUE!"},0,{"$error":"#VALUE!"},{"$error":"#DIV/0!"},{"$error":"#DIV/0!"},{"$error":"#VALUE!"},null,12]
[null,null,null,null,139,102,0,0,0,0,0,null,{"$error":"#VALUE!"},{"$error":"#VALUE!"},{"$error":"#VALUE!"},0,{"$error":"#VALUE!"},{"$error":"#DIV/0!"},{"$error":"#DIV/0!"},{"$error":"#VALUE!"},null,12]
[null,null,null,null,140,101,0,0,0,0,0,null,{"$error":"#VALUE!"},{"$error":"#VALUE!"},{"$error":"#VALUE!"},0,{"$error":"#VALUE!"},{"$error":"#DIV/0!"},{"$error":"#DIV/0!"},{"$error":"#VALUE!"},null,12]
[null,null,null,null,141,100,0,0,0,0,0,null,{"$error":"#VALUE!"},{"$error":"#VALUE!"},{"$error":"#VALUE!"},0,{"$error":"#VALUE!"},{"$error":"#DIV/0!"},{"$error":"#DIV/0!"},{"$error":"#VALUE!"},null,12]
[null,null,null,null,142,99,0,0,0,0,0,null,{"$error":"#VALUE!"},{"$error":"#VALUE!"},{"$error":"#VALUE!"},0,{"$error":"#VALUE!"},{"$error":"#DIV/0!"},{"$error":"#DIV/0!"},{"$error":"#VALUE!"},null,{"$f":"V134+1","v":12}]
[null,null,null,null,143,98,0,0,0,0,0,null,{"$error":"#VALUE!"},{"$error":"#VALUE!"},{"$error":"#VALUE!"},0,{"$error":"#VALUE!"},{"$error":"#DIV/0!"},{"$error":"#DIV/0!"},{"$error":"#VALUE!"},null,12]
[null,null,null,null,144,97,0,0,0,0,0,null,{"$error":"#VALUE!"},{"$error":"#VALUE!"},{"$error":"#VALUE!"},0,{"$error":"#VALUE!"},{"$error":"#DIV/0!"},{"$error":"#DIV/0!"},{"$error":"#VALUE!"},null,12]
[null,null,null,null,145,96,0,0,0,0,0,null,{"$error":"#VALUE!"},{"$error":"#VALUE!"},{"$error":"#VALUE!"},0,{"$error":"#VALUE!"},{"$error":"#DIV/0!"},{"$error":"#DIV/0!"},{"$error":"#VALUE!"},null,13]
[null,null,null,null,146,95,0,0,0,0,0,null,{"$error":"#VALUE!"},{"$error":"#VALUE!"},{"$error":"#VALUE!"},0,{"$error":"#VALUE!"},{"$error":"#DIV/0!"},{"$error":"#DIV/0!"},{"$error":"#VALUE!"},null,13]
[null,null,null,null,147,94,0,0,0,0,0,null,{"$error":"#VALUE!"},{"$error":"#VALUE!"},{"$error":"#VALUE!"},0,{"$error":"#VALUE!"},{"$error":"#DIV/0!"},{"$error":"#DIV/0!"},{"$error":"#VALUE!"},null,13]
[null,null,null,null,148,93,0,0,0,0,0,null,{"$error":"#VALUE!"},{"$error":"#VALUE!"},{"$error":"#VALUE!"},0,{"$error":"#VALUE!"},{"$error":"#DIV/0!"},{"$error":"#DIV/0!"},{"$error":"#VALUE!"},null,13]
[null,null,null,null,149,92,0,0,0,0,0,null,{"$error":"#VALUE!"},{"$error":"#VALUE!"},{"$error":"#VALUE!"},0,{"$error":"#VALUE!"},{"$error":"#DIV/0!"},{"$error":"#DIV/0!"},{"$error":"#VALUE!"},null,13]
[null,null,null,null,150,91,0,0,0,0,0,null,{"$error":"#VALUE!"},{"$error":"#VALUE!"},{"$error":"#VALUE!"},0,{"$error":"#VALUE!"},{"$error":"#DIV/0!"},{"$error":"#DIV/0!"},{"$error":"#VALUE!"},null,13]
[null,null,null,null,151,90,0,0,0,0,0,null,{"$error":"#VALUE!"},{"$error":"#VALUE!"},{"$error":"#VALUE!"},0,{"$error":"#VALUE!"},{"$error":"#DIV/0!"},{"$error":"#DIV/0!"},{"$error":"#VALUE!"},null,13]
[null,null,null,null,152,89,0,0,0,0,0,null,{"$error":"#VALUE!"},{"$error":"#VALUE!"},{"$error":"#VALUE!"},0,{"$error":"#VALUE!"},{"$error":"#DIV/0!"},{"$error":"#DIV/0!"},{"$error":"#VALUE!"},null,13]
[null,null,null,null,153,88,0,{"$f":"G157*$D$3/12","v":0},{"$f":"IF(F157<=0,0,PMT($D$3/12,F157,-G157))","v":0},0,0,null,{"$error":"#VALUE!"},{"$error":"#VALUE!"},{"$error":"#VALUE!"},0,{"$error":"#VALUE!"},{"$error":"#DIV/0!"},{"$error":"#DIV/0!"},{"$error":"#VALUE!"},null,13]
[null,null,null,null,154,87,0,0,0,0,0,null,{"$error":"#VALUE!"},{"$error":"#VALUE!"},{"$error":"#VALUE!"},0,{"$error":"#VALUE!"},{"$error":"#DIV/0!"},{"$error":"#DIV/0!"},{"$error":"#VALUE!"},null,13]
[null,null,null,null,155,86,0,0,0,0,0,null,{"$error":"#VALUE!"},{"$error":"#VALUE!"},{"$error":"#VALUE!"},0,{"$error":"#VALUE!"},{"$error":"#DIV/0!"},{"$error":"#DIV/0!"},{"$error":"#VALUE!"},null,13]
[null,null,null,null,156,85,0,0,0,0,0,null,{"$error":"#VALUE!"},{"$error":"#VALUE!"},{"$error":"#VALUE!"},0,{"$error":"#VALUE!"},{"$error":"#DIV/0!"},{"$error":"#DIV/0!"},{"$error":"#VALUE!"},null,13]
[null,null,null,null,157,84,0,0,0,0,0,null,{"$error":"#VALUE!"},{"$error":"#VALUE!"},{"$error":"#VALUE!"},0,{"$error":"#VALUE!"},{"$error":"#DIV/0!"},{"$error":"#DIV/0!"},{"$error":"#VALUE!"},null,14]
[null,null,null,null,158,83,0,0,0,0,0,null,{"$error":"#VALUE!"},{"$error":"#VALUE!"},{"$error":"#VALUE!"},0,{"$error":"#VALUE!"},{"$error":"#DIV/0!"},{"$error":"#DIV/0!"},{"$error":"#VALUE!"},null,14]
[null,null,null,null,159,82,0,0,0,0,0,null,{"$error":"#VALUE!"},{"$error":"#VALUE!"},{"$error":"#VALUE!"},0,{"$error":"#VALUE!"},{"$error":"#DIV/0!"},{"$error":"#DIV/0!"},{"$error":"#VALUE!"},null,14]
[null,null,null,null,160,81,0,0,0,0,0,null,{"$error":"#VALUE!"},{"$error":"#VALUE!"},{"$error":"#VALUE!"},0,{"$error":"#VALUE!"},{"$error":"#DIV/0!"},{"$error":"#DIV/0!"},{"$error":"#VALUE!"},null,14]
[null,null,null,null,161,80,0,0,0,0,0,null,{"$error":"#VALUE!"},{"$error":"#VALUE!"},{"$error":"#VALUE!"},0,{"$error":"#VALUE!"},{"$error":"#DIV/0!"},{"$error":"#DIV/0!"},{"$error":"#VALUE!"},null,14]
[null,null,null,null,162,79,0,0,0,0,0,null,{"$error":"#VALUE!"},{"$error":"#VALUE!"},{"$error":"#VALUE!"},0,{"$error":"#VALUE!"},{"$error":"#DIV/0!"},{"$error":"#DIV/0!"},{"$error":"#VALUE!"},null,14]
[null,null,null,null,163,78,0,0,0,0,0,null,{"$error":"#VALUE!"},{"$error":"#VALUE!"},{"$error":"#VALUE!"},0,{"$error":"#VALUE!"},{"$error":"#DIV/0!"},{"$error":"#DIV/0!"},{"$error":"#VALUE!"},null,14]
[null,null,null,null,164,77,0,0,0,0,0,null,{"$error":"#VALUE!"},{"$error":"#VALUE!"},{"$error":"#VALUE!"},0,{"$error":"#VALUE!"},{"$error":"#DIV/0!"},{"$error":"#DIV/0!"},{"$error":"#VALUE!"},null,14]
[null,null,null,null,165,76,0,0,0,0,0,null,{"$error":"#VALUE!"},{"$error":"#VALUE!"},{"$error":"#VALUE!"},0,{"$error":"#VALUE!"},{"$error":"#DIV/0!"},{"$error":"#DIV/0!"},{"$error":"#VALUE!"},null,14]
[null,null,null,null,166,75,0,0,0,0,0,null,{"$error":"#VALUE!"},{"$error":"#VALUE!"},{"$error":"#VALUE!"},0,{"$error":"#VALUE!"},{"$error":"#DIV/0!"},{"$error":"#DIV/0!"},{"$error":"#VALUE!"},null,14]
[null,null,null,null,167,74,0,0,0,0,0,null,{"$error":"#VALUE!"},{"$error":"#VALUE!"},{"$error":"#VALUE!"},0,{"$error":"#VALUE!"},{"$error":"#DIV/0!"},{"$error":"#DIV/0!"},{"$error":"#VALUE!"},null,14]
[null,null,null,null,168,73,0,0,0,0,0,null,{"$error":"#VALUE!"},{"$error":"#VALUE!"},{"$error":"#VALUE!"},0,{"$error":"#VALUE!"},{"$error":"#DIV/0!"},{"$error":"#DIV/0!"},{"$error":"#VALUE!"},null,14]
[null,null,null,null,169,72,0,0,0,0,0,null,{"$error":"#VALUE!"},{"$error":"#VALUE!"},{"$error":"#VALUE!"},0,{"$error":"#VALUE!"},{"$error":"#DIV/0!"},{"$error":"#DIV/0!"},{"$error":"#VALUE!"},null,15]
[null,null,null,null,170,71,0,0,0,0,0,null,{"$error":"#VALUE!"},{"$error":"#VALUE!"},{"$error":"#VALUE!"},0,{"$error":"#VALUE!"},{"$error":"#DIV/0!"},{"$error":"#DIV/0!"},{"$error":"#VALUE!"},null,15]
[null,null,null,null,171,70,0,0,0,0,0,null,{"$error":"#VALUE!"},{"$error":"#VALUE!"},{"$error":"#VALUE!"},0,{"$error":"#VALUE!"},{"$error":"#DIV/0!"},{"$error":"#DIV/0!"},{"$error":"#VALUE!"},null,15]
[null,null,null,null,172,69,0,0,0,0,0,null,{"$error":"#VALUE!"},{"$error":"#VALUE!"},{"$error":"#VALUE!"},0,{"$error":"#VALUE!"},{"$error":"#DIV/0!"},{"$error":"#DIV/0!"},{"$error":"#VALUE!"},null,15]
[null,null,null,null,173,68,0,0,0,0,0,null,{"$error":"#VALUE!"},{"$error":"#VALUE!"},{"$error":"#VALUE!"},0,{"$error":"#VALUE!"},{"$error":"#DIV/0!"},{"$error":"#DIV/0!"},{"$error":"#VALUE!"},null,15]
[null,null,null,null,174,67,0,0,0,0,0,null,{"$error":"#VALUE!"},{"$error":"#VALUE!"},{"$error":"#VALUE!"},0,{"$error":"#VALUE!"},{"$error":"#DIV/0!"},{"$error":"#DIV/0!"},{"$error":"#VALUE!"},null,15]
[null,null,null,null,175,66,0,0,0,0,0,null,{"$error":"#VALUE!"},{"$error":"#VALUE!"},{"$error":"#VALUE!"},0,{"$error":"#VALUE!"},{"$error":"#DIV/0!"},{"$error":"#DIV/0!"},{"$error":"#VALUE!"},null,15]
[null,null,null,null,176,65,0,0,0,0,0,null,{"$error":"#VALUE!"},{"$error":"#VALUE!"},{"$error":"#VALUE!"},0,{"$error":"#VALUE!"},{"$error":"#DIV/0!"},{"$error":"#DIV/0!"},{"$error":"#VALUE!"},null,15]
[null,null,null,null,177,64,0,0,0,0,0,null,{"$error":"#VALUE!"},{"$error":"#VALUE!"},{"$error":"#VALUE!"},0,{"$error":"#VALUE!"},{"$error":"#DIV/0!"},{"$error":"#DIV/0!"},{"$error":"#VALUE!"},null,15]
[null,null,null,null,178,63,0,0,0,0,0,null,{"$error":"#VALUE!"},{"$error":"#VALUE!"},{"$error":"#VALUE!"},0,{"$error":"#VALUE!"},{"$error":"#DIV/0!"},{"$error":"#DIV/0!"},{"$error":"#VALUE!"},null,15]
[null,null,null,null,179,62,0,0,0,0,0,null,{"$error":"#VALUE!"},{"$error":"#VALUE!"},{"$error":"#VALUE!"},0,{"$error":"#VALUE!"},{"$error":"#DIV/0!"},{"$error":"#DIV/0!"},{"$error":"#VALUE!"},null,15]
[null,null,null,null,180,61,0,0,0,0,0,null,{"$error":"#VALUE!"},{"$error":"#VALUE!"},{"$error":"#VALUE!"},0,{"$error":"#VALUE!"},{"$error":"#DIV/0!"},{"$error":"#DIV/0!"},{"$error":"#VALUE!"},null,15]
[null,null,null,null,181,60,0,0,0,0,0,null,{"$error":"#VALUE!"},{"$error":"#VALUE!"},{"$error":"#VALUE!"},0,{"$error":"#VALUE!"},{"$error":"#DIV/0!"},{"$error":"#DIV/0!"},{"$error":"#VALUE!"},null,16]
[null,null,null,null,182,59,0,0,0,0,0,null,{"$error":"#VALUE!"},{"$error":"#VALUE!"},{"$error":"#VALUE!"},0,{"$error":"#VALUE!"},{"$error":"#DIV/0!"},{"$error":"#DIV/0!"},{"$error":"#VALUE!"},null,16]
[null,null,null,null,183,58,0,0,0,0,0,null,{"$error":"#VALUE!"},{"$error":"#VALUE!"},{"$error":"#VALUE!"},0,{"$error":"#VALUE!"},{"$error":"#DIV/0!"},{"$error":"#DIV/0!"},{"$error":"#VALUE!"},null,16]
[null,null,null,null,184,57,0,0,0,0,0,null,{"$error":"#VALUE!"},{"$error":"#VALUE!"},{"$error":"#VALUE!"},0,{"$error":"#VALUE!"},{"$error":"#DIV/0!"},{"$error":"#DIV/0!"},{"$error":"#VALUE!"},null,16]
[null,null,null,null,185,56,0,{"$f":"G189*$D$3/12","v":0},{"$f":"IF(F189<=0,0,PMT($D$3/12,F189,-G189))","v":0},0,0,null,{"$error":"#VALUE!"},{"$error":"#VALUE!"},{"$error":"#VALUE!"},0,{"$error":"#VALUE!"},{"$error":"#DIV/0!"},{"$error":"#DIV/0!"},{"$error":"#VALUE!"},null,16]
[null,null,null,null,186,55,0,0,0,0,0,null,{"$error":"#VALUE!"},{"$error":"#VALUE!"},{"$error":"#VALUE!"},0,{"$error":"#VALUE!"},{"$error":"#DIV/0!"},{"$error":"#DIV/0!"},{"$error":"#VALUE!"},null,16]
[null,null,null,null,187,54,0,0,0,0,0,null,{"$error":"#VALUE!"},{"$error":"#VALUE!"},{"$error":"#VALUE!"},0,{"$error":"#VALUE!"},{"$error":"#DIV/0!"},{"$error":"#DIV/0!"},{"$error":"#VALUE!"},null,16]
[null,null,null,null,188,53,0,0,0,0,0,null,{"$error":"#VALUE!"},{"$error":"#VALUE!"},{"$error":"#VALUE!"},0,{"$error":"#VALUE!"},{"$error":"#DIV/0!"},{"$error":"#DIV/0!"},{"$error":"#VALUE!"},null,16]
[null,null,null,null,189,52,0,0,0,0,0,null,{"$error":"#VALUE!"},{"$error":"#VALUE!"},{"$error":"#VALUE!"},0,{"$error":"#VALUE!"},{"$error":"#DIV/0!"},{"$error":"#DIV/0!"},{"$error":"#VALUE!"},null,16]
[null,null,null,null,190,51,0,0,0,0,0,null,{"$error":"#VALUE!"},{"$error":"#VALUE!"},{"$error":"#VALUE!"},0,{"$error":"#VALUE!"},{"$error":"#DIV/0!"},{"$error":"#DIV/0!"},{"$error":"#VALUE!"},null,16]
[null,null,null,null,191,50,0,0,0,0,0,null,{"$error":"#VALUE!"},{"$error":"#VALUE!"},{"$error":"#VALUE!"},0,{"$error":"#VALUE!"},{"$error":"#DIV/0!"},{"$error":"#DIV/0!"},{"$error":"#VALUE!"},null,16]
[null,null,null,null,192,49,0,0,0,0,0,null,{"$error":"#VALUE!"},{"$error":"#VALUE!"},{"$error":"#VALUE!"},0,{"$error":"#VALUE!"},{"$error":"#DIV/0!"},{"$error":"#DIV/0!"},{"$error":"#VALUE!"},null,16]
[null,null,null,null,193,{"$f":"$B$4-E197+1","v":48},0,0,0,0,0,null,{"$error":"#VALUE!"},{"$error":"#VALUE!"},{"$error":"#VALUE!"},0,{"$error":"#VALUE!"},{"$error":"#DIV/0!"},{"$error":"#DIV/0!"},{"$error":"#VALUE!"},null,17]
[null,null,null,null,194,47,0,0,0,0,{"$f":"G198-J198","v":0},null,{"$error":"#VALUE!"},{"$error":"#VALUE!"},{"$error":"#VALUE!"},0,{"$f":"N198+O198-P198","v":{"$error":"#VALUE!"}},{"$error":"#DIV/0!"},{"$f":"P198+R198","v":{"$error":"#DIV/0!"}},{"$error":"#VALUE!"},null,17]
[null,null,null,null,{"$f":"E198+1","v":195},46,{"$f":"J198","v":0},0,0,{"$f":"G199+H199-I199","v":0},0,null,{"$f":"$M$1*E199+$B$9","v":{"$error":"#VALUE!"}},{"$f":"Q198","v":{"$error":"#VALUE!"}},{"$f":"N199*$B$3/12","v":{"$error":"#VALUE!"}},{"$f":"IF(E199>$B$4,0,$B$10)","v":0},{"$error":"#VALUE!"},{"$f":"IF(E199>$B$4,0,$C$13)","v":{"$error":"#DIV/0!"}},{"$error":"#DIV/0!"},{"$f":"T198+S199/(1+$T$1)^(M199/365)","v":{"$error":"#VALUE!"}},null,17]
[null,null,null,null,196,45,0,0,0,0,0,null,{"$error":"#VALUE!"},{"$error":"#VALUE!"},{"$error":"#VALUE!"},0,{"$error":"#VALUE!"},{"$error":"#DIV/0!"},{"$error":"#DIV/0!"},{"$error":"#VALUE!"},null,17]
[null,null,null,null,197,44,0,0,0,0,0,null,{"$error":"#VALUE!"},{"$error":"#VALUE!"},{"$error":"#VALUE!"},0,{"$error":"#VALUE!"},{"$error":"#DIV/0!"},{"$error":"#DIV/0!"},{"$error":"#VALUE!"},null,17]
[null,null,null,null,198,43,0,0,0,0,0,null,{"$error":"#VALUE!"},{"$error":"#VALUE!"},{"$error":"#VALUE!"},0,{"$error":"#VALUE!"},{"$error":"#DIV/0!"},{"$error":"#DIV/0!"},{"$error":"#VALUE!"},null,17]
[null,null,null,null,199,42,0,0,0,0,0,null,{"$error":"#VALUE!"},{"$error":"#VALUE!"},{"$error":"#VALUE!"},0,{"$error":"#VALUE!"},{"$error":"#DIV/0!"},{"$error":"#DIV/0!"},{"$error":"#VALUE!"},null,17]
[null,null,null,null,200,41,0,0,0,0,0,null,{"$error":"#VALUE!"},{"$error":"#VALUE!"},{"$error":"#VALUE!"},0,{"$error":"#VALUE!"},{"$error":"#DIV/0!"},{"$error":"#DIV/0!"},{"$error":"#VALUE!"},null,17]
[null,null,null,null,201,40,0,0,0,0,0,null,{"$error":"#VALUE!"},{"$error":"#VALUE!"},{"$error":"#VALUE!"},0,{"$error":"#VALUE!"},{"$error":"#DIV/0!"},{"$error":"#DIV/0!"},{"$error":"#VALUE!"},null,17]
[null,null,null,null,202,39,0,0,0,0,0,null,{"$error":"#VALUE!"},{"$error":"#VALUE!"},{"$error":"#VALUE!"},0,{"$error":"#VALUE!"},{"$error":"#DIV/0!"},{"$error":"#DIV/0!"},{"$error":"#VALUE!"},null,17]
[null,null,null,null,203,38,0,0,0,0,0,null,{"$error":"#VALUE!"},{"$error":"#VALUE!"},{"$error":"#VALUE!"},0,{"$error":"#VALUE!"},{"$error":"#DIV/0!"},{"$error":"#DIV/0!"},{"$error":"#VALUE!"},null,17]
[null,null,null,null,204,37,0,0,0,0,0,null,{"$error":"#VALUE!"},{"$error":"#VALUE!"},{"$error":"#VALUE!"},0,{"$error":"#VALUE!"},{"$error":"#DIV/0!"},{"$error":"#DIV/0!"},{"$error":"#VALUE!"},null,17]
[null,null,null,null,205,36,0,0,0,0,0,null,{"$error":"#VALUE!"},{"$error":"#VALUE!"},{"$error":"#VALUE!"},0,{"$error":"#VALUE!"},{"$error":"#DIV/0!"},{"$error":"#DIV/0!"},{"$error":"#VALUE!"},null,18]
[null,null,null,null,206,35,0,0,0,0,0,null,{"$error":"#VALUE!"},{"$error":"#VALUE!"},{"$error":"#VALUE!"},0,{"$error":"#VALUE!"},{"$error":"#DIV/0!"},{"$error":"#DIV/0!"},{"$error":"#VALUE!"},null,{"$f":"V198+1","v":18}]
[null,null,null,null,207,34,0,0,0,0,0,null,{"$error":"#VALUE!"},{"$error":"#VALUE!"},{"$error":"#VALUE!"},0,{"$error":"#VALUE!"},{"$error":"#DIV/0!"},{"$error":"#DIV/0!"},{"$error":"#VALUE!"},null,18]
[null,null,null,null,208,33,0,0,0,0,0,null,{"$error":"#VALUE!"},{"$error":"#VALUE!"},{"$error":"#VALUE!"},0,{"$error":"#VALUE!"},{"$error":"#DIV/0!"},{"$error":"#DIV/0!"},{"$error":"#VALUE!"},null,18]
[null,null,null,null,209,32,0,0,0,0,0,null,{"$error":"#VALUE!"},{"$error":"#VALUE!"},{"$error":"#VALUE!"},0,{"$error":"#VALUE!"},{"$error":"#DIV/0!"},{"$error":"#DIV/0!"},{"$error":"#VALUE!"},null,18]
[null,null,null,null,210,31,0,0,0,0,0,null,{"$error":"#VALUE!"},{"$error":"#VALUE!"},{"$error":"#VALUE!"},0,{"$error":"#VALUE!"},{"$error":"#DIV/0!"},{"$error":"#DIV/0!"},{"$error":"#VALUE!"},null,18]
[null,null,null,null,211,30,0,0,0,0,0,null,{"$error":"#VALUE!"},{"$error":"#VALUE!"},{"$error":"#VALUE!"},0,{"$error":"#VALUE!"},{"$error":"#DIV/0!"},{"$error":"#DIV/0!"},{"$error":"#VALUE!"},null,18]
[null,null,null,null,212,29,0,0,0,0,0,null,{"$error":"#VALUE!"},{"$error":"#VALUE!"},{"$error":"#VALUE!"},0,{"$error":"#VALUE!"},{"$error":"#DIV/0!"},{"$error":"#DIV/0!"},{"$error":"#VALUE!"},null,18]
[null,null,null,null,213,28,0,0,0,0,0,null,{"$error":"#VALUE!"},{"$error":"#VALUE!"},{"$error":"#VALUE!"},0,{"$error":"#VALUE!"},{"$error":"#DIV/0!"},{"$error":"#DIV/0!"},{"$error":"#VALUE!"},null,18]
[null,null,null,null,214,27,0,0,0,0,0,null,{"$error":"#VALUE!"},{"$error":"#VALUE!"},{"$error":"#VALUE!"},0,{"$error":"#VALUE!"},{"$error":"#DIV/0!"},{"$error":"#DIV/0!"},{"$error":"#VALUE!"},null,18]
[null,null,null,null,215,26,0,0,0,0,0,null,{"$error":"#VALUE!"},{"$error":"#VALUE!"},{"$error":"#VALUE!"},0,{"$error":"#VALUE!"},{"$error":"#DIV/0!"},{"$error":"#DIV/0!"},{"$error":"#VALUE!"},null,18]
[null,null,null,null,216,25,0,0,0,0,0,null,{"$error":"#VALUE!"},{"$error":"#VALUE!"},{"$error":"#VALUE!"},0,{"$error":"#VALUE!"},{"$error":"#DIV/0!"},{"$error":"#DIV/0!"},{"$error":"#VALUE!"},null,18]
[null,null,null,null,217,24,0,{"$f":"G221*$D$3/12","v":0},{"$f":"IF(F221<=0,0,PMT($D$3/12,F221,-G221))","v":0},0,0,null,{"$error":"#VALUE!"},{"$error":"#VALUE!"},{"$error":"#VALUE!"},0,{"$error":"#VALUE!"},{"$error":"#DIV/0!"},{"$error":"#DIV/0!"},{"$error":"#VALUE!"},null,19]
[null,null,null,null,218,23,0,0,0,0,0,null,{"$error":"#VALUE!"},{"$error":"#VALUE!"},{"$error":"#VALUE!"},0,{"$error":"#VALUE!"},{"$error":"#DIV/0!"},{"$error":"#DIV/0!"},{"$error":"#VALUE!"},null,19]
[null,null,null,null,219,22,0,0,0,0,0,null,{"$error":"#VALUE!"},{"$error":"#VALUE!"},{"$error":"#VALUE!"},0,{"$error":"#VALUE!"},{"$error":"#DIV/0!"},{"$error":"#DIV/0!"},{"$error":"#VALUE!"},null,19]
[null,null,null,null,220,21,0,0,0,0,0,null,{"$error":"#VALUE!"},{"$error":"#VALUE!"},{"$error":"#VALUE!"},0,{"$error":"#VALUE!"},{"$error":"#DIV/0!"},{"$error":"#DIV/0!"},{"$error":"#VALUE!"},null,19]
[null,null,null,null,221,20,0,0,0,0,0,null,{"$error":"#VALUE!"},{"$error":"#VALUE!"},{"$error":"#VALUE!"},0,{"$error":"#VALUE!"},{"$error":"#DIV/0!"},{"$error":"#DIV/0!"},{"$error":"#VALUE!"},null,19]
[null,null,null,null,222,19,0,0,0,0,0,null,{"$error":"#VALUE!"},{"$error":"#VALUE!"},{"$error":"#VALUE!"},0,{"$error":"#VALUE!"},{"$error":"#DIV/0!"},{"$error":"#DIV/0!"},{"$error":"#VALUE!"},null,19]
[null,null,null,null,223,18,0,0,0,0,0,null,{"$error":"#VALUE!"},{"$error":"#VALUE!"},{"$error":"#VALUE!"},0,{"$error":"#VALUE!"},{"$error":"#DIV/0!"},{"$error":"#DIV/0!"},{"$error":"#VALUE!"},null,19]
[null,null,null,null,224,17,0,0,0,0,0,null,{"$error":"#VALUE!"},{"$error":"#VALUE!"},{"$error":"#VALUE!"},0,{"$error":"#VALUE!"},{"$error":"#DIV/0!"},{"$error":"#DIV/0!"},{"$error":"#VALUE!"},null,19]
[null,null,null,null,225,16,0,0,0,0,0,null,{"$error":"#VALUE!"},{"$error":"#VALUE!"},{"$error":"#VALUE!"},0,{"$error":"#VALUE!"},{"$error":"#DIV/0!"},{"$error":"#DIV/0!"},{"$error":"#VALUE!"},null,19]
[null,null,null,null,226,15,0,0,0,0,0,null,{"$error":"#VALUE!"},{"$error":"#VALUE!"},{"$error":"#VALUE!"},0,{"$error":"#VALUE!"},{"$error":"#DIV/0!"},{"$error":"#DIV/0!"},{"$error":"#VALUE!"},null,19]
[null,null,null,null,227,14,0,0,0,0,0,null,{"$error":"#VALUE!"},{"$error":"#VALUE!"},{"$error":"#VALUE!"},0,{"$error":"#VALUE!"},{"$error":"#DIV/0!"},{"$error":"#DIV/0!"},{"$error":"#VALUE!"},null,19]
[null,null,null,null,228,13,0,0,0,0,0,null,{"$error":"#VALUE!"},{"$error":"#VALUE!"},{"$error":"#VALUE!"},0,{"$error":"#VALUE!"},{"$error":"#DIV/0!"},{"$error":"#DIV/0!"},{"$error":"#VALUE!"},null,19]
[null,null,null,null,229,12,0,0,0,0,0,null,{"$error":"#VALUE!"},{"$error":"#VALUE!"},{"$error":"#VALUE!"},0,{"$error":"#VALUE!"},{"$error":"#DIV/0!"},{"$error":"#DIV/0!"},{"$error":"#VALUE!"},null,20]
[null,null,null,null,230,11,0,0,0,0,0,null,{"$error":"#VALUE!"},{"$error":"#VALUE!"},{"$error":"#VALUE!"},0,{"$error":"#VALUE!"},{"$error":"#DIV/0!"},{"$error":"#DIV/0!"},{"$error":"#VALUE!"},null,20]
[null,null,null,null,231,10,0,0,0,0,0,null,{"$error":"#VALUE!"},{"$error":"#VALUE!"},{"$error":"#VALUE!"},0,{"$error":"#VALUE!"},{"$error":"#DIV/0!"},{"$error":"#DIV/0!"},{"$error":"#VALUE!"},null,20]
[null,null,null,null,232,9,0,0,0,0,0,null,{"$error":"#VALUE!"},{"$error":"#VALUE!"},{"$error":"#VALUE!"},0,{"$error":"#VALUE!"},{"$error":"#DIV/0!"},{"$error":"#DIV/0!"},{"$error":"#VALUE!"},null,20]
[null,null,null,null,233,8,0,0,0,0,0,null,{"$error":"#VALUE!"},{"$error":"#VALUE!"},{"$error":"#VALUE!"},0,{"$error":"#VALUE!"},{"$error":"#DIV/0!"},{"$error":"#DIV/0!"},{"$error":"#VALUE!"},null,20]
[null,null,null,null,234,7,0,0,0,0,0,null,{"$error":"#VALUE!"},{"$error":"#VALUE!"},{"$error":"#VALUE!"},0,{"$error":"#VALUE!"},{"$error":"#DIV/0!"},{"$error":"#DIV/0!"},{"$error":"#VALUE!"},null,20]
[null,null,null,null,235,6,0,0,0,0,0,null,{"$error":"#VALUE!"},{"$error":"#VALUE!"},{"$error":"#VALUE!"},0,{"$error":"#VALUE!"},{"$error":"#DIV/0!"},{"$error":"#DIV/0!"},{"$error":"#VALUE!"},null,20]
[null,null,null,null,236,5,0,0,0,0,0,null,{"$error":"#VALUE!"},{"$error":"#VALUE!"},{"$error":"#VALUE!"},0,{"$error":"#VALUE!"},{"$error":"#DIV/0!"},{"$error":"#DIV/0!"},{"$error":"#VALUE!"},null,20]
[null,null,null,null,237,4,0,0,0,0,0,null,{"$error":"#VALUE!"},{"$error":"#VALUE!"},{"$error":"#VALUE!"},0,{"$error":"#VALUE!"},{"$error":"#DIV/0!"},{"$error":"#DIV/0!"},{"$error":"#VALUE!"},null,20]
[null,null,null,null,238,3,0,0,0,0,0,null,{"$error":"#VALUE!"},{"$error":"#VALUE!"},{"$error":"#VALUE!"},0,{"$error":"#VALUE!"},{"$error":"#DIV/0!"},{"$error":"#DIV/0!"},{"$error":"#VALUE!"},null,20]
[null,null,null,null,239,2,0,0,0,0,0,null,{"$error":"#VALUE!"},{"$error":"#VALUE!"},{"$error":"#VALUE!"},0,{"$error":"#VALUE!"},{"$error":"#DIV/0!"},{"$error":"#DIV/0!"},{"$error":"#VALUE!"},null,20]
[null,null,null,null,240,1,0,0,0,0,0,null,{"$error":"#VALUE!"},{"$error":"#VALUE!"},{"$error":"#VALUE!"},0,{"$error":"#VALUE!"},{"$error":"#DIV/0!"},{"$error":"#DIV/0!"},{"$error":"#VALUE!"},null,20]
[null,null,null,null,241,0,0,0,0,0,0,null,{"$error":"#VALUE!"},{"$error":"#VALUE!"},{"$error":"#VALUE!"},0,{"$error":"#VALUE!"},0,0,{"$error":"#VALUE!"},null,21]
[null,null,null,null,242,-1,0,0,0,0,0,null,{"$error":"#VALUE!"},{"$error":"#VALUE!"},{"$error":"#VALUE!"},0,{"$error":"#VALUE!"},0,0,{"$error":"#VALUE!"},null,21]
[null,null,null,null,243,-2,0,0,0,0,0,null,{"$error":"#VALUE!"},{"$error":"#VALUE!"},{"$error":"#VALUE!"},0,{"$error":"#VALUE!"},0,0,{"$error":"#VALUE!"},null,21]
[null,null,null,null,244,-3,0,0,0,0,0,null,{"$error":"#VALUE!"},{"$error":"#VALUE!"},{"$error":"#VALUE!"},0,{"$error":"#VALUE!"},0,0,{"$error":"#VALUE!"},null,21]
[null,null,null,null,245,-4,0,0,0,0,0,null,{"$error":"#VALUE!"},{"$error":"#VALUE!"},{"$error":"#VALUE!"},0,{"$error":"#VALUE!"},0,0,{"$error":"#VALUE!"},null,21]
[null,null,null,null,246,-5,0,0,0,0,0,null,{"$error":"#VALUE!"},{"$error":"#VALUE!"},{"$error":"#VALUE!"},0,{"$error":"#VALUE!"},0,0,{"$error":"#VALUE!"},null,21]
[null,null,null,null,247,-6,0,0,0,0,0,null,{"$error":"#VALUE!"},{"$error":"#VALUE!"},{"$error":"#VALUE!"},0,{"$error":"#VALUE!"},0,0,{"$error":"#VALUE!"},null,21]
[null,null,null,null,248,-7,0,0,0,0,0,null,{"$error":"#VALUE!"},{"$error":"#VALUE!"},{"$error":"#VALUE!"},0,{"$error":"#VALUE!"},0,0,{"$error":"#VALUE!"},null,21]
[null,null,null,null,249,-8,0,{"$f":"G253*$D$3/12","v":0},{"$f":"IF(F253<=0,0,PMT($D$3/12,F253,-G253))","v":0},0,0,null,{"$error":"#VALUE!"},{"$error":"#VALUE!"},{"$error":"#VALUE!"},0,{"$error":"#VALUE!"},0,0,{"$error":"#VALUE!"},null,21]
[null,null,null,null,250,-9,0,0,0,0,0,null,{"$error":"#VALUE!"},{"$error":"#VALUE!"},{"$error":"#VALUE!"},0,{"$error":"#VALUE!"},0,0,{"$error":"#VALUE!"},null,21]
[null,null,null,null,251,-10,0,0,0,0,0,null,{"$error":"#VALUE!"},{"$error":"#VALUE!"},{"$error":"#VALUE!"},0,{"$error":"#VALUE!"},0,0,{"$error":"#VALUE!"},null,21]
[null,null,null,null,252,-11,0,0,0,0,0,null,{"$error":"#VALUE!"},{"$error":"#VALUE!"},{"$error":"#VALUE!"},0,{"$error":"#VALUE!"},0,0,{"$error":"#VALUE!"},null,21]
[null,null,null,null,253,-12,0,0,0,0,0,null,{"$error":"#VALUE!"},{"$error":"#VALUE!"},{"$error":"#VALUE!"},0,{"$error":"#VALUE!"},0,0,{"$error":"#VALUE!"},null,22]
[null,null,null,null,254,-13,0,0,0,0,0,null,{"$error":"#VALUE!"},{"$error":"#VALUE!"},{"$error":"#VALUE!"},0,{"$error":"#VALUE!"},0,0,{"$error":"#VALUE!"},null,22]
[null,null,null,null,255,-14,0,0,0,0,0,null,{"$error":"#VALUE!"},{"$error":"#VALUE!"},{"$error":"#VALUE!"},0,{"$error":"#VALUE!"},0,0,{"$error":"#VALUE!"},null,22]
[null,null,null,null,256,-15,0,0,0,0,0,null,{"$error":"#VALUE!"},{"$error":"#VALUE!"},{"$error":"#VALUE!"},0,{"$error":"#VALUE!"},0,0,{"$error":"#VALUE!"},null,22]
[null,null,null,null,257,{"$f":"$B$4-E261+1","v":-16},0,0,0,0,0,null,{"$error":"#VALUE!"},{"$error":"#VALUE!"},{"$error":"#VALUE!"},0,{"$error":"#VALUE!"},0,0,{"$error":"#VALUE!"},null,22]
[null,null,null,null,258,-17,0,0,0,0,{"$f":"G262-J262","v":0},null,{"$error":"#VALUE!"},{"$error":"#VALUE!"},{"$error":"#VALUE!"},0,{"$f":"N262+O262-P262","v":{"$error":"#VALUE!"}},0,{"$f":"P262+R262","v":0},{"$error":"#VALUE!"},null,22]
[null,null,null,null,{"$f":"E262+1","v":259},-18,{"$f":"J262","v":0},0,0,{"$f":"G263+H263-I263","v":0},0,null,{"$f":"$M$1*E263+$B$9","v":{"$error":"#VALUE!"}},{"$f":"Q262","v":{"$error":"#VALUE!"}},{"$f":"N263*$B$3/12","v":{"$error":"#VALUE!"}},{"$f":"IF(E263>$B$4,0,$B$10)","v":0},{"$error":"#VALUE!"},{"$f":"IF(E263>$B$4,0,$C$13)","v":0},0,{"$f":"T262+S263/(1+$T$1)^(M263/365)","v":{"$error":"#VALUE!"}},null,22]
[null,null,null,null,260,-19,0,0,0,0,0,null,{"$error":"#VALUE!"},{"$error":"#VALUE!"},{"$error":"#VALUE!"},0,{"$error":"#VALUE!"},0,0,{"$error":"#VALUE!"},null,22]
[null,null,null,null,261,-20,0,0,0,0,0,null,{"$error":"#VALUE!"},{"$error":"#VALUE!"},{"$error":"#VALUE!"},0,{"$error":"#VALUE!"},0,0,{"$error":"#VALUE!"},null,22]
[null,null,null,null,262,-21,0,0,0,0,0,null,{"$error":"#VALUE!"},{"$error":"#VALUE!"},{"$error":"#VALUE!"},0,{"$error":"#VALUE!"},0,0,{"$error":"#VALUE!"},null,22]
[null,null,null,null,263,-22,0,0,0,0,0,null,{"$error":"#VALUE!"},{"$error":"#VALUE!"},{"$error":"#VALUE!"},0,{"$error":"#VALUE!"},0,0,{"$error":"#VALUE!"},null,22]
[null,null,null,null,264,-23,0,0,0,0,0,null,{"$error":"#VALUE!"},{"$error":"#VALUE!"},{"$error":"#VALUE!"},0,{"$error":"#VALUE!"},0,0,{"$error":"#VALUE!"},null,22]
[null,null,null,null,265,-24,0,0,0,0,0,null,{"$error":"#VALUE!"},{"$error":"#VALUE!"},{"$error":"#VALUE!"},0,{"$error":"#VALUE!"},0,0,{"$error":"#VALUE!"},null,23]
[null,null,null,null,266,-25,0,0,0,0,0,null,{"$error":"#VALUE!"},{"$error":"#VALUE!"},{"$error":"#VALUE!"},0,{"$error":"#VALUE!"},0,0,{"$error":"#VALUE!"},null,23]
[null,null,null,null,267,-26,0,0,0,0,0,null,{"$error":"#VALUE!"},{"$error":"#VALUE!"},{"$error":"#VALUE!"},0,{"$error":"#VALUE!"},0,0,{"$error":"#VALUE!"},null,23]
[null,null,null,null,268,-27,0,0,0,0,0,null,{"$error":"#VALUE!"},{"$error":"#VALUE!"},{"$error":"#VALUE!"},0,{"$error":"#VALUE!"},0,0,{"$error":"#VALUE!"},null,23]
[null,null,null,null,269,-28,0,0,0,0,0,null,{"$error":"#VALUE!"},{"$error":"#VALUE!"},{"$error":"#VALUE!"},0,{"$error":"#VALUE!"},0,0,{"$error":"#VALUE!"},null,23]
[null,null,null,null,270,-29,0,0,0,0,0,null,{"$error":"#VALUE!"},{"$error":"#VALUE!"},{"$error":"#VALUE!"},0,{"$error":"#VALUE!"},0,0,{"$error":"#VALUE!"},null,{"$f":"V262+1","v":23}]
[null,null,null,null,271,-30,0,0,0,0,0,null,{"$error":"#VALUE!"},{"$error":"#VALUE!"},{"$error":"#VALUE!"},0,{"$error":"#VALUE!"},0,0,{"$error":"#VALUE!"},null,23]
[null,null,null,null,272,-31,0,0,0,0,0,null,{"$error":"#VALUE!"},{"$error":"#VALUE!"},{"$error":"#VALUE!"},0,{"$error":"#VALUE!"},0,0,{"$error":"#VALUE!"},null,23]
[null,null,null,null,273,-32,0,0,0,0,0,null,{"$error":"#VALUE!"},{"$error":"#VALUE!"},{"$error":"#VALUE!"},0,{"$error":"#VALUE!"},0,0,{"$error":"#VALUE!"},null,23]
[null,null,null,null,274,-33,0,0,0,0,0,null,{"$error":"#VALUE!"},{"$error":"#VALUE!"},{"$error":"#VALUE!"},0,{"$error":"#VALUE!"},0,0,{"$error":"#VALUE!"},null,23]
[null,null,null,null,275,-34,0,0,0,0,0,null,{"$error":"#VALUE!"},{"$error":"#VALUE!"},{"$error":"#VALUE!"},0,{"$error":"#VALUE!"},0,0,{"$error":"#VALUE!"},null,23]
[null,null,null,null,276,-35,0,0,0,0,0,null,{"$error":"#VALUE!"},{"$error":"#VALUE!"},{"$error":"#VALUE!"},0,{"$error":"#VALUE!"},0,0,{"$error":"#VALUE!"},null,23]
[null,null,null,null,277,-36,0,0,0,0,0,null,{"$error":"#VALUE!"},{"$error":"#VALUE!"},{"$error":"#VALUE!"},0,{"$error":"#VALUE!"},0,0,{"$error":"#VALUE!"},null,24]
[null,null,null,null,278,-37,0,0,0,0,0,null,{"$error":"#VALUE!"},{"$error":"#VALUE!"},{"$error":"#VALUE!"},0,{"$error":"#VALUE!"},0,0,{"$error":"#VALUE!"},null,24]
[null,null,null,null,279,-38,0,0,0,0,0,null,{"$error":"#VALUE!"},{"$error":"#VALUE!"},{"$error":"#VALUE!"},0,{"$error":"#VALUE!"},0,0,{"$error":"#VALUE!"},null,24]
[null,null,null,null,280,-39,0,0,0,0,0,null,{"$error":"#VALUE!"},{"$error":"#VALUE!"},{"$error":"#VALUE!"},0,{"$error":"#VALUE!"},0,0,{"$error":"#VALUE!"},null,24]
[null,null,null,null,281,-40,0,{"$f":"G285*$D$3/12","v":0},{"$f":"IF(F285<=0,0,PMT($D$3/12,F285,-G285))","v":0},0,0,null,{"$error":"#VALUE!"},{"$error":"#VALUE!"},{"$error":"#VALUE!"},0,{"$error":"#VALUE!"},0,0,{"$error":"#VALUE!"},null,24]
[null,null,null,null,282,-41,0,0,0,0,0,null,{"$error":"#VALUE!"},{"$error":"#VALUE!"},{"$error":"#VALUE!"},0,{"$error":"#VALUE!"},0,0,{"$error":"#VALUE!"},null,24]
[null,null,null,null,283,-42,0,0,0,0,0,null,{"$error":"#VALUE!"},{"$error":"#VALUE!"},{"$error":"#VALUE!"},0,{"$error":"#VALUE!"},0,0,{"$error":"#VALUE!"},null,24]
[null,null,null,null,284,-43,0,0,0,0,0,null,{"$error":"#VALUE!"},{"$error":"#VALUE!"},{"$error":"#VALUE!"},0,{"$error":"#VALUE!"},0,0,{"$error":"#VALUE!"},null,24]
[null,null,null,null,285,-44,0,0,0,0,0,null,{"$error":"#VALUE!"},{"$error":"#VALUE!"},{"$error":"#VALUE!"},0,{"$error":"#VALUE!"},0,0,{"$error":"#VALUE!"},null,24]
[null,null,null,null,286,-45,0,0,0,0,0,null,{"$error":"#VALUE!"},{"$error":"#VALUE!"},{"$error":"#VALUE!"},0,{"$error":"#VALUE!"},0,0,{"$error":"#VALUE!"},null,24]
[null,null,null,null,287,-46,0,0,0,0,0,null,{"$error":"#VALUE!"},{"$error":"#VALUE!"},{"$error":"#VALUE!"},0,{"$error":"#VALUE!"},0,0,{"$error":"#VALUE!"},null,24]
[null,null,null,null,288,-47,0,0,0,0,0,null,{"$error":"#VALUE!"},{"$error":"#VALUE!"},{"$error":"#VALUE!"},0,{"$error":"#VALUE!"},0,0,{"$error":"#VALUE!"},null,24]
[null,null,null,null,289,-48,0,0,0,0,0,null,{"$error":"#VALUE!"},{"$error":"#VALUE!"},{"$error":"#VALUE!"},0,{"$error":"#VALUE!"},0,0,{"$error":"#VALUE!"},null,25]
[null,null,null,null,290,-49,0,0,0,0,0,null,{"$error":"#VALUE!"},{"$error":"#VALUE!"},{"$error":"#VALUE!"},0,{"$error":"#VALUE!"},0,0,{"$error":"#VALUE!"},null,25]
[null,null,null,null,291,-50,0,0,0,0,0,null,{"$error":"#VALUE!"},{"$error":"#VALUE!"},{"$error":"#VALUE!"},0,{"$error":"#VALUE!"},0,0,{"$error":"#VALUE!"},null,25]
[null,null,null,null,292,-51,0,0,0,0,0,null,{"$error":"#VALUE!"},{"$error":"#VALUE!"},{"$error":"#VALUE!"},0,{"$error":"#VALUE!"},0,0,{"$error":"#VALUE!"},null,25]
[null,null,null,null,293,-52,0,0,0,0,0,null,{"$error":"#VALUE!"},{"$error":"#VALUE!"},{"$error":"#VALUE!"},0,{"$error":"#VALUE!"},0,0,{"$error":"#VALUE!"},null,25]
[null,null,null,null,294,-53,0,0,0,0,0,null,{"$error":"#VALUE!"},{"$error":"#VALUE!"},{"$error":"#VALUE!"},0,{"$error":"#VALUE!"},0,0,{"$error":"#VALUE!"},null,25]
[null,null,null,null,295,-54,0,0,0,0,0,null,{"$error":"#VALUE!"},{"$error":"#VALUE!"},{"$error":"#VALUE!"},0,{"$error":"#VALUE!"},0,0,{"$error":"#VALUE!"},null,25]
[null,null,null,null,296,-55,0,0,0,0,0,null,{"$error":"#VALUE!"},{"$error":"#VALUE!"},{"$error":"#VALUE!"},0,{"$error":"#VALUE!"},0,0,{"$error":"#VALUE!"},null,25]
[null,null,null,null,297,-56,0,0,0,0,0,null,{"$error":"#VALUE!"},{"$error":"#VALUE!"},{"$error":"#VALUE!"},0,{"$error":"#VALUE!"},0,0,{"$error":"#VALUE!"},null,25]
[null,null,null,null,298,-57,0,0,0,0,0,null,{"$error":"#VALUE!"},{"$error":"#VALUE!"},{"$error":"#VALUE!"},0,{"$error":"#VALUE!"},0,0,{"$error":"#VALUE!"},null,25]
[null,null,null,null,299,-58,0,0,0,0,0,null,{"$error":"#VALUE!"},{"$error":"#VALUE!"},{"$error":"#VALUE!"},0,{"$error":"#VALUE!"},0,0,{"$error":"#VALUE!"},null,25]
[null,null,null,null,300,-59,0,0,0,0,0,null,{"$error":"#VALUE!"},{"$error":"#VALUE!"},{"$error":"#VALUE!"},0,{"$error":"#VALUE!"},0,0,{"$error":"#VALUE!"},null,25]

{"sheet":"BB","index":15,"n_rows":298,"n_cols":39,"rows_kept":298,"cut":false,"hidden":true,"merged":[[20,32,20,33]]}
["Hitelfelvétel dátuma",{"$f":"Hiteladatok!I18","v":""},null,null,null,null,null,null,null,null,null,null," hónapos futamidővel, az első 60 hónap alatt 0% kamat mellett, amennyiben nem születik gyermek és a 60. hónapot követően a 60 hónap alatt lehívott állami támogatást az Ügyfél egyösszegben köteles visszafizetni, valamint a további 180 hónapban az ÁKK*130% + 5% kamattal köteles az Ügyfél visszafizetni a hitelt, 0,5% kezességvállalási díj mellett a havi törlesztőrészlet az első 5 évben "]
["Hitelösszeg",{"$f":"Hiteladatok!I15","v":0}]
[{"$f":"IF(B3>B49,\"Futamidő (év)   HIBA: Túl hosszú futamidő!\",\"Futamidő (év)\")","v":"Futamidő (év)   HIBA: Túl hosszú futamidő!"},{"$f":"Hiteladatok!I16/12","v":20},null,"THM",{"$f":"IF(ABS(AM22)<0.01,AL21,\"Indíts a THM számítást\")","v":{"$error":"#VALUE!"}}]
[{"$f":"IF(N19>50000,\"Magasabb lenne a havi törlesztés, mint 50 000 Ft, növelni kell a futamidőt vagy csökkenteni a hitelösszeget.\",\"\")","v":""}]
["Hány gyermek után szeretnél kedvezményt kalkulálni?",1]
[{"$f":"IF(E35=E32,\"Mikorra tervezed a gyermek érkezését?\",\"Mikorra tervezed a gyermekek érkezését?\")","v":"Mikorra tervezed a gyermek érkezését?"},null,{"$f":"IF($E$35=E31,$D$30,$D$29)","v":"mutatni"}]
["első gyermek",{"$f":"EDATE(B1,60)","v":{"$error":"#VALUE!"}},{"$f":"IF($E$35>E31,$D$29,$D$30)","v":"mutatni"}]
["második gyermek","2022-09-01",{"$f":"IF($E$35>E32,$D$29,$D$30)","v":"elrejteni"}]
["harmadik gyermek","2025-04-01","elrejteni"]
[{"$f":"IF(E47>0,\"Biztos vagy ebben? Nincs 9 hónap a gyermekszületések között!\",\"\")","v":{"$error":"#VALUE!"}},null,null,"1 -5 évben","6. évtől"]
["Legmagasabb havi törlesztés",{"$f":"MAX(N23:N298)","v":{"$error":"#VALUE!"}},null,{"$f":"MAX(N23:N82)","v":{"$error":"#VALUE!"}},{"$f":"MAX(N83:N298)","v":{"$error":"#VALUE!"}}]
["Teljes visszafizetendő",{"$f":"AJ21","v":{"$error":"#VALUE!"}}]
["Tőketörlesztés",{"$f":"L21","v":{"$error":"#VALUE!"}}]
["Kamattörlesztés",{"$f":"K21","v":{"$error":"#VALUE!"}}]
["Állami kezességvállalás díja",{"$f":"M21","v":{"$error":"#VALUE!"}},null,null,null,null,null,null,null,null,null,null,null,null,null,null,null,null,null,null,null,null,null,null,null,null,null,null,null,null,null,null,null,null,null,"folyósítás",{"$f":"Hiteladatok!I18","v":""}]
["Törlesztőszámla havi díja",{"$f":"W21*B38","v":{"$error":"#VALUE!"}},null,null,null,null,null,null,null,null,null,null,null,null,null,null,null,null,null,null,null,null,null,null,null,null,null,null,null,null,null,null,null,null,null,"+1 hó",{"$f":"EDATE(AK15,1)","v":{"$error":"#VALUE!"}}]
["Visszatérítendő kamattámogatás 5 év után",{"$f":"IF(J21>0,Q21,0)","v":{"$error":"#VALUE!"}},{"$f":"IF(J21>0,$D$29,$D$30)","v":{"$error":"#VALUE!"}},null,null,null,null,null,null,null,null,null,null,null,null,null,null,null,null,null,null,null,null,null,null,null,null,null,null,null,null,null,null,null,null,"1. törl",{"$f":"Hiteladatok!I19","v":""}]
[]
["Állami támogatások",null,null,null,null,null,null,null,null,null,null,null,null,{"$f":"B2/B3/12+B2*B35/12","v":0},null,null,null,null,null,null,null,null,null,null,null,null,null,null,null,null,null,null,null,null,null,"extra nap",{"$f":"AK17-AK16","v":{"$error":"#VALUE!"}}]
["Gyermekvállalási támogatás",{"$f":"AE21","v":0},"mutatni",null,null,null,null,null,null,null,null,null,null,null,null,null,null,null,1.2200000000000001E-2]
["Állami kamattámogatás",{"$f":"Q21","v":{"$error":"#VALUE!"}},{"$f":"IF(B21-B17>0,$D$29,$D$30)","v":{"$error":"#VALUE!"}},null,null,null,null,null,null,{"$f":"MAX(J23:J298)","v":{"$error":"#VALUE!"}},{"$f":"SUM(K23:K298)","v":{"$error":"#VALUE!"}},{"$f":"SUM(L23:L298)","v":{"$error":"#VALUE!"}},{"$f":"SUM(M23:M298)","v":{"$error":"#VALUE!"}},{"$f":"SUM(N23:N298)","v":{"$error":"#VALUE!"}},null,null,{"$f":"SUM(Q23:Q298)","v":{"$error":"#VALUE!"}},{"$f":"SUM(R23:R298)","v":{"$error":"#VALUE!"}},{"$f":"SUM(S23:S298)","v":{"$error":"#VALUE!"}},{"$f":"SUM(T23:T298)","v":{"$error":"#VALUE!"}},{"$f":"SUM(U23:U298)","v":{"$error":"#VALUE!"}},null,{"$f":"MAX(W23:W298)","v":{"$error":"#VALUE!"}},null,null,null,null,{"$f":"SUM(AB23:AB298)","v":{"$error":"#VALUE!"}},{"$f":"SUM(AC23:AC298)","v":0},{"$f":"SUM(AD23:AD298)","v":{"$error":"#VALUE!"}},{"$f":"SUM(AE23:AE298)","v":0},null,"grafikonhoz",null,null,{"$f":"SUM(AJ23:AJ298)","v":{"$error":"#VALUE!"}},30.41666,4.6828089941398487E-3]
[null,null,null,null,null,null,null,"month","opening","interest%","interest","capital repayment","guar. fee","instalment","closing",null,"subsidy","commission","funding","marge","DI",null,"tenor","remaing tenor","1st child","2nd child","3rd child","1st grace","2nd grace","ins/grace","prepayment","tengely","volume","instalment",null,"havi teher","eltelt nap","THM",{"$f":"B2-AM298","v":{"$error":"#VALUE!"}}]
["start date",{"$f":"B1","v":""},{"$f":"EOMONTH(B23,-1)+1","v":{"$error":"#VALUE!"}},null,null,null,1,{"$f":"IF(B26=12,1,B26+1)","v":{"$error":"#VALUE!"}},{"$f":"B24*1000000","v":0},{"$f":"IF(G23<61,$B$32,IF(AND($B$27<61,$B$27<>\"\"),$B$32,$B$34))","v":0},{"$f":"IF(AA23=\"b\",0,J23*I23/12)","v":0},{"$f":"N23-M23-K23","v":{"$error":"#VALUE!"}},{"$f":"IF(AD23=1,0,ROUND(I23*$B$35/12,0))","v":{"$error":"#VALUE!"}},{"$f":"IF(AD23=1,M23,PMT(J23/12,X23,-I23)+M23)","v":{"$error":"#VALUE!"}},{"$f":"I23+K23+M23-N23-AE23","v":{"$error":"#VALUE!"}},null,{"$f":"IF(I23=0,0,IF(J23=$B$32,I23*$B$33/12,0))","v":0},{"$f":"IF(H23=12,I23*$B$37,0)+B36*B24*1000000","v":{"$error":"#VALUE!"}},{"$f":"-I23*$S$20/12","v":0},{"$f":"K23+Q23+S23","v":0},{"$f":"T23+R23","v":{"$error":"#VALUE!"}},null,{"$f":"B25","v":240},{"$f":"W23","v":240},{"$f":"IF(AND(B27<>\"\",G23>=$B$27),\"b\",\"n\")","v":{"$error":"#VALUE!"}},{"$f":"IF(AND(B28<>\"\",G23>=$B$28),\"b\",\"n\")","v":"n"},{"$f":"IF(AND(B29<>\"\",G23>=$B$29),\"b\",\"n\")","v":"n"},{"$f":"IF($E$35<1,0,IF(OR(G23<=$B$27,G23>MAX(IF($B$27=$B$28,60,36),$B$27+IF($B$27=$B$28,60,36)),$B$27>60),0,1))","v":{"$error":"#VALUE!"}},{"$f":"IF($E$35<2,0,IF(OR(G23<=$B$28,G23>$B$28+IF($B$27=$B$28,60,36),$AB$21=0),0,1))","v":0},{"$f":"MAX(AB23:AC23)","v":{"$error":"#VALUE!"}},{"$f":"IF(AA23=\"b\",I23,IF(Z23=\"b\",I23*0.3,0))","v":0},null,{"$f":"IF(O23=0,-100000,O23)","v":{"$error":"#VALUE!"}},{"$f":"IF(AD23=1,0,IF(N23=0,-1000,N23))","v":{"$error":"#VALUE!"}},null,{"$f":"N23+IF(OR(I23=0,G23>$W$21),0,$B$38)+IF(G23=MIN(60,$B$25),$B$17,0)","v":{"$error":"#VALUE!"}},{"$f":"G23*$AK$21+$AK$19","v":{"$error":"#VALUE!"}},{"$f":"AJ23/((1+$AL$21)^(AK23/365))","v":{"$error":"#VALUE!"}},{"$f":"AL23","v":{"$error":"#VALUE!"}}]
["Loan amount M HUF",{"$f":"B2/1000000","v":0},null,null,null,null,{"$f":"G23+1","v":2},{"$f":"IF(H23=12,1,H23+1)","v":{"$error":"#VALUE!"}},{"$f":"O23","v":{"$error":"#VALUE!"}},0,{"$f":"IF(AA24=\"b\",0,J24*I24/12)","v":{"$error":"#VALUE!"}},{"$f":"N24-M24-K24","v":{"$error":"#VALUE!"}},{"$f":"ROUND(IF(OR(AD24=1,AA24=\"b\",ROUND(I24,0)=0),0,IF(OR(H24=2,M23=0),I23*$B$35/12,M23)),0)","v":{"$error":"#VALUE!"}},{"$f":"IF(OR(AA24=\"b\",ROUND(I24,0)=0),0,IF(OR(AND($B$27<61,AA24=\"b\"),AD24=1),M24,PMT(J24/12,X24,-I24)+M24))","v":{"$error":"#VALUE!"}},{"$f":"I24+K24+M24-N24-AE24","v":{"$error":"#VALUE!"}},null,{"$f":"IF(I24=0,0,IF(H24<>$H$23,Q23,IF(J24=$B$32,I24*$B$33/12,0)))","v":{"$error":"#VALUE!"}},{"$f":"IF(H24=12,O24*$B$37,0)","v":{"$error":"#VALUE!"}},{"$error":"#VALUE!"},{"$f":"K24+Q24+S24","v":{"$error":"#VALUE!"}},{"$f":"T24+R24","v":{"$error":"#VALUE!"}},null,{"$f":"IF(Y23=\"b\",W23+$C$27,W23)","v":{"$error":"#VALUE!"}},{"$f":"W24-G23","v":{"$error":"#VALUE!"}},{"$f":"IF(G24=$B$27,\"b\",\"n\")","v":{"$error":"#VALUE!"}},{"$f":"IF(G24=$B$28,\"b\",\"n\")","v":"n"},{"$f":"IF(G24=$B$29,\"b\",\"n\")","v":"n"},{"$f":"IF($E$35<1,0,IF(OR(G24<=$B$27,G24>MAX(IF($B$27=$B$28,60,36),$B$27+IF($B$27=$B$28,60,36)),$B$27>60),0,1))","v":{"$error":"#VALUE!"}},{"$f":"IF($E$35<2,0,IF(OR(G24<=$B$28,G24>$B$28+IF($B$27=$B$28,60,36),$AB$21=0),0,1))","v":0},{"$f":"MAX(AB24:AC24)","v":{"$error":"#VALUE!"}},{"$f":"IF(AA24=\"b\",I24,IF(Z24=\"b\",I24*0.3,0))","v":0},null,{"$f":"IF(O24=0,-100000,O24)","v":{"$error":"#VALUE!"}},{"$f":"IF(AD24=1,0,IF(N24=0,-1000,N24))","v":{"$error":"#VALUE!"}},null,{"$f":"N24+IF(OR(I24=0,G24>$W$21),0,$B$38)+IF(G24=MIN(60,$B$25),$B$17,0)","v":{"$error":"#VALUE!"}},{"$f":"G24*$AK$21+$AK$19","v":{"$error":"#VALUE!"}},{"$f":"AJ24/((1+$AL$21)^(AK24/365))","v":{"$error":"#VALUE!"}},{"$f":"AM23+AL24","v":{"$error":"#VALUE!"}}]
["Tenor",{"$f":"B3*12","v":240},null,null,null,null,{"$f":"G24+1","v":3},{"$f":"IF(H24=12,1,H24+1)","v":{"$error":"#VALUE!"}},{"$f":"O24","v":{"$error":"#VALUE!"}},0,{"$error":"#VALUE!"},{"$error":"#VALUE!"},{"$f":"ROUND(IF(OR(AD25=1,AA25=\"b\",ROUND(I25,0)=0),0,IF(OR(H25=2,M24=0),I24*$B$35/12,M24)),0)","v":{"$error":"#VALUE!"}},{"$f":"IF(OR(AA25=\"b\",ROUND(I25,0)=0),0,IF(OR(AND($B$27<61,AA25=\"b\"),AD25=1),M25,PMT(J25/12,X25,-I25)+M25))","v":{"$error":"#VALUE!"}},{"$error":"#VALUE!"},null,{"$error":"#VALUE!"},{"$error":"#VALUE!"},{"$error":"#VALUE!"},{"$error":"#VALUE!"},{"$error":"#VALUE!"},null,{"$f":"IF(Y24=\"b\",W24+$C$27,W24)","v":{"$error":"#VALUE!"}},{"$f":"W25-G24","v":{"$error":"#VALUE!"}},{"$error":"#VALUE!"},"n","n",{"$error":"#VALUE!"},0,{"$error":"#VALUE!"},0,null,{"$error":"#VALUE!"},{"$error":"#VALUE!"},null,{"$error":"#VALUE!"},{"$error":"#VALUE!"},{"$f":"AJ25/((1+$AL$21)^(AK25/365))","v":{"$error":"#VALUE!"}},{"$f":"AM24+AL25","v":{"$error":"#VALUE!"}}]
["disbursment month",{"$f":"MONTH(B23)","v":{"$error":"#VALUE!"}},null,null,null,null,4,{"$error":"#VALUE!"},{"$error":"#VALUE!"},0,{"$error":"#VALUE!"},{"$error":"#VALUE!"},{"$error":"#VALUE!"},{"$error":"#VALUE!"},{"$error":"#VALUE!"},null,{"$error":"#VALUE!"},{"$error":"#VALUE!"},{"$error":"#VALUE!"},{"$error":"#VALUE!"},{"$error":"#VALUE!"},null,{"$error":"#VALUE!"},{"$error":"#VALUE!"},{"$error":"#VALUE!"},"n","n",{"$error":"#VALUE!"},0,{"$error":"#VALUE!"},0,null,{"$error":"#VALUE!"},{"$error":"#VALUE!"},null,{"$error":"#VALUE!"},{"$error":"#VALUE!"},{"$error":"#VALUE!"},{"$error":"#VALUE!"}]
["12th week of 1st pregnancy (month)",{"$f":"IF(E35=E31,\"\",B45-6)","v":{"$error":"#VALUE!"}},{"$f":"IF(AND(B27<>\"\",B27<61),36,0)","v":{"$error":"#VALUE!"}},null,null,null,5,{"$error":"#VALUE!"},{"$error":"#VALUE!"},0,{"$error":"#VALUE!"},{"$error":"#VALUE!"},{"$error":"#VALUE!"},{"$error":"#VALUE!"},{"$error":"#VALUE!"},null,{"$error":"#VALUE!"},{"$error":"#VALUE!"},{"$error":"#VALUE!"},{"$error":"#VALUE!"},{"$error":"#VALUE!"},null,{"$error":"#VALUE!"},{"$error":"#VALUE!"},{"$error":"#VALUE!"},"n","n",{"$error":"#VALUE!"},0,{"$error":"#VALUE!"},0,null,{"$error":"#VALUE!"},{"$error":"#VALUE!"},null,{"$error":"#VALUE!"},{"$error":"#VALUE!"},{"$error":"#VALUE!"},{"$error":"#VALUE!"}]
["12th week of 2nd pregnancy (month)",{"$f":"IF(E35<E33,\"\",C45-6)","v":""},null,null,null,null,6,{"$error":"#VALUE!"},{"$error":"#VALUE!"},0,{"$error":"#VALUE!"},{"$error":"#VALUE!"},{"$error":"#VALUE!"},{"$error":"#VALUE!"},{"$error":"#VALUE!"},null,{"$error":"#VALUE!"},{"$error":"#VALUE!"},{"$error":"#VALUE!"},{"$error":"#VALUE!"},{"$error":"#VALUE!"},null,{"$error":"#VALUE!"},{"$error":"#VALUE!"},{"$error":"#VALUE!"},"n","n",{"$error":"#VALUE!"},0,{"$error":"#VALUE!"},0,{"$f":"ROUNDDOWN(G28/12,0)+1","v":1},{"$error":"#VALUE!"},{"$error":"#VALUE!"},null,{"$error":"#VALUE!"},{"$error":"#VALUE!"},{"$f":"AJ28/((1+$AL$21)^(AK28/365))","v":{"$error":"#VALUE!"}},{"$error":"#VALUE!"}]
["12th week of 3rd pregnancy (month)",{"$f":"IF(E35<E34,\"\",D45-6)","v":""},null,"mutatni",null,null,7,{"$error":"#VALUE!"},{"$error":"#VALUE!"},0,{"$error":"#VALUE!"},{"$error":"#VALUE!"},{"$error":"#VALUE!"},{"$error":"#VALUE!"},{"$error":"#VALUE!"},null,{"$error":"#VALUE!"},{"$error":"#VALUE!"},{"$error":"#VALUE!"},{"$error":"#VALUE!"},{"$error":"#VALUE!"},null,{"$error":"#VALUE!"},{"$error":"#VALUE!"},{"$error":"#VALUE!"},"n","n",{"$error":"#VALUE!"},0,{"$error":"#VALUE!"},0,null,{"$error":"#VALUE!"},{"$error":"#VALUE!"},null,{"$error":"#VALUE!"},{"$error":"#VALUE!"},{"$error":"#VALUE!"},{"$error":"#VALUE!"}]
[null,null,null,"elrejteni",null,null,8,{"$error":"#VALUE!"},{"$error":"#VALUE!"},0,{"$error":"#VALUE!"},{"$error":"#VALUE!"},{"$error":"#VALUE!"},{"$error":"#VALUE!"},{"$error":"#VALUE!"},null,{"$error":"#VALUE!"},{"$error":"#VALUE!"},{"$error":"#VALUE!"},{"$error":"#VALUE!"},{"$error":"#VALUE!"},null,{"$error":"#VALUE!"},{"$error":"#VALUE!"},{"$error":"#VALUE!"},"n","n",{"$error":"#VALUE!"},0,{"$error":"#VALUE!"},0,null,{"$error":"#VALUE!"},{"$error":"#VALUE!"},null,{"$error":"#VALUE!"},{"$error":"#VALUE!"},{"$error":"#VALUE!"},{"$error":"#VALUE!"}]
["ÁKK",{"$f":"kondíciók!B10","v":1.83E-2},null,0,0,null,9,{"$error":"#VALUE!"},{"$error":"#VALUE!"},0,{"$error":"#VALUE!"},{"$error":"#VALUE!"},{"$error":"#VALUE!"},{"$error":"#VALUE!"},{"$error":"#VALUE!"},null,{"$error":"#VALUE!"},{"$error":"#VALUE!"},{"$error":"#VALUE!"},{"$error":"#VALUE!"},{"$error":"#VALUE!"},null,{"$error":"#VALUE!"},{"$error":"#VALUE!"},{"$error":"#VALUE!"},"n","n",{"$error":"#VALUE!"},0,{"$error":"#VALUE!"},0,null,{"$error":"#VALUE!"},{"$error":"#VALUE!"},null,{"$error":"#VALUE!"},{"$error":"#VALUE!"},{"$error":"#VALUE!"},{"$error":"#VALUE!"}]
["Iinterest rate 0",0,null,1,1,null,10,{"$error":"#VALUE!"},{"$error":"#VALUE!"},0,{"$error":"#VALUE!"},{"$error":"#VALUE!"},{"$error":"#VALUE!"},{"$error":"#VALUE!"},{"$error":"#VALUE!"},null,{"$error":"#VALUE!"},{"$error":"#VALUE!"},{"$error":"#VALUE!"},{"$error":"#VALUE!"},{"$error":"#VALUE!"},null,{"$error":"#VALUE!"},{"$error":"#VALUE!"},{"$error":"#VALUE!"},"n","n",{"$error":"#VALUE!"},0,{"$error":"#VALUE!"},0,null,{"$error":"#VALUE!"},{"$error":"#VALUE!"},null,{"$error":"#VALUE!"},{"$error":"#VALUE!"},{"$error":"#VALUE!"},{"$error":"#VALUE!"}]
["Iinterest rate 1",{"$f":"ROUND(B31*1.3,4)+kondíciók!I6","v":4.3800000000000006E-2},null,2,2,null,11,{"$error":"#VALUE!"},{"$error":"#VALUE!"},0,{"$error":"#VALUE!"},{"$error":"#VALUE!"},{"$error":"#VALUE!"},{"$error":"#VALUE!"},{"$error":"#VALUE!"},null,{"$error":"#VALUE!"},{"$error":"#VALUE!"},{"$error":"#VALUE!"},{"$error":"#VALUE!"},{"$error":"#VALUE!"},null,{"$error":"#VALUE!"},{"$error":"#VALUE!"},{"$error":"#VALUE!"},"n","n",{"$error":"#VALUE!"},0,{"$error":"#VALUE!"},0,null,{"$error":"#VALUE!"},{"$error":"#VALUE!"},null,{"$error":"#VALUE!"},{"$error":"#VALUE!"},{"$error":"#VALUE!"},{"$error":"#VALUE!"}]
["Iinterest rate 2",{"$f":"ROUND(B31*1.3,4)+kondíciók!I7","v":7.3800000000000004E-2},null,"3 vagy több",3,null,12,{"$error":"#VALUE!"},{"$error":"#VALUE!"},0,{"$error":"#VALUE!"},{"$error":"#VALUE!"},{"$error":"#VALUE!"},{"$error":"#VALUE!"},{"$error":"#VALUE!"},null,{"$error":"#VALUE!"},{"$error":"#VALUE!"},{"$error":"#VALUE!"},{"$error":"#VALUE!"},{"$error":"#VALUE!"},null,{"$error":"#VALUE!"},{"$error":"#VALUE!"},{"$error":"#VALUE!"},"n","n",{"$error":"#VALUE!"},0,{"$error":"#VALUE!"},0,null,{"$error":"#VALUE!"},{"$error":"#VALUE!"},null,{"$error":"#VALUE!"},{"$error":"#VALUE!"},{"$error":"#VALUE!"},{"$error":"#VALUE!"}]
["Guarantee fee",5.0000000000000001E-3,null,"gyerekszám",{"$f":"VLOOKUP(B5,D31:E34,2,FALSE)","v":1},null,13,{"$error":"#VALUE!"},{"$error":"#VALUE!"},0,{"$error":"#VALUE!"},{"$error":"#VALUE!"},{"$error":"#VALUE!"},{"$error":"#VALUE!"},{"$error":"#VALUE!"},null,{"$error":"#VALUE!"},{"$error":"#VALUE!"},{"$error":"#VALUE!"},{"$error":"#VALUE!"},{"$error":"#VALUE!"},null,{"$error":"#VALUE!"},{"$error":"#VALUE!"},{"$error":"#VALUE!"},"n","n",{"$error":"#VALUE!"},0,{"$error":"#VALUE!"},0,null,{"$error":"#VALUE!"},{"$error":"#VALUE!"},null,{"$error":"#VALUE!"},{"$error":"#VALUE!"},{"$error":"#VALUE!"},{"$error":"#VALUE!"}]
["commission up-front",8.0000000000000002E-3,null,null,null,null,14,{"$error":"#VALUE!"},{"$error":"#VALUE!"},0,{"$error":"#VALUE!"},{"$error":"#VALUE!"},{"$error":"#VALUE!"},{"$error":"#VALUE!"},{"$error":"#VALUE!"},null,{"$error":"#VALUE!"},{"$error":"#VALUE!"},{"$error":"#VALUE!"},{"$error":"#VALUE!"},{"$error":"#VALUE!"},null,{"$error":"#VALUE!"},{"$error":"#VALUE!"},{"$error":"#VALUE!"},"n","n",{"$error":"#VALUE!"},0,{"$error":"#VALUE!"},0,null,{"$error":"#VALUE!"},{"$error":"#VALUE!"},null,{"$error":"#VALUE!"},{"$error":"#VALUE!"},{"$error":"#VALUE!"},{"$error":"#VALUE!"}]
["commision yearly",3.0000000000000001E-3,null,null,null,null,15,{"$error":"#VALUE!"},{"$error":"#VALUE!"},0,{"$error":"#VALUE!"},{"$error":"#VALUE!"},{"$error":"#VALUE!"},{"$error":"#VALUE!"},{"$error":"#VALUE!"},null,{"$error":"#VALUE!"},{"$error":"#VALUE!"},{"$error":"#VALUE!"},{"$error":"#VALUE!"},{"$error":"#VALUE!"},null,{"$error":"#VALUE!"},{"$error":"#VALUE!"},{"$error":"#VALUE!"},"n","n",{"$error":"#VALUE!"},0,{"$error":"#VALUE!"},0,null,{"$error":"#VALUE!"},{"$error":"#VALUE!"},null,{"$error":"#VALUE!"},{"$error":"#VALUE!"},{"$error":"#VALUE!"},{"$error":"#VALUE!"}]
["monthly current account fee",{"$f":"Hiteladatok!I6/Finanszírozás!F18","v":{"$error":"#DIV/0!"}},null,null,null,null,16,{"$error":"#VALUE!"},{"$error":"#VALUE!"},0,{"$error":"#VALUE!"},{"$error":"#VALUE!"},{"$error":"#VALUE!"},{"$error":"#VALUE!"},{"$error":"#VALUE!"},null,{"$error":"#VALUE!"},{"$error":"#VALUE!"},{"$error":"#VALUE!"},{"$error":"#VALUE!"},{"$error":"#VALUE!"},null,{"$error":"#VALUE!"},{"$error":"#VALUE!"},{"$error":"#VALUE!"},"n","n",{"$error":"#VALUE!"},0,{"$error":"#VALUE!"},0,null,{"$error":"#VALUE!"},{"$error":"#VALUE!"},null,{"$error":"#VALUE!"},{"$error":"#VALUE!"},{"$error":"#VALUE!"},{"$error":"#VALUE!"}]
[null,null,null,null,null,null,17,{"$error":"#VALUE!"},{"$error":"#VALUE!"},0,{"$error":"#VALUE!"},{"$error":"#VALUE!"},{"$error":"#VALUE!"},{"$error":"#VALUE!"},{"$error":"#VALUE!"},null,{"$error":"#VALUE!"},{"$error":"#VALUE!"},{"$error":"#VALUE!"},{"$error":"#VALUE!"},{"$error":"#VALUE!"},null,{"$error":"#VALUE!"},{"$error":"#VALUE!"},{"$error":"#VALUE!"},"n","n",{"$error":"#VALUE!"},0,{"$error":"#VALUE!"},0,null,{"$error":"#VALUE!"},{"$error":"#VALUE!"},null,{"$error":"#VALUE!"},{"$error":"#VALUE!"},{"$error":"#VALUE!"},{"$error":"#VALUE!"}]
[null,"1. gyerek","2. gyerek","3. gyerek",null,null,18,{"$error":"#VALUE!"},{"$error":"#VALUE!"},0,{"$error":"#VALUE!"},{"$error":"#VALUE!"},{"$error":"#VALUE!"},{"$error":"#VALUE!"},{"$error":"#VALUE!"},null,{"$error":"#VALUE!"},{"$error":"#VALUE!"},{"$error":"#VALUE!"},{"$error":"#VALUE!"},{"$error":"#VALUE!"},null,{"$error":"#VALUE!"},{"$error":"#VALUE!"},{"$error":"#VALUE!"},"n","n",{"$error":"#VALUE!"},0,{"$error":"#VALUE!"},0,2,{"$error":"#VALUE!"},{"$error":"#VALUE!"},null,{"$error":"#VALUE!"},{"$error":"#VALUE!"},{"$error":"#VALUE!"},{"$error":"#VALUE!"}]
["rögzített dátum",{"$f":"B7","v":{"$error":"#VALUE!"}},{"$f":"B8","v":"2022-09-01"},{"$f":"B9","v":"2025-04-01"},null,null,19,{"$error":"#VALUE!"},{"$error":"#VALUE!"},0,{"$error":"#VALUE!"},{"$error":"#VALUE!"},{"$error":"#VALUE!"},{"$error":"#VALUE!"},{"$error":"#VALUE!"},null,{"$error":"#VALUE!"},{"$error":"#VALUE!"},{"$error":"#VALUE!"},{"$error":"#VALUE!"},{"$error":"#VALUE!"},null,{"$error":"#VALUE!"},{"$error":"#VALUE!"},{"$error":"#VALUE!"},"n","n",{"$error":"#VALUE!"},0,{"$error":"#VALUE!"},0,null,{"$error":"#VALUE!"},{"$error":"#VALUE!"},null,{"$error":"#VALUE!"},{"$error":"#VALUE!"},{"$error":"#VALUE!"},{"$error":"#VALUE!"}]
["hó eleje",{"$f":"EOMONTH(B41,-1)+1","v":{"$error":"#VALUE!"}},{"$f":"EOMONTH(C41,-1)+1","v":"2022-09-01"},"2025-04-01",null,null,20,{"$error":"#VALUE!"},{"$error":"#VALUE!"},0,{"$error":"#VALUE!"},{"$error":"#VALUE!"},{"$error":"#VALUE!"},{"$error":"#VALUE!"},{"$error":"#VALUE!"},null,{"$error":"#VALUE!"},{"$error":"#VALUE!"},{"$error":"#VALUE!"},{"$error":"#VALUE!"},{"$error":"#VALUE!"},null,{"$error":"#VALUE!"},{"$error":"#VALUE!"},{"$error":"#VALUE!"},"n","n",{"$error":"#VALUE!"},0,{"$error":"#VALUE!"},0,null,{"$error":"#VALUE!"},{"$error":"#VALUE!"},null,{"$error":"#VALUE!"},{"$error":"#VALUE!"},{"$error":"#VALUE!"},{"$error":"#VALUE!"}]
["ha üres vagy létszámfeletti, akkor távoli",{"$f":"IF(OR(B7=\"\",$E$35<1),100000,B42)","v":{"$error":"#VALUE!"}},{"$f":"IF(OR(B8=\"\",$E$35<2),100000,C42)","v":"2173-10-14"},{"$f":"IF(OR(B9=\"\",$E$35<3),100000,D42)","v":"2173-10-14"},null,null,21,{"$error":"#VALUE!"},{"$error":"#VALUE!"},0,{"$error":"#VALUE!"},{"$error":"#VALUE!"},{"$error":"#VALUE!"},{"$error":"#VALUE!"},{"$error":"#VALUE!"},null,{"$error":"#VALUE!"},{"$error":"#VALUE!"},{"$error":"#VALUE!"},{"$error":"#VALUE!"},{"$error":"#VALUE!"},null,{"$error":"#VALUE!"},{"$error":"#VALUE!"},{"$error":"#VALUE!"},"n","n",{"$error":"#VALUE!"},0,{"$error":"#VALUE!"},0,null,{"$error":"#VALUE!"},{"$error":"#VALUE!"},null,{"$error":"#VALUE!"},{"$error":"#VALUE!"},{"$error":"#VALUE!"},{"$error":"#VALUE!"}]
["min, középső, max",{"$f":"MIN(B43:D43)","v":{"$error":"#VALUE!"}},{"$f":"IF(OR(AND(B43>=C43,B43<=D43),AND(B43<=C43,B43>=D43)),B43,IF(OR(AND(C43>=B43,C43<=D43),AND(C43<=B43,C43>=D43)),C43,D43))","v":{"$error":"#VALUE!"}},{"$f":"MAX(B43:D43)","v":{"$error":"#VALUE!"}},null,null,22,{"$error":"#VALUE!"},{"$error":"#VALUE!"},0,{"$error":"#VALUE!"},{"$error":"#VALUE!"},{"$error":"#VALUE!"},{"$error":"#VALUE!"},{"$error":"#VALUE!"},null,{"$error":"#VALUE!"},{"$error":"#VALUE!"},{"$error":"#VALUE!"},{"$error":"#VALUE!"},{"$error":"#VALUE!"},null,{"$error":"#VALUE!"},{"$error":"#VALUE!"},{"$error":"#VALUE!"},"n","n",{"$error":"#VALUE!"},0,{"$error":"#VALUE!"},0,null,{"$error":"#VALUE!"},{"$error":"#VALUE!"},null,{"$error":"#VALUE!"},{"$error":"#VALUE!"},{"$error":"#VALUE!"},{"$error":"#VALUE!"}]
["folyósítástól hány hónap múlva születik",{"$f":"DAYS360($C$23,B44,TRUE)/30","v":{"$error":"#VALUE!"}},{"$f":"DAYS360($C$23,C44,TRUE)/30","v":{"$error":"#VALUE!"}},{"$f":"DAYS360($C$23,D44,TRUE)/30","v":{"$error":"#VALUE!"}},null,null,23,{"$error":"#VALUE!"},{"$error":"#VALUE!"},0,{"$error":"#VALUE!"},{"$error":"#VALUE!"},{"$error":"#VALUE!"},{"$error":"#VALUE!"},{"$error":"#VALUE!"},null,{"$error":"#VALUE!"},{"$error":"#VALUE!"},{"$error":"#VALUE!"},{"$error":"#VALUE!"},{"$error":"#VALUE!"},null,{"$error":"#VALUE!"},{"$error":"#VALUE!"},{"$error":"#VALUE!"},"n","n",{"$error":"#VALUE!"},0,{"$error":"#VALUE!"},0,null,{"$error":"#VALUE!"},{"$error":"#VALUE!"},null,{"$error":"#VALUE!"},{"$error":"#VALUE!"},{"$error":"#VALUE!"},{"$error":"#VALUE!"}]
["különbség a születések között",null,{"$f":"C45-B45","v":{"$error":"#VALUE!"}},{"$f":"D45-C45","v":{"$error":"#VALUE!"}},null,null,24,{"$error":"#VALUE!"},{"$error":"#VALUE!"},0,{"$error":"#VALUE!"},{"$error":"#VALUE!"},{"$error":"#VALUE!"},{"$error":"#VALUE!"},{"$error":"#VALUE!"},null,{"$error":"#VALUE!"},{"$error":"#VALUE!"},{"$error":"#VALUE!"},{"$error":"#VALUE!"},{"$error":"#VALUE!"},null,{"$error":"#VALUE!"},{"$error":"#VALUE!"},{"$error":"#VALUE!"},"n","n",{"$error":"#VALUE!"},0,{"$error":"#VALUE!"},0,null,{"$error":"#VALUE!"},{"$error":"#VALUE!"},null,{"$error":"#VALUE!"},{"$error":"#VALUE!"},{"$error":"#VALUE!"},{"$error":"#VALUE!"}]
["van 9 hónap köztük?",null,{"$f":"IF(AND(C46<>0,C46<10),1,0)","v":{"$error":"#VALUE!"}},{"$f":"IF(AND(D46<>0,D46<10),1,0)","v":{"$error":"#VALUE!"}},{"$f":"MAX(C47:D47)","v":{"$error":"#VALUE!"}},null,25,{"$error":"#VALUE!"},{"$error":"#VALUE!"},0,{"$error":"#VALUE!"},{"$error":"#VALUE!"},{"$error":"#VALUE!"},{"$error":"#VALUE!"},{"$error":"#VALUE!"},null,{"$error":"#VALUE!"},{"$error":"#VALUE!"},{"$error":"#VALUE!"},{"$error":"#VALUE!"},{"$error":"#VALUE!"},null,{"$error":"#VALUE!"},{"$error":"#VALUE!"},{"$error":"#VALUE!"},"n","n",{"$error":"#VALUE!"},0,{"$error":"#VALUE!"},0,null,{"$error":"#VALUE!"},{"$error":"#VALUE!"},null,{"$error":"#VALUE!"},{"$error":"#VALUE!"},{"$error":"#VALUE!"},{"$error":"#VALUE!"}]
[null,null,null,null,null,null,26,{"$error":"#VALUE!"},{"$error":"#VALUE!"},0,{"$error":"#VALUE!"},{"$error":"#VALUE!"},{"$error":"#VALUE!"},{"$error":"#VALUE!"},{"$error":"#VALUE!"},null,{"$error":"#VALUE!"},{"$error":"#VALUE!"},{"$error":"#VALUE!"},{"$error":"#VALUE!"},{"$error":"#VALUE!"},null,{"$error":"#VALUE!"},{"$error":"#VALUE!"},{"$error":"#VALUE!"},"n","n",{"$error":"#VALUE!"},0,{"$error":"#VALUE!"},0,null,{"$error":"#VALUE!"},{"$error":"#VALUE!"},null,{"$error":"#VALUE!"},{"$error":"#VALUE!"},{"$error":"#VALUE!"},{"$error":"#VALUE!"}]
["max futamidő",{"$f":"IF(B2<5000000,10,20)","v":10},null,null,null,null,27,{"$error":"#VALUE!"},{"$error":"#VALUE!"},0,{"$error":"#VALUE!"},{"$error":"#VALUE!"},{"$error":"#VALUE!"},{"$error":"#VALUE!"},{"$error":"#VALUE!"},null,{"$error":"#VALUE!"},{"$error":"#VALUE!"},{"$error":"#VALUE!"},{"$error":"#VALUE!"},{"$error":"#VALUE!"},null,{"$error":"#VALUE!"},{"$error":"#VALUE!"},{"$error":"#VALUE!"},"n","n",{"$error":"#VALUE!"},0,{"$error":"#VALUE!"},0,null,{"$error":"#VALUE!"},{"$error":"#VALUE!"},null,{"$error":"#VALUE!"},{"$error":"#VALUE!"},{"$error":"#VALUE!"},{"$error":"#VALUE!"}]
["Futamidő (év)   HIBA: Túl hosszú futamidő!",null,null,null,null,null,28,{"$error":"#VALUE!"},{"$error":"#VALUE!"},0,{"$error":"#VALUE!"},{"$error":"#VALUE!"},{"$error":"#VALUE!"},{"$error":"#VALUE!"},{"$error":"#VALUE!"},null,{"$error":"#VALUE!"},{"$error":"#VALUE!"},{"$error":"#VALUE!"},{"$error":"#VALUE!"},{"$error":"#VALUE!"},null,{"$error":"#VALUE!"},{"$error":"#VALUE!"},{"$error":"#VALUE!"},"n","n",{"$error":"#VALUE!"},0,{"$error":"#VALUE!"},0,null,{"$error":"#VALUE!"},{"$error":"#VALUE!"},null,{"$error":"#VALUE!"},{"$error":"#VALUE!"},{"$error":"#VALUE!"},{"$error":"#VALUE!"}]
[null,null,null,null,null,null,29,{"$error":"#VALUE!"},{"$error":"#VALUE!"},0,{"$error":"#VALUE!"},{"$error":"#VALUE!"},{"$error":"#VALUE!"},{"$error":"#VALUE!"},{"$error":"#VALUE!"},null,{"$error":"#VALUE!"},{"$error":"#VALUE!"},{"$error":"#VALUE!"},{"$error":"#VALUE!"},{"$error":"#VALUE!"},null,{"$error":"#VALUE!"},{"$error":"#VALUE!"},{"$error":"#VALUE!"},"n","n",{"$error":"#VALUE!"},0,{"$error":"#VALUE!"},0,null,{"$error":"#VALUE!"},{"$error":"#VALUE!"},null,{"$error":"#VALUE!"},{"$error":"#VALUE!"},{"$error":"#VALUE!"},{"$error":"#VALUE!"}]
[null,null,null,null,null,null,30,{"$error":"#VALUE!"},{"$error":"#VALUE!"},0,{"$error":"#VALUE!"},{"$error":"#VALUE!"},{"$error":"#VALUE!"},{"$error":"#VALUE!"},{"$error":"#VALUE!"},null,{"$error":"#VALUE!"},{"$error":"#VALUE!"},{"$error":"#VALUE!"},{"$error":"#VALUE!"},{"$error":"#VALUE!"},null,{"$error":"#VALUE!"},{"$error":"#VALUE!"},{"$error":"#VALUE!"},"n","n",{"$error":"#VALUE!"},0,{"$error":"#VALUE!"},0,3,{"$error":"#VALUE!"},{"$error":"#VALUE!"},null,{"$error":"#VALUE!"},{"$error":"#VALUE!"},{"$error":"#VALUE!"},{"$error":"#VALUE!"}]
[null,null,null,null,null,null,31,{"$error":"#VALUE!"},{"$error":"#VALUE!"},0,{"$error":"#VALUE!"},{"$error":"#VALUE!"},{"$error":"#VALUE!"},{"$error":"#VALUE!"},{"$error":"#VALUE!"},null,{"$error":"#VALUE!"},{"$error":"#VALUE!"},{"$error":"#VALUE!"},{"$error":"#VALUE!"},{"$error":"#VALUE!"},null,{"$error":"#VALUE!"},{"$error":"#VALUE!"},{"$error":"#VALUE!"},"n","n",{"$error":"#VALUE!"},0,{"$error":"#VALUE!"},0,null,{"$error":"#VALUE!"},{"$error":"#VALUE!"},null,{"$error":"#VALUE!"},{"$error":"#VALUE!"},{"$error":"#VALUE!"},{"$error":"#VALUE!"}]
[null,null,null,null,null,null,32,{"$error":"#VALUE!"},{"$error":"#VALUE!"},0,{"$error":"#VALUE!"},{"$error":"#VALUE!"},{"$error":"#VALUE!"},{"$error":"#VALUE!"},{"$error":"#VALUE!"},null,{"$error":"#VALUE!"},{"$error":"#VALUE!"},{"$error":"#VALUE!"},{"$error":"#VALUE!"},{"$error":"#VALUE!"},null,{"$error":"#VALUE!"},{"$error":"#VALUE!"},{"$error":"#VALUE!"},"n","n",{"$error":"#VALUE!"},0,{"$error":"#VALUE!"},0,null,{"$error":"#VALUE!"},{"$error":"#VALUE!"},null,{"$error":"#VALUE!"},{"$error":"#VALUE!"},{"$error":"#VALUE!"},{"$error":"#VALUE!"}]
[null,null,null,null,null,null,33,{"$error":"#VALUE!"},{"$error":"#VALUE!"},0,{"$error":"#VALUE!"},{"$error":"#VALUE!"},{"$error":"#VALUE!"},{"$error":"#VALUE!"},{"$error":"#VALUE!"},null,{"$error":"#VALUE!"},{"$error":"#VALUE!"},{"$error":"#VALUE!"},{"$error":"#VALUE!"},{"$error":"#VALUE!"},null,{"$error":"#VALUE!"},{"$error":"#VALUE!"},{"$error":"#VALUE!"},"n","n",{"$error":"#VALUE!"},0,{"$error":"#VALUE!"},0,null,{"$error":"#VALUE!"},{"$error":"#VALUE!"},null,{"$error":"#VALUE!"},{"$error":"#VALUE!"},{"$error":"#VALUE!"},{"$error":"#VALUE!"}]
[null,null,null,null,null,null,34,{"$error":"#VALUE!"},{"$error":"#VALUE!"},0,{"$error":"#VALUE!"},{"$error":"#VALUE!"},{"$error":"#VALUE!"},{"$error":"#VALUE!"},{"$error":"#VALUE!"},null,{"$error":"#VALUE!"},{"$error":"#VALUE!"},{"$error":"#VALUE!"},{"$error":"#VALUE!"},{"$error":"#VALUE!"},null,{"$error":"#VALUE!"},{"$error":"#VALUE!"},{"$error":"#VALUE!"},"n","n",{"$error":"#VALUE!"},0,{"$error":"#VALUE!"},0,null,{"$error":"#VALUE!"},{"$error":"#VALUE!"},null,{"$error":"#VALUE!"},{"$error":"#VALUE!"},{"$error":"#VALUE!"},{"$error":"#VALUE!"}]
[null,null,null,null,null,null,35,{"$error":"#VALUE!"},{"$error":"#VALUE!"},0,{"$error":"#VALUE!"},{"$error":"#VALUE!"},{"$error":"#VALUE!"},{"$error":"#VALUE!"},{"$error":"#VALUE!"},null,{"$error":"#VALUE!"},{"$error":"#VALUE!"},{"$error":"#VALUE!"},{"$error":"#VALUE!"},{"$error":"#VALUE!"},null,{"$error":"#VALUE!"},{"$error":"#VALUE!"},{"$error":"#VALUE!"},"n","n",{"$error":"#VALUE!"},0,{"$error":"#VALUE!"},0,null,{"$error":"#VALUE!"},{"$error":"#VALUE!"},null,{"$error":"#VALUE!"},{"$error":"#VALUE!"},{"$error":"#VALUE!"},{"$error":"#VALUE!"}]
[null,null,null,null,null,null,36,{"$error":"#VALUE!"},{"$error":"#VALUE!"},0,{"$error":"#VALUE!"},{"$error":"#VALUE!"},{"$error":"#VALUE!"},{"$error":"#VALUE!"},{"$error":"#VALUE!"},null,{"$error":"#VALUE!"},{"$error":"#VALUE!"},{"$error":"#VALUE!"},{"$error":"#VALUE!"},{"$error":"#VALUE!"},null,{"$error":"#VALUE!"},{"$error":"#VALUE!"},{"$error":"#VALUE!"},"n","n",{"$error":"#VALUE!"},0,{"$error":"#VALUE!"},0,null,{"$error":"#VALUE!"},{"$error":"#VALUE!"},null,{"$error":"#VALUE!"},{"$error":"#VALUE!"},{"$error":"#VALUE!"},{"$error":"#VALUE!"}]
[null,null,null,null,null,null,37,{"$error":"#VALUE!"},{"$error":"#VALUE!"},0,{"$error":"#VALUE!"},{"$error":"#VALUE!"},{"$error":"#VALUE!"},{"$error":"#VALUE!"},{"$error":"#VALUE!"},null,{"$error":"#VALUE!"},{"$error":"#VALUE!"},{"$error":"#VALUE!"},{"$error":"#VALUE!"},{"$error":"#VALUE!"},null,{"$error":"#VALUE!"},{"$error":"#VALUE!"},{"$error":"#VALUE!"},"n","n",{"$error":"#VALUE!"},0,{"$error":"#VALUE!"},0,null,{"$error":"#VALUE!"},{"$error":"#VALUE!"},null,{"$error":"#VALUE!"},{"$error":"#VALUE!"},{"$error":"#VALUE!"},{"$error":"#VALUE!"}]
[null,null,null,null,null,null,38,{"$error":"#VALUE!"},{"$error":"#VALUE!"},0,{"$error":"#VALUE!"},{"$error":"#VALUE!"},{"$error":"#VALUE!"},{"$error":"#VALUE!"},{"$error":"#VALUE!"},null,{"$error":"#VALUE!"},{"$error":"#VALUE!"},{"$error":"#VALUE!"},{"$error":"#VALUE!"},{"$error":"#VALUE!"},null,{"$error":"#VALUE!"},{"$error":"#VALUE!"},{"$error":"#VALUE!"},"n","n",{"$error":"#VALUE!"},0,{"$error":"#VALUE!"},0,null,{"$error":"#VALUE!"},{"$error":"#VALUE!"},null,{"$error":"#VALUE!"},{"$error":"#VALUE!"},{"$error":"#VALUE!"},{"$error":"#VALUE!"}]
[null,null,null,null,null,null,39,{"$error":"#VALUE!"},{"$error":"#VALUE!"},0,{"$error":"#VALUE!"},{"$error":"#VALUE!"},{"$error":"#VALUE!"},{"$error":"#VALUE!"},{"$error":"#VALUE!"},null,{"$error":"#VALUE!"},{"$error":"#VALUE!"},{"$error":"#VALUE!"},{"$error":"#VALUE!"},{"$error":"#VALUE!"},null,{"$error":"#VALUE!"},{"$error":"#VALUE!"},{"$error":"#VALUE!"},"n","n",{"$error":"#VALUE!"},0,{"$error":"#VALUE!"},0,null,{"$error":"#VALUE!"},{"$error":"#VALUE!"},null,{"$error":"#VALUE!"},{"$error":"#VALUE!"},{"$error":"#VALUE!"},{"$error":"#VALUE!"}]
[null,null,null,null,null,null,40,{"$error":"#VALUE!"},{"$error":"#VALUE!"},0,{"$error":"#VALUE!"},{"$error":"#VALUE!"},{"$error":"#VALUE!"},{"$error":"#VALUE!"},{"$error":"#VALUE!"},null,{"$error":"#VALUE!"},{"$error":"#VALUE!"},{"$error":"#VALUE!"},{"$error":"#VALUE!"},{"$error":"#VALUE!"},null,{"$error":"#VALUE!"},{"$error":"#VALUE!"},{"$error":"#VALUE!"},"n","n",{"$error":"#VALUE!"},0,{"$error":"#VALUE!"},0,null,{"$error":"#VALUE!"},{"$error":"#VALUE!"},null,{"$error":"#VALUE!"},{"$error":"#VALUE!"},{"$error":"#VALUE!"},{"$error":"#VALUE!"}]
[null,null,null,null,null,null,41,{"$error":"#VALUE!"},{"$error":"#VALUE!"},0,{"$error":"#VALUE!"},{"$error":"#VALUE!"},{"$error":"#VALUE!"},{"$error":"#VALUE!"},{"$error":"#VALUE!"},null,{"$error":"#VALUE!"},{"$error":"#VALUE!"},{"$error":"#VALUE!"},{"$error":"#VALUE!"},{"$error":"#VALUE!"},null,{"$error":"#VALUE!"},{"$error":"#VALUE!"},{"$error":"#VALUE!"},"n","n",{"$error":"#VALUE!"},0,{"$error":"#VALUE!"},0,null,{"$error":"#VALUE!"},{"$error":"#VALUE!"},null,{"$error":"#VALUE!"},{"$error":"#VALUE!"},{"$error":"#VALUE!"},{"$error":"#VALUE!"}]
[null,null,null,null,null,null,42,{"$error":"#VALUE!"},{"$error":"#VALUE!"},0,{"$error":"#VALUE!"},{"$error":"#VALUE!"},{"$error":"#VALUE!"},{"$error":"#VALUE!"},{"$error":"#VALUE!"},null,{"$error":"#VALUE!"},{"$error":"#VALUE!"},{"$error":"#VALUE!"},{"$error":"#VALUE!"},{"$error":"#VALUE!"},null,{"$error":"#VALUE!"},{"$error":"#VALUE!"},{"$error":"#VALUE!"},"n","n",{"$error":"#VALUE!"},0,{"$error":"#VALUE!"},0,4,{"$error":"#VALUE!"},{"$error":"#VALUE!"},null,{"$error":"#VALUE!"},{"$error":"#VALUE!"},{"$error":"#VALUE!"},{"$error":"#VALUE!"}]
[null,null,null,null,null,null,43,{"$error":"#VALUE!"},{"$error":"#VALUE!"},0,{"$error":"#VALUE!"},{"$error":"#VALUE!"},{"$error":"#VALUE!"},{"$error":"#VALUE!"},{"$error":"#VALUE!"},null,{"$error":"#VALUE!"},{"$error":"#VALUE!"},{"$error":"#VALUE!"},{"$error":"#VALUE!"},{"$error":"#VALUE!"},null,{"$error":"#VALUE!"},{"$error":"#VALUE!"},{"$error":"#VALUE!"},"n","n",{"$error":"#VALUE!"},0,{"$error":"#VALUE!"},0,null,{"$error":"#VALUE!"},{"$error":"#VALUE!"},null,{"$error":"#VALUE!"},{"$error":"#VALUE!"},{"$error":"#VALUE!"},{"$error":"#VALUE!"}]
[null,null,null,null,null,null,44,{"$error":"#VALUE!"},{"$error":"#VALUE!"},0,{"$error":"#VALUE!"},{"$error":"#VALUE!"},{"$error":"#VALUE!"},{"$error":"#VALUE!"},{"$error":"#VALUE!"},null,{"$error":"#VALUE!"},{"$error":"#VALUE!"},{"$error":"#VALUE!"},{"$error":"#VALUE!"},{"$error":"#VALUE!"},null,{"$error":"#VALUE!"},{"$error":"#VALUE!"},{"$error":"#VALUE!"},"n","n",{"$error":"#VALUE!"},0,{"$error":"#VALUE!"},0,null,{"$error":"#VALUE!"},{"$error":"#VALUE!"},null,{"$error":"#VALUE!"},{"$error":"#VALUE!"},{"$error":"#VALUE!"},{"$error":"#VALUE!"}]
[null,null,null,null,null,null,45,{"$error":"#VALUE!"},{"$error":"#VALUE!"},0,{"$error":"#VALUE!"},{"$error":"#VALUE!"},{"$error":"#VALUE!"},{"$error":"#VALUE!"},{"$error":"#VALUE!"},null,{"$error":"#VALUE!"},{"$error":"#VALUE!"},{"$error":"#VALUE!"},{"$error":"#VALUE!"},{"$error":"#VALUE!"},null,{"$error":"#VALUE!"},{"$error":"#VALUE!"},{"$error":"#VALUE!"},"n","n",{"$error":"#VALUE!"},0,{"$error":"#VALUE!"},0,null,{"$error":"#VALUE!"},{"$error":"#VALUE!"},null,{"$error":"#VALUE!"},{"$error":"#VALUE!"},{"$error":"#VALUE!"},{"$error":"#VALUE!"}]
[null,null,null,null,null,null,46,{"$error":"#VALUE!"},{"$error":"#VALUE!"},0,{"$error":"#VALUE!"},{"$error":"#VALUE!"},{"$error":"#VALUE!"},{"$error":"#VALUE!"},{"$error":"#VALUE!"},null,{"$error":"#VALUE!"},{"$error":"#VALUE!"},{"$error":"#VALUE!"},{"$error":"#VALUE!"},{"$error":"#VALUE!"},null,{"$error":"#VALUE!"},{"$error":"#VALUE!"},{"$error":"#VALUE!"},"n","n",{"$error":"#VALUE!"},0,{"$error":"#VALUE!"},0,null,{"$error":"#VALUE!"},{"$error":"#VALUE!"},null,{"$error":"#VALUE!"},{"$error":"#VALUE!"},{"$error":"#VALUE!"},{"$error":"#VALUE!"}]
[null,null,null,null,null,null,47,{"$error":"#VALUE!"},{"$error":"#VALUE!"},0,{"$error":"#VALUE!"},{"$error":"#VALUE!"},{"$error":"#VALUE!"},{"$error":"#VALUE!"},{"$error":"#VALUE!"},null,{"$error":"#VALUE!"},{"$error":"#VALUE!"},{"$error":"#VALUE!"},{"$error":"#VALUE!"},{"$error":"#VALUE!"},null,{"$error":"#VALUE!"},{"$error":"#VALUE!"},{"$error":"#VALUE!"},"n","n",{"$error":"#VALUE!"},0,{"$error":"#VALUE!"},0,null,{"$error":"#VALUE!"},{"$error":"#VALUE!"},null,{"$error":"#VALUE!"},{"$error":"#VALUE!"},{"$error":"#VALUE!"},{"$error":"#VALUE!"}]
[null,null,null,null,null,null,48,{"$error":"#VALUE!"},{"$error":"#VALUE!"},0,{"$error":"#VALUE!"},{"$error":"#VALUE!"},{"$error":"#VALUE!"},{"$error":"#VALUE!"},{"$error":"#VALUE!"},null,{"$error":"#VALUE!"},{"$error":"#VALUE!"},{"$error":"#VALUE!"},{"$error":"#VALUE!"},{"$error":"#VALUE!"},null,{"$error":"#VALUE!"},{"$error":"#VALUE!"},{"$error":"#VALUE!"},"n","n",{"$error":"#VALUE!"},0,{"$error":"#VALUE!"},0,null,{"$error":"#VALUE!"},{"$error":"#VALUE!"},null,{"$error":"#VALUE!"},{"$error":"#VALUE!"},{"$error":"#VALUE!"},{"$error":"#VALUE!"}]
[null,null,null,null,null,null,49,{"$error":"#VALUE!"},{"$error":"#VALUE!"},0,{"$error":"#VALUE!"},{"$error":"#VALUE!"},{"$error":"#VALUE!"},{"$error":"#VALUE!"},{"$error":"#VALUE!"},null,{"$error":"#VALUE!"},{"$error":"#VALUE!"},{"$error":"#VALUE!"},{"$error":"#VALUE!"},{"$error":"#VALUE!"},null,{"$error":"#VALUE!"},{"$error":"#VALUE!"},{"$error":"#VALUE!"},"n","n",{"$error":"#VALUE!"},0,{"$error":"#VALUE!"},0,null,{"$error":"#VALUE!"},{"$error":"#VALUE!"},null,{"$error":"#VALUE!"},{"$error":"#VALUE!"},{"$error":"#VALUE!"},{"$error":"#VALUE!"}]
[null,null,null,null,null,null,50,{"$error":"#VALUE!"},{"$error":"#VALUE!"},0,{"$error":"#VALUE!"},{"$error":"#VALUE!"},{"$error":"#VALUE!"},{"$error":"#VALUE!"},{"$error":"#VALUE!"},null,{"$error":"#VALUE!"},{"$error":"#VALUE!"},{"$error":"#VALUE!"},{"$error":"#VALUE!"},{"$error":"#VALUE!"},null,{"$error":"#VALUE!"},{"$error":"#VALUE!"},{"$error":"#VALUE!"},"n","n",{"$error":"#VALUE!"},0,{"$error":"#VALUE!"},0,null,{"$error":"#VALUE!"},{"$error":"#VALUE!"},null,{"$error":"#VALUE!"},{"$error":"#VALUE!"},{"$error":"#VALUE!"},{"$error":"#VALUE!"}]
[null,null,null,null,null,null,51,{"$error":"#VALUE!"},{"$error":"#VALUE!"},0,{"$error":"#VALUE!"},{"$error":"#VALUE!"},{"$error":"#VALUE!"},{"$error":"#VALUE!"},{"$error":"#VALUE!"},null,{"$error":"#VALUE!"},{"$error":"#VALUE!"},{"$error":"#VALUE!"},{"$error":"#VALUE!"},{"$error":"#VALUE!"},null,{"$error":"#VALUE!"},{"$error":"#VALUE!"},{"$error":"#VALUE!"},"n","n",{"$error":"#VALUE!"},0,{"$error":"#VALUE!"},0,null,{"$error":"#VALUE!"},{"$error":"#VALUE!"},null,{"$error":"#VALUE!"},{"$error":"#VALUE!"},{"$error":"#VALUE!"},{"$error":"#VALUE!"}]
[null,null,null,null,null,null,52,{"$error":"#VALUE!"},{"$error":"#VALUE!"},0,{"$error":"#VALUE!"},{"$error":"#VALUE!"},{"$error":"#VALUE!"},{"$error":"#VALUE!"},{"$error":"#VALUE!"},null,{"$error":"#VALUE!"},{"$error":"#VALUE!"},{"$error":"#VALUE!"},{"$error":"#VALUE!"},{"$error":"#VALUE!"},null,{"$error":"#VALUE!"},{"$error":"#VALUE!"},{"$error":"#VALUE!"},"n","n",{"$error":"#VALUE!"},0,{"$error":"#VALUE!"},0,null,{"$error":"#VALUE!"},{"$error":"#VALUE!"},null,{"$error":"#VALUE!"},{"$error":"#VALUE!"},{"$error":"#VALUE!"},{"$error":"#VALUE!"}]
[null,null,null,null,null,null,53,{"$error":"#VALUE!"},{"$error":"#VALUE!"},0,{"$error":"#VALUE!"},{"$error":"#VALUE!"},{"$error":"#VALUE!"},{"$error":"#VALUE!"},{"$error":"#VALUE!"},null,{"$error":"#VALUE!"},{"$error":"#VALUE!"},{"$error":"#VALUE!"},{"$error":"#VALUE!"},{"$error":"#VALUE!"},null,{"$error":"#VALUE!"},{"$error":"#VALUE!"},{"$error":"#VALUE!"},"n","n",{"$error":"#VALUE!"},0,{"$error":"#VALUE!"},0,null,{"$error":"#VALUE!"},{"$error":"#VALUE!"},null,{"$error":"#VALUE!"},{"$error":"#VALUE!"},{"$error":"#VALUE!"},{"$error":"#VALUE!"}]
[null,null,null,null,null,null,54,{"$error":"#VALUE!"},{"$error":"#VALUE!"},0,{"$error":"#VALUE!"},{"$error":"#VALUE!"},{"$error":"#VALUE!"},{"$error":"#VALUE!"},{"$error":"#VALUE!"},null,{"$error":"#VALUE!"},{"$error":"#VALUE!"},{"$error":"#VALUE!"},{"$error":"#VALUE!"},{"$error":"#VALUE!"},null,{"$error":"#VALUE!"},{"$error":"#VALUE!"},{"$error":"#VALUE!"},"n","n",{"$error":"#VALUE!"},0,{"$error":"#VALUE!"},0,5,{"$error":"#VALUE!"},{"$error":"#VALUE!"},null,{"$error":"#VALUE!"},{"$error":"#VALUE!"},{"$error":"#VALUE!"},{"$error":"#VALUE!"}]
[null,null,null,null,null,null,55,{"$error":"#VALUE!"},{"$error":"#VALUE!"},0,{"$error":"#VALUE!"},{"$error":"#VALUE!"},{"$error":"#VALUE!"},{"$error":"#VALUE!"},{"$error":"#VALUE!"},null,{"$error":"#VALUE!"},{"$error":"#VALUE!"},{"$error":"#VALUE!"},{"$error":"#VALUE!"},{"$error":"#VALUE!"},null,{"$error":"#VALUE!"},{"$error":"#VALUE!"},{"$error":"#VALUE!"},"n","n",{"$error":"#VALUE!"},0,{"$error":"#VALUE!"},0,null,{"$error":"#VALUE!"},{"$error":"#VALUE!"},null,{"$error":"#VALUE!"},{"$error":"#VALUE!"},{"$error":"#VALUE!"},{"$error":"#VALUE!"}]
[null,null,null,null,null,null,56,{"$error":"#VALUE!"},{"$error":"#VALUE!"},0,{"$error":"#VALUE!"},{"$error":"#VALUE!"},{"$error":"#VALUE!"},{"$error":"#VALUE!"},{"$error":"#VALUE!"},null,{"$error":"#VALUE!"},{"$error":"#VALUE!"},{"$error":"#VALUE!"},{"$error":"#VALUE!"},{"$error":"#VALUE!"},null,{"$error":"#VALUE!"},{"$error":"#VALUE!"},{"$error":"#VALUE!"},"n","n",{"$error":"#VALUE!"},0,{"$error":"#VALUE!"},0,null,{"$error":"#VALUE!"},{"$error":"#VALUE!"},null,{"$error":"#VALUE!"},{"$error":"#VALUE!"},{"$error":"#VALUE!"},{"$error":"#VALUE!"}]
[null,null,null,null,null,null,57,{"$error":"#VALUE!"},{"$error":"#VALUE!"},0,{"$error":"#VALUE!"},{"$error":"#VALUE!"},{"$error":"#VALUE!"},{"$error":"#VALUE!"},{"$error":"#VALUE!"},null,{"$error":"#VALUE!"},{"$error":"#VALUE!"},{"$error":"#VALUE!"},{"$error":"#VALUE!"},{"$error":"#VALUE!"},null,{"$error":"#VALUE!"},{"$error":"#VALUE!"},{"$error":"#VALUE!"},"n","n",{"$error":"#VALUE!"},0,{"$error":"#VALUE!"},0,null,{"$error":"#VALUE!"},{"$error":"#VALUE!"},null,{"$error":"#VALUE!"},{"$error":"#VALUE!"},{"$error":"#VALUE!"},{"$error":"#VALUE!"}]
[null,null,null,null,null,null,58,{"$error":"#VALUE!"},{"$error":"#VALUE!"},0,{"$error":"#VALUE!"},{"$error":"#VALUE!"},{"$error":"#VALUE!"},{"$error":"#VALUE!"},{"$error":"#VALUE!"},null,{"$error":"#VALUE!"},{"$error":"#VALUE!"},{"$error":"#VALUE!"},{"$error":"#VALUE!"},{"$error":"#VALUE!"},null,{"$error":"#VALUE!"},{"$error":"#VALUE!"},{"$error":"#VALUE!"},"n","n",{"$error":"#VALUE!"},0,{"$error":"#VALUE!"},0,null,{"$error":"#VALUE!"},{"$error":"#VALUE!"},null,{"$error":"#VALUE!"},{"$error":"#VALUE!"},{"$error":"#VALUE!"},{"$error":"#VALUE!"}]
[null,null,null,null,null,null,59,{"$error":"#VALUE!"},{"$error":"#VALUE!"},0,{"$error":"#VALUE!"},{"$error":"#VALUE!"},{"$error":"#VALUE!"},{"$error":"#VALUE!"},{"$error":"#VALUE!"},null,{"$error":"#VALUE!"},{"$error":"#VALUE!"},{"$error":"#VALUE!"},{"$error":"#VALUE!"},{"$error":"#VALUE!"},null,{"$error":"#VALUE!"},{"$error":"#VALUE!"},{"$error":"#VALUE!"},"n","n",{"$error":"#VALUE!"},0,{"$error":"#VALUE!"},0,null,{"$error":"#VALUE!"},{"$error":"#VALUE!"},null,{"$error":"#VALUE!"},{"$error":"#VALUE!"},{"$error":"#VALUE!"},{"$error":"#VALUE!"}]
[null,null,null,null,null,null,60,{"$error":"#VALUE!"},{"$error":"#VALUE!"},0,{"$error":"#VALUE!"},{"$error":"#VALUE!"},{"$error":"#VALUE!"},{"$error":"#VALUE!"},{"$error":"#VALUE!"},null,{"$error":"#VALUE!"},{"$error":"#VALUE!"},{"$error":"#VALUE!"},{"$error":"#VALUE!"},{"$error":"#VALUE!"},null,{"$error":"#VALUE!"},{"$error":"#VALUE!"},{"$error":"#VALUE!"},"n","n",{"$error":"#VALUE!"},0,{"$error":"#VALUE!"},0,null,{"$error":"#VALUE!"},{"$error":"#VALUE!"},null,{"$error":"#VALUE!"},{"$error":"#VALUE!"},{"$error":"#VALUE!"},{"$error":"#VALUE!"}]
[null,null,null,null,null,null,61,{"$error":"#VALUE!"},{"$error":"#VALUE!"},{"$error":"#VALUE!"},{"$error":"#VALUE!"},{"$error":"#VALUE!"},{"$error":"#VALUE!"},{"$error":"#VALUE!"},{"$error":"#VALUE!"},null,{"$error":"#VALUE!"},{"$error":"#VALUE!"},{"$error":"#VALUE!"},{"$error":"#VALUE!"},{"$error":"#VALUE!"},null,{"$error":"#VALUE!"},{"$error":"#VALUE!"},{"$error":"#VALUE!"},"n","n",{"$error":"#VALUE!"},0,{"$error":"#VALUE!"},0,null,{"$error":"#VALUE!"},{"$error":"#VALUE!"},null,{"$error":"#VALUE!"},{"$error":"#VALUE!"},{"$error":"#VALUE!"},{"$error":"#VALUE!"}]
[null,null,null,null,null,null,62,{"$error":"#VALUE!"},{"$error":"#VALUE!"},{"$error":"#VALUE!"},{"$error":"#VALUE!"},{"$error":"#VALUE!"},{"$error":"#VALUE!"},{"$error":"#VALUE!"},{"$error":"#VALUE!"},null,{"$error":"#VALUE!"},{"$error":"#VALUE!"},{"$error":"#VALUE!"},{"$error":"#VALUE!"},{"$error":"#VALUE!"},null,{"$error":"#VALUE!"},{"$error":"#VALUE!"},{"$error":"#VALUE!"},"n","n",{"$error":"#VALUE!"},0,{"$error":"#VALUE!"},0,null,{"$error":"#VALUE!"},{"$error":"#VALUE!"},null,{"$error":"#VALUE!"},{"$error":"#VALUE!"},{"$error":"#VALUE!"},{"$error":"#VALUE!"}]
[null,null,null,null,null,null,63,{"$error":"#VALUE!"},{"$error":"#VALUE!"},{"$error":"#VALUE!"},{"$error":"#VALUE!"},{"$error":"#VALUE!"},{"$error":"#VALUE!"},{"$error":"#VALUE!"},{"$error":"#VALUE!"},null,{"$error":"#VALUE!"},{"$error":"#VALUE!"},{"$error":"#VALUE!"},{"$error":"#VALUE!"},{"$error":"#VALUE!"},null,{"$error":"#VALUE!"},{"$error":"#VALUE!"},{"$error":"#VALUE!"},"n","n",{"$error":"#VALUE!"},0,{"$error":"#VALUE!"},0,null,{"$error":"#VALUE!"},{"$error":"#VALUE!"},null,{"$error":"#VALUE!"},{"$error":"#VALUE!"},{"$error":"#VALUE!"},{"$error":"#VALUE!"}]
[null,null,null,null,null,null,64,{"$error":"#VALUE!"},{"$error":"#VALUE!"},{"$error":"#VALUE!"},{"$error":"#VALUE!"},{"$error":"#VALUE!"},{"$error":"#VALUE!"},{"$error":"#VALUE!"},{"$error":"#VALUE!"},null,{"$error":"#VALUE!"},{"$error":"#VALUE!"},{"$error":"#VALUE!"},{"$error":"#VALUE!"},{"$error":"#VALUE!"},null,{"$error":"#VALUE!"},{"$error":"#VALUE!"},{"$error":"#VALUE!"},"n","n",{"$error":"#VALUE!"},0,{"$error":"#VALUE!"},0,null,{"$error":"#VALUE!"},{"$error":"#VALUE!"},null,{"$error":"#VALUE!"},{"$error":"#VALUE!"},{"$error":"#VALUE!"},{"$error":"#VALUE!"}]
[null,null,null,null,null,null,65,{"$error":"#VALUE!"},{"$error":"#VALUE!"},{"$f":"IF(G87<61,$B$32,IF(AND($B$27<61,$B$27<>\"\"),$B$32,$B$34))","v":{"$error":"#VALUE!"}},{"$error":"#VALUE!"},{"$error":"#VALUE!"},{"$error":"#VALUE!"},{"$error":"#VALUE!"},{"$error":"#VALUE!"},null,{"$error":"#VALUE!"},{"$error":"#VALUE!"},{"$f":"-I87*$S$20/12","v":{"$error":"#VALUE!"}},{"$error":"#VALUE!"},{"$error":"#VALUE!"},null,{"$error":"#VALUE!"},{"$error":"#VALUE!"},{"$error":"#VALUE!"},"n","n",{"$error":"#VALUE!"},0,{"$error":"#VALUE!"},0,null,{"$error":"#VALUE!"},{"$error":"#VALUE!"},null,{"$error":"#VALUE!"},{"$error":"#VALUE!"},{"$error":"#VALUE!"},{"$error":"#VALUE!"}]
[null,null,null,null,null,null,66,{"$error":"#VALUE!"},{"$error":"#VALUE!"},{"$error":"#VALUE!"},{"$f":"IF(AA88=\"b\",0,J88*I88/12)","v":{"$error":"#VALUE!"}},{"$f":"N88-M88-K88","v":{"$error":"#VALUE!"}},{"$error":"#VALUE!"},{"$error":"#VALUE!"},{"$f":"I88+K88+M88-N88-AE88","v":{"$error":"#VALUE!"}},null,{"$f":"IF(I88=0,0,IF(H88<>$H$23,Q87,IF(J88=$B$32,I88*$B$33/12,0)))","v":{"$error":"#VALUE!"}},{"$f":"IF(H88=12,O88*$B$37,0)","v":{"$error":"#VALUE!"}},{"$error":"#VALUE!"},{"$f":"K88+Q88+S88","v":{"$error":"#VALUE!"}},{"$f":"T88+R88","v":{"$error":"#VALUE!"}},null,{"$error":"#VALUE!"},{"$error":"#VALUE!"},{"$f":"IF(G88=$B$27,\"b\",\"n\")","v":{"$error":"#VALUE!"}},{"$f":"IF(G88=$B$28,\"b\",\"n\")","v":"n"},{"$f":"IF(G88=$B$29,\"b\",\"n\")","v":"n"},{"$f":"IF($E$35<1,0,IF(OR(G88<=$B$27,G88>MAX(IF($B$27=$B$28,60,36),$B$27+IF($B$27=$B$28,60,36)),$B$27>60),0,1))","v":{"$error":"#VALUE!"}},{"$f":"IF($E$35<2,0,IF(OR(G88<=$B$28,G88>$B$28+IF($B$27=$B$28,60,36),$AB$21=0),0,1))","v":0},{"$f":"MAX(AB88:AC88)","v":{"$error":"#VALUE!"}},{"$f":"IF(AA88=\"b\",I88,IF(Z88=\"b\",I88*0.3,0))","v":0},{"$f":"ROUNDDOWN(G88/12,0)+1","v":6},{"$f":"IF(O88=0,-100000,O88)","v":{"$error":"#VALUE!"}},{"$f":"IF(AD88=1,0,IF(N88=0,-1000,N88))","v":{"$error":"#VALUE!"}},null,{"$f":"N88+IF(OR(I88=0,G88>$W$21),0,$B$38)+IF(G88=MIN(60,$B$25),$B$17,0)","v":{"$error":"#VALUE!"}},{"$f":"G88*$AK$21+$AK$19","v":{"$error":"#VALUE!"}},{"$error":"#VALUE!"},{"$error":"#VALUE!"}]
[null,null,null,null,null,null,{"$f":"G88+1","v":67},{"$f":"IF(H88=12,1,H88+1)","v":{"$error":"#VALUE!"}},{"$f":"O88","v":{"$error":"#VALUE!"}},{"$error":"#VALUE!"},{"$error":"#VALUE!"},{"$error":"#VALUE!"},{"$f":"ROUND(IF(OR(AD89=1,AA89=\"b\",ROUND(I89,0)=0),0,IF(OR(H89=2,M88=0),I88*$B$35/12,M88)),0)","v":{"$error":"#VALUE!"}},{"$f":"IF(OR(AA89=\"b\",ROUND(I89,0)=0),0,IF(OR(AND($B$27<61,AA89=\"b\"),AD89=1),M89,PMT(J89/12,X89,-I89)+M89))","v":{"$error":"#VALUE!"}},{"$error":"#VALUE!"},null,{"$error":"#VALUE!"},{"$error":"#VALUE!"},{"$error":"#VALUE!"},{"$error":"#VALUE!"},{"$error":"#VALUE!"},null,{"$f":"IF(Y88=\"b\",W88+$C$27,W88)","v":{"$error":"#VALUE!"}},{"$f":"W89-G88","v":{"$error":"#VALUE!"}},{"$error":"#VALUE!"},"n","n",{"$error":"#VALUE!"},0,{"$error":"#VALUE!"},0,null,{"$error":"#VALUE!"},{"$error":"#VALUE!"},null,{"$error":"#VALUE!"},{"$error":"#VALUE!"},{"$f":"AJ89/((1+$AL$21)^(AK89/365))","v":{"$error":"#VALUE!"}},{"$f":"AM88+AL89","v":{"$error":"#VALUE!"}}]
[null,null,null,null,null,null,68,{"$error":"#VALUE!"},{"$error":"#VALUE!"},{"$error":"#VALUE!"},{"$error":"#VALUE!"},{"$error":"#VALUE!"},{"$error":"#VALUE!"},{"$error":"#VALUE!"},{"$error":"#VALUE!"},null,{"$error":"#VALUE!"},{"$error":"#VALUE!"},{"$error":"#VALUE!"},{"$error":"#VALUE!"},{"$error":"#VALUE!"},null,{"$error":"#VALUE!"},{"$error":"#VALUE!"},{"$error":"#VALUE!"},"n","n",{"$error":"#VALUE!"},0,{"$error":"#VALUE!"},0,null,{"$error":"#VALUE!"},{"$error":"#VALUE!"},null,{"$error":"#VALUE!"},{"$error":"#VALUE!"},{"$error":"#VALUE!"},{"$error":"#VALUE!"}]
[null,null,null,null,null,null,69,{"$error":"#VALUE!"},{"$error":"#VALUE!"},{"$error":"#VALUE!"},{"$error":"#VALUE!"},{"$error":"#VALUE!"},{"$error":"#VALUE!"},{"$error":"#VALUE!"},{"$error":"#VALUE!"},null,{"$error":"#VALUE!"},{"$error":"#VALUE!"},{"$error":"#VALUE!"},{"$error":"#VALUE!"},{"$error":"#VALUE!"},null,{"$error":"#VALUE!"},{"$error":"#VALUE!"},{"$error":"#VALUE!"},"n","n",{"$error":"#VALUE!"},0,{"$error":"#VALUE!"},0,null,{"$error":"#VALUE!"},{"$error":"#VALUE!"},null,{"$error":"#VALUE!"},{"$error":"#VALUE!"},{"$error":"#VALUE!"},{"$error":"#VALUE!"}]
[null,null,null,null,null,null,70,{"$error":"#VALUE!"},{"$error":"#VALUE!"},{"$error":"#VALUE!"},{"$error":"#VALUE!"},{"$error":"#VALUE!"},{"$error":"#VALUE!"},{"$error":"#VALUE!"},{"$error":"#VALUE!"},null,{"$error":"#VALUE!"},{"$error":"#VALUE!"},{"$error":"#VALUE!"},{"$error":"#VALUE!"},{"$error":"#VALUE!"},null,{"$error":"#VALUE!"},{"$error":"#VALUE!"},{"$error":"#VALUE!"},"n","n",{"$error":"#VALUE!"},0,{"$error":"#VALUE!"},0,null,{"$error":"#VALUE!"},{"$error":"#VALUE!"},null,{"$error":"#VALUE!"},{"$error":"#VALUE!"},{"$error":"#VALUE!"},{"$error":"#VALUE!"}]
[null,null,null,null,null,null,71,{"$error":"#VALUE!"},{"$error":"#VALUE!"},{"$error":"#VALUE!"},{"$error":"#VALUE!"},{"$error":"#VALUE!"},{"$error":"#VALUE!"},{"$error":"#VALUE!"},{"$error":"#VALUE!"},null,{"$error":"#VALUE!"},{"$error":"#VALUE!"},{"$error":"#VALUE!"},{"$error":"#VALUE!"},{"$error":"#VALUE!"},null,{"$error":"#VALUE!"},{"$error":"#VALUE!"},{"$error":"#VALUE!"},"n","n",{"$error":"#VALUE!"},0,{"$error":"#VALUE!"},0,null,{"$error":"#VALUE!"},{"$error":"#VALUE!"},null,{"$error":"#VALUE!"},{"$error":"#VALUE!"},{"$error":"#VALUE!"},{"$error":"#VALUE!"}]
[null,null,null,null,null,null,72,{"$error":"#VALUE!"},{"$error":"#VALUE!"},{"$error":"#VALUE!"},{"$error":"#VALUE!"},{"$error":"#VALUE!"},{"$error":"#VALUE!"},{"$error":"#VALUE!"},{"$error":"#VALUE!"},null,{"$error":"#VALUE!"},{"$error":"#VALUE!"},{"$error":"#VALUE!"},{"$error":"#VALUE!"},{"$error":"#VALUE!"},null,{"$error":"#VALUE!"},{"$error":"#VALUE!"},{"$error":"#VALUE!"},"n","n",{"$error":"#VALUE!"},0,{"$error":"#VALUE!"},0,null,{"$error":"#VALUE!"},{"$error":"#VALUE!"},null,{"$error":"#VALUE!"},{"$error":"#VALUE!"},{"$error":"#VALUE!"},{"$error":"#VALUE!"}]
[null,null,null,null,null,null,73,{"$error":"#VALUE!"},{"$error":"#VALUE!"},{"$error":"#VALUE!"},{"$error":"#VALUE!"},{"$error":"#VALUE!"},{"$error":"#VALUE!"},{"$error":"#VALUE!"},{"$error":"#VALUE!"},null,{"$error":"#VALUE!"},{"$error":"#VALUE!"},{"$error":"#VALUE!"},{"$error":"#VALUE!"},{"$error":"#VALUE!"},null,{"$error":"#VALUE!"},{"$error":"#VALUE!"},{"$error":"#VALUE!"},"n","n",{"$error":"#VALUE!"},0,{"$error":"#VALUE!"},0,null,{"$error":"#VALUE!"},{"$error":"#VALUE!"},null,{"$error":"#VALUE!"},{"$error":"#VALUE!"},{"$error":"#VALUE!"},{"$error":"#VALUE!"}]
[null,null,null,null,null,null,74,{"$error":"#VALUE!"},{"$error":"#VALUE!"},{"$error":"#VALUE!"},{"$error":"#VALUE!"},{"$error":"#VALUE!"},{"$error":"#VALUE!"},{"$error":"#VALUE!"},{"$error":"#VALUE!"},null,{"$error":"#VALUE!"},{"$error":"#VALUE!"},{"$error":"#VALUE!"},{"$error":"#VALUE!"},{"$error":"#VALUE!"},null,{"$error":"#VALUE!"},{"$error":"#VALUE!"},{"$error":"#VALUE!"},"n","n",{"$error":"#VALUE!"},0,{"$error":"#VALUE!"},0,null,{"$error":"#VALUE!"},{"$error":"#VALUE!"},null,{"$error":"#VALUE!"},{"$error":"#VALUE!"},{"$error":"#VALUE!"},{"$error":"#VALUE!"}]
[null,null,null,null,null,null,75,{"$error":"#VALUE!"},{"$error":"#VALUE!"},{"$error":"#VALUE!"},{"$error":"#VALUE!"},{"$error":"#VALUE!"},{"$error":"#VALUE!"},{"$error":"#VALUE!"},{"$error":"#VALUE!"},null,{"$error":"#VALUE!"},{"$error":"#VALUE!"},{"$error":"#VALUE!"},{"$error":"#VALUE!"},{"$error":"#VALUE!"},null,{"$error":"#VALUE!"},{"$error":"#VALUE!"},{"$error":"#VALUE!"},"n","n",{"$error":"#VALUE!"},0,{"$error":"#VALUE!"},0,null,{"$error":"#VALUE!"},{"$error":"#VALUE!"},null,{"$error":"#VALUE!"},{"$error":"#VALUE!"},{"$error":"#VALUE!"},{"$error":"#VALUE!"}]
[null,null,null,null,null,null,76,{"$error":"#VALUE!"},{"$error":"#VALUE!"},{"$error":"#VALUE!"},{"$error":"#VALUE!"},{"$error":"#VALUE!"},{"$error":"#VALUE!"},{"$error":"#VALUE!"},{"$error":"#VALUE!"},null,{"$error":"#VALUE!"},{"$error":"#VALUE!"},{"$error":"#VALUE!"},{"$error":"#VALUE!"},{"$error":"#VALUE!"},null,{"$error":"#VALUE!"},{"$error":"#VALUE!"},{"$error":"#VALUE!"},"n","n",{"$error":"#VALUE!"},0,{"$error":"#VALUE!"},0,null,{"$error":"#VALUE!"},{"$error":"#VALUE!"},null,{"$error":"#VALUE!"},{"$error":"#VALUE!"},{"$error":"#VALUE!"},{"$error":"#VALUE!"}]
[null,null,null,null,null,null,77,{"$error":"#VALUE!"},{"$error":"#VALUE!"},{"$error":"#VALUE!"},{"$error":"#VALUE!"},{"$error":"#VALUE!"},{"$error":"#VALUE!"},{"$error":"#VALUE!"},{"$error":"#VALUE!"},null,{"$error":"#VALUE!"},{"$error":"#VALUE!"},{"$error":"#VALUE!"},{"$error":"#VALUE!"},{"$error":"#VALUE!"},null,{"$error":"#VALUE!"},{"$error":"#VALUE!"},{"$error":"#VALUE!"},"n","n",{"$error":"#VALUE!"},0,{"$error":"#VALUE!"},0,null,{"$error":"#VALUE!"},{"$error":"#VALUE!"},null,{"$error":"#VALUE!"},{"$error":"#VALUE!"},{"$error":"#VALUE!"},{"$error":"#VALUE!"}]
[null,null,null,null,null,null,78,{"$error":"#VALUE!"},{"$error":"#VALUE!"},{"$error":"#VALUE!"},{"$error":"#VALUE!"},{"$error":"#VALUE!"},{"$error":"#VALUE!"},{"$error":"#VALUE!"},{"$error":"#VALUE!"},null,{"$error":"#VALUE!"},{"$error":"#VALUE!"},{"$error":"#VALUE!"},{"$error":"#VALUE!"},{"$error":"#VALUE!"},null,{"$error":"#VALUE!"},{"$error":"#VALUE!"},{"$error":"#VALUE!"},"n","n",{"$error":"#VALUE!"},0,{"$error":"#VALUE!"},0,7,{"$error":"#VALUE!"},{"$error":"#VALUE!"},null,{"$error":"#VALUE!"},{"$error":"#VALUE!"},{"$error":"#VALUE!"},{"$error":"#VALUE!"}]
[null,null,null,null,null,null,79,{"$error":"#VALUE!"},{"$error":"#VALUE!"},{"$error":"#VALUE!"},{"$error":"#VALUE!"},{"$error":"#VALUE!"},{"$error":"#VALUE!"},{"$error":"#VALUE!"},{"$error":"#VALUE!"},null,{"$error":"#VALUE!"},{"$error":"#VALUE!"},{"$error":"#VALUE!"},{"$error":"#VALUE!"},{"$error":"#VALUE!"},null,{"$error":"#VALUE!"},{"$error":"#VALUE!"},{"$error":"#VALUE!"},"n","n",{"$error":"#VALUE!"},0,{"$error":"#VALUE!"},0,null,{"$error":"#VALUE!"},{"$error":"#VALUE!"},null,{"$error":"#VALUE!"},{"$error":"#VALUE!"},{"$error":"#VALUE!"},{"$error":"#VALUE!"}]
[null,null,null,null,null,null,80,{"$error":"#VALUE!"},{"$error":"#VALUE!"},{"$error":"#VALUE!"},{"$error":"#VALUE!"},{"$error":"#VALUE!"},{"$error":"#VALUE!"},{"$error":"#VALUE!"},{"$error":"#VALUE!"},null,{"$error":"#VALUE!"},{"$error":"#VALUE!"},{"$error":"#VALUE!"},{"$error":"#VALUE!"},{"$error":"#VALUE!"},null,{"$error":"#VALUE!"},{"$error":"#VALUE!"},{"$error":"#VALUE!"},"n","n",{"$error":"#VALUE!"},0,{"$error":"#VALUE!"},0,null,{"$error":"#VALUE!"},{"$error":"#VALUE!"},null,{"$error":"#VALUE!"},{"$error":"#VALUE!"},{"$error":"#VALUE!"},{"$error":"#VALUE!"}]
[null,null,null,null,null,null,81,{"$error":"#VALUE!"},{"$error":"#VALUE!"},{"$error":"#VALUE!"},{"$error":"#VALUE!"},{"$error":"#VALUE!"},{"$error":"#VALUE!"},{"$error":"#VALUE!"},{"$error":"#VALUE!"},null,{"$error":"#VALUE!"},{"$error":"#VALUE!"},{"$error":"#VALUE!"},{"$error":"#VALUE!"},{"$error":"#VALUE!"},null,{"$error":"#VALUE!"},{"$error":"#VALUE!"},{"$error":"#VALUE!"},"n","n",{"$error":"#VALUE!"},0,{"$error":"#VALUE!"},0,null,{"$error":"#VALUE!"},{"$error":"#VALUE!"},null,{"$error":"#VALUE!"},{"$error":"#VALUE!"},{"$error":"#VALUE!"},{"$error":"#VALUE!"}]
[null,null,null,null,null,null,82,{"$error":"#VALUE!"},{"$error":"#VALUE!"},{"$error":"#VALUE!"},{"$error":"#VALUE!"},{"$error":"#VALUE!"},{"$error":"#VALUE!"},{"$error":"#VALUE!"},{"$error":"#VALUE!"},null,{"$error":"#VALUE!"},{"$error":"#VALUE!"},{"$error":"#VALUE!"},{"$error":"#VALUE!"},{"$error":"#VALUE!"},null,{"$error":"#VALUE!"},{"$error":"#VALUE!"},{"$error":"#VALUE!"},"n","n",{"$error":"#VALUE!"},0,{"$error":"#VALUE!"},0,null,{"$error":"#VALUE!"},{"$error":"#VALUE!"},null,{"$error":"#VALUE!"},{"$error":"#VALUE!"},{"$error":"#VALUE!"},{"$error":"#VALUE!"}]
[null,null,null,null,null,null,83,{"$error":"#VALUE!"},{"$error":"#VALUE!"},{"$error":"#VALUE!"},{"$error":"#VALUE!"},{"$error":"#VALUE!"},{"$error":"#VALUE!"},{"$error":"#VALUE!"},{"$error":"#VALUE!"},null,{"$error":"#VALUE!"},{"$error":"#VALUE!"},{"$error":"#VALUE!"},{"$error":"#VALUE!"},{"$error":"#VALUE!"},null,{"$error":"#VALUE!"},{"$error":"#VALUE!"},{"$error":"#VALUE!"},"n","n",{"$error":"#VALUE!"},0,{"$error":"#VALUE!"},0,null,{"$error":"#VALUE!"},{"$error":"#VALUE!"},null,{"$error":"#VALUE!"},{"$error":"#VALUE!"},{"$error":"#VALUE!"},{"$error":"#VALUE!"}]
[null,null,null,null,null,null,84,{"$error":"#VALUE!"},{"$error":"#VALUE!"},{"$error":"#VALUE!"},{"$error":"#VALUE!"},{"$error":"#VALUE!"},{"$error":"#VALUE!"},{"$error":"#VALUE!"},{"$error":"#VALUE!"},null,{"$error":"#VALUE!"},{"$error":"#VALUE!"},{"$error":"#VALUE!"},{"$error":"#VALUE!"},{"$error":"#VALUE!"},null,{"$error":"#VALUE!"},{"$error":"#VALUE!"},{"$error":"#VALUE!"},"n","n",{"$error":"#VALUE!"},0,{"$error":"#VALUE!"},0,null,{"$error":"#VALUE!"},{"$error":"#VALUE!"},null,{"$error":"#VALUE!"},{"$error":"#VALUE!"},{"$error":"#VALUE!"},{"$error":"#VALUE!"}]
[null,null,null,null,null,null,85,{"$error":"#VALUE!"},{"$error":"#VALUE!"},{"$error":"#VALUE!"},{"$error":"#VALUE!"},{"$error":"#VALUE!"},{"$error":"#VALUE!"},{"$error":"#VALUE!"},{"$error":"#VALUE!"},null,{"$error":"#VALUE!"},{"$error":"#VALUE!"},{"$error":"#VALUE!"},{"$error":"#VALUE!"},{"$error":"#VALUE!"},null,{"$error":"#VALUE!"},{"$error":"#VALUE!"},{"$error":"#VALUE!"},"n","n",{"$error":"#VALUE!"},0,{"$error":"#VALUE!"},0,null,{"$error":"#VALUE!"},{"$error":"#VALUE!"},null,{"$error":"#VALUE!"},{"$error":"#VALUE!"},{"$error":"#VALUE!"},{"$error":"#VALUE!"}]
[null,null,null,null,null,null,86,{"$error":"#VALUE!"},{"$error":"#VALUE!"},{"$error":"#VALUE!"},{"$error":"#VALUE!"},{"$error":"#VALUE!"},{"$error":"#VALUE!"},{"$error":"#VALUE!"},{"$error":"#VALUE!"},null,{"$error":"#VALUE!"},{"$error":"#VALUE!"},{"$error":"#VALUE!"},{"$error":"#VALUE!"},{"$error":"#VALUE!"},null,{"$error":"#VALUE!"},{"$error":"#VALUE!"},{"$error":"#VALUE!"},"n","n",{"$error":"#VALUE!"},0,{"$error":"#VALUE!"},0,null,{"$error":"#VALUE!"},{"$error":"#VALUE!"},null,{"$error":"#VALUE!"},{"$error":"#VALUE!"},{"$error":"#VALUE!"},{"$error":"#VALUE!"}]
[null,null,null,null,null,null,87,{"$error":"#VALUE!"},{"$error":"#VALUE!"},{"$error":"#VALUE!"},{"$error":"#VALUE!"},{"$error":"#VALUE!"},{"$error":"#VALUE!"},{"$error":"#VALUE!"},{"$error":"#VALUE!"},null,{"$error":"#VALUE!"},{"$error":"#VALUE!"},{"$error":"#VALUE!"},{"$error":"#VALUE!"},{"$error":"#VALUE!"},null,{"$error":"#VALUE!"},{"$error":"#VALUE!"},{"$error":"#VALUE!"},"n","n",{"$error":"#VALUE!"},0,{"$error":"#VALUE!"},0,null,{"$error":"#VALUE!"},{"$error":"#VALUE!"},null,{"$error":"#VALUE!"},{"$error":"#VALUE!"},{"$error":"#VALUE!"},{"$error":"#VALUE!"}]
[null,null,null,null,null,null,88,{"$error":"#VALUE!"},{"$error":"#VALUE!"},{"$error":"#VALUE!"},{"$error":"#VALUE!"},{"$error":"#VALUE!"},{"$error":"#VALUE!"},{"$error":"#VALUE!"},{"$error":"#VALUE!"},null,{"$error":"#VALUE!"},{"$error":"#VALUE!"},{"$error":"#VALUE!"},{"$error":"#VALUE!"},{"$error":"#VALUE!"},null,{"$error":"#VALUE!"},{"$error":"#VALUE!"},{"$error":"#VALUE!"},"n","n",{"$error":"#VALUE!"},0,{"$error":"#VALUE!"},0,null,{"$error":"#VALUE!"},{"$error":"#VALUE!"},null,{"$error":"#VALUE!"},{"$error":"#VALUE!"},{"$error":"#VALUE!"},{"$error":"#VALUE!"}]
[null,null,null,null,null,null,89,{"$error":"#VALUE!"},{"$error":"#VALUE!"},{"$error":"#VALUE!"},{"$error":"#VALUE!"},{"$error":"#VALUE!"},{"$error":"#VALUE!"},{"$error":"#VALUE!"},{"$error":"#VALUE!"},null,{"$error":"#VALUE!"},{"$error":"#VALUE!"},{"$error":"#VALUE!"},{"$error":"#VALUE!"},{"$error":"#VALUE!"},null,{"$error":"#VALUE!"},{"$error":"#VALUE!"},{"$error":"#VALUE!"},"n","n",{"$error":"#VALUE!"},0,{"$error":"#VALUE!"},0,null,{"$error":"#VALUE!"},{"$error":"#VALUE!"},null,{"$error":"#VALUE!"},{"$error":"#VALUE!"},{"$error":"#VALUE!"},{"$error":"#VALUE!"}]
[null,null,null,null,null,null,90,{"$error":"#VALUE!"},{"$error":"#VALUE!"},{"$error":"#VALUE!"},{"$error":"#VALUE!"},{"$error":"#VALUE!"},{"$error":"#VALUE!"},{"$error":"#VALUE!"},{"$error":"#VALUE!"},null,{"$error":"#VALUE!"},{"$error":"#VALUE!"},{"$error":"#VALUE!"},{"$error":"#VALUE!"},{"$error":"#VALUE!"},null,{"$error":"#VALUE!"},{"$error":"#VALUE!"},{"$error":"#VALUE!"},"n","n",{"$error":"#VALUE!"},0,{"$error":"#VALUE!"},0,8,{"$error":"#VALUE!"},{"$error":"#VALUE!"},null,{"$error":"#VALUE!"},{"$error":"#VALUE!"},{"$error":"#VALUE!"},{"$error":"#VALUE!"}]
[null,null,null,null,null,null,91,{"$error":"#VALUE!"},{"$error":"#VALUE!"},{"$error":"#VALUE!"},{"$error":"#VALUE!"},{"$error":"#VALUE!"},{"$error":"#VALUE!"},{"$error":"#VALUE!"},{"$error":"#VALUE!"},null,{"$error":"#VALUE!"},{"$error":"#VALUE!"},{"$error":"#VALUE!"},{"$error":"#VALUE!"},{"$error":"#VALUE!"},null,{"$error":"#VALUE!"},{"$error":"#VALUE!"},{"$error":"#VALUE!"},"n","n",{"$error":"#VALUE!"},0,{"$error":"#VALUE!"},0,null,{"$error":"#VALUE!"},{"$error":"#VALUE!"},null,{"$error":"#VALUE!"},{"$error":"#VALUE!"},{"$error":"#VALUE!"},{"$error":"#VALUE!"}]
[null,null,null,null,null,null,92,{"$error":"#VALUE!"},{"$error":"#VALUE!"},{"$error":"#VALUE!"},{"$error":"#VALUE!"},{"$error":"#VALUE!"},{"$error":"#VALUE!"},{"$error":"#VALUE!"},{"$error":"#VALUE!"},null,{"$error":"#VALUE!"},{"$error":"#VALUE!"},{"$error":"#VALUE!"},{"$error":"#VALUE!"},{"$error":"#VALUE!"},null,{"$error":"#VALUE!"},{"$error":"#VALUE!"},{"$error":"#VALUE!"},"n","n",{"$error":"#VALUE!"},0,{"$error":"#VALUE!"},0,null,{"$error":"#VALUE!"},{"$error":"#VALUE!"},null,{"$error":"#VALUE!"},{"$error":"#VALUE!"},{"$error":"#VALUE!"},{"$error":"#VALUE!"}]
[null,null,null,null,null,null,93,{"$error":"#VALUE!"},{"$error":"#VALUE!"},{"$error":"#VALUE!"},{"$error":"#VALUE!"},{"$error":"#VALUE!"},{"$error":"#VALUE!"},{"$error":"#VALUE!"},{"$error":"#VALUE!"},null,{"$error":"#VALUE!"},{"$error":"#VALUE!"},{"$error":"#VALUE!"},{"$error":"#VALUE!"},{"$error":"#VALUE!"},null,{"$error":"#VALUE!"},{"$error":"#VALUE!"},{"$error":"#VALUE!"},"n","n",{"$error":"#VALUE!"},0,{"$error":"#VALUE!"},0,null,{"$error":"#VALUE!"},{"$error":"#VALUE!"},null,{"$error":"#VALUE!"},{"$error":"#VALUE!"},{"$error":"#VALUE!"},{"$error":"#VALUE!"}]
[null,null,null,null,null,null,94,{"$error":"#VALUE!"},{"$error":"#VALUE!"},{"$error":"#VALUE!"},{"$error":"#VALUE!"},{"$error":"#VALUE!"},{"$error":"#VALUE!"},{"$error":"#VALUE!"},{"$error":"#VALUE!"},null,{"$error":"#VALUE!"},{"$error":"#VALUE!"},{"$error":"#VALUE!"},{"$error":"#VALUE!"},{"$error":"#VALUE!"},null,{"$error":"#VALUE!"},{"$error":"#VALUE!"},{"$error":"#VALUE!"},"n","n",{"$error":"#VALUE!"},0,{"$error":"#VALUE!"},0,null,{"$error":"#VALUE!"},{"$error":"#VALUE!"},null,{"$error":"#VALUE!"},{"$error":"#VALUE!"},{"$error":"#VALUE!"},{"$error":"#VALUE!"}]
[null,null,null,null,null,null,95,{"$error":"#VALUE!"},{"$error":"#VALUE!"},{"$error":"#VALUE!"},{"$error":"#VALUE!"},{"$error":"#VALUE!"},{"$error":"#VALUE!"},{"$error":"#VALUE!"},{"$error":"#VALUE!"},null,{"$error":"#VALUE!"},{"$error":"#VALUE!"},{"$error":"#VALUE!"},{"$error":"#VALUE!"},{"$error":"#VALUE!"},null,{"$error":"#VALUE!"},{"$error":"#VALUE!"},{"$error":"#VALUE!"},"n","n",{"$error":"#VALUE!"},0,{"$error":"#VALUE!"},0,null,{"$error":"#VALUE!"},{"$error":"#VALUE!"},null,{"$error":"#VALUE!"},{"$error":"#VALUE!"},{"$error":"#VALUE!"},{"$error":"#VALUE!"}]
[null,null,null,null,null,null,96,{"$error":"#VALUE!"},{"$error":"#VALUE!"},{"$error":"#VALUE!"},{"$error":"#VALUE!"},{"$error":"#VALUE!"},{"$error":"#VALUE!"},{"$error":"#VALUE!"},{"$error":"#VALUE!"},null,{"$error":"#VALUE!"},{"$error":"#VALUE!"},{"$error":"#VALUE!"},{"$error":"#VALUE!"},{"$error":"#VALUE!"},null,{"$error":"#VALUE!"},{"$error":"#VALUE!"},{"$error":"#VALUE!"},"n","n",{"$error":"#VALUE!"},0,{"$error":"#VALUE!"},0,null,{"$error":"#VALUE!"},{"$error":"#VALUE!"},null,{"$error":"#VALUE!"},{"$error":"#VALUE!"},{"$error":"#VALUE!"},{"$error":"#VALUE!"}]
[null,null,null,null,null,null,97,{"$error":"#VALUE!"},{"$error":"#VALUE!"},{"$error":"#VALUE!"},{"$error":"#VALUE!"},{"$error":"#VALUE!"},{"$error":"#VALUE!"},{"$error":"#VALUE!"},{"$error":"#VALUE!"},null,{"$error":"#VALUE!"},{"$error":"#VALUE!"},{"$error":"#VALUE!"},{"$error":"#VALUE!"},{"$error":"#VALUE!"},null,{"$error":"#VALUE!"},{"$error":"#VALUE!"},{"$error":"#VALUE!"},"n","n",{"$error":"#VALUE!"},0,{"$error":"#VALUE!"},0,null,{"$error":"#VALUE!"},{"$error":"#VALUE!"},null,{"$error":"#VALUE!"},{"$error":"#VALUE!"},{"$error":"#VALUE!"},{"$error":"#VALUE!"}]
[null,null,null,null,null,null,98,{"$error":"#VALUE!"},{"$error":"#VALUE!"},{"$error":"#VALUE!"},{"$error":"#VALUE!"},{"$error":"#VALUE!"},{"$error":"#VALUE!"},{"$error":"#VALUE!"},{"$error":"#VALUE!"},null,{"$error":"#VALUE!"},{"$error":"#VALUE!"},{"$error":"#VALUE!"},{"$error":"#VALUE!"},{"$error":"#VALUE!"},null,{"$error":"#VALUE!"},{"$error":"#VALUE!"},{"$error":"#VALUE!"},"n","n",{"$error":"#VALUE!"},0,{"$error":"#VALUE!"},0,null,{"$error":"#VALUE!"},{"$error":"#VALUE!"},null,{"$error":"#VALUE!"},{"$error":"#VALUE!"},{"$error":"#VALUE!"},{"$error":"#VALUE!"}]
[null,null,null,null,null,null,99,{"$error":"#VALUE!"},{"$error":"#VALUE!"},{"$error":"#VALUE!"},{"$error":"#VALUE!"},{"$error":"#VALUE!"},{"$error":"#VALUE!"},{"$error":"#VALUE!"},{"$error":"#VALUE!"},null,{"$error":"#VALUE!"},{"$error":"#VALUE!"},{"$error":"#VALUE!"},{"$error":"#VALUE!"},{"$error":"#VALUE!"},null,{"$error":"#VALUE!"},{"$error":"#VALUE!"},{"$error":"#VALUE!"},"n","n",{"$error":"#VALUE!"},0,{"$error":"#VALUE!"},0,null,{"$error":"#VALUE!"},{"$error":"#VALUE!"},null,{"$error":"#VALUE!"},{"$error":"#VALUE!"},{"$error":"#VALUE!"},{"$error":"#VALUE!"}]
[null,null,null,null,null,null,100,{"$error":"#VALUE!"},{"$error":"#VALUE!"},{"$error":"#VALUE!"},{"$error":"#VALUE!"},{"$error":"#VALUE!"},{"$error":"#VALUE!"},{"$error":"#VALUE!"},{"$error":"#VALUE!"},null,{"$error":"#VALUE!"},{"$error":"#VALUE!"},{"$error":"#VALUE!"},{"$error":"#VALUE!"},{"$error":"#VALUE!"},null,{"$error":"#VALUE!"},{"$error":"#VALUE!"},{"$error":"#VALUE!"},"n","n",{"$error":"#VALUE!"},0,{"$error":"#VALUE!"},0,null,{"$error":"#VALUE!"},{"$error":"#VALUE!"},null,{"$error":"#VALUE!"},{"$error":"#VALUE!"},{"$error":"#VALUE!"},{"$error":"#VALUE!"}]
[null,null,null,null,null,null,101,{"$error":"#VALUE!"},{"$error":"#VALUE!"},{"$error":"#VALUE!"},{"$error":"#VALUE!"},{"$error":"#VALUE!"},{"$error":"#VALUE!"},{"$error":"#VALUE!"},{"$error":"#VALUE!"},null,{"$error":"#VALUE!"},{"$error":"#VALUE!"},{"$error":"#VALUE!"},{"$error":"#VALUE!"},{"$error":"#VALUE!"},null,{"$error":"#VALUE!"},{"$error":"#VALUE!"},{"$error":"#VALUE!"},"n","n",{"$error":"#VALUE!"},0,{"$error":"#VALUE!"},0,null,{"$error":"#VALUE!"},{"$error":"#VALUE!"},null,{"$error":"#VALUE!"},{"$error":"#VALUE!"},{"$error":"#VALUE!"},{"$error":"#VALUE!"}]
[null,null,null,null,null,null,102,{"$error":"#VALUE!"},{"$error":"#VALUE!"},{"$error":"#VALUE!"},{"$error":"#VALUE!"},{"$error":"#VALUE!"},{"$error":"#VALUE!"},{"$error":"#VALUE!"},{"$error":"#VALUE!"},null,{"$error":"#VALUE!"},{"$error":"#VALUE!"},{"$error":"#VALUE!"},{"$error":"#VALUE!"},{"$error":"#VALUE!"},null,{"$error":"#VALUE!"},{"$error":"#VALUE!"},{"$error":"#VALUE!"},"n","n",{"$error":"#VALUE!"},0,{"$error":"#VALUE!"},0,9,{"$error":"#VALUE!"},{"$error":"#VALUE!"},null,{"$error":"#VALUE!"},{"$error":"#VALUE!"},{"$error":"#VALUE!"},{"$error":"#VALUE!"}]
[null,null,null,null,null,null,103,{"$error":"#VALUE!"},{"$error":"#VALUE!"},{"$error":"#VALUE!"},{"$error":"#VALUE!"},{"$error":"#VALUE!"},{"$error":"#VALUE!"},{"$error":"#VALUE!"},{"$error":"#VALUE!"},null,{"$error":"#VALUE!"},{"$error":"#VALUE!"},{"$error":"#VALUE!"},{"$error":"#VALUE!"},{"$error":"#VALUE!"},null,{"$error":"#VALUE!"},{"$error":"#VALUE!"},{"$error":"#VALUE!"},"n","n",{"$error":"#VALUE!"},0,{"$error":"#VALUE!"},0,null,{"$error":"#VALUE!"},{"$error":"#VALUE!"},null,{"$error":"#VALUE!"},{"$error":"#VALUE!"},{"$error":"#VALUE!"},{"$error":"#VALUE!"}]
[null,null,null,null,null,null,104,{"$error":"#VALUE!"},{"$error":"#VALUE!"},{"$error":"#VALUE!"},{"$error":"#VALUE!"},{"$error":"#VALUE!"},{"$error":"#VALUE!"},{"$error":"#VALUE!"},{"$error":"#VALUE!"},null,{"$error":"#VALUE!"},{"$error":"#VALUE!"},{"$error":"#VALUE!"},{"$error":"#VALUE!"},{"$error":"#VALUE!"},null,{"$error":"#VALUE!"},{"$error":"#VALUE!"},{"$error":"#VALUE!"},"n","n",{"$error":"#VALUE!"},0,{"$error":"#VALUE!"},0,null,{"$error":"#VALUE!"},{"$error":"#VALUE!"},null,{"$error":"#VALUE!"},{"$error":"#VALUE!"},{"$error":"#VALUE!"},{"$error":"#VALUE!"}]
[null,null,null,null,null,null,105,{"$error":"#VALUE!"},{"$error":"#VALUE!"},{"$error":"#VALUE!"},{"$error":"#VALUE!"},{"$error":"#VALUE!"},{"$error":"#VALUE!"},{"$error":"#VALUE!"},{"$error":"#VALUE!"},null,{"$error":"#VALUE!"},{"$error":"#VALUE!"},{"$error":"#VALUE!"},{"$error":"#VALUE!"},{"$error":"#VALUE!"},null,{"$error":"#VALUE!"},{"$error":"#VALUE!"},{"$error":"#VALUE!"},"n","n",{"$error":"#VALUE!"},0,{"$error":"#VALUE!"},0,null,{"$error":"#VALUE!"},{"$error":"#VALUE!"},null,{"$error":"#VALUE!"},{"$error":"#VALUE!"},{"$error":"#VALUE!"},{"$error":"#VALUE!"}]
[null,null,null,null,null,null,106,{"$error":"#VALUE!"},{"$error":"#VALUE!"},{"$error":"#VALUE!"},{"$error":"#VALUE!"},{"$error":"#VALUE!"},{"$error":"#VALUE!"},{"$error":"#VALUE!"},{"$error":"#VALUE!"},null,{"$error":"#VALUE!"},{"$error":"#VALUE!"},{"$error":"#VALUE!"},{"$error":"#VALUE!"},{"$error":"#VALUE!"},null,{"$error":"#VALUE!"},{"$error":"#VALUE!"},{"$error":"#VALUE!"},"n","n",{"$error":"#VALUE!"},0,{"$error":"#VALUE!"},0,null,{"$error":"#VALUE!"},{"$error":"#VALUE!"},null,{"$error":"#VALUE!"},{"$error":"#VALUE!"},{"$error":"#VALUE!"},{"$error":"#VALUE!"}]
[null,null,null,null,null,null,107,{"$error":"#VALUE!"},{"$error":"#VALUE!"},{"$error":"#VALUE!"},{"$error":"#VALUE!"},{"$error":"#VALUE!"},{"$error":"#VALUE!"},{"$error":"#VALUE!"},{"$error":"#VALUE!"},null,{"$error":"#VALUE!"},{"$error":"#VALUE!"},{"$error":"#VALUE!"},{"$error":"#VALUE!"},{"$error":"#VALUE!"},null,{"$error":"#VALUE!"},{"$error":"#VALUE!"},{"$error":"#VALUE!"},"n","n",{"$error":"#VALUE!"},0,{"$error":"#VALUE!"},0,null,{"$error":"#VALUE!"},{"$error":"#VALUE!"},null,{"$error":"#VALUE!"},{"$error":"#VALUE!"},{"$error":"#VALUE!"},{"$error":"#VALUE!"}]
[null,null,null,null,null,null,108,{"$error":"#VALUE!"},{"$error":"#VALUE!"},{"$error":"#VALUE!"},{"$error":"#VALUE!"},{"$error":"#VALUE!"},{"$error":"#VALUE!"},{"$error":"#VALUE!"},{"$error":"#VALUE!"},null,{"$error":"#VALUE!"},{"$error":"#VALUE!"},{"$error":"#VALUE!"},{"$error":"#VALUE!"},{"$error":"#VALUE!"},null,{"$error":"#VALUE!"},{"$error":"#VALUE!"},{"$error":"#VALUE!"},"n","n",{"$error":"#VALUE!"},0,{"$error":"#VALUE!"},0,null,{"$error":"#VALUE!"},{"$error":"#VALUE!"},null,{"$error":"#VALUE!"},{"$error":"#VALUE!"},{"$error":"#VALUE!"},{"$error":"#VALUE!"}]
[null,null,null,null,null,null,109,{"$error":"#VALUE!"},{"$error":"#VALUE!"},{"$error":"#VALUE!"},{"$error":"#VALUE!"},{"$error":"#VALUE!"},{"$error":"#VALUE!"},{"$error":"#VALUE!"},{"$error":"#VALUE!"},null,{"$error":"#VALUE!"},{"$error":"#VALUE!"},{"$error":"#VALUE!"},{"$error":"#VALUE!"},{"$error":"#VALUE!"},null,{"$error":"#VALUE!"},{"$error":"#VALUE!"},{"$error":"#VALUE!"},"n","n",{"$error":"#VALUE!"},0,{"$error":"#VALUE!"},0,null,{"$error":"#VALUE!"},{"$error":"#VALUE!"},null,{"$error":"#VALUE!"},{"$error":"#VALUE!"},{"$error":"#VALUE!"},{"$error":"#VALUE!"}]
[null,null,null,null,null,null,110,{"$error":"#VALUE!"},{"$error":"#VALUE!"},{"$error":"#VALUE!"},{"$error":"#VALUE!"},{"$error":"#VALUE!"},{"$error":"#VALUE!"},{"$error":"#VALUE!"},{"$error":"#VALUE!"},null,{"$error":"#VALUE!"},{"$error":"#VALUE!"},{"$error":"#VALUE!"},{"$error":"#VALUE!"},{"$error":"#VALUE!"},null,{"$error":"#VALUE!"},{"$error":"#VALUE!"},{"$error":"#VALUE!"},"n","n",{"$error":"#VALUE!"},0,{"$error":"#VALUE!"},0,null,{"$error":"#VALUE!"},{"$error":"#VALUE!"},null,{"$error":"#VALUE!"},{"$error":"#VALUE!"},{"$error":"#VALUE!"},{"$error":"#VALUE!"}]
[null,null,null,null,null,null,111,{"$error":"#VALUE!"},{"$error":"#VALUE!"},{"$error":"#VALUE!"},{"$error":"#VALUE!"},{"$error":"#VALUE!"},{"$error":"#VALUE!"},{"$error":"#VALUE!"},{"$error":"#VALUE!"},null,{"$error":"#VALUE!"},{"$error":"#VALUE!"},{"$error":"#VALUE!"},{"$error":"#VALUE!"},{"$error":"#VALUE!"},null,{"$error":"#VALUE!"},{"$error":"#VALUE!"},{"$error":"#VALUE!"},"n","n",{"$error":"#VALUE!"},0,{"$error":"#VALUE!"},0,null,{"$error":"#VALUE!"},{"$error":"#VALUE!"},null,{"$error":"#VALUE!"},{"$error":"#VALUE!"},{"$error":"#VALUE!"},{"$error":"#VALUE!"}]
[null,null,null,null,null,null,112,{"$error":"#VALUE!"},{"$error":"#VALUE!"},{"$error":"#VALUE!"},{"$error":"#VALUE!"},{"$error":"#VALUE!"},{"$error":"#VALUE!"},{"$error":"#VALUE!"},{"$error":"#VALUE!"},null,{"$error":"#VALUE!"},{"$error":"#VALUE!"},{"$error":"#VALUE!"},{"$error":"#VALUE!"},{"$error":"#VALUE!"},null,{"$error":"#VALUE!"},{"$error":"#VALUE!"},{"$error":"#VALUE!"},"n","n",{"$error":"#VALUE!"},0,{"$error":"#VALUE!"},0,null,{"$error":"#VALUE!"},{"$error":"#VALUE!"},null,{"$error":"#VALUE!"},{"$error":"#VALUE!"},{"$error":"#VALUE!"},{"$error":"#VALUE!"}]
[null,null,null,null,null,null,113,{"$error":"#VALUE!"},{"$error":"#VALUE!"},{"$error":"#VALUE!"},{"$error":"#VALUE!"},{"$error":"#VALUE!"},{"$error":"#VALUE!"},{"$error":"#VALUE!"},{"$error":"#VALUE!"},null,{"$error":"#VALUE!"},{"$error":"#VALUE!"},{"$error":"#VALUE!"},{"$error":"#VALUE!"},{"$error":"#VALUE!"},null,{"$error":"#VALUE!"},{"$error":"#VALUE!"},{"$error":"#VALUE!"},"n","n",{"$error":"#VALUE!"},0,{"$error":"#VALUE!"},0,null,{"$error":"#VALUE!"},{"$error":"#VALUE!"},null,{"$error":"#VALUE!"},{"$error":"#VALUE!"},{"$error":"#VALUE!"},{"$error":"#VALUE!"}]
[null,null,null,null,null,null,114,{"$error":"#VALUE!"},{"$error":"#VALUE!"},{"$error":"#VALUE!"},{"$error":"#VALUE!"},{"$error":"#VALUE!"},{"$error":"#VALUE!"},{"$error":"#VALUE!"},{"$error":"#VALUE!"},null,{"$error":"#VALUE!"},{"$error":"#VALUE!"},{"$error":"#VALUE!"},{"$error":"#VALUE!"},{"$error":"#VALUE!"},null,{"$error":"#VALUE!"},{"$error":"#VALUE!"},{"$error":"#VALUE!"},"n","n",{"$error":"#VALUE!"},0,{"$error":"#VALUE!"},0,10,{"$error":"#VALUE!"},{"$error":"#VALUE!"},null,{"$error":"#VALUE!"},{"$error":"#VALUE!"},{"$error":"#VALUE!"},{"$error":"#VALUE!"}]
[null,null,null,null,null,null,115,{"$error":"#VALUE!"},{"$error":"#VALUE!"},{"$error":"#VALUE!"},{"$error":"#VALUE!"},{"$error":"#VALUE!"},{"$error":"#VALUE!"},{"$error":"#VALUE!"},{"$error":"#VALUE!"},null,{"$error":"#VALUE!"},{"$error":"#VALUE!"},{"$error":"#VALUE!"},{"$error":"#VALUE!"},{"$error":"#VALUE!"},null,{"$error":"#VALUE!"},{"$error":"#VALUE!"},{"$error":"#VALUE!"},"n","n",{"$error":"#VALUE!"},0,{"$error":"#VALUE!"},0,null,{"$error":"#VALUE!"},{"$error":"#VALUE!"},null,{"$error":"#VALUE!"},{"$error":"#VALUE!"},{"$error":"#VALUE!"},{"$error":"#VALUE!"}]
[null,null,null,null,null,null,116,{"$error":"#VALUE!"},{"$error":"#VALUE!"},{"$error":"#VALUE!"},{"$error":"#VALUE!"},{"$error":"#VALUE!"},{"$error":"#VALUE!"},{"$error":"#VALUE!"},{"$error":"#VALUE!"},null,{"$error":"#VALUE!"},{"$error":"#VALUE!"},{"$error":"#VALUE!"},{"$error":"#VALUE!"},{"$error":"#VALUE!"},null,{"$error":"#VALUE!"},{"$error":"#VALUE!"},{"$error":"#VALUE!"},"n","n",{"$error":"#VALUE!"},0,{"$error":"#VALUE!"},0,null,{"$error":"#VALUE!"},{"$error":"#VALUE!"},null,{"$error":"#VALUE!"},{"$error":"#VALUE!"},{"$error":"#VALUE!"},{"$error":"#VALUE!"}]
[null,null,null,null,null,null,117,{"$error":"#VALUE!"},{"$error":"#VALUE!"},{"$error":"#VALUE!"},{"$error":"#VALUE!"},{"$error":"#VALUE!"},{"$error":"#VALUE!"},{"$error":"#VALUE!"},{"$error":"#VALUE!"},null,{"$error":"#VALUE!"},{"$error":"#VALUE!"},{"$error":"#VALUE!"},{"$error":"#VALUE!"},{"$error":"#VALUE!"},null,{"$error":"#VALUE!"},{"$error":"#VALUE!"},{"$error":"#VALUE!"},"n","n",{"$error":"#VALUE!"},0,{"$error":"#VALUE!"},0,null,{"$error":"#VALUE!"},{"$error":"#VALUE!"},null,{"$error":"#VALUE!"},{"$error":"#VALUE!"},{"$error":"#VALUE!"},{"$error":"#VALUE!"}]
[null,null,null,null,null,null,118,{"$error":"#VALUE!"},{"$error":"#VALUE!"},{"$error":"#VALUE!"},{"$error":"#VALUE!"},{"$error":"#VALUE!"},{"$error":"#VALUE!"},{"$error":"#VALUE!"},{"$error":"#VALUE!"},null,{"$error":"#VALUE!"},{"$error":"#VALUE!"},{"$error":"#VALUE!"},{"$error":"#VALUE!"},{"$error":"#VALUE!"},null,{"$error":"#VALUE!"},{"$error":"#VALUE!"},{"$error":"#VALUE!"},"n","n",{"$error":"#VALUE!"},0,{"$error":"#VALUE!"},0,null,{"$error":"#VALUE!"},{"$error":"#VALUE!"},null,{"$error":"#VALUE!"},{"$error":"#VALUE!"},{"$error":"#VALUE!"},{"$error":"#VALUE!"}]
[null,null,null,null,null,null,119,{"$error":"#VALUE!"},{"$error":"#VALUE!"},{"$error":"#VALUE!"},{"$error":"#VALUE!"},{"$error":"#VALUE!"},{"$error":"#VALUE!"},{"$error":"#VALUE!"},{"$error":"#VALUE!"},null,{"$error":"#VALUE!"},{"$error":"#VALUE!"},{"$error":"#VALUE!"},{"$error":"#VALUE!"},{"$error":"#VALUE!"},null,{"$error":"#VALUE!"},{"$error":"#VALUE!"},{"$error":"#VALUE!"},"n","n",{"$error":"#VALUE!"},0,{"$error":"#VALUE!"},0,null,{"$error":"#VALUE!"},{"$error":"#VALUE!"},null,{"$error":"#VALUE!"},{"$error":"#VALUE!"},{"$error":"#VALUE!"},{"$error":"#VALUE!"}]
[null,null,null,null,null,null,120,{"$error":"#VALUE!"},{"$error":"#VALUE!"},{"$error":"#VALUE!"},{"$error":"#VALUE!"},{"$error":"#VALUE!"},{"$error":"#VALUE!"},{"$error":"#VALUE!"},{"$error":"#VALUE!"},null,{"$error":"#VALUE!"},{"$error":"#VALUE!"},{"$error":"#VALUE!"},{"$error":"#VALUE!"},{"$error":"#VALUE!"},null,{"$error":"#VALUE!"},{"$error":"#VALUE!"},{"$error":"#VALUE!"},"n","n",{"$error":"#VALUE!"},0,{"$error":"#VALUE!"},0,null,{"$error":"#VALUE!"},{"$error":"#VALUE!"},null,{"$error":"#VALUE!"},{"$error":"#VALUE!"},{"$error":"#VALUE!"},{"$error":"#VALUE!"}]
[null,null,null,null,null,null,121,{"$error":"#VALUE!"},{"$error":"#VALUE!"},{"$error":"#VALUE!"},{"$error":"#VALUE!"},{"$error":"#VALUE!"},{"$error":"#VALUE!"},{"$error":"#VALUE!"},{"$error":"#VALUE!"},null,{"$error":"#VALUE!"},{"$error":"#VALUE!"},{"$error":"#VALUE!"},{"$error":"#VALUE!"},{"$error":"#VALUE!"},null,{"$error":"#VALUE!"},{"$error":"#VALUE!"},{"$error":"#VALUE!"},"n","n",{"$error":"#VALUE!"},0,{"$error":"#VALUE!"},0,null,{"$error":"#VALUE!"},{"$error":"#VALUE!"},null,{"$error":"#VALUE!"},{"$error":"#VALUE!"},{"$error":"#VALUE!"},{"$error":"#VALUE!"}]
[null,null,null,null,null,null,122,{"$error":"#VALUE!"},{"$error":"#VALUE!"},{"$error":"#VALUE!"},{"$error":"#VALUE!"},{"$error":"#VALUE!"},{"$error":"#VALUE!"},{"$error":"#VALUE!"},{"$error":"#VALUE!"},null,{"$error":"#VALUE!"},{"$error":"#VALUE!"},{"$error":"#VALUE!"},{"$error":"#VALUE!"},{"$error":"#VALUE!"},null,{"$error":"#VALUE!"},{"$error":"#VALUE!"},{"$error":"#VALUE!"},"n","n",{"$error":"#VALUE!"},0,{"$error":"#VALUE!"},0,null,{"$error":"#VALUE!"},{"$error":"#VALUE!"},null,{"$error":"#VALUE!"},{"$error":"#VALUE!"},{"$error":"#VALUE!"},{"$error":"#VALUE!"}]
[null,null,null,null,null,null,123,{"$error":"#VALUE!"},{"$error":"#VALUE!"},{"$error":"#VALUE!"},{"$error":"#VALUE!"},{"$error":"#VALUE!"},{"$error":"#VALUE!"},{"$error":"#VALUE!"},{"$error":"#VALUE!"},null,{"$error":"#VALUE!"},{"$error":"#VALUE!"},{"$error":"#VALUE!"},{"$error":"#VALUE!"},{"$error":"#VALUE!"},null,{"$error":"#VALUE!"},{"$error":"#VALUE!"},{"$error":"#VALUE!"},"n","n",{"$error":"#VALUE!"},0,{"$error":"#VALUE!"},0,null,{"$error":"#VALUE!"},{"$error":"#VALUE!"},null,{"$error":"#VALUE!"},{"$error":"#VALUE!"},{"$error":"#VALUE!"},{"$error":"#VALUE!"}]
[null,null,null,null,null,null,124,{"$error":"#VALUE!"},{"$error":"#VALUE!"},{"$error":"#VALUE!"},{"$error":"#VALUE!"},{"$error":"#VALUE!"},{"$error":"#VALUE!"},{"$error":"#VALUE!"},{"$error":"#VALUE!"},null,{"$error":"#VALUE!"},{"$error":"#VALUE!"},{"$error":"#VALUE!"},{"$error":"#VALUE!"},{"$error":"#VALUE!"},null,{"$error":"#VALUE!"},{"$error":"#VALUE!"},{"$error":"#VALUE!"},"n","n",{"$error":"#VALUE!"},0,{"$error":"#VALUE!"},0,null,{"$error":"#VALUE!"},{"$error":"#VALUE!"},null,{"$error":"#VALUE!"},{"$error":"#VALUE!"},{"$error":"#VALUE!"},{"$error":"#VALUE!"}]
[null,null,null,null,null,null,125,{"$error":"#VALUE!"},{"$error":"#VALUE!"},{"$error":"#VALUE!"},{"$error":"#VALUE!"},{"$error":"#VALUE!"},{"$error":"#VALUE!"},{"$error":"#VALUE!"},{"$error":"#VALUE!"},null,{"$error":"#VALUE!"},{"$error":"#VALUE!"},{"$error":"#VALUE!"},{"$error":"#VALUE!"},{"$error":"#VALUE!"},null,{"$error":"#VALUE!"},{"$error":"#VALUE!"},{"$error":"#VALUE!"},"n","n",{"$error":"#VALUE!"},0,{"$error":"#VALUE!"},0,null,{"$error":"#VALUE!"},{"$error":"#VALUE!"},null,{"$error":"#VALUE!"},{"$error":"#VALUE!"},{"$error":"#VALUE!"},{"$error":"#VALUE!"}]
[null,null,null,null,null,null,126,{"$error":"#VALUE!"},{"$error":"#VALUE!"},{"$error":"#VALUE!"},{"$error":"#VALUE!"},{"$error":"#VALUE!"},{"$error":"#VALUE!"},{"$error":"#VALUE!"},{"$error":"#VALUE!"},null,{"$error":"#VALUE!"},{"$error":"#VALUE!"},{"$error":"#VALUE!"},{"$error":"#VALUE!"},{"$error":"#VALUE!"},null,{"$error":"#VALUE!"},{"$error":"#VALUE!"},{"$error":"#VALUE!"},"n","n",{"$error":"#VALUE!"},0,{"$error":"#VALUE!"},0,11,{"$error":"#VALUE!"},{"$error":"#VALUE!"},null,{"$error":"#VALUE!"},{"$error":"#VALUE!"},{"$error":"#VALUE!"},{"$error":"#VALUE!"}]
[null,null,null,null,null,null,127,{"$error":"#VALUE!"},{"$error":"#VALUE!"},{"$error":"#VALUE!"},{"$error":"#VALUE!"},{"$error":"#VALUE!"},{"$error":"#VALUE!"},{"$error":"#VALUE!"},{"$error":"#VALUE!"},null,{"$error":"#VALUE!"},{"$error":"#VALUE!"},{"$error":"#VALUE!"},{"$error":"#VALUE!"},{"$error":"#VALUE!"},null,{"$error":"#VALUE!"},{"$error":"#VALUE!"},{"$error":"#VALUE!"},"n","n",{"$error":"#VALUE!"},0,{"$error":"#VALUE!"},0,null,{"$error":"#VALUE!"},{"$error":"#VALUE!"},null,{"$error":"#VALUE!"},{"$error":"#VALUE!"},{"$error":"#VALUE!"},{"$error":"#VALUE!"}]
[null,null,null,null,null,null,128,{"$error":"#VALUE!"},{"$error":"#VALUE!"},{"$error":"#VALUE!"},{"$error":"#VALUE!"},{"$error":"#VALUE!"},{"$error":"#VALUE!"},{"$error":"#VALUE!"},{"$error":"#VALUE!"},null,{"$error":"#VALUE!"},{"$error":"#VALUE!"},{"$error":"#VALUE!"},{"$error":"#VALUE!"},{"$error":"#VALUE!"},null,{"$error":"#VALUE!"},{"$error":"#VALUE!"},{"$error":"#VALUE!"},"n","n",{"$error":"#VALUE!"},0,{"$error":"#VALUE!"},0,null,{"$error":"#VALUE!"},{"$error":"#VALUE!"},null,{"$error":"#VALUE!"},{"$error":"#VALUE!"},{"$error":"#VALUE!"},{"$error":"#VALUE!"}]
[null,null,null,null,null,null,129,{"$error":"#VALUE!"},{"$error":"#VALUE!"},{"$f":"IF(G151<61,$B$32,IF(AND($B$27<61,$B$27<>\"\"),$B$32,$B$34))","v":{"$error":"#VALUE!"}},{"$error":"#VALUE!"},{"$error":"#VALUE!"},{"$error":"#VALUE!"},{"$error":"#VALUE!"},{"$error":"#VALUE!"},null,{"$error":"#VALUE!"},{"$error":"#VALUE!"},{"$f":"-I151*$S$20/12","v":{"$error":"#VALUE!"}},{"$error":"#VALUE!"},{"$error":"#VALUE!"},null,{"$error":"#VALUE!"},{"$error":"#VALUE!"},{"$error":"#VALUE!"},"n","n",{"$error":"#VALUE!"},0,{"$error":"#VALUE!"},0,null,{"$error":"#VALUE!"},{"$error":"#VALUE!"},null,{"$error":"#VALUE!"},{"$error":"#VALUE!"},{"$error":"#VALUE!"},{"$error":"#VALUE!"}]
[null,null,null,null,null,null,130,{"$error":"#VALUE!"},{"$error":"#VALUE!"},{"$error":"#VALUE!"},{"$f":"IF(AA152=\"b\",0,J152*I152/12)","v":{"$error":"#VALUE!"}},{"$f":"N152-M152-K152","v":{"$error":"#VALUE!"}},{"$error":"#VALUE!"},{"$error":"#VALUE!"},{"$f":"I152+K152+M152-N152-AE152","v":{"$error":"#VALUE!"}},null,{"$f":"IF(I152=0,0,IF(H152<>$H$23,Q151,IF(J152=$B$32,I152*$B$33/12,0)))","v":{"$error":"#VALUE!"}},{"$f":"IF(H152=12,O152*$B$37,0)","v":{"$error":"#VALUE!"}},{"$error":"#VALUE!"},{"$f":"K152+Q152+S152","v":{"$error":"#VALUE!"}},{"$f":"T152+R152","v":{"$error":"#VALUE!"}},null,{"$error":"#VALUE!"},{"$error":"#VALUE!"},{"$f":"IF(G152=$B$27,\"b\",\"n\")","v":{"$error":"#VALUE!"}},{"$f":"IF(G152=$B$28,\"b\",\"n\")","v":"n"},{"$f":"IF(G152=$B$29,\"b\",\"n\")","v":"n"},{"$f":"IF($E$35<1,0,IF(OR(G152<=$B$27,G152>MAX(IF($B$27=$B$28,60,36),$B$27+IF($B$27=$B$28,60,36)),$B$27>60),0,1))","v":{"$error":"#VALUE!"}},{"$f":"IF($E$35<2,0,IF(OR(G152<=$B$28,G152>$B$28+IF($B$27=$B$28,60,36),$AB$21=0),0,1))","v":0},{"$f":"MAX(AB152:AC152)","v":{"$error":"#VALUE!"}},{"$f":"IF(AA152=\"b\",I152,IF(Z152=\"b\",I152*0.3,0))","v":0},null,{"$f":"IF(O152=0,-100000,O152)","v":{"$error":"#VALUE!"}},{"$f":"IF(AD152=1,0,IF(N152=0,-1000,N152))","v":{"$error":"#VALUE!"}},null,{"$f":"N152+IF(OR(I152=0,G152>$W$21),0,$B$38)+IF(G152=MIN(60,$B$25),$B$17,0)","v":{"$error":"#VALUE!"}},{"$f":"G152*$AK$21+$AK$19","v":{"$error":"#VALUE!"}},{"$error":"#VALUE!"},{"$error":"#VALUE!"}]
[null,null,null,null,null,null,{"$f":"G152+1","v":131},{"$f":"IF(H152=12,1,H152+1)","v":{"$error":"#VALUE!"}},{"$f":"O152","v":{"$error":"#VALUE!"}},{"$error":"#VALUE!"},{"$error":"#VALUE!"},{"$error":"#VALUE!"},{"$f":"ROUND(IF(OR(AD153=1,AA153=\"b\",ROUND(I153,0)=0),0,IF(OR(H153=2,M152=0),I152*$B$35/12,M152)),0)","v":{"$error":"#VALUE!"}},{"$f":"IF(OR(AA153=\"b\",ROUND(I153,0)=0),0,IF(OR(AND($B$27<61,AA153=\"b\"),AD153=1),M153,PMT(J153/12,X153,-I153)+M153))","v":{"$error":"#VALUE!"}},{"$error":"#VALUE!"},null,{"$error":"#VALUE!"},{"$error":"#VALUE!"},{"$error":"#VALUE!"},{"$error":"#VALUE!"},{"$error":"#VALUE!"},null,{"$f":"IF(Y152=\"b\",W152+$C$27,W152)","v":{"$error":"#VALUE!"}},{"$f":"W153-G152","v":{"$error":"#VALUE!"}},{"$error":"#VALUE!"},"n","n",{"$error":"#VALUE!"},0,{"$error":"#VALUE!"},0,null,{"$error":"#VALUE!"},{"$error":"#VALUE!"},null,{"$error":"#VALUE!"},{"$error":"#VALUE!"},{"$f":"AJ153/((1+$AL$21)^(AK153/365))","v":{"$error":"#VALUE!"}},{"$f":"AM152+AL153","v":{"$error":"#VALUE!"}}]
[null,null,null,null,null,null,132,{"$error":"#VALUE!"},{"$error":"#VALUE!"},{"$error":"#VALUE!"},{"$error":"#VALUE!"},{"$error":"#VALUE!"},{"$error":"#VALUE!"},{"$error":"#VALUE!"},{"$error":"#VALUE!"},null,{"$error":"#VALUE!"},{"$error":"#VALUE!"},{"$error":"#VALUE!"},{"$error":"#VALUE!"},{"$error":"#VALUE!"},null,{"$error":"#VALUE!"},{"$error":"#VALUE!"},{"$error":"#VALUE!"},"n","n",{"$error":"#VALUE!"},0,{"$error":"#VALUE!"},0,null,{"$error":"#VALUE!"},{"$error":"#VALUE!"},null,{"$error":"#VALUE!"},{"$error":"#VALUE!"},{"$error":"#VALUE!"},{"$error":"#VALUE!"}]
[null,null,null,null,null,null,133,{"$error":"#VALUE!"},{"$error":"#VALUE!"},{"$error":"#VALUE!"},{"$error":"#VALUE!"},{"$error":"#VALUE!"},{"$error":"#VALUE!"},{"$error":"#VALUE!"},{"$error":"#VALUE!"},null,{"$error":"#VALUE!"},{"$error":"#VALUE!"},{"$error":"#VALUE!"},{"$error":"#VALUE!"},{"$error":"#VALUE!"},null,{"$error":"#VALUE!"},{"$error":"#VALUE!"},{"$error":"#VALUE!"},"n","n",{"$error":"#VALUE!"},0,{"$error":"#VALUE!"},0,null,{"$error":"#VALUE!"},{"$error":"#VALUE!"},null,{"$error":"#VALUE!"},{"$error":"#VALUE!"},{"$error":"#VALUE!"},{"$error":"#VALUE!"}]
[null,null,null,null,null,null,134,{"$error":"#VALUE!"},{"$error":"#VALUE!"},{"$error":"#VALUE!"},{"$error":"#VALUE!"},{"$error":"#VALUE!"},{"$error":"#VALUE!"},{"$error":"#VALUE!"},{"$error":"#VALUE!"},null,{"$error":"#VALUE!"},{"$error":"#VALUE!"},{"$error":"#VALUE!"},{"$error":"#VALUE!"},{"$error":"#VALUE!"},null,{"$error":"#VALUE!"},{"$error":"#VALUE!"},{"$error":"#VALUE!"},"n","n",{"$error":"#VALUE!"},0,{"$error":"#VALUE!"},0,null,{"$error":"#VALUE!"},{"$error":"#VALUE!"},null,{"$error":"#VALUE!"},{"$error":"#VALUE!"},{"$error":"#VALUE!"},{"$error":"#VALUE!"}]
[null,null,null,null,null,null,135,{"$error":"#VALUE!"},{"$error":"#VALUE!"},{"$error":"#VALUE!"},{"$error":"#VALUE!"},{"$error":"#VALUE!"},{"$error":"#VALUE!"},{"$error":"#VALUE!"},{"$error":"#VALUE!"},null,{"$error":"#VALUE!"},{"$error":"#VALUE!"},{"$error":"#VALUE!"},{"$error":"#VALUE!"},{"$error":"#VALUE!"},null,{"$error":"#VALUE!"},{"$error":"#VALUE!"},{"$error":"#VALUE!"},"n","n",{"$error":"#VALUE!"},0,{"$error":"#VALUE!"},0,null,{"$error":"#VALUE!"},{"$error":"#VALUE!"},null,{"$error":"#VALUE!"},{"$error":"#VALUE!"},{"$error":"#VALUE!"},{"$error":"#VALUE!"}]
[null,null,null,null,null,null,136,{"$error":"#VALUE!"},{"$error":"#VALUE!"},{"$error":"#VALUE!"},{"$error":"#VALUE!"},{"$error":"#VALUE!"},{"$error":"#VALUE!"},{"$error":"#VALUE!"},{"$error":"#VALUE!"},null,{"$error":"#VALUE!"},{"$error":"#VALUE!"},{"$error":"#VALUE!"},{"$error":"#VALUE!"},{"$error":"#VALUE!"},null,{"$error":"#VALUE!"},{"$error":"#VALUE!"},{"$error":"#VALUE!"},"n","n",{"$error":"#VALUE!"},0,{"$error":"#VALUE!"},0,null,{"$error":"#VALUE!"},{"$error":"#VALUE!"},null,{"$error":"#VALUE!"},{"$error":"#VALUE!"},{"$error":"#VALUE!"},{"$error":"#VALUE!"}]
[null,null,null,null,null,null,137,{"$error":"#VALUE!"},{"$error":"#VALUE!"},{"$error":"#VALUE!"},{"$error":"#VALUE!"},{"$error":"#VALUE!"},{"$error":"#VALUE!"},{"$error":"#VALUE!"},{"$error":"#VALUE!"},null,{"$error":"#VALUE!"},{"$error":"#VALUE!"},{"$error":"#VALUE!"},{"$error":"#VALUE!"},{"$error":"#VALUE!"},null,{"$error":"#VALUE!"},{"$error":"#VALUE!"},{"$error":"#VALUE!"},"n","n",{"$error":"#VALUE!"},0,{"$error":"#VALUE!"},0,null,{"$error":"#VALUE!"},{"$error":"#VALUE!"},null,{"$error":"#VALUE!"},{"$error":"#VALUE!"},{"$error":"#VALUE!"},{"$error":"#VALUE!"}]
[null,null,null,null,null,null,138,{"$error":"#VALUE!"},{"$error":"#VALUE!"},{"$error":"#VALUE!"},{"$error":"#VALUE!"},{"$error":"#VALUE!"},{"$error":"#VALUE!"},{"$error":"#VALUE!"},{"$error":"#VALUE!"},null,{"$error":"#VALUE!"},{"$error":"#VALUE!"},{"$error":"#VALUE!"},{"$error":"#VALUE!"},{"$error":"#VALUE!"},null,{"$error":"#VALUE!"},{"$error":"#VALUE!"},{"$error":"#VALUE!"},"n","n",{"$error":"#VALUE!"},0,{"$error":"#VALUE!"},0,{"$f":"ROUNDDOWN(G160/12,0)+1","v":12},{"$error":"#VALUE!"},{"$error":"#VALUE!"},null,{"$error":"#VALUE!"},{"$error":"#VALUE!"},{"$error":"#VALUE!"},{"$error":"#VALUE!"}]
[null,null,null,null,null,null,139,{"$error":"#VALUE!"},{"$error":"#VALUE!"},{"$error":"#VALUE!"},{"$error":"#VALUE!"},{"$error":"#VALUE!"},{"$error":"#VALUE!"},{"$error":"#VALUE!"},{"$error":"#VALUE!"},null,{"$error":"#VALUE!"},{"$error":"#VALUE!"},{"$error":"#VALUE!"},{"$error":"#VALUE!"},{"$error":"#VALUE!"},null,{"$error":"#VALUE!"},{"$error":"#VALUE!"},{"$error":"#VALUE!"},"n","n",{"$error":"#VALUE!"},0,{"$error":"#VALUE!"},0,null,{"$error":"#VALUE!"},{"$error":"#VALUE!"},null,{"$error":"#VALUE!"},{"$error":"#VALUE!"},{"$error":"#VALUE!"},{"$error":"#VALUE!"}]
[null,null,null,null,null,null,140,{"$error":"#VALUE!"},{"$error":"#VALUE!"},{"$error":"#VALUE!"},{"$error":"#VALUE!"},{"$error":"#VALUE!"},{"$error":"#VALUE!"},{"$error":"#VALUE!"},{"$error":"#VALUE!"},null,{"$error":"#VALUE!"},{"$error":"#VALUE!"},{"$error":"#VALUE!"},{"$error":"#VALUE!"},{"$error":"#VALUE!"},null,{"$error":"#VALUE!"},{"$error":"#VALUE!"},{"$error":"#VALUE!"},"n","n",{"$error":"#VALUE!"},0,{"$error":"#VALUE!"},0,null,{"$error":"#VALUE!"},{"$error":"#VALUE!"},null,{"$error":"#VALUE!"},{"$error":"#VALUE!"},{"$error":"#VALUE!"},{"$error":"#VALUE!"}]
[null,null,null,null,null,null,141,{"$error":"#VALUE!"},{"$error":"#VALUE!"},{"$error":"#VALUE!"},{"$error":"#VALUE!"},{"$error":"#VALUE!"},{"$error":"#VALUE!"},{"$error":"#VALUE!"},{"$error":"#VALUE!"},null,{"$error":"#VALUE!"},{"$error":"#VALUE!"},{"$error":"#VALUE!"},{"$error":"#VALUE!"},{"$error":"#VALUE!"},null,{"$error":"#VALUE!"},{"$error":"#VALUE!"},{"$error":"#VALUE!"},"n","n",{"$error":"#VALUE!"},0,{"$error":"#VALUE!"},0,null,{"$error":"#VALUE!"},{"$error":"#VALUE!"},null,{"$error":"#VALUE!"},{"$error":"#VALUE!"},{"$error":"#VALUE!"},{"$error":"#VALUE!"}]
[null,null,null,null,null,null,142,{"$error":"#VALUE!"},{"$error":"#VALUE!"},{"$error":"#VALUE!"},{"$error":"#VALUE!"},{"$error":"#VALUE!"},{"$error":"#VALUE!"},{"$error":"#VALUE!"},{"$error":"#VALUE!"},null,{"$error":"#VALUE!"},{"$error":"#VALUE!"},{"$error":"#VALUE!"},{"$error":"#VALUE!"},{"$error":"#VALUE!"},null,{"$error":"#VALUE!"},{"$error":"#VALUE!"},{"$error":"#VALUE!"},"n","n",{"$error":"#VALUE!"},0,{"$error":"#VALUE!"},0,null,{"$error":"#VALUE!"},{"$error":"#VALUE!"},null,{"$error":"#VALUE!"},{"$error":"#VALUE!"},{"$error":"#VALUE!"},{"$error":"#VALUE!"}]
[null,null,null,null,null,null,143,{"$error":"#VALUE!"},{"$error":"#VALUE!"},{"$error":"#VALUE!"},{"$error":"#VALUE!"},{"$error":"#VALUE!"},{"$error":"#VALUE!"},{"$error":"#VALUE!"},{"$error":"#VALUE!"},null,{"$error":"#VALUE!"},{"$error":"#VALUE!"},{"$error":"#VALUE!"},{"$error":"#VALUE!"},{"$error":"#VALUE!"},null,{"$error":"#VALUE!"},{"$error":"#VALUE!"},{"$error":"#VALUE!"},"n","n",{"$error":"#VALUE!"},0,{"$error":"#VALUE!"},0,null,{"$error":"#VALUE!"},{"$error":"#VALUE!"},null,{"$error":"#VALUE!"},{"$error":"#VALUE!"},{"$error":"#VALUE!"},{"$error":"#VALUE!"}]
[null,null,null,null,null,null,144,{"$error":"#VALUE!"},{"$error":"#VALUE!"},{"$error":"#VALUE!"},{"$error":"#VALUE!"},{"$error":"#VALUE!"},{"$error":"#VALUE!"},{"$error":"#VALUE!"},{"$error":"#VALUE!"},null,{"$error":"#VALUE!"},{"$error":"#VALUE!"},{"$error":"#VALUE!"},{"$error":"#VALUE!"},{"$error":"#VALUE!"},null,{"$error":"#VALUE!"},{"$error":"#VALUE!"},{"$error":"#VALUE!"},"n","n",{"$error":"#VALUE!"},0,{"$error":"#VALUE!"},0,null,{"$error":"#VALUE!"},{"$error":"#VALUE!"},null,{"$error":"#VALUE!"},{"$error":"#VALUE!"},{"$error":"#VALUE!"},{"$error":"#VALUE!"}]
[null,null,null,null,null,null,145,{"$error":"#VALUE!"},{"$error":"#VALUE!"},{"$error":"#VALUE!"},{"$error":"#VALUE!"},{"$error":"#VALUE!"},{"$error":"#VALUE!"},{"$error":"#VALUE!"},{"$error":"#VALUE!"},null,{"$error":"#VALUE!"},{"$error":"#VALUE!"},{"$error":"#VALUE!"},{"$error":"#VALUE!"},{"$error":"#VALUE!"},null,{"$error":"#VALUE!"},{"$error":"#VALUE!"},{"$error":"#VALUE!"},"n","n",{"$error":"#VALUE!"},0,{"$error":"#VALUE!"},0,null,{"$error":"#VALUE!"},{"$error":"#VALUE!"},null,{"$error":"#VALUE!"},{"$error":"#VALUE!"},{"$error":"#VALUE!"},{"$error":"#VALUE!"}]
[null,null,null,null,null,null,146,{"$error":"#VALUE!"},{"$error":"#VALUE!"},{"$error":"#VALUE!"},{"$error":"#VALUE!"},{"$error":"#VALUE!"},{"$error":"#VALUE!"},{"$error":"#VALUE!"},{"$error":"#VALUE!"},null,{"$error":"#VALUE!"},{"$error":"#VALUE!"},{"$error":"#VALUE!"},{"$error":"#VALUE!"},{"$error":"#VALUE!"},null,{"$error":"#VALUE!"},{"$error":"#VALUE!"},{"$error":"#VALUE!"},"n","n",{"$error":"#VALUE!"},0,{"$error":"#VALUE!"},0,null,{"$error":"#VALUE!"},{"$error":"#VALUE!"},null,{"$error":"#VALUE!"},{"$error":"#VALUE!"},{"$error":"#VALUE!"},{"$error":"#VALUE!"}]
[null,null,null,null,null,null,147,{"$error":"#VALUE!"},{"$error":"#VALUE!"},{"$error":"#VALUE!"},{"$error":"#VALUE!"},{"$error":"#VALUE!"},{"$error":"#VALUE!"},{"$error":"#VALUE!"},{"$error":"#VALUE!"},null,{"$error":"#VALUE!"},{"$error":"#VALUE!"},{"$error":"#VALUE!"},{"$error":"#VALUE!"},{"$error":"#VALUE!"},null,{"$error":"#VALUE!"},{"$error":"#VALUE!"},{"$error":"#VALUE!"},"n","n",{"$error":"#VALUE!"},0,{"$error":"#VALUE!"},0,null,{"$error":"#VALUE!"},{"$error":"#VALUE!"},null,{"$error":"#VALUE!"},{"$error":"#VALUE!"},{"$error":"#VALUE!"},{"$error":"#VALUE!"}]
[null,null,null,null,null,null,148,{"$error":"#VALUE!"},{"$error":"#VALUE!"},{"$error":"#VALUE!"},{"$error":"#VALUE!"},{"$error":"#VALUE!"},{"$error":"#VALUE!"},{"$error":"#VALUE!"},{"$error":"#VALUE!"},null,{"$error":"#VALUE!"},{"$error":"#VALUE!"},{"$error":"#VALUE!"},{"$error":"#VALUE!"},{"$error":"#VALUE!"},null,{"$error":"#VALUE!"},{"$error":"#VALUE!"},{"$error":"#VALUE!"},"n","n",{"$error":"#VALUE!"},0,{"$error":"#VALUE!"},0,null,{"$error":"#VALUE!"},{"$error":"#VALUE!"},null,{"$error":"#VALUE!"},{"$error":"#VALUE!"},{"$error":"#VALUE!"},{"$error":"#VALUE!"}]
[null,null,null,null,null,null,149,{"$error":"#VALUE!"},{"$error":"#VALUE!"},{"$error":"#VALUE!"},{"$error":"#VALUE!"},{"$error":"#VALUE!"},{"$error":"#VALUE!"},{"$error":"#VALUE!"},{"$error":"#VALUE!"},null,{"$error":"#VALUE!"},{"$error":"#VALUE!"},{"$error":"#VALUE!"},{"$error":"#VALUE!"},{"$error":"#VALUE!"},null,{"$error":"#VALUE!"},{"$error":"#VALUE!"},{"$error":"#VALUE!"},"n","n",{"$error":"#VALUE!"},0,{"$error":"#VALUE!"},0,null,{"$error":"#VALUE!"},{"$error":"#VALUE!"},null,{"$error":"#VALUE!"},{"$error":"#VALUE!"},{"$error":"#VALUE!"},{"$error":"#VALUE!"}]
[null,null,null,null,null,null,150,{"$error":"#VALUE!"},{"$error":"#VALUE!"},{"$error":"#VALUE!"},{"$error":"#VALUE!"},{"$error":"#VALUE!"},{"$error":"#VALUE!"},{"$error":"#VALUE!"},{"$error":"#VALUE!"},null,{"$error":"#VALUE!"},{"$error":"#VALUE!"},{"$error":"#VALUE!"},{"$error":"#VALUE!"},{"$error":"#VALUE!"},null,{"$error":"#VALUE!"},{"$error":"#VALUE!"},{"$error":"#VALUE!"},"n","n",{"$error":"#VALUE!"},0,{"$error":"#VALUE!"},0,13,{"$error":"#VALUE!"},{"$error":"#VALUE!"},null,{"$error":"#VALUE!"},{"$error":"#VALUE!"},{"$error":"#VALUE!"},{"$error":"#VALUE!"}]
[null,null,null,null,null,null,151,{"$error":"#VALUE!"},{"$error":"#VALUE!"},{"$error":"#VALUE!"},{"$error":"#VALUE!"},{"$error":"#VALUE!"},{"$error":"#VALUE!"},{"$error":"#VALUE!"},{"$error":"#VALUE!"},null,{"$error":"#VALUE!"},{"$error":"#VALUE!"},{"$error":"#VALUE!"},{"$error":"#VALUE!"},{"$error":"#VALUE!"},null,{"$error":"#VALUE!"},{"$error":"#VALUE!"},{"$error":"#VALUE!"},"n","n",{"$error":"#VALUE!"},0,{"$error":"#VALUE!"},0,null,{"$error":"#VALUE!"},{"$error":"#VALUE!"},null,{"$error":"#VALUE!"},{"$error":"#VALUE!"},{"$error":"#VALUE!"},{"$error":"#VALUE!"}]
[null,null,null,null,null,null,152,{"$error":"#VALUE!"},{"$error":"#VALUE!"},{"$error":"#VALUE!"},{"$error":"#VALUE!"},{"$error":"#VALUE!"},{"$error":"#VALUE!"},{"$error":"#VALUE!"},{"$error":"#VALUE!"},null,{"$error":"#VALUE!"},{"$error":"#VALUE!"},{"$error":"#VALUE!"},{"$error":"#VALUE!"},{"$error":"#VALUE!"},null,{"$error":"#VALUE!"},{"$error":"#VALUE!"},{"$error":"#VALUE!"},"n","n",{"$error":"#VALUE!"},0,{"$error":"#VALUE!"},0,null,{"$error":"#VALUE!"},{"$error":"#VALUE!"},null,{"$error":"#VALUE!"},{"$error":"#VALUE!"},{"$error":"#VALUE!"},{"$error":"#VALUE!"}]
[null,null,null,null,null,null,153,{"$error":"#VALUE!"},{"$error":"#VALUE!"},{"$error":"#VALUE!"},{"$error":"#VALUE!"},{"$error":"#VALUE!"},{"$error":"#VALUE!"},{"$error":"#VALUE!"},{"$error":"#VALUE!"},null,{"$error":"#VALUE!"},{"$error":"#VALUE!"},{"$error":"#VALUE!"},{"$error":"#VALUE!"},{"$error":"#VALUE!"},null,{"$error":"#VALUE!"},{"$error":"#VALUE!"},{"$error":"#VALUE!"},"n","n",{"$error":"#VALUE!"},0,{"$error":"#VALUE!"},0,null,{"$error":"#VALUE!"},{"$error":"#VALUE!"},null,{"$error":"#VALUE!"},{"$error":"#VALUE!"},{"$error":"#VALUE!"},{"$error":"#VALUE!"}]
[null,null,null,null,null,null,154,{"$error":"#VALUE!"},{"$error":"#VALUE!"},{"$error":"#VALUE!"},{"$error":"#VALUE!"},{"$error":"#VALUE!"},{"$error":"#VALUE!"},{"$error":"#VALUE!"},{"$error":"#VALUE!"},null,{"$error":"#VALUE!"},{"$error":"#VALUE!"},{"$error":"#VALUE!"},{"$error":"#VALUE!"},{"$error":"#VALUE!"},null,{"$error":"#VALUE!"},{"$error":"#VALUE!"},{"$error":"#VALUE!"},"n","n",{"$error":"#VALUE!"},0,{"$error":"#VALUE!"},0,null,{"$error":"#VALUE!"},{"$error":"#VALUE!"},null,{"$error":"#VALUE!"},{"$error":"#VALUE!"},{"$error":"#VALUE!"},{"$error":"#VALUE!"}]
[null,null,null,null,null,null,155,{"$error":"#VALUE!"},{"$error":"#VALUE!"},{"$error":"#VALUE!"},{"$error":"#VALUE!"},{"$error":"#VALUE!"},{"$error":"#VALUE!"},{"$error":"#VALUE!"},{"$error":"#VALUE!"},null,{"$error":"#VALUE!"},{"$error":"#VALUE!"},{"$error":"#VALUE!"},{"$error":"#VALUE!"},{"$error":"#VALUE!"},null,{"$error":"#VALUE!"},{"$error":"#VALUE!"},{"$error":"#VALUE!"},"n","n",{"$error":"#VALUE!"},0,{"$error":"#VALUE!"},0,null,{"$error":"#VALUE!"},{"$error":"#VALUE!"},null,{"$error":"#VALUE!"},{"$error":"#VALUE!"},{"$error":"#VALUE!"},{"$error":"#VALUE!"}]
[null,null,null,null,null,null,156,{"$error":"#VALUE!"},{"$error":"#VALUE!"},{"$error":"#VALUE!"},{"$error":"#VALUE!"},{"$error":"#VALUE!"},{"$error":"#VALUE!"},{"$error":"#VALUE!"},{"$error":"#VALUE!"},null,{"$error":"#VALUE!"},{"$error":"#VALUE!"},{"$error":"#VALUE!"},{"$error":"#VALUE!"},{"$error":"#VALUE!"},null,{"$error":"#VALUE!"},{"$error":"#VALUE!"},{"$error":"#VALUE!"},"n","n",{"$error":"#VALUE!"},0,{"$error":"#VALUE!"},0,null,{"$error":"#VALUE!"},{"$error":"#VALUE!"},null,{"$error":"#VALUE!"},{"$error":"#VALUE!"},{"$error":"#VALUE!"},{"$error":"#VALUE!"}]
[null,null,null,null,null,null,157,{"$error":"#VALUE!"},{"$error":"#VALUE!"},{"$error":"#VALUE!"},{"$error":"#VALUE!"},{"$error":"#VALUE!"},{"$error":"#VALUE!"},{"$error":"#VALUE!"},{"$error":"#VALUE!"},null,{"$error":"#VALUE!"},{"$error":"#VALUE!"},{"$error":"#VALUE!"},{"$error":"#VALUE!"},{"$error":"#VALUE!"},null,{"$error":"#VALUE!"},{"$error":"#VALUE!"},{"$error":"#VALUE!"},"n","n",{"$error":"#VALUE!"},0,{"$error":"#VALUE!"},0,null,{"$error":"#VALUE!"},{"$error":"#VALUE!"},null,{"$error":"#VALUE!"},{"$error":"#VALUE!"},{"$error":"#VALUE!"},{"$error":"#VALUE!"}]
[null,null,null,null,null,null,158,{"$error":"#VALUE!"},{"$error":"#VALUE!"},{"$error":"#VALUE!"},{"$error":"#VALUE!"},{"$error":"#VALUE!"},{"$error":"#VALUE!"},{"$error":"#VALUE!"},{"$error":"#VALUE!"},null,{"$error":"#VALUE!"},{"$error":"#VALUE!"},{"$error":"#VALUE!"},{"$error":"#VALUE!"},{"$error":"#VALUE!"},null,{"$error":"#VALUE!"},{"$error":"#VALUE!"},{"$error":"#VALUE!"},"n","n",{"$error":"#VALUE!"},0,{"$error":"#VALUE!"},0,null,{"$error":"#VALUE!"},{"$error":"#VALUE!"},null,{"$error":"#VALUE!"},{"$error":"#VALUE!"},{"$error":"#VALUE!"},{"$error":"#VALUE!"}]
[null,null,null,null,null,null,159,{"$error":"#VALUE!"},{"$error":"#VALUE!"},{"$error":"#VALUE!"},{"$error":"#VALUE!"},{"$error":"#VALUE!"},{"$error":"#VALUE!"},{"$error":"#VALUE!"},{"$error":"#VALUE!"},null,{"$error":"#VALUE!"},{"$error":"#VALUE!"},{"$error":"#VALUE!"},{"$error":"#VALUE!"},{"$error":"#VALUE!"},null,{"$error":"#VALUE!"},{"$error":"#VALUE!"},{"$error":"#VALUE!"},"n","n",{"$error":"#VALUE!"},0,{"$error":"#VALUE!"},0,null,{"$error":"#VALUE!"},{"$error":"#VALUE!"},null,{"$error":"#VALUE!"},{"$error":"#VALUE!"},{"$error":"#VALUE!"},{"$error":"#VALUE!"}]
[null,null,null,null,null,null,160,{"$error":"#VALUE!"},{"$error":"#VALUE!"},{"$error":"#VALUE!"},{"$error":"#VALUE!"},{"$error":"#VALUE!"},{"$error":"#VALUE!"},{"$error":"#VALUE!"},{"$error":"#VALUE!"},null,{"$error":"#VALUE!"},{"$error":"#VALUE!"},{"$error":"#VALUE!"},{"$error":"#VALUE!"},{"$error":"#VALUE!"},null,{"$error":"#VALUE!"},{"$error":"#VALUE!"},{"$error":"#VALUE!"},"n","n",{"$error":"#VALUE!"},0,{"$error":"#VALUE!"},0,null,{"$error":"#VALUE!"},{"$error":"#VALUE!"},null,{"$error":"#VALUE!"},{"$error":"#VALUE!"},{"$error":"#VALUE!"},{"$error":"#VALUE!"}]
[null,null,null,null,null,null,161,{"$error":"#VALUE!"},{"$error":"#VALUE!"},{"$error":"#VALUE!"},{"$error":"#VALUE!"},{"$error":"#VALUE!"},{"$error":"#VALUE!"},{"$error":"#VALUE!"},{"$error":"#VALUE!"},null,{"$error":"#VALUE!"},{"$error":"#VALUE!"},{"$error":"#VALUE!"},{"$error":"#VALUE!"},{"$error":"#VALUE!"},null,{"$error":"#VALUE!"},{"$error":"#VALUE!"},{"$error":"#VALUE!"},"n","n",{"$error":"#VALUE!"},0,{"$error":"#VALUE!"},0,null,{"$error":"#VALUE!"},{"$error":"#VALUE!"},null,{"$error":"#VALUE!"},{"$error":"#VALUE!"},{"$error":"#VALUE!"},{"$error":"#VALUE!"}]
[null,null,null,null,null,null,162,{"$error":"#VALUE!"},{"$error":"#VALUE!"},{"$error":"#VALUE!"},{"$error":"#VALUE!"},{"$error":"#VALUE!"},{"$error":"#VALUE!"},{"$error":"#VALUE!"},{"$error":"#VALUE!"},null,{"$error":"#VALUE!"},{"$error":"#VALUE!"},{"$error":"#VALUE!"},{"$error":"#VALUE!"},{"$error":"#VALUE!"},null,{"$error":"#VALUE!"},{"$error":"#VALUE!"},{"$error":"#VALUE!"},"n","n",{"$error":"#VALUE!"},0,{"$error":"#VALUE!"},0,14,{"$error":"#VALUE!"},{"$error":"#VALUE!"},null,{"$error":"#VALUE!"},{"$error":"#VALUE!"},{"$error":"#VALUE!"},{"$error":"#VALUE!"}]
[null,null,null,null,null,null,163,{"$error":"#VALUE!"},{"$error":"#VALUE!"},{"$error":"#VALUE!"},{"$error":"#VALUE!"},{"$error":"#VALUE!"},{"$error":"#VALUE!"},{"$error":"#VALUE!"},{"$error":"#VALUE!"},null,{"$error":"#VALUE!"},{"$error":"#VALUE!"},{"$error":"#VALUE!"},{"$error":"#VALUE!"},{"$error":"#VALUE!"},null,{"$error":"#VALUE!"},{"$error":"#VALUE!"},{"$error":"#VALUE!"},"n","n",{"$error":"#VALUE!"},0,{"$error":"#VALUE!"},0,null,{"$error":"#VALUE!"},{"$error":"#VALUE!"},null,{"$error":"#VALUE!"},{"$error":"#VALUE!"},{"$error":"#VALUE!"},{"$error":"#VALUE!"}]
[null,null,null,null,null,null,164,{"$error":"#VALUE!"},{"$error":"#VALUE!"},{"$error":"#VALUE!"},{"$error":"#VALUE!"},{"$error":"#VALUE!"},{"$error":"#VALUE!"},{"$error":"#VALUE!"},{"$error":"#VALUE!"},null,{"$error":"#VALUE!"},{"$error":"#VALUE!"},{"$error":"#VALUE!"},{"$error":"#VALUE!"},{"$error":"#VALUE!"},null,{"$error":"#VALUE!"},{"$error":"#VALUE!"},{"$error":"#VALUE!"},"n","n",{"$error":"#VALUE!"},0,{"$error":"#VALUE!"},0,null,{"$error":"#VALUE!"},{"$error":"#VALUE!"},null,{"$error":"#VALUE!"},{"$error":"#VALUE!"},{"$error":"#VALUE!"},{"$error":"#VALUE!"}]
[null,null,null,null,null,null,165,{"$error":"#VALUE!"},{"$error":"#VALUE!"},{"$error":"#VALUE!"},{"$error":"#VALUE!"},{"$error":"#VALUE!"},{"$error":"#VALUE!"},{"$error":"#VALUE!"},{"$error":"#VALUE!"},null,{"$error":"#VALUE!"},{"$error":"#VALUE!"},{"$error":"#VALUE!"},{"$error":"#VALUE!"},{"$error":"#VALUE!"},null,{"$error":"#VALUE!"},{"$error":"#VALUE!"},{"$error":"#VALUE!"},"n","n",{"$error":"#VALUE!"},0,{"$error":"#VALUE!"},0,null,{"$error":"#VALUE!"},{"$error":"#VALUE!"},null,{"$error":"#VALUE!"},{"$error":"#VALUE!"},{"$error":"#VALUE!"},{"$error":"#VALUE!"}]
[null,null,null,null,null,null,166,{"$error":"#VALUE!"},{"$error":"#VALUE!"},{"$error":"#VALUE!"},{"$error":"#VALUE!"},{"$error":"#VALUE!"},{"$error":"#VALUE!"},{"$error":"#VALUE!"},{"$error":"#VALUE!"},null,{"$error":"#VALUE!"},{"$error":"#VALUE!"},{"$error":"#VALUE!"},{"$error":"#VALUE!"},{"$error":"#VALUE!"},null,{"$error":"#VALUE!"},{"$error":"#VALUE!"},{"$error":"#VALUE!"},"n","n",{"$error":"#VALUE!"},0,{"$error":"#VALUE!"},0,null,{"$error":"#VALUE!"},{"$error":"#VALUE!"},null,{"$error":"#VALUE!"},{"$error":"#VALUE!"},{"$error":"#VALUE!"},{"$error":"#VALUE!"}]
[null,null,null,null,null,null,167,{"$error":"#VALUE!"},{"$error":"#VALUE!"},{"$error":"#VALUE!"},{"$error":"#VALUE!"},{"$error":"#VALUE!"},{"$error":"#VALUE!"},{"$error":"#VALUE!"},{"$error":"#VALUE!"},null,{"$error":"#VALUE!"},{"$error":"#VALUE!"},{"$error":"#VALUE!"},{"$error":"#VALUE!"},{"$error":"#VALUE!"},null,{"$error":"#VALUE!"},{"$error":"#VALUE!"},{"$error":"#VALUE!"},"n","n",{"$error":"#VALUE!"},0,{"$error":"#VALUE!"},0,null,{"$error":"#VALUE!"},{"$error":"#VALUE!"},null,{"$error":"#VALUE!"},{"$error":"#VALUE!"},{"$error":"#VALUE!"},{"$error":"#VALUE!"}]
[null,null,null,null,null,null,168,{"$error":"#VALUE!"},{"$error":"#VALUE!"},{"$error":"#VALUE!"},{"$error":"#VALUE!"},{"$error":"#VALUE!"},{"$error":"#VALUE!"},{"$error":"#VALUE!"},{"$error":"#VALUE!"},null,{"$error":"#VALUE!"},{"$error":"#VALUE!"},{"$error":"#VALUE!"},{"$error":"#VALUE!"},{"$error":"#VALUE!"},null,{"$error":"#VALUE!"},{"$error":"#VALUE!"},{"$error":"#VALUE!"},"n","n",{"$error":"#VALUE!"},0,{"$error":"#VALUE!"},0,null,{"$error":"#VALUE!"},{"$error":"#VALUE!"},null,{"$error":"#VALUE!"},{"$error":"#VALUE!"},{"$error":"#VALUE!"},{"$error":"#VALUE!"}]
[null,null,null,null,null,null,169,{"$error":"#VALUE!"},{"$error":"#VALUE!"},{"$error":"#VALUE!"},{"$error":"#VALUE!"},{"$error":"#VALUE!"},{"$error":"#VALUE!"},{"$error":"#VALUE!"},{"$error":"#VALUE!"},null,{"$error":"#VALUE!"},{"$error":"#VALUE!"},{"$error":"#VALUE!"},{"$error":"#VALUE!"},{"$error":"#VALUE!"},null,{"$error":"#VALUE!"},{"$error":"#VALUE!"},{"$error":"#VALUE!"},"n","n",{"$error":"#VALUE!"},0,{"$error":"#VALUE!"},0,null,{"$error":"#VALUE!"},{"$error":"#VALUE!"},null,{"$error":"#VALUE!"},{"$error":"#VALUE!"},{"$error":"#VALUE!"},{"$error":"#VALUE!"}]
[null,null,null,null,null,null,170,{"$error":"#VALUE!"},{"$error":"#VALUE!"},{"$error":"#VALUE!"},{"$error":"#VALUE!"},{"$error":"#VALUE!"},{"$error":"#VALUE!"},{"$error":"#VALUE!"},{"$error":"#VALUE!"},null,{"$error":"#VALUE!"},{"$error":"#VALUE!"},{"$error":"#VALUE!"},{"$error":"#VALUE!"},{"$error":"#VALUE!"},null,{"$error":"#VALUE!"},{"$error":"#VALUE!"},{"$error":"#VALUE!"},"n","n",{"$error":"#VALUE!"},0,{"$error":"#VALUE!"},0,null,{"$error":"#VALUE!"},{"$error":"#VALUE!"},null,{"$error":"#VALUE!"},{"$error":"#VALUE!"},{"$error":"#VALUE!"},{"$error":"#VALUE!"}]
[null,null,null,null,null,null,171,{"$error":"#VALUE!"},{"$error":"#VALUE!"},{"$error":"#VALUE!"},{"$error":"#VALUE!"},{"$error":"#VALUE!"},{"$error":"#VALUE!"},{"$error":"#VALUE!"},{"$error":"#VALUE!"},null,{"$error":"#VALUE!"},{"$error":"#VALUE!"},{"$error":"#VALUE!"},{"$error":"#VALUE!"},{"$error":"#VALUE!"},null,{"$error":"#VALUE!"},{"$error":"#VALUE!"},{"$error":"#VALUE!"},"n","n",{"$error":"#VALUE!"},0,{"$error":"#VALUE!"},0,null,{"$error":"#VALUE!"},{"$error":"#VALUE!"},null,{"$error":"#VALUE!"},{"$error":"#VALUE!"},{"$error":"#VALUE!"},{"$error":"#VALUE!"}]
[null,null,null,null,null,null,172,{"$error":"#VALUE!"},{"$error":"#VALUE!"},{"$error":"#VALUE!"},{"$error":"#VALUE!"},{"$error":"#VALUE!"},{"$error":"#VALUE!"},{"$error":"#VALUE!"},{"$error":"#VALUE!"},null,{"$error":"#VALUE!"},{"$error":"#VALUE!"},{"$error":"#VALUE!"},{"$error":"#VALUE!"},{"$error":"#VALUE!"},null,{"$error":"#VALUE!"},{"$error":"#VALUE!"},{"$error":"#VALUE!"},"n","n",{"$error":"#VALUE!"},0,{"$error":"#VALUE!"},0,null,{"$error":"#VALUE!"},{"$error":"#VALUE!"},null,{"$error":"#VALUE!"},{"$error":"#VALUE!"},{"$error":"#VALUE!"},{"$error":"#VALUE!"}]
[null,null,null,null,null,null,173,{"$error":"#VALUE!"},{"$error":"#VALUE!"},{"$error":"#VALUE!"},{"$error":"#VALUE!"},{"$error":"#VALUE!"},{"$error":"#VALUE!"},{"$error":"#VALUE!"},{"$error":"#VALUE!"},null,{"$error":"#VALUE!"},{"$error":"#VALUE!"},{"$error":"#VALUE!"},{"$error":"#VALUE!"},{"$error":"#VALUE!"},null,{"$error":"#VALUE!"},{"$error":"#VALUE!"},{"$error":"#VALUE!"},"n","n",{"$error":"#VALUE!"},0,{"$error":"#VALUE!"},0,null,{"$error":"#VALUE!"},{"$error":"#VALUE!"},null,{"$error":"#VALUE!"},{"$error":"#VALUE!"},{"$error":"#VALUE!"},{"$error":"#VALUE!"}]
[null,null,null,null,null,null,174,{"$error":"#VALUE!"},{"$error":"#VALUE!"},{"$error":"#VALUE!"},{"$error":"#VALUE!"},{"$error":"#VALUE!"},{"$error":"#VALUE!"},{"$error":"#VALUE!"},{"$error":"#VALUE!"},null,{"$error":"#VALUE!"},{"$error":"#VALUE!"},{"$error":"#VALUE!"},{"$error":"#VALUE!"},{"$error":"#VALUE!"},null,{"$error":"#VALUE!"},{"$error":"#VALUE!"},{"$error":"#VALUE!"},"n","n",{"$error":"#VALUE!"},0,{"$error":"#VALUE!"},0,15,{"$error":"#VALUE!"},{"$error":"#VALUE!"},null,{"$error":"#VALUE!"},{"$error":"#VALUE!"},{"$error":"#VALUE!"},{"$error":"#VALUE!"}]
[null,null,null,null,null,null,175,{"$error":"#VALUE!"},{"$error":"#VALUE!"},{"$error":"#VALUE!"},{"$error":"#VALUE!"},{"$error":"#VALUE!"},{"$error":"#VALUE!"},{"$error":"#VALUE!"},{"$error":"#VALUE!"},null,{"$error":"#VALUE!"},{"$error":"#VALUE!"},{"$error":"#VALUE!"},{"$error":"#VALUE!"},{"$error":"#VALUE!"},null,{"$error":"#VALUE!"},{"$error":"#VALUE!"},{"$error":"#VALUE!"},"n","n",{"$error":"#VALUE!"},0,{"$error":"#VALUE!"},0,null,{"$error":"#VALUE!"},{"$error":"#VALUE!"},null,{"$error":"#VALUE!"},{"$error":"#VALUE!"},{"$error":"#VALUE!"},{"$error":"#VALUE!"}]
[null,null,null,null,null,null,176,{"$error":"#VALUE!"},{"$error":"#VALUE!"},{"$error":"#VALUE!"},{"$error":"#VALUE!"},{"$error":"#VALUE!"},{"$error":"#VALUE!"},{"$error":"#VALUE!"},{"$error":"#VALUE!"},null,{"$error":"#VALUE!"},{"$error":"#VALUE!"},{"$error":"#VALUE!"},{"$error":"#VALUE!"},{"$error":"#VALUE!"},null,{"$error":"#VALUE!"},{"$error":"#VALUE!"},{"$error":"#VALUE!"},"n","n",{"$error":"#VALUE!"},0,{"$error":"#VALUE!"},0,null,{"$error":"#VALUE!"},{"$error":"#VALUE!"},null,{"$error":"#VALUE!"},{"$error":"#VALUE!"},{"$error":"#VALUE!"},{"$error":"#VALUE!"}]
[null,null,null,null,null,null,177,{"$error":"#VALUE!"},{"$error":"#VALUE!"},{"$error":"#VALUE!"},{"$error":"#VALUE!"},{"$error":"#VALUE!"},{"$error":"#VALUE!"},{"$error":"#VALUE!"},{"$error":"#VALUE!"},null,{"$error":"#VALUE!"},{"$error":"#VALUE!"},{"$error":"#VALUE!"},{"$error":"#VALUE!"},{"$error":"#VALUE!"},null,{"$error":"#VALUE!"},{"$error":"#VALUE!"},{"$error":"#VALUE!"},"n","n",{"$error":"#VALUE!"},0,{"$error":"#VALUE!"},0,null,{"$error":"#VALUE!"},{"$error":"#VALUE!"},null,{"$error":"#VALUE!"},{"$error":"#VALUE!"},{"$error":"#VALUE!"},{"$error":"#VALUE!"}]
[null,null,null,null,null,null,178,{"$error":"#VALUE!"},{"$error":"#VALUE!"},{"$error":"#VALUE!"},{"$error":"#VALUE!"},{"$error":"#VALUE!"},{"$error":"#VALUE!"},{"$error":"#VALUE!"},{"$error":"#VALUE!"},null,{"$error":"#VALUE!"},{"$error":"#VALUE!"},{"$error":"#VALUE!"},{"$error":"#VALUE!"},{"$error":"#VALUE!"},null,{"$error":"#VALUE!"},{"$error":"#VALUE!"},{"$error":"#VALUE!"},"n","n",{"$error":"#VALUE!"},0,{"$error":"#VALUE!"},0,null,{"$error":"#VALUE!"},{"$error":"#VALUE!"},null,{"$error":"#VALUE!"},{"$error":"#VALUE!"},{"$error":"#VALUE!"},{"$error":"#VALUE!"}]
[null,null,null,null,null,null,179,{"$error":"#VALUE!"},{"$error":"#VALUE!"},{"$error":"#VALUE!"},{"$error":"#VALUE!"},{"$error":"#VALUE!"},{"$error":"#VALUE!"},{"$error":"#VALUE!"},{"$error":"#VALUE!"},null,{"$error":"#VALUE!"},{"$error":"#VALUE!"},{"$error":"#VALUE!"},{"$error":"#VALUE!"},{"$error":"#VALUE!"},null,{"$error":"#VALUE!"},{"$error":"#VALUE!"},{"$error":"#VALUE!"},"n","n",{"$error":"#VALUE!"},0,{"$error":"#VALUE!"},0,null,{"$error":"#VALUE!"},{"$error":"#VALUE!"},null,{"$error":"#VALUE!"},{"$error":"#VALUE!"},{"$error":"#VALUE!"},{"$error":"#VALUE!"}]
[null,null,null,null,null,null,180,{"$error":"#VALUE!"},{"$error":"#VALUE!"},{"$error":"#VALUE!"},{"$error":"#VALUE!"},{"$error":"#VALUE!"},{"$error":"#VALUE!"},{"$error":"#VALUE!"},{"$error":"#VALUE!"},null,{"$error":"#VALUE!"},{"$error":"#VALUE!"},{"$error":"#VALUE!"},{"$error":"#VALUE!"},{"$error":"#VALUE!"},null,{"$error":"#VALUE!"},{"$error":"#VALUE!"},{"$error":"#VALUE!"},"n","n",{"$error":"#VALUE!"},0,{"$error":"#VALUE!"},0,null,{"$error":"#VALUE!"},{"$error":"#VALUE!"},null,{"$error":"#VALUE!"},{"$error":"#VALUE!"},{"$error":"#VALUE!"},{"$error":"#VALUE!"}]
[null,null,null,null,null,null,181,{"$error":"#VALUE!"},{"$error":"#VALUE!"},{"$error":"#VALUE!"},{"$error":"#VALUE!"},{"$error":"#VALUE!"},{"$error":"#VALUE!"},{"$error":"#VALUE!"},{"$error":"#VALUE!"},null,{"$error":"#VALUE!"},{"$error":"#VALUE!"},{"$error":"#VALUE!"},{"$error":"#VALUE!"},{"$error":"#VALUE!"},null,{"$error":"#VALUE!"},{"$error":"#VALUE!"},{"$error":"#VALUE!"},"n","n",{"$error":"#VALUE!"},0,{"$error":"#VALUE!"},0,null,{"$error":"#VALUE!"},{"$error":"#VALUE!"},null,{"$error":"#VALUE!"},{"$error":"#VALUE!"},{"$error":"#VALUE!"},{"$error":"#VALUE!"}]
[null,null,null,null,null,null,182,{"$error":"#VALUE!"},{"$error":"#VALUE!"},{"$error":"#VALUE!"},{"$error":"#VALUE!"},{"$error":"#VALUE!"},{"$error":"#VALUE!"},{"$error":"#VALUE!"},{"$error":"#VALUE!"},null,{"$error":"#VALUE!"},{"$error":"#VALUE!"},{"$error":"#VALUE!"},{"$error":"#VALUE!"},{"$error":"#VALUE!"},null,{"$error":"#VALUE!"},{"$error":"#VALUE!"},{"$error":"#VALUE!"},"n","n",{"$error":"#VALUE!"},0,{"$error":"#VALUE!"},0,null,{"$error":"#VALUE!"},{"$error":"#VALUE!"},null,{"$error":"#VALUE!"},{"$error":"#VALUE!"},{"$error":"#VALUE!"},{"$error":"#VALUE!"}]
[null,null,null,null,null,null,183,{"$error":"#VALUE!"},{"$error":"#VALUE!"},{"$error":"#VALUE!"},{"$error":"#VALUE!"},{"$error":"#VALUE!"},{"$error":"#VALUE!"},{"$error":"#VALUE!"},{"$error":"#VALUE!"},null,{"$error":"#VALUE!"},{"$error":"#VALUE!"},{"$error":"#VALUE!"},{"$error":"#VALUE!"},{"$error":"#VALUE!"},null,{"$error":"#VALUE!"},{"$error":"#VALUE!"},{"$error":"#VALUE!"},"n","n",{"$error":"#VALUE!"},0,{"$error":"#VALUE!"},0,null,{"$error":"#VALUE!"},{"$error":"#VALUE!"},null,{"$error":"#VALUE!"},{"$error":"#VALUE!"},{"$error":"#VALUE!"},{"$error":"#VALUE!"}]
[null,null,null,null,null,null,184,{"$error":"#VALUE!"},{"$error":"#VALUE!"},{"$error":"#VALUE!"},{"$error":"#VALUE!"},{"$error":"#VALUE!"},{"$error":"#VALUE!"},{"$error":"#VALUE!"},{"$error":"#VALUE!"},null,{"$error":"#VALUE!"},{"$error":"#VALUE!"},{"$error":"#VALUE!"},{"$error":"#VALUE!"},{"$error":"#VALUE!"},null,{"$error":"#VALUE!"},{"$error":"#VALUE!"},{"$error":"#VALUE!"},"n","n",{"$error":"#VALUE!"},0,{"$error":"#VALUE!"},0,null,{"$error":"#VALUE!"},{"$error":"#VALUE!"},null,{"$error":"#VALUE!"},{"$error":"#VALUE!"},{"$error":"#VALUE!"},{"$error":"#VALUE!"}]
[null,null,null,null,null,null,185,{"$error":"#VALUE!"},{"$error":"#VALUE!"},{"$error":"#VALUE!"},{"$error":"#VALUE!"},{"$error":"#VALUE!"},{"$error":"#VALUE!"},{"$error":"#VALUE!"},{"$error":"#VALUE!"},null,{"$error":"#VALUE!"},{"$error":"#VALUE!"},{"$error":"#VALUE!"},{"$error":"#VALUE!"},{"$error":"#VALUE!"},null,{"$error":"#VALUE!"},{"$error":"#VALUE!"},{"$error":"#VALUE!"},"n","n",{"$error":"#VALUE!"},0,{"$error":"#VALUE!"},0,null,{"$error":"#VALUE!"},{"$error":"#VALUE!"},null,{"$error":"#VALUE!"},{"$error":"#VALUE!"},{"$error":"#VALUE!"},{"$error":"#VALUE!"}]
[null,null,null,null,null,null,186,{"$error":"#VALUE!"},{"$error":"#VALUE!"},{"$error":"#VALUE!"},{"$error":"#VALUE!"},{"$error":"#VALUE!"},{"$error":"#VALUE!"},{"$error":"#VALUE!"},{"$error":"#VALUE!"},null,{"$error":"#VALUE!"},{"$error":"#VALUE!"},{"$error":"#VALUE!"},{"$error":"#VALUE!"},{"$error":"#VALUE!"},null,{"$error":"#VALUE!"},{"$error":"#VALUE!"},{"$error":"#VALUE!"},"n","n",{"$error":"#VALUE!"},0,{"$error":"#VALUE!"},0,16,{"$error":"#VALUE!"},{"$error":"#VALUE!"},null,{"$error":"#VALUE!"},{"$error":"#VALUE!"},{"$error":"#VALUE!"},{"$error":"#VALUE!"}]
[null,null,null,null,null,null,187,{"$error":"#VALUE!"},{"$error":"#VALUE!"},{"$error":"#VALUE!"},{"$error":"#VALUE!"},{"$error":"#VALUE!"},{"$error":"#VALUE!"},{"$error":"#VALUE!"},{"$error":"#VALUE!"},null,{"$error":"#VALUE!"},{"$error":"#VALUE!"},{"$error":"#VALUE!"},{"$error":"#VALUE!"},{"$error":"#VALUE!"},null,{"$error":"#VALUE!"},{"$error":"#VALUE!"},{"$error":"#VALUE!"},"n","n",{"$error":"#VALUE!"},0,{"$error":"#VALUE!"},0,null,{"$error":"#VALUE!"},{"$error":"#VALUE!"},null,{"$error":"#VALUE!"},{"$error":"#VALUE!"},{"$error":"#VALUE!"},{"$error":"#VALUE!"}]
[null,null,null,null,null,null,188,{"$error":"#VALUE!"},{"$error":"#VALUE!"},{"$error":"#VALUE!"},{"$error":"#VALUE!"},{"$error":"#VALUE!"},{"$error":"#VALUE!"},{"$error":"#VALUE!"},{"$error":"#VALUE!"},null,{"$error":"#VALUE!"},{"$error":"#VALUE!"},{"$error":"#VALUE!"},{"$error":"#VALUE!"},{"$error":"#VALUE!"},null,{"$error":"#VALUE!"},{"$error":"#VALUE!"},{"$error":"#VALUE!"},"n","n",{"$error":"#VALUE!"},0,{"$error":"#VALUE!"},0,null,{"$error":"#VALUE!"},{"$error":"#VALUE!"},null,{"$error":"#VALUE!"},{"$error":"#VALUE!"},{"$error":"#VALUE!"},{"$error":"#VALUE!"}]
[null,null,null,null,null,null,189,{"$error":"#VALUE!"},{"$error":"#VALUE!"},{"$error":"#VALUE!"},{"$error":"#VALUE!"},{"$error":"#VALUE!"},{"$error":"#VALUE!"},{"$error":"#VALUE!"},{"$error":"#VALUE!"},null,{"$error":"#VALUE!"},{"$error":"#VALUE!"},{"$error":"#VALUE!"},{"$error":"#VALUE!"},{"$error":"#VALUE!"},null,{"$error":"#VALUE!"},{"$error":"#VALUE!"},{"$error":"#VALUE!"},"n","n",{"$error":"#VALUE!"},0,{"$error":"#VALUE!"},0,null,{"$error":"#VALUE!"},{"$error":"#VALUE!"},null,{"$error":"#VALUE!"},{"$error":"#VALUE!"},{"$error":"#VALUE!"},{"$error":"#VALUE!"}]
[null,null,null,null,null,null,190,{"$error":"#VALUE!"},{"$error":"#VALUE!"},{"$error":"#VALUE!"},{"$error":"#VALUE!"},{"$error":"#VALUE!"},{"$error":"#VALUE!"},{"$error":"#VALUE!"},{"$error":"#VALUE!"},null,{"$error":"#VALUE!"},{"$error":"#VALUE!"},{"$error":"#VALUE!"},{"$error":"#VALUE!"},{"$error":"#VALUE!"},null,{"$error":"#VALUE!"},{"$error":"#VALUE!"},{"$error":"#VALUE!"},"n","n",{"$error":"#VALUE!"},0,{"$error":"#VALUE!"},0,null,{"$error":"#VALUE!"},{"$error":"#VALUE!"},null,{"$error":"#VALUE!"},{"$error":"#VALUE!"},{"$error":"#VALUE!"},{"$error":"#VALUE!"}]
[null,null,null,null,null,null,191,{"$error":"#VALUE!"},{"$error":"#VALUE!"},{"$error":"#VALUE!"},{"$error":"#VALUE!"},{"$error":"#VALUE!"},{"$error":"#VALUE!"},{"$error":"#VALUE!"},{"$error":"#VALUE!"},null,{"$error":"#VALUE!"},{"$error":"#VALUE!"},{"$error":"#VALUE!"},{"$error":"#VALUE!"},{"$error":"#VALUE!"},null,{"$error":"#VALUE!"},{"$error":"#VALUE!"},{"$error":"#VALUE!"},"n","n",{"$error":"#VALUE!"},0,{"$error":"#VALUE!"},0,null,{"$error":"#VALUE!"},{"$error":"#VALUE!"},null,{"$error":"#VALUE!"},{"$error":"#VALUE!"},{"$error":"#VALUE!"},{"$error":"#VALUE!"}]
[null,null,null,null,null,null,192,{"$error":"#VALUE!"},{"$error":"#VALUE!"},{"$error":"#VALUE!"},{"$error":"#VALUE!"},{"$error":"#VALUE!"},{"$error":"#VALUE!"},{"$error":"#VALUE!"},{"$error":"#VALUE!"},null,{"$error":"#VALUE!"},{"$error":"#VALUE!"},{"$error":"#VALUE!"},{"$error":"#VALUE!"},{"$error":"#VALUE!"},null,{"$error":"#VALUE!"},{"$error":"#VALUE!"},{"$error":"#VALUE!"},"n","n",{"$error":"#VALUE!"},0,{"$error":"#VALUE!"},0,null,{"$error":"#VALUE!"},{"$error":"#VALUE!"},null,{"$error":"#VALUE!"},{"$error":"#VALUE!"},{"$error":"#VALUE!"},{"$error":"#VALUE!"}]
[null,null,null,null,null,null,193,{"$error":"#VALUE!"},{"$error":"#VALUE!"},{"$f":"IF(G215<61,$B$32,IF(AND($B$27<61,$B$27<>\"\"),$B$32,$B$34))","v":{"$error":"#VALUE!"}},{"$error":"#VALUE!"},{"$error":"#VALUE!"},{"$error":"#VALUE!"},{"$error":"#VALUE!"},{"$error":"#VALUE!"},null,{"$error":"#VALUE!"},{"$error":"#VALUE!"},{"$f":"-I215*$S$20/12","v":{"$error":"#VALUE!"}},{"$error":"#VALUE!"},{"$error":"#VALUE!"},null,{"$error":"#VALUE!"},{"$error":"#VALUE!"},{"$error":"#VALUE!"},"n","n",{"$error":"#VALUE!"},0,{"$error":"#VALUE!"},0,null,{"$error":"#VALUE!"},{"$error":"#VALUE!"},null,{"$error":"#VALUE!"},{"$error":"#VALUE!"},{"$error":"#VALUE!"},{"$error":"#VALUE!"}]
[null,null,null,null,null,null,194,{"$error":"#VALUE!"},{"$error":"#VALUE!"},{"$error":"#VALUE!"},{"$f":"IF(AA216=\"b\",0,J216*I216/12)","v":{"$error":"#VALUE!"}},{"$f":"N216-M216-K216","v":{"$error":"#VALUE!"}},{"$error":"#VALUE!"},{"$error":"#VALUE!"},{"$f":"I216+K216+M216-N216-AE216","v":{"$error":"#VALUE!"}},null,{"$f":"IF(I216=0,0,IF(H216<>$H$23,Q215,IF(J216=$B$32,I216*$B$33/12,0)))","v":{"$error":"#VALUE!"}},{"$f":"IF(H216=12,O216*$B$37,0)","v":{"$error":"#VALUE!"}},{"$error":"#VALUE!"},{"$f":"K216+Q216+S216","v":{"$error":"#VALUE!"}},{"$f":"T216+R216","v":{"$error":"#VALUE!"}},null,{"$error":"#VALUE!"},{"$error":"#VALUE!"},{"$f":"IF(G216=$B$27,\"b\",\"n\")","v":{"$error":"#VALUE!"}},{"$f":"IF(G216=$B$28,\"b\",\"n\")","v":"n"},{"$f":"IF(G216=$B$29,\"b\",\"n\")","v":"n"},{"$f":"IF($E$35<1,0,IF(OR(G216<=$B$27,G216>MAX(IF($B$27=$B$28,60,36),$B$27+IF($B$27=$B$28,60,36)),$B$27>60),0,1))","v":{"$error":"#VALUE!"}},{"$f":"IF($E$35<2,0,IF(OR(G216<=$B$28,G216>$B$28+IF($B$27=$B$28,60,36),$AB$21=0),0,1))","v":0},{"$f":"MAX(AB216:AC216)","v":{"$error":"#VALUE!"}},{"$f":"IF(AA216=\"b\",I216,IF(Z216=\"b\",I216*0.3,0))","v":0},null,{"$f":"IF(O216=0,-100000,O216)","v":{"$error":"#VALUE!"}},{"$f":"IF(AD216=1,0,IF(N216=0,-1000,N216))","v":{"$error":"#VALUE!"}},null,{"$f":"N216+IF(OR(I216=0,G216>$W$21),0,$B$38)+IF(G216=MIN(60,$B$25),$B$17,0)","v":{"$error":"#VALUE!"}},{"$f":"G216*$AK$21+$AK$19","v":{"$error":"#VALUE!"}},{"$error":"#VALUE!"},{"$error":"#VALUE!"}]
[null,null,null,null,null,null,{"$f":"G216+1","v":195},{"$f":"IF(H216=12,1,H216+1)","v":{"$error":"#VALUE!"}},{"$f":"O216","v":{"$error":"#VALUE!"}},{"$error":"#VALUE!"},{"$error":"#VALUE!"},{"$error":"#VALUE!"},{"$f":"ROUND(IF(OR(AD217=1,AA217=\"b\",ROUND(I217,0)=0),0,IF(OR(H217=2,M216=0),I216*$B$35/12,M216)),0)","v":{"$error":"#VALUE!"}},{"$f":"IF(OR(AA217=\"b\",ROUND(I217,0)=0),0,IF(OR(AND($B$27<61,AA217=\"b\"),AD217=1),M217,PMT(J217/12,X217,-I217)+M217))","v":{"$error":"#VALUE!"}},{"$error":"#VALUE!"},null,{"$error":"#VALUE!"},{"$error":"#VALUE!"},{"$error":"#VALUE!"},{"$error":"#VALUE!"},{"$error":"#VALUE!"},null,{"$f":"IF(Y216=\"b\",W216+$C$27,W216)","v":{"$error":"#VALUE!"}},{"$f":"W217-G216","v":{"$error":"#VALUE!"}},{"$error":"#VALUE!"},"n","n",{"$error":"#VALUE!"},0,{"$error":"#VALUE!"},0,null,{"$error":"#VALUE!"},{"$error":"#VALUE!"},null,{"$error":"#VALUE!"},{"$error":"#VALUE!"},{"$f":"AJ217/((1+$AL$21)^(AK217/365))","v":{"$error":"#VALUE!"}},{"$f":"AM216+AL217","v":{"$error":"#VALUE!"}}]
[null,null,null,null,null,null,196,{"$error":"#VALUE!"},{"$error":"#VALUE!"},{"$error":"#VALUE!"},{"$error":"#VALUE!"},{"$error":"#VALUE!"},{"$error":"#VALUE!"},{"$error":"#VALUE!"},{"$error":"#VALUE!"},null,{"$error":"#VALUE!"},{"$error":"#VALUE!"},{"$error":"#VALUE!"},{"$error":"#VALUE!"},{"$error":"#VALUE!"},null,{"$error":"#VALUE!"},{"$error":"#VALUE!"},{"$error":"#VALUE!"},"n","n",{"$error":"#VALUE!"},0,{"$error":"#VALUE!"},0,null,{"$error":"#VALUE!"},{"$error":"#VALUE!"},null,{"$error":"#VALUE!"},{"$error":"#VALUE!"},{"$error":"#VALUE!"},{"$error":"#VALUE!"}]
[null,null,null,null,null,null,197,{"$error":"#VALUE!"},{"$error":"#VALUE!"},{"$error":"#VALUE!"},{"$error":"#VALUE!"},{"$error":"#VALUE!"},{"$error":"#VALUE!"},{"$error":"#VALUE!"},{"$error":"#VALUE!"},null,{"$error":"#VALUE!"},{"$error":"#VALUE!"},{"$error":"#VALUE!"},{"$error":"#VALUE!"},{"$error":"#VALUE!"},null,{"$error":"#VALUE!"},{"$error":"#VALUE!"},{"$error":"#VALUE!"},"n","n",{"$error":"#VALUE!"},0,{"$error":"#VALUE!"},0,null,{"$error":"#VALUE!"},{"$error":"#VALUE!"},null,{"$error":"#VALUE!"},{"$error":"#VALUE!"},{"$error":"#VALUE!"},{"$error":"#VALUE!"}]
[null,null,null,null,null,null,198,{"$error":"#VALUE!"},{"$error":"#VALUE!"},{"$error":"#VALUE!"},{"$error":"#VALUE!"},{"$error":"#VALUE!"},{"$error":"#VALUE!"},{"$error":"#VALUE!"},{"$error":"#VALUE!"},null,{"$error":"#VALUE!"},{"$error":"#VALUE!"},{"$error":"#VALUE!"},{"$error":"#VALUE!"},{"$error":"#VALUE!"},null,{"$error":"#VALUE!"},{"$error":"#VALUE!"},{"$error":"#VALUE!"},"n","n",{"$error":"#VALUE!"},0,{"$error":"#VALUE!"},0,{"$f":"ROUNDDOWN(G220/12,0)+1","v":17},{"$error":"#VALUE!"},{"$error":"#VALUE!"},null,{"$error":"#VALUE!"},{"$error":"#VALUE!"},{"$error":"#VALUE!"},{"$error":"#VALUE!"}]
[null,null,null,null,null,null,199,{"$error":"#VALUE!"},{"$error":"#VALUE!"},{"$error":"#VALUE!"},{"$error":"#VALUE!"},{"$error":"#VALUE!"},{"$error":"#VALUE!"},{"$error":"#VALUE!"},{"$error":"#VALUE!"},null,{"$error":"#VALUE!"},{"$error":"#VALUE!"},{"$error":"#VALUE!"},{"$error":"#VALUE!"},{"$error":"#VALUE!"},null,{"$error":"#VALUE!"},{"$error":"#VALUE!"},{"$error":"#VALUE!"},"n","n",{"$error":"#VALUE!"},0,{"$error":"#VALUE!"},0,null,{"$error":"#VALUE!"},{"$error":"#VALUE!"},null,{"$error":"#VALUE!"},{"$error":"#VALUE!"},{"$error":"#VALUE!"},{"$error":"#VALUE!"}]
[null,null,null,null,null,null,200,{"$error":"#VALUE!"},{"$error":"#VALUE!"},{"$error":"#VALUE!"},{"$error":"#VALUE!"},{"$error":"#VALUE!"},{"$error":"#VALUE!"},{"$error":"#VALUE!"},{"$error":"#VALUE!"},null,{"$error":"#VALUE!"},{"$error":"#VALUE!"},{"$error":"#VALUE!"},{"$error":"#VALUE!"},{"$error":"#VALUE!"},null,{"$error":"#VALUE!"},{"$error":"#VALUE!"},{"$error":"#VALUE!"},"n","n",{"$error":"#VALUE!"},0,{"$error":"#VALUE!"},0,null,{"$error":"#VALUE!"},{"$error":"#VALUE!"},null,{"$error":"#VALUE!"},{"$error":"#VALUE!"},{"$error":"#VALUE!"},{"$error":"#VALUE!"}]
[null,null,null,null,null,null,201,{"$error":"#VALUE!"},{"$error":"#VALUE!"},{"$error":"#VALUE!"},{"$error":"#VALUE!"},{"$error":"#VALUE!"},{"$error":"#VALUE!"},{"$error":"#VALUE!"},{"$error":"#VALUE!"},null,{"$error":"#VALUE!"},{"$error":"#VALUE!"},{"$error":"#VALUE!"},{"$error":"#VALUE!"},{"$error":"#VALUE!"},null,{"$error":"#VALUE!"},{"$error":"#VALUE!"},{"$error":"#VALUE!"},"n","n",{"$error":"#VALUE!"},0,{"$error":"#VALUE!"},0,null,{"$error":"#VALUE!"},{"$error":"#VALUE!"},null,{"$error":"#VALUE!"},{"$error":"#VALUE!"},{"$error":"#VALUE!"},{"$error":"#VALUE!"}]
[null,null,null,null,null,null,202,{"$error":"#VALUE!"},{"$error":"#VALUE!"},{"$error":"#VALUE!"},{"$error":"#VALUE!"},{"$error":"#VALUE!"},{"$error":"#VALUE!"},{"$error":"#VALUE!"},{"$error":"#VALUE!"},null,{"$error":"#VALUE!"},{"$error":"#VALUE!"},{"$error":"#VALUE!"},{"$error":"#VALUE!"},{"$error":"#VALUE!"},null,{"$error":"#VALUE!"},{"$error":"#VALUE!"},{"$error":"#VALUE!"},"n","n",{"$error":"#VALUE!"},0,{"$error":"#VALUE!"},0,null,{"$error":"#VALUE!"},{"$error":"#VALUE!"},null,{"$error":"#VALUE!"},{"$error":"#VALUE!"},{"$error":"#VALUE!"},{"$error":"#VALUE!"}]
[null,null,null,null,null,null,203,{"$error":"#VALUE!"},{"$error":"#VALUE!"},{"$error":"#VALUE!"},{"$error":"#VALUE!"},{"$error":"#VALUE!"},{"$error":"#VALUE!"},{"$error":"#VALUE!"},{"$error":"#VALUE!"},null,{"$error":"#VALUE!"},{"$error":"#VALUE!"},{"$error":"#VALUE!"},{"$error":"#VALUE!"},{"$error":"#VALUE!"},null,{"$error":"#VALUE!"},{"$error":"#VALUE!"},{"$error":"#VALUE!"},"n","n",{"$error":"#VALUE!"},0,{"$error":"#VALUE!"},0,null,{"$error":"#VALUE!"},{"$error":"#VALUE!"},null,{"$error":"#VALUE!"},{"$error":"#VALUE!"},{"$error":"#VALUE!"},{"$error":"#VALUE!"}]
[null,null,null,null,null,null,204,{"$error":"#VALUE!"},{"$error":"#VALUE!"},{"$error":"#VALUE!"},{"$error":"#VALUE!"},{"$error":"#VALUE!"},{"$error":"#VALUE!"},{"$error":"#VALUE!"},{"$error":"#VALUE!"},null,{"$error":"#VALUE!"},{"$error":"#VALUE!"},{"$error":"#VALUE!"},{"$error":"#VALUE!"},{"$error":"#VALUE!"},null,{"$error":"#VALUE!"},{"$error":"#VALUE!"},{"$error":"#VALUE!"},"n","n",{"$error":"#VALUE!"},0,{"$error":"#VALUE!"},0,null,{"$error":"#VALUE!"},{"$error":"#VALUE!"},null,{"$error":"#VALUE!"},{"$error":"#VALUE!"},{"$error":"#VALUE!"},{"$error":"#VALUE!"}]
[null,null,null,null,null,null,205,{"$error":"#VALUE!"},{"$error":"#VALUE!"},{"$error":"#VALUE!"},{"$error":"#VALUE!"},{"$error":"#VALUE!"},{"$error":"#VALUE!"},{"$error":"#VALUE!"},{"$error":"#VALUE!"},null,{"$error":"#VALUE!"},{"$error":"#VALUE!"},{"$error":"#VALUE!"},{"$error":"#VALUE!"},{"$error":"#VALUE!"},null,{"$error":"#VALUE!"},{"$error":"#VALUE!"},{"$error":"#VALUE!"},"n","n",{"$error":"#VALUE!"},0,{"$error":"#VALUE!"},0,null,{"$error":"#VALUE!"},{"$error":"#VALUE!"},null,{"$error":"#VALUE!"},{"$error":"#VALUE!"},{"$error":"#VALUE!"},{"$error":"#VALUE!"}]
[null,null,null,null,null,null,206,{"$error":"#VALUE!"},{"$error":"#VALUE!"},{"$error":"#VALUE!"},{"$error":"#VALUE!"},{"$error":"#VALUE!"},{"$error":"#VALUE!"},{"$error":"#VALUE!"},{"$error":"#VALUE!"},null,{"$error":"#VALUE!"},{"$error":"#VALUE!"},{"$error":"#VALUE!"},{"$error":"#VALUE!"},{"$error":"#VALUE!"},null,{"$error":"#VALUE!"},{"$error":"#VALUE!"},{"$error":"#VALUE!"},"n","n",{"$error":"#VALUE!"},0,{"$error":"#VALUE!"},0,null,{"$error":"#VALUE!"},{"$error":"#VALUE!"},null,{"$error":"#VALUE!"},{"$error":"#VALUE!"},{"$error":"#VALUE!"},{"$error":"#VALUE!"}]
[null,null,null,null,null,null,207,{"$error":"#VALUE!"},{"$error":"#VALUE!"},{"$error":"#VALUE!"},{"$error":"#VALUE!"},{"$error":"#VALUE!"},{"$error":"#VALUE!"},{"$error":"#VALUE!"},{"$error":"#VALUE!"},null,{"$error":"#VALUE!"},{"$error":"#VALUE!"},{"$error":"#VALUE!"},{"$error":"#VALUE!"},{"$error":"#VALUE!"},null,{"$error":"#VALUE!"},{"$error":"#VALUE!"},{"$error":"#VALUE!"},"n","n",{"$error":"#VALUE!"},0,{"$error":"#VALUE!"},0,null,{"$error":"#VALUE!"},{"$error":"#VALUE!"},null,{"$error":"#VALUE!"},{"$error":"#VALUE!"},{"$error":"#VALUE!"},{"$error":"#VALUE!"}]
[null,null,null,null,null,null,208,{"$error":"#VALUE!"},{"$error":"#VALUE!"},{"$error":"#VALUE!"},{"$error":"#VALUE!"},{"$error":"#VALUE!"},{"$error":"#VALUE!"},{"$error":"#VALUE!"},{"$error":"#VALUE!"},null,{"$error":"#VALUE!"},{"$error":"#VALUE!"},{"$error":"#VALUE!"},{"$error":"#VALUE!"},{"$error":"#VALUE!"},null,{"$error":"#VALUE!"},{"$error":"#VALUE!"},{"$error":"#VALUE!"},"n","n",{"$error":"#VALUE!"},0,{"$error":"#VALUE!"},0,null,{"$error":"#VALUE!"},{"$error":"#VALUE!"},null,{"$error":"#VALUE!"},{"$error":"#VALUE!"},{"$error":"#VALUE!"},{"$error":"#VALUE!"}]
[null,null,null,null,null,null,209,{"$error":"#VALUE!"},{"$error":"#VALUE!"},{"$error":"#VALUE!"},{"$error":"#VALUE!"},{"$error":"#VALUE!"},{"$error":"#VALUE!"},{"$error":"#VALUE!"},{"$error":"#VALUE!"},null,{"$error":"#VALUE!"},{"$error":"#VALUE!"},{"$error":"#VALUE!"},{"$error":"#VALUE!"},{"$error":"#VALUE!"},null,{"$error":"#VALUE!"},{"$error":"#VALUE!"},{"$error":"#VALUE!"},"n","n",{"$error":"#VALUE!"},0,{"$error":"#VALUE!"},0,null,{"$error":"#VALUE!"},{"$error":"#VALUE!"},null,{"$error":"#VALUE!"},{"$error":"#VALUE!"},{"$error":"#VALUE!"},{"$error":"#VALUE!"}]
[null,null,null,null,null,null,210,{"$error":"#VALUE!"},{"$error":"#VALUE!"},{"$error":"#VALUE!"},{"$error":"#VALUE!"},{"$error":"#VALUE!"},{"$error":"#VALUE!"},{"$error":"#VALUE!"},{"$error":"#VALUE!"},null,{"$error":"#VALUE!"},{"$error":"#VALUE!"},{"$error":"#VALUE!"},{"$error":"#VALUE!"},{"$error":"#VALUE!"},null,{"$error":"#VALUE!"},{"$error":"#VALUE!"},{"$error":"#VALUE!"},"n","n",{"$error":"#VALUE!"},0,{"$error":"#VALUE!"},0,18,{"$error":"#VALUE!"},{"$error":"#VALUE!"},null,{"$error":"#VALUE!"},{"$error":"#VALUE!"},{"$error":"#VALUE!"},{"$error":"#VALUE!"}]
[null,null,null,null,null,null,211,{"$error":"#VALUE!"},{"$error":"#VALUE!"},{"$error":"#VALUE!"},{"$error":"#VALUE!"},{"$error":"#VALUE!"},{"$error":"#VALUE!"},{"$error":"#VALUE!"},{"$error":"#VALUE!"},null,{"$error":"#VALUE!"},{"$error":"#VALUE!"},{"$error":"#VALUE!"},{"$error":"#VALUE!"},{"$error":"#VALUE!"},null,{"$error":"#VALUE!"},{"$error":"#VALUE!"},{"$error":"#VALUE!"},"n","n",{"$error":"#VALUE!"},0,{"$error":"#VALUE!"},0,null,{"$error":"#VALUE!"},{"$error":"#VALUE!"},null,{"$error":"#VALUE!"},{"$error":"#VALUE!"},{"$error":"#VALUE!"},{"$error":"#VALUE!"}]
[null,null,null,null,null,null,212,{"$error":"#VALUE!"},{"$error":"#VALUE!"},{"$error":"#VALUE!"},{"$error":"#VALUE!"},{"$error":"#VALUE!"},{"$error":"#VALUE!"},{"$error":"#VALUE!"},{"$error":"#VALUE!"},null,{"$error":"#VALUE!"},{"$error":"#VALUE!"},{"$error":"#VALUE!"},{"$error":"#VALUE!"},{"$error":"#VALUE!"},null,{"$error":"#VALUE!"},{"$error":"#VALUE!"},{"$error":"#VALUE!"},"n","n",{"$error":"#VALUE!"},0,{"$error":"#VALUE!"},0,null,{"$error":"#VALUE!"},{"$error":"#VALUE!"},null,{"$error":"#VALUE!"},{"$error":"#VALUE!"},{"$error":"#VALUE!"},{"$error":"#VALUE!"}]
[null,null,null,null,null,null,213,{"$error":"#VALUE!"},{"$error":"#VALUE!"},{"$error":"#VALUE!"},{"$error":"#VALUE!"},{"$error":"#VALUE!"},{"$error":"#VALUE!"},{"$error":"#VALUE!"},{"$error":"#VALUE!"},null,{"$error":"#VALUE!"},{"$error":"#VALUE!"},{"$error":"#VALUE!"},{"$error":"#VALUE!"},{"$error":"#VALUE!"},null,{"$error":"#VALUE!"},{"$error":"#VALUE!"},{"$error":"#VALUE!"},"n","n",{"$error":"#VALUE!"},0,{"$error":"#VALUE!"},0,null,{"$error":"#VALUE!"},{"$error":"#VALUE!"},null,{"$error":"#VALUE!"},{"$error":"#VALUE!"},{"$error":"#VALUE!"},{"$error":"#VALUE!"}]
[null,null,null,null,null,null,214,{"$error":"#VALUE!"},{"$error":"#VALUE!"},{"$error":"#VALUE!"},{"$error":"#VALUE!"},{"$error":"#VALUE!"},{"$error":"#VALUE!"},{"$error":"#VALUE!"},{"$error":"#VALUE!"},null,{"$error":"#VALUE!"},{"$error":"#VALUE!"},{"$error":"#VALUE!"},{"$error":"#VALUE!"},{"$error":"#VALUE!"},null,{"$error":"#VALUE!"},{"$error":"#VALUE!"},{"$error":"#VALUE!"},"n","n",{"$error":"#VALUE!"},0,{"$error":"#VALUE!"},0,null,{"$error":"#VALUE!"},{"$error":"#VALUE!"},null,{"$error":"#VALUE!"},{"$error":"#VALUE!"},{"$error":"#VALUE!"},{"$error":"#VALUE!"}]
[null,null,null,null,null,null,215,{"$error":"#VALUE!"},{"$error":"#VALUE!"},{"$error":"#VALUE!"},{"$error":"#VALUE!"},{"$error":"#VALUE!"},{"$error":"#VALUE!"},{"$error":"#VALUE!"},{"$error":"#VALUE!"},null,{"$error":"#VALUE!"},{"$error":"#VALUE!"},{"$error":"#VALUE!"},{"$error":"#VALUE!"},{"$error":"#VALUE!"},null,{"$error":"#VALUE!"},{"$error":"#VALUE!"},{"$error":"#VALUE!"},"n","n",{"$error":"#VALUE!"},0,{"$error":"#VALUE!"},0,null,{"$error":"#VALUE!"},{"$error":"#VALUE!"},null,{"$error":"#VALUE!"},{"$error":"#VALUE!"},{"$error":"#VALUE!"},{"$error":"#VALUE!"}]
[null,null,null,null,null,null,216,{"$error":"#VALUE!"},{"$error":"#VALUE!"},{"$error":"#VALUE!"},{"$error":"#VALUE!"},{"$error":"#VALUE!"},{"$error":"#VALUE!"},{"$error":"#VALUE!"},{"$error":"#VALUE!"},null,{"$error":"#VALUE!"},{"$error":"#VALUE!"},{"$error":"#VALUE!"},{"$error":"#VALUE!"},{"$error":"#VALUE!"},null,{"$error":"#VALUE!"},{"$error":"#VALUE!"},{"$error":"#VALUE!"},"n","n",{"$error":"#VALUE!"},0,{"$error":"#VALUE!"},0,null,{"$error":"#VALUE!"},{"$error":"#VALUE!"},null,{"$error":"#VALUE!"},{"$error":"#VALUE!"},{"$error":"#VALUE!"},{"$error":"#VALUE!"}]
[null,null,null,null,null,null,217,{"$error":"#VALUE!"},{"$error":"#VALUE!"},{"$error":"#VALUE!"},{"$error":"#VALUE!"},{"$error":"#VALUE!"},{"$error":"#VALUE!"},{"$error":"#VALUE!"},{"$error":"#VALUE!"},null,{"$error":"#VALUE!"},{"$error":"#VALUE!"},{"$error":"#VALUE!"},{"$error":"#VALUE!"},{"$error":"#VALUE!"},null,{"$error":"#VALUE!"},{"$error":"#VALUE!"},{"$error":"#VALUE!"},"n","n",{"$error":"#VALUE!"},0,{"$error":"#VALUE!"},0,null,{"$error":"#VALUE!"},{"$error":"#VALUE!"},null,{"$error":"#VALUE!"},{"$error":"#VALUE!"},{"$error":"#VALUE!"},{"$error":"#VALUE!"}]
[null,null,null,null,null,null,218,{"$error":"#VALUE!"},{"$error":"#VALUE!"},{"$error":"#VALUE!"},{"$error":"#VALUE!"},{"$error":"#VALUE!"},{"$error":"#VALUE!"},{"$error":"#VALUE!"},{"$error":"#VALUE!"},null,{"$error":"#VALUE!"},{"$error":"#VALUE!"},{"$error":"#VALUE!"},{"$error":"#VALUE!"},{"$error":"#VALUE!"},null,{"$error":"#VALUE!"},{"$error":"#VALUE!"},{"$error":"#VALUE!"},"n","n",{"$error":"#VALUE!"},0,{"$error":"#VALUE!"},0,null,{"$error":"#VALUE!"},{"$error":"#VALUE!"},null,{"$error":"#VALUE!"},{"$error":"#VALUE!"},{"$error":"#VALUE!"},{"$error":"#VALUE!"}]
[null,null,null,null,null,null,219,{"$error":"#VALUE!"},{"$error":"#VALUE!"},{"$error":"#VALUE!"},{"$error":"#VALUE!"},{"$error":"#VALUE!"},{"$error":"#VALUE!"},{"$error":"#VALUE!"},{"$error":"#VALUE!"},null,{"$error":"#VALUE!"},{"$error":"#VALUE!"},{"$error":"#VALUE!"},{"$error":"#VALUE!"},{"$error":"#VALUE!"},null,{"$error":"#VALUE!"},{"$error":"#VALUE!"},{"$error":"#VALUE!"},"n","n",{"$error":"#VALUE!"},0,{"$error":"#VALUE!"},0,null,{"$error":"#VALUE!"},{"$error":"#VALUE!"},null,{"$error":"#VALUE!"},{"$error":"#VALUE!"},{"$error":"#VALUE!"},{"$error":"#VALUE!"}]
[null,null,null,null,null,null,220,{"$error":"#VALUE!"},{"$error":"#VALUE!"},{"$error":"#VALUE!"},{"$error":"#VALUE!"},{"$error":"#VALUE!"},{"$error":"#VALUE!"},{"$error":"#VALUE!"},{"$error":"#VALUE!"},null,{"$error":"#VALUE!"},{"$error":"#VALUE!"},{"$error":"#VALUE!"},{"$error":"#VALUE!"},{"$error":"#VALUE!"},null,{"$error":"#VALUE!"},{"$error":"#VALUE!"},{"$error":"#VALUE!"},"n","n",{"$error":"#VALUE!"},0,{"$error":"#VALUE!"},0,null,{"$error":"#VALUE!"},{"$error":"#VALUE!"},null,{"$error":"#VALUE!"},{"$error":"#VALUE!"},{"$error":"#VALUE!"},{"$error":"#VALUE!"}]
[null,null,null,null,null,null,221,{"$error":"#VALUE!"},{"$error":"#VALUE!"},{"$error":"#VALUE!"},{"$error":"#VALUE!"},{"$error":"#VALUE!"},{"$error":"#VALUE!"},{"$error":"#VALUE!"},{"$error":"#VALUE!"},null,{"$error":"#VALUE!"},{"$error":"#VALUE!"},{"$error":"#VALUE!"},{"$error":"#VALUE!"},{"$error":"#VALUE!"},null,{"$error":"#VALUE!"},{"$error":"#VALUE!"},{"$error":"#VALUE!"},"n","n",{"$error":"#VALUE!"},0,{"$error":"#VALUE!"},0,null,{"$error":"#VALUE!"},{"$error":"#VALUE!"},null,{"$error":"#VALUE!"},{"$error":"#VALUE!"},{"$error":"#VALUE!"},{"$error":"#VALUE!"}]
[null,null,null,null,null,null,222,{"$error":"#VALUE!"},{"$error":"#VALUE!"},{"$error":"#VALUE!"},{"$error":"#VALUE!"},{"$error":"#VALUE!"},{"$error":"#VALUE!"},{"$error":"#VALUE!"},{"$error":"#VALUE!"},null,{"$error":"#VALUE!"},{"$error":"#VALUE!"},{"$error":"#VALUE!"},{"$error":"#VALUE!"},{"$error":"#VALUE!"},null,{"$error":"#VALUE!"},{"$error":"#VALUE!"},{"$error":"#VALUE!"},"n","n",{"$error":"#VALUE!"},0,{"$error":"#VALUE!"},0,19,{"$error":"#VALUE!"},{"$error":"#VALUE!"},null,{"$error":"#VALUE!"},{"$error":"#VALUE!"},{"$error":"#VALUE!"},{"$error":"#VALUE!"}]
[null,null,null,null,null,null,223,{"$error":"#VALUE!"},{"$error":"#VALUE!"},{"$error":"#VALUE!"},{"$error":"#VALUE!"},{"$error":"#VALUE!"},{"$error":"#VALUE!"},{"$error":"#VALUE!"},{"$error":"#VALUE!"},null,{"$error":"#VALUE!"},{"$error":"#VALUE!"},{"$error":"#VALUE!"},{"$error":"#VALUE!"},{"$error":"#VALUE!"},null,{"$error":"#VALUE!"},{"$error":"#VALUE!"},{"$error":"#VALUE!"},"n","n",{"$error":"#VALUE!"},0,{"$error":"#VALUE!"},0,null,{"$error":"#VALUE!"},{"$error":"#VALUE!"},null,{"$error":"#VALUE!"},{"$error":"#VALUE!"},{"$error":"#VALUE!"},{"$error":"#VALUE!"}]
[null,null,null,null,null,null,224,{"$error":"#VALUE!"},{"$error":"#VALUE!"},{"$error":"#VALUE!"},{"$error":"#VALUE!"},{"$error":"#VALUE!"},{"$error":"#VALUE!"},{"$error":"#VALUE!"},{"$error":"#VALUE!"},null,{"$error":"#VALUE!"},{"$error":"#VALUE!"},{"$error":"#VALUE!"},{"$error":"#VALUE!"},{"$error":"#VALUE!"},null,{"$error":"#VALUE!"},{"$error":"#VALUE!"},{"$error":"#VALUE!"},"n","n",{"$error":"#VALUE!"},0,{"$error":"#VALUE!"},0,null,{"$error":"#VALUE!"},{"$error":"#VALUE!"},null,{"$error":"#VALUE!"},{"$error":"#VALUE!"},{"$error":"#VALUE!"},{"$error":"#VALUE!"}]
[null,null,null,null,null,null,225,{"$error":"#VALUE!"},{"$error":"#VALUE!"},{"$error":"#VALUE!"},{"$error":"#VALUE!"},{"$error":"#VALUE!"},{"$error":"#VALUE!"},{"$error":"#VALUE!"},{"$error":"#VALUE!"},null,{"$error":"#VALUE!"},{"$error":"#VALUE!"},{"$error":"#VALUE!"},{"$error":"#VALUE!"},{"$error":"#VALUE!"},null,{"$error":"#VALUE!"},{"$error":"#VALUE!"},{"$error":"#VALUE!"},"n","n",{"$error":"#VALUE!"},0,{"$error":"#VALUE!"},0,null,{"$error":"#VALUE!"},{"$error":"#VALUE!"},null,{"$error":"#VALUE!"},{"$error":"#VALUE!"},{"$error":"#VALUE!"},{"$error":"#VALUE!"}]
[null,null,null,null,null,null,226,{"$error":"#VALUE!"},{"$error":"#VALUE!"},{"$error":"#VALUE!"},{"$error":"#VALUE!"},{"$error":"#VALUE!"},{"$error":"#VALUE!"},{"$error":"#VALUE!"},{"$error":"#VALUE!"},null,{"$error":"#VALUE!"},{"$error":"#VALUE!"},{"$error":"#VALUE!"},{"$error":"#VALUE!"},{"$error":"#VALUE!"},null,{"$error":"#VALUE!"},{"$error":"#VALUE!"},{"$error":"#VALUE!"},"n","n",{"$error":"#VALUE!"},0,{"$error":"#VALUE!"},0,null,{"$error":"#VALUE!"},{"$error":"#VALUE!"},null,{"$error":"#VALUE!"},{"$error":"#VALUE!"},{"$error":"#VALUE!"},{"$error":"#VALUE!"}]
[null,null,null,null,null,null,227,{"$error":"#VALUE!"},{"$error":"#VALUE!"},{"$error":"#VALUE!"},{"$error":"#VALUE!"},{"$error":"#VALUE!"},{"$error":"#VALUE!"},{"$error":"#VALUE!"},{"$error":"#VALUE!"},null,{"$error":"#VALUE!"},{"$error":"#VALUE!"},{"$error":"#VALUE!"},{"$error":"#VALUE!"},{"$error":"#VALUE!"},null,{"$error":"#VALUE!"},{"$error":"#VALUE!"},{"$error":"#VALUE!"},"n","n",{"$error":"#VALUE!"},0,{"$error":"#VALUE!"},0,null,{"$error":"#VALUE!"},{"$error":"#VALUE!"},null,{"$error":"#VALUE!"},{"$error":"#VALUE!"},{"$error":"#VALUE!"},{"$error":"#VALUE!"}]
[null,null,null,null,null,null,228,{"$error":"#VALUE!"},{"$error":"#VALUE!"},{"$error":"#VALUE!"},{"$error":"#VALUE!"},{"$error":"#VALUE!"},{"$error":"#VALUE!"},{"$error":"#VALUE!"},{"$error":"#VALUE!"},null,{"$error":"#VALUE!"},{"$error":"#VALUE!"},{"$error":"#VALUE!"},{"$error":"#VALUE!"},{"$error":"#VALUE!"},null,{"$error":"#VALUE!"},{"$error":"#VALUE!"},{"$error":"#VALUE!"},"n","n",{"$error":"#VALUE!"},0,{"$error":"#VALUE!"},0,null,{"$error":"#VALUE!"},{"$error":"#VALUE!"},null,{"$error":"#VALUE!"},{"$error":"#VALUE!"},{"$error":"#VALUE!"},{"$error":"#VALUE!"}]
[null,null,null,null,null,null,229,{"$error":"#VALUE!"},{"$error":"#VALUE!"},{"$error":"#VALUE!"},{"$error":"#VALUE!"},{"$error":"#VALUE!"},{"$error":"#VALUE!"},{"$error":"#VALUE!"},{"$error":"#VALUE!"},null,{"$error":"#VALUE!"},{"$error":"#VALUE!"},{"$error":"#VALUE!"},{"$error":"#VALUE!"},{"$error":"#VALUE!"},null,{"$error":"#VALUE!"},{"$error":"#VALUE!"},{"$error":"#VALUE!"},"n","n",{"$error":"#VALUE!"},0,{"$error":"#VALUE!"},0,null,{"$error":"#VALUE!"},{"$error":"#VALUE!"},null,{"$error":"#VALUE!"},{"$error":"#VALUE!"},{"$error":"#VALUE!"},{"$error":"#VALUE!"}]
[null,null,null,null,null,null,230,{"$error":"#VALUE!"},{"$error":"#VALUE!"},{"$error":"#VALUE!"},{"$error":"#VALUE!"},{"$error":"#VALUE!"},{"$error":"#VALUE!"},{"$error":"#VALUE!"},{"$error":"#VALUE!"},null,{"$error":"#VALUE!"},{"$error":"#VALUE!"},{"$error":"#VALUE!"},{"$error":"#VALUE!"},{"$error":"#VALUE!"},null,{"$error":"#VALUE!"},{"$error":"#VALUE!"},{"$error":"#VALUE!"},"n","n",{"$error":"#VALUE!"},0,{"$error":"#VALUE!"},0,null,{"$error":"#VALUE!"},{"$error":"#VALUE!"},null,{"$error":"#VALUE!"},{"$error":"#VALUE!"},{"$error":"#VALUE!"},{"$error":"#VALUE!"}]
[null,null,null,null,null,null,231,{"$error":"#VALUE!"},{"$error":"#VALUE!"},{"$error":"#VALUE!"},{"$error":"#VALUE!"},{"$error":"#VALUE!"},{"$error":"#VALUE!"},{"$error":"#VALUE!"},{"$error":"#VALUE!"},null,{"$error":"#VALUE!"},{"$error":"#VALUE!"},{"$error":"#VALUE!"},{"$error":"#VALUE!"},{"$error":"#VALUE!"},null,{"$error":"#VALUE!"},{"$error":"#VALUE!"},{"$error":"#VALUE!"},"n","n",{"$error":"#VALUE!"},0,{"$error":"#VALUE!"},0,null,{"$error":"#VALUE!"},{"$error":"#VALUE!"},null,{"$error":"#VALUE!"},{"$error":"#VALUE!"},{"$error":"#VALUE!"},{"$error":"#VALUE!"}]
[null,null,null,null,null,null,232,{"$error":"#VALUE!"},{"$error":"#VALUE!"},{"$error":"#VALUE!"},{"$error":"#VALUE!"},{"$error":"#VALUE!"},{"$error":"#VALUE!"},{"$error":"#VALUE!"},{"$error":"#VALUE!"},null,{"$error":"#VALUE!"},{"$error":"#VALUE!"},{"$error":"#VALUE!"},{"$error":"#VALUE!"},{"$error":"#VALUE!"},null,{"$error":"#VALUE!"},{"$error":"#VALUE!"},{"$error":"#VALUE!"},"n","n",{"$error":"#VALUE!"},0,{"$error":"#VALUE!"},0,null,{"$error":"#VALUE!"},{"$error":"#VALUE!"},null,{"$error":"#VALUE!"},{"$error":"#VALUE!"},{"$error":"#VALUE!"},{"$error":"#VALUE!"}]
[null,null,null,null,null,null,233,{"$error":"#VALUE!"},{"$error":"#VALUE!"},{"$error":"#VALUE!"},{"$error":"#VALUE!"},{"$error":"#VALUE!"},{"$error":"#VALUE!"},{"$error":"#VALUE!"},{"$error":"#VALUE!"},null,{"$error":"#VALUE!"},{"$error":"#VALUE!"},{"$error":"#VALUE!"},{"$error":"#VALUE!"},{"$error":"#VALUE!"},null,{"$error":"#VALUE!"},{"$error":"#VALUE!"},{"$error":"#VALUE!"},"n","n",{"$error":"#VALUE!"},0,{"$error":"#VALUE!"},0,null,{"$error":"#VALUE!"},{"$error":"#VALUE!"},null,{"$error":"#VALUE!"},{"$error":"#VALUE!"},{"$error":"#VALUE!"},{"$error":"#VALUE!"}]
[null,null,null,null,null,null,234,{"$error":"#VALUE!"},{"$error":"#VALUE!"},{"$error":"#VALUE!"},{"$error":"#VALUE!"},{"$error":"#VALUE!"},{"$error":"#VALUE!"},{"$error":"#VALUE!"},{"$error":"#VALUE!"},null,{"$error":"#VALUE!"},{"$error":"#VALUE!"},{"$error":"#VALUE!"},{"$error":"#VALUE!"},{"$error":"#VALUE!"},null,{"$error":"#VALUE!"},{"$error":"#VALUE!"},{"$error":"#VALUE!"},"n","n",{"$error":"#VALUE!"},0,{"$error":"#VALUE!"},0,20,{"$error":"#VALUE!"},{"$error":"#VALUE!"},null,{"$error":"#VALUE!"},{"$error":"#VALUE!"},{"$error":"#VALUE!"},{"$error":"#VALUE!"}]
[null,null,null,null,null,null,235,{"$error":"#VALUE!"},{"$error":"#VALUE!"},{"$error":"#VALUE!"},{"$error":"#VALUE!"},{"$error":"#VALUE!"},{"$error":"#VALUE!"},{"$error":"#VALUE!"},{"$error":"#VALUE!"},null,{"$error":"#VALUE!"},{"$error":"#VALUE!"},{"$error":"#VALUE!"},{"$error":"#VALUE!"},{"$error":"#VALUE!"},null,{"$error":"#VALUE!"},{"$error":"#VALUE!"},{"$error":"#VALUE!"},"n","n",{"$error":"#VALUE!"},0,{"$error":"#VALUE!"},0,null,{"$error":"#VALUE!"},{"$error":"#VALUE!"},null,{"$error":"#VALUE!"},{"$error":"#VALUE!"},{"$error":"#VALUE!"},{"$error":"#VALUE!"}]
[null,null,null,null,null,null,236,{"$error":"#VALUE!"},{"$error":"#VALUE!"},{"$error":"#VALUE!"},{"$error":"#VALUE!"},{"$error":"#VALUE!"},{"$error":"#VALUE!"},{"$error":"#VALUE!"},{"$error":"#VALUE!"},null,{"$error":"#VALUE!"},{"$error":"#VALUE!"},{"$error":"#VALUE!"},{"$error":"#VALUE!"},{"$error":"#VALUE!"},null,{"$error":"#VALUE!"},{"$error":"#VALUE!"},{"$error":"#VALUE!"},"n","n",{"$error":"#VALUE!"},0,{"$error":"#VALUE!"},0,null,{"$error":"#VALUE!"},{"$error":"#VALUE!"},null,{"$error":"#VALUE!"},{"$error":"#VALUE!"},{"$error":"#VALUE!"},{"$error":"#VALUE!"}]
[null,null,null,null,null,null,237,{"$error":"#VALUE!"},{"$error":"#VALUE!"},{"$error":"#VALUE!"},{"$error":"#VALUE!"},{"$error":"#VALUE!"},{"$error":"#VALUE!"},{"$error":"#VALUE!"},{"$error":"#VALUE!"},null,{"$error":"#VALUE!"},{"$error":"#VALUE!"},{"$error":"#VALUE!"},{"$error":"#VALUE!"},{"$error":"#VALUE!"},null,{"$error":"#VALUE!"},{"$error":"#VALUE!"},{"$error":"#VALUE!"},"n","n",{"$error":"#VALUE!"},0,{"$error":"#VALUE!"},0,null,{"$error":"#VALUE!"},{"$error":"#VALUE!"},null,{"$error":"#VALUE!"},{"$error":"#VALUE!"},{"$error":"#VALUE!"},{"$error":"#VALUE!"}]
[null,null,null,null,null,null,238,{"$error":"#VALUE!"},{"$error":"#VALUE!"},{"$error":"#VALUE!"},{"$error":"#VALUE!"},{"$error":"#VALUE!"},{"$error":"#VALUE!"},{"$error":"#VALUE!"},{"$error":"#VALUE!"},null,{"$error":"#VALUE!"},{"$error":"#VALUE!"},{"$error":"#VALUE!"},{"$error":"#VALUE!"},{"$error":"#VALUE!"},null,{"$error":"#VALUE!"},{"$error":"#VALUE!"},{"$error":"#VALUE!"},"n","n",{"$error":"#VALUE!"},0,{"$error":"#VALUE!"},0,null,{"$error":"#VALUE!"},{"$error":"#VALUE!"},null,{"$error":"#VALUE!"},{"$error":"#VALUE!"},{"$error":"#VALUE!"},{"$error":"#VALUE!"}]
[null,null,null,null,null,null,239,{"$error":"#VALUE!"},{"$error":"#VALUE!"},{"$error":"#VALUE!"},{"$error":"#VALUE!"},{"$error":"#VALUE!"},{"$error":"#VALUE!"},{"$error":"#VALUE!"},{"$error":"#VALUE!"},null,{"$error":"#VALUE!"},{"$error":"#VALUE!"},{"$error":"#VALUE!"},{"$error":"#VALUE!"},{"$error":"#VALUE!"},null,{"$error":"#VALUE!"},{"$error":"#VALUE!"},{"$error":"#VALUE!"},"n","n",{"$error":"#VALUE!"},0,{"$error":"#VALUE!"},0,null,{"$error":"#VALUE!"},{"$error":"#VALUE!"},null,{"$error":"#VALUE!"},{"$error":"#VALUE!"},{"$error":"#VALUE!"},{"$error":"#VALUE!"}]
[null,null,null,null,null,null,240,{"$error":"#VALUE!"},{"$error":"#VALUE!"},{"$error":"#VALUE!"},{"$error":"#VALUE!"},{"$error":"#VALUE!"},{"$error":"#VALUE!"},{"$error":"#VALUE!"},{"$error":"#VALUE!"},null,{"$error":"#VALUE!"},{"$error":"#VALUE!"},{"$error":"#VALUE!"},{"$error":"#VALUE!"},{"$error":"#VALUE!"},null,{"$error":"#VALUE!"},{"$error":"#VALUE!"},{"$error":"#VALUE!"},"n","n",{"$error":"#VALUE!"},0,{"$error":"#VALUE!"},0,null,{"$error":"#VALUE!"},{"$error":"#VALUE!"},null,{"$error":"#VALUE!"},{"$error":"#VALUE!"},{"$error":"#VALUE!"},{"$error":"#VALUE!"}]
[null,null,null,null,null,null,241,{"$error":"#VALUE!"},{"$error":"#VALUE!"},{"$error":"#VALUE!"},{"$error":"#VALUE!"},{"$error":"#VALUE!"},{"$error":"#VALUE!"},{"$error":"#VALUE!"},{"$error":"#VALUE!"},null,{"$error":"#VALUE!"},{"$error":"#VALUE!"},{"$error":"#VALUE!"},{"$error":"#VALUE!"},{"$error":"#VALUE!"},null,{"$error":"#VALUE!"},{"$error":"#VALUE!"},{"$error":"#VALUE!"},"n","n",{"$error":"#VALUE!"},0,{"$error":"#VALUE!"},0,null,{"$error":"#VALUE!"},{"$error":"#VALUE!"},null,{"$error":"#VALUE!"},{"$error":"#VALUE!"},{"$error":"#VALUE!"},{"$error":"#VALUE!"}]
[null,null,null,null,null,null,242,{"$error":"#VALUE!"},{"$error":"#VALUE!"},{"$error":"#VALUE!"},{"$error":"#VALUE!"},{"$error":"#VALUE!"},{"$error":"#VALUE!"},{"$error":"#VALUE!"},{"$error":"#VALUE!"},null,{"$error":"#VALUE!"},{"$error":"#VALUE!"},{"$error":"#VALUE!"},{"$error":"#VALUE!"},{"$error":"#VALUE!"},null,{"$error":"#VALUE!"},{"$error":"#VALUE!"},{"$error":"#VALUE!"},"n","n",{"$error":"#VALUE!"},0,{"$error":"#VALUE!"},0,null,{"$error":"#VALUE!"},{"$error":"#VALUE!"},null,{"$error":"#VALUE!"},{"$error":"#VALUE!"},{"$error":"#VALUE!"},{"$error":"#VALUE!"}]
[null,null,null,null,null,null,243,{"$error":"#VALUE!"},{"$error":"#VALUE!"},{"$error":"#VALUE!"},{"$error":"#VALUE!"},{"$error":"#VALUE!"},{"$error":"#VALUE!"},{"$error":"#VALUE!"},{"$error":"#VALUE!"},null,{"$error":"#VALUE!"},{"$error":"#VALUE!"},{"$error":"#VALUE!"},{"$error":"#VALUE!"},{"$error":"#VALUE!"},null,{"$error":"#VALUE!"},{"$error":"#VALUE!"},{"$error":"#VALUE!"},"n","n",{"$error":"#VALUE!"},0,{"$error":"#VALUE!"},0,null,{"$error":"#VALUE!"},{"$error":"#VALUE!"},null,{"$error":"#VALUE!"},{"$error":"#VALUE!"},{"$error":"#VALUE!"},{"$error":"#VALUE!"}]
[null,null,null,null,null,null,244,{"$error":"#VALUE!"},{"$error":"#VALUE!"},{"$error":"#VALUE!"},{"$error":"#VALUE!"},{"$error":"#VALUE!"},{"$error":"#VALUE!"},{"$error":"#VALUE!"},{"$error":"#VALUE!"},null,{"$error":"#VALUE!"},{"$error":"#VALUE!"},{"$error":"#VALUE!"},{"$error":"#VALUE!"},{"$error":"#VALUE!"},null,{"$error":"#VALUE!"},{"$error":"#VALUE!"},{"$error":"#VALUE!"},"n","n",{"$error":"#VALUE!"},0,{"$error":"#VALUE!"},0,null,{"$error":"#VALUE!"},{"$error":"#VALUE!"},null,{"$error":"#VALUE!"},{"$error":"#VALUE!"},{"$error":"#VALUE!"},{"$error":"#VALUE!"}]
[null,null,null,null,null,null,245,{"$error":"#VALUE!"},{"$error":"#VALUE!"},{"$error":"#VALUE!"},{"$error":"#VALUE!"},{"$error":"#VALUE!"},{"$error":"#VALUE!"},{"$error":"#VALUE!"},{"$error":"#VALUE!"},null,{"$error":"#VALUE!"},{"$error":"#VALUE!"},{"$error":"#VALUE!"},{"$error":"#VALUE!"},{"$error":"#VALUE!"},null,{"$error":"#VALUE!"},{"$error":"#VALUE!"},{"$error":"#VALUE!"},"n","n",{"$error":"#VALUE!"},0,{"$error":"#VALUE!"},0,null,{"$error":"#VALUE!"},{"$error":"#VALUE!"},null,{"$error":"#VALUE!"},{"$error":"#VALUE!"},{"$error":"#VALUE!"},{"$error":"#VALUE!"}]
[null,null,null,null,null,null,246,{"$error":"#VALUE!"},{"$error":"#VALUE!"},{"$error":"#VALUE!"},{"$error":"#VALUE!"},{"$error":"#VALUE!"},{"$error":"#VALUE!"},{"$error":"#VALUE!"},{"$error":"#VALUE!"},null,{"$error":"#VALUE!"},{"$error":"#VALUE!"},{"$error":"#VALUE!"},{"$error":"#VALUE!"},{"$error":"#VALUE!"},null,{"$error":"#VALUE!"},{"$error":"#VALUE!"},{"$error":"#VALUE!"},"n","n",{"$error":"#VALUE!"},0,{"$error":"#VALUE!"},0,21,{"$error":"#VALUE!"},{"$error":"#VALUE!"},null,{"$error":"#VALUE!"},{"$error":"#VALUE!"},{"$error":"#VALUE!"},{"$error":"#VALUE!"}]
[null,null,null,null,null,null,247,{"$error":"#VALUE!"},{"$error":"#VALUE!"},{"$error":"#VALUE!"},{"$error":"#VALUE!"},{"$error":"#VALUE!"},{"$error":"#VALUE!"},{"$error":"#VALUE!"},{"$error":"#VALUE!"},null,{"$error":"#VALUE!"},{"$error":"#VALUE!"},{"$error":"#VALUE!"},{"$error":"#VALUE!"},{"$error":"#VALUE!"},null,{"$error":"#VALUE!"},{"$error":"#VALUE!"},{"$error":"#VALUE!"},"n","n",{"$error":"#VALUE!"},0,{"$error":"#VALUE!"},0,null,{"$error":"#VALUE!"},{"$error":"#VALUE!"},null,{"$error":"#VALUE!"},{"$error":"#VALUE!"},{"$error":"#VALUE!"},{"$error":"#VALUE!"}]
[null,null,null,null,null,null,248,{"$error":"#VALUE!"},{"$error":"#VALUE!"},{"$error":"#VALUE!"},{"$error":"#VALUE!"},{"$error":"#VALUE!"},{"$error":"#VALUE!"},{"$error":"#VALUE!"},{"$error":"#VALUE!"},null,{"$error":"#VALUE!"},{"$error":"#VALUE!"},{"$error":"#VALUE!"},{"$error":"#VALUE!"},{"$error":"#VALUE!"},null,{"$error":"#VALUE!"},{"$error":"#VALUE!"},{"$error":"#VALUE!"},"n","n",{"$error":"#VALUE!"},0,{"$error":"#VALUE!"},0,null,{"$error":"#VALUE!"},{"$error":"#VALUE!"},null,{"$error":"#VALUE!"},{"$error":"#VALUE!"},{"$error":"#VALUE!"},{"$error":"#VALUE!"}]
[null,null,null,null,null,null,249,{"$error":"#VALUE!"},{"$error":"#VALUE!"},{"$error":"#VALUE!"},{"$error":"#VALUE!"},{"$error":"#VALUE!"},{"$error":"#VALUE!"},{"$error":"#VALUE!"},{"$error":"#VALUE!"},null,{"$error":"#VALUE!"},{"$error":"#VALUE!"},{"$error":"#VALUE!"},{"$error":"#VALUE!"},{"$error":"#VALUE!"},null,{"$error":"#VALUE!"},{"$error":"#VALUE!"},{"$error":"#VALUE!"},"n","n",{"$error":"#VALUE!"},0,{"$error":"#VALUE!"},0,null,{"$error":"#VALUE!"},{"$error":"#VALUE!"},null,{"$error":"#VALUE!"},{"$error":"#VALUE!"},{"$error":"#VALUE!"},{"$error":"#VALUE!"}]
[null,null,null,null,null,null,250,{"$error":"#VALUE!"},{"$error":"#VALUE!"},{"$error":"#VALUE!"},{"$error":"#VALUE!"},{"$error":"#VALUE!"},{"$error":"#VALUE!"},{"$error":"#VALUE!"},{"$error":"#VALUE!"},null,{"$error":"#VALUE!"},{"$error":"#VALUE!"},{"$error":"#VALUE!"},{"$error":"#VALUE!"},{"$error":"#VALUE!"},null,{"$error":"#VALUE!"},{"$error":"#VALUE!"},{"$error":"#VALUE!"},"n","n",{"$error":"#VALUE!"},0,{"$error":"#VALUE!"},0,null,{"$error":"#VALUE!"},{"$error":"#VALUE!"},null,{"$error":"#VALUE!"},{"$error":"#VALUE!"},{"$error":"#VALUE!"},{"$error":"#VALUE!"}]
[null,null,null,null,null,null,251,{"$error":"#VALUE!"},{"$error":"#VALUE!"},{"$error":"#VALUE!"},{"$error":"#VALUE!"},{"$error":"#VALUE!"},{"$error":"#VALUE!"},{"$error":"#VALUE!"},{"$error":"#VALUE!"},null,{"$error":"#VALUE!"},{"$error":"#VALUE!"},{"$error":"#VALUE!"},{"$error":"#VALUE!"},{"$error":"#VALUE!"},null,{"$error":"#VALUE!"},{"$error":"#VALUE!"},{"$error":"#VALUE!"},"n","n",{"$error":"#VALUE!"},0,{"$error":"#VALUE!"},0,null,{"$error":"#VALUE!"},{"$error":"#VALUE!"},null,{"$error":"#VALUE!"},{"$error":"#VALUE!"},{"$error":"#VALUE!"},{"$error":"#VALUE!"}]
[null,null,null,null,null,null,252,{"$error":"#VALUE!"},{"$error":"#VALUE!"},{"$error":"#VALUE!"},{"$error":"#VALUE!"},{"$error":"#VALUE!"},{"$error":"#VALUE!"},{"$error":"#VALUE!"},{"$error":"#VALUE!"},null,{"$error":"#VALUE!"},{"$error":"#VALUE!"},{"$error":"#VALUE!"},{"$error":"#VALUE!"},{"$error":"#VALUE!"},null,{"$error":"#VALUE!"},{"$error":"#VALUE!"},{"$error":"#VALUE!"},"n","n",{"$error":"#VALUE!"},0,{"$error":"#VALUE!"},0,null,{"$error":"#VALUE!"},{"$error":"#VALUE!"},null,{"$error":"#VALUE!"},{"$error":"#VALUE!"},{"$error":"#VALUE!"},{"$error":"#VALUE!"}]
[null,null,null,null,null,null,253,{"$error":"#VALUE!"},{"$error":"#VALUE!"},{"$error":"#VALUE!"},{"$error":"#VALUE!"},{"$error":"#VALUE!"},{"$error":"#VALUE!"},{"$error":"#VALUE!"},{"$error":"#VALUE!"},null,{"$error":"#VALUE!"},{"$error":"#VALUE!"},{"$error":"#VALUE!"},{"$error":"#VALUE!"},{"$error":"#VALUE!"},null,{"$error":"#VALUE!"},{"$error":"#VALUE!"},{"$error":"#VALUE!"},"n","n",{"$error":"#VALUE!"},0,{"$error":"#VALUE!"},0,null,{"$error":"#VALUE!"},{"$error":"#VALUE!"},null,{"$error":"#VALUE!"},{"$error":"#VALUE!"},{"$error":"#VALUE!"},{"$error":"#VALUE!"}]
[null,null,null,null,null,null,254,{"$error":"#VALUE!"},{"$error":"#VALUE!"},{"$error":"#VALUE!"},{"$error":"#VALUE!"},{"$error":"#VALUE!"},{"$error":"#VALUE!"},{"$error":"#VALUE!"},{"$error":"#VALUE!"},null,{"$error":"#VALUE!"},{"$error":"#VALUE!"},{"$error":"#VALUE!"},{"$error":"#VALUE!"},{"$error":"#VALUE!"},null,{"$error":"#VALUE!"},{"$error":"#VALUE!"},{"$error":"#VALUE!"},"n","n",{"$error":"#VALUE!"},0,{"$error":"#VALUE!"},0,null,{"$error":"#VALUE!"},{"$error":"#VALUE!"},null,{"$error":"#VALUE!"},{"$error":"#VALUE!"},{"$error":"#VALUE!"},{"$error":"#VALUE!"}]
[null,null,null,null,null,null,255,{"$error":"#VALUE!"},{"$error":"#VALUE!"},{"$error":"#VALUE!"},{"$error":"#VALUE!"},{"$error":"#VALUE!"},{"$error":"#VALUE!"},{"$error":"#VALUE!"},{"$error":"#VALUE!"},null,{"$error":"#VALUE!"},{"$error":"#VALUE!"},{"$error":"#VALUE!"},{"$error":"#VALUE!"},{"$error":"#VALUE!"},null,{"$error":"#VALUE!"},{"$error":"#VALUE!"},{"$error":"#VALUE!"},"n","n",{"$error":"#VALUE!"},0,{"$error":"#VALUE!"},0,null,{"$error":"#VALUE!"},{"$error":"#VALUE!"},null,{"$error":"#VALUE!"},{"$error":"#VALUE!"},{"$error":"#VALUE!"},{"$error":"#VALUE!"}]
[null,null,null,null,null,null,256,{"$error":"#VALUE!"},{"$error":"#VALUE!"},{"$error":"#VALUE!"},{"$error":"#VALUE!"},{"$error":"#VALUE!"},{"$error":"#VALUE!"},{"$error":"#VALUE!"},{"$error":"#VALUE!"},null,{"$error":"#VALUE!"},{"$error":"#VALUE!"},{"$error":"#VALUE!"},{"$error":"#VALUE!"},{"$error":"#VALUE!"},null,{"$error":"#VALUE!"},{"$error":"#VALUE!"},{"$error":"#VALUE!"},"n","n",{"$error":"#VALUE!"},0,{"$error":"#VALUE!"},0,null,{"$error":"#VALUE!"},{"$error":"#VALUE!"},null,{"$error":"#VALUE!"},{"$error":"#VALUE!"},{"$error":"#VALUE!"},{"$error":"#VALUE!"}]
[null,null,null,null,null,null,257,{"$error":"#VALUE!"},{"$error":"#VALUE!"},{"$f":"IF(G279<61,$B$32,IF(AND($B$27<61,$B$27<>\"\"),$B$32,$B$34))","v":{"$error":"#VALUE!"}},{"$error":"#VALUE!"},{"$error":"#VALUE!"},{"$error":"#VALUE!"},{"$error":"#VALUE!"},{"$error":"#VALUE!"},null,{"$error":"#VALUE!"},{"$error":"#VALUE!"},{"$f":"-I279*$S$20/12","v":{"$error":"#VALUE!"}},{"$error":"#VALUE!"},{"$error":"#VALUE!"},null,{"$error":"#VALUE!"},{"$error":"#VALUE!"},{"$error":"#VALUE!"},"n","n",{"$error":"#VALUE!"},0,{"$error":"#VALUE!"},0,null,{"$error":"#VALUE!"},{"$error":"#VALUE!"},null,{"$error":"#VALUE!"},{"$error":"#VALUE!"},{"$error":"#VALUE!"},{"$error":"#VALUE!"}]
[null,null,null,null,null,null,258,{"$error":"#VALUE!"},{"$error":"#VALUE!"},{"$error":"#VALUE!"},{"$f":"IF(AA280=\"b\",0,J280*I280/12)","v":{"$error":"#VALUE!"}},{"$f":"N280-M280-K280","v":{"$error":"#VALUE!"}},{"$error":"#VALUE!"},{"$error":"#VALUE!"},{"$f":"I280+K280+M280-N280-AE280","v":{"$error":"#VALUE!"}},null,{"$f":"IF(I280=0,0,IF(H280<>$H$23,Q279,IF(J280=$B$32,I280*$B$33/12,0)))","v":{"$error":"#VALUE!"}},{"$f":"IF(H280=12,O280*$B$37,0)","v":{"$error":"#VALUE!"}},{"$error":"#VALUE!"},{"$f":"K280+Q280+S280","v":{"$error":"#VALUE!"}},{"$f":"T280+R280","v":{"$error":"#VALUE!"}},null,{"$error":"#VALUE!"},{"$error":"#VALUE!"},{"$f":"IF(G280=$B$27,\"b\",\"n\")","v":{"$error":"#VALUE!"}},{"$f":"IF(G280=$B$28,\"b\",\"n\")","v":"n"},{"$f":"IF(G280=$B$29,\"b\",\"n\")","v":"n"},{"$f":"IF($E$35<1,0,IF(OR(G280<=$B$27,G280>MAX(IF($B$27=$B$28,60,36),$B$27+IF($B$27=$B$28,60,36)),$B$27>60),0,1))","v":{"$error":"#VALUE!"}},{"$f":"IF($E$35<2,0,IF(OR(G280<=$B$28,G280>$B$28+IF($B$27=$B$28,60,36),$AB$21=0),0,1))","v":0},{"$f":"MAX(AB280:AC280)","v":{"$error":"#VALUE!"}},{"$f":"IF(AA280=\"b\",I280,IF(Z280=\"b\",I280*0.3,0))","v":0},{"$f":"ROUNDDOWN(G280/12,0)+1","v":22},{"$f":"IF(O280=0,-100000,O280)","v":{"$error":"#VALUE!"}},{"$f":"IF(AD280=1,0,IF(N280=0,-1000,N280))","v":{"$error":"#VALUE!"}},null,{"$f":"N280+IF(OR(I280=0,G280>$W$21),0,$B$38)+IF(G280=MIN(60,$B$25),$B$17,0)","v":{"$error":"#VALUE!"}},{"$f":"G280*$AK$21+$AK$19","v":{"$error":"#VALUE!"}},{"$error":"#VALUE!"},{"$error":"#VALUE!"}]
[null,null,null,null,null,null,{"$f":"G280+1","v":259},{"$f":"IF(H280=12,1,H280+1)","v":{"$error":"#VALUE!"}},{"$f":"O280","v":{"$error":"#VALUE!"}},{"$error":"#VALUE!"},{"$error":"#VALUE!"},{"$error":"#VALUE!"},{"$f":"ROUND(IF(OR(AD281=1,AA281=\"b\",ROUND(I281,0)=0),0,IF(OR(H281=2,M280=0),I280*$B$35/12,M280)),0)","v":{"$error":"#VALUE!"}},{"$f":"IF(OR(AA281=\"b\",ROUND(I281,0)=0),0,IF(OR(AND($B$27<61,AA281=\"b\"),AD281=1),M281,PMT(J281/12,X281,-I281)+M281))","v":{"$error":"#VALUE!"}},{"$error":"#VALUE!"},null,{"$error":"#VALUE!"},{"$error":"#VALUE!"},{"$error":"#VALUE!"},{"$error":"#VALUE!"},{"$error":"#VALUE!"},null,{"$f":"IF(Y280=\"b\",W280+$C$27,W280)","v":{"$error":"#VALUE!"}},{"$f":"W281-G280","v":{"$error":"#VALUE!"}},{"$error":"#VALUE!"},"n","n",{"$error":"#VALUE!"},0,{"$error":"#VALUE!"},0,null,{"$error":"#VALUE!"},{"$error":"#VALUE!"},null,{"$error":"#VALUE!"},{"$error":"#VALUE!"},{"$f":"AJ281/((1+$AL$21)^(AK281/365))","v":{"$error":"#VALUE!"}},{"$f":"AM280+AL281","v":{"$error":"#VALUE!"}}]
[null,null,null,null,null,null,260,{"$error":"#VALUE!"},{"$error":"#VALUE!"},{"$error":"#VALUE!"},{"$error":"#VALUE!"},{"$error":"#VALUE!"},{"$error":"#VALUE!"},{"$error":"#VALUE!"},{"$error":"#VALUE!"},null,{"$error":"#VALUE!"},{"$error":"#VALUE!"},{"$error":"#VALUE!"},{"$error":"#VALUE!"},{"$error":"#VALUE!"},null,{"$error":"#VALUE!"},{"$error":"#VALUE!"},{"$error":"#VALUE!"},"n","n",{"$error":"#VALUE!"},0,{"$error":"#VALUE!"},0,null,{"$error":"#VALUE!"},{"$error":"#VALUE!"},null,{"$error":"#VALUE!"},{"$error":"#VALUE!"},{"$error":"#VALUE!"},{"$error":"#VALUE!"}]
[null,null,null,null,null,null,261,{"$error":"#VALUE!"},{"$error":"#VALUE!"},{"$error":"#VALUE!"},{"$error":"#VALUE!"},{"$error":"#VALUE!"},{"$error":"#VALUE!"},{"$error":"#VALUE!"},{"$error":"#VALUE!"},null,{"$error":"#VALUE!"},{"$error":"#VALUE!"},{"$error":"#VALUE!"},{"$error":"#VALUE!"},{"$error":"#VALUE!"},null,{"$error":"#VALUE!"},{"$error":"#VALUE!"},{"$error":"#VALUE!"},"n","n",{"$error":"#VALUE!"},0,{"$error":"#VALUE!"},0,null,{"$error":"#VALUE!"},{"$error":"#VALUE!"},null,{"$error":"#VALUE!"},{"$error":"#VALUE!"},{"$error":"#VALUE!"},{"$error":"#VALUE!"}]
[null,null,null,null,null,null,262,{"$error":"#VALUE!"},{"$error":"#VALUE!"},{"$error":"#VALUE!"},{"$error":"#VALUE!"},{"$error":"#VALUE!"},{"$error":"#VALUE!"},{"$error":"#VALUE!"},{"$error":"#VALUE!"},null,{"$error":"#VALUE!"},{"$error":"#VALUE!"},{"$error":"#VALUE!"},{"$error":"#VALUE!"},{"$error":"#VALUE!"},null,{"$error":"#VALUE!"},{"$error":"#VALUE!"},{"$error":"#VALUE!"},"n","n",{"$error":"#VALUE!"},0,{"$error":"#VALUE!"},0,null,{"$error":"#VALUE!"},{"$error":"#VALUE!"},null,{"$error":"#VALUE!"},{"$error":"#VALUE!"},{"$error":"#VALUE!"},{"$error":"#VALUE!"}]
[null,null,null,null,null,null,263,{"$error":"#VALUE!"},{"$error":"#VALUE!"},{"$error":"#VALUE!"},{"$error":"#VALUE!"},{"$error":"#VALUE!"},{"$error":"#VALUE!"},{"$error":"#VALUE!"},{"$error":"#VALUE!"},null,{"$error":"#VALUE!"},{"$error":"#VALUE!"},{"$error":"#VALUE!"},{"$error":"#VALUE!"},{"$error":"#VALUE!"},null,{"$error":"#VALUE!"},{"$error":"#VALUE!"},{"$error":"#VALUE!"},"n","n",{"$error":"#VALUE!"},0,{"$error":"#VALUE!"},0,null,{"$error":"#VALUE!"},{"$error":"#VALUE!"},null,{"$error":"#VALUE!"},{"$error":"#VALUE!"},{"$error":"#VALUE!"},{"$error":"#VALUE!"}]
[null,null,null,null,null,null,264,{"$error":"#VALUE!"},{"$error":"#VALUE!"},{"$error":"#VALUE!"},{"$error":"#VALUE!"},{"$error":"#VALUE!"},{"$error":"#VALUE!"},{"$error":"#VALUE!"},{"$error":"#VALUE!"},null,{"$error":"#VALUE!"},{"$error":"#VALUE!"},{"$error":"#VALUE!"},{"$error":"#VALUE!"},{"$error":"#VALUE!"},null,{"$error":"#VALUE!"},{"$error":"#VALUE!"},{"$error":"#VALUE!"},"n","n",{"$error":"#VALUE!"},0,{"$error":"#VALUE!"},0,null,{"$error":"#VALUE!"},{"$error":"#VALUE!"},null,{"$error":"#VALUE!"},{"$error":"#VALUE!"},{"$error":"#VALUE!"},{"$error":"#VALUE!"}]
[null,null,null,null,null,null,265,{"$error":"#VALUE!"},{"$error":"#VALUE!"},{"$error":"#VALUE!"},{"$error":"#VALUE!"},{"$error":"#VALUE!"},{"$error":"#VALUE!"},{"$error":"#VALUE!"},{"$error":"#VALUE!"},null,{"$error":"#VALUE!"},{"$error":"#VALUE!"},{"$error":"#VALUE!"},{"$error":"#VALUE!"},{"$error":"#VALUE!"},null,{"$error":"#VALUE!"},{"$error":"#VALUE!"},{"$error":"#VALUE!"},"n","n",{"$error":"#VALUE!"},0,{"$error":"#VALUE!"},0,null,{"$error":"#VALUE!"},{"$error":"#VALUE!"},null,{"$error":"#VALUE!"},{"$error":"#VALUE!"},{"$error":"#VALUE!"},{"$error":"#VALUE!"}]
[null,null,null,null,null,null,266,{"$error":"#VALUE!"},{"$error":"#VALUE!"},{"$error":"#VALUE!"},{"$error":"#VALUE!"},{"$error":"#VALUE!"},{"$error":"#VALUE!"},{"$error":"#VALUE!"},{"$error":"#VALUE!"},null,{"$error":"#VALUE!"},{"$error":"#VALUE!"},{"$error":"#VALUE!"},{"$error":"#VALUE!"},{"$error":"#VALUE!"},null,{"$error":"#VALUE!"},{"$error":"#VALUE!"},{"$error":"#VALUE!"},"n","n",{"$error":"#VALUE!"},0,{"$error":"#VALUE!"},0,null,{"$error":"#VALUE!"},{"$error":"#VALUE!"},null,{"$error":"#VALUE!"},{"$error":"#VALUE!"},{"$error":"#VALUE!"},{"$error":"#VALUE!"}]
[null,null,null,null,null,null,267,{"$error":"#VALUE!"},{"$error":"#VALUE!"},{"$error":"#VALUE!"},{"$error":"#VALUE!"},{"$error":"#VALUE!"},{"$error":"#VALUE!"},{"$error":"#VALUE!"},{"$error":"#VALUE!"},null,{"$error":"#VALUE!"},{"$error":"#VALUE!"},{"$error":"#VALUE!"},{"$error":"#VALUE!"},{"$error":"#VALUE!"},null,{"$error":"#VALUE!"},{"$error":"#VALUE!"},{"$error":"#VALUE!"},"n","n",{"$error":"#VALUE!"},0,{"$error":"#VALUE!"},0,null,{"$error":"#VALUE!"},{"$error":"#VALUE!"},null,{"$error":"#VALUE!"},{"$error":"#VALUE!"},{"$error":"#VALUE!"},{"$error":"#VALUE!"}]
[null,null,null,null,null,null,268,{"$error":"#VALUE!"},{"$error":"#VALUE!"},{"$error":"#VALUE!"},{"$error":"#VALUE!"},{"$error":"#VALUE!"},{"$error":"#VALUE!"},{"$error":"#VALUE!"},{"$error":"#VALUE!"},null,{"$error":"#VALUE!"},{"$error":"#VALUE!"},{"$error":"#VALUE!"},{"$error":"#VALUE!"},{"$error":"#VALUE!"},null,{"$error":"#VALUE!"},{"$error":"#VALUE!"},{"$error":"#VALUE!"},"n","n",{"$error":"#VALUE!"},0,{"$error":"#VALUE!"},0,null,{"$error":"#VALUE!"},{"$error":"#VALUE!"},null,{"$error":"#VALUE!"},{"$error":"#VALUE!"},{"$error":"#VALUE!"},{"$error":"#VALUE!"}]
[null,null,null,null,null,null,269,{"$error":"#VALUE!"},{"$error":"#VALUE!"},{"$error":"#VALUE!"},{"$error":"#VALUE!"},{"$error":"#VALUE!"},{"$error":"#VALUE!"},{"$error":"#VALUE!"},{"$error":"#VALUE!"},null,{"$error":"#VALUE!"},{"$error":"#VALUE!"},{"$error":"#VALUE!"},{"$error":"#VALUE!"},{"$error":"#VALUE!"},null,{"$error":"#VALUE!"},{"$error":"#VALUE!"},{"$error":"#VALUE!"},"n","n",{"$error":"#VALUE!"},0,{"$error":"#VALUE!"},0,null,{"$error":"#VALUE!"},{"$error":"#VALUE!"},null,{"$error":"#VALUE!"},{"$error":"#VALUE!"},{"$error":"#VALUE!"},{"$error":"#VALUE!"}]
[null,null,null,null,null,null,270,{"$error":"#VALUE!"},{"$error":"#VALUE!"},{"$error":"#VALUE!"},{"$error":"#VALUE!"},{"$error":"#VALUE!"},{"$error":"#VALUE!"},{"$error":"#VALUE!"},{"$error":"#VALUE!"},null,{"$error":"#VALUE!"},{"$error":"#VALUE!"},{"$error":"#VALUE!"},{"$error":"#VALUE!"},{"$error":"#VALUE!"},null,{"$error":"#VALUE!"},{"$error":"#VALUE!"},{"$error":"#VALUE!"},"n","n",{"$error":"#VALUE!"},0,{"$error":"#VALUE!"},0,23,{"$error":"#VALUE!"},{"$error":"#VALUE!"},null,{"$error":"#VALUE!"},{"$error":"#VALUE!"},{"$error":"#VALUE!"},{"$error":"#VALUE!"}]
[null,null,null,null,null,null,271,{"$error":"#VALUE!"},{"$error":"#VALUE!"},{"$error":"#VALUE!"},{"$error":"#VALUE!"},{"$error":"#VALUE!"},{"$error":"#VALUE!"},{"$error":"#VALUE!"},{"$error":"#VALUE!"},null,{"$error":"#VALUE!"},{"$error":"#VALUE!"},{"$error":"#VALUE!"},{"$error":"#VALUE!"},{"$error":"#VALUE!"},null,{"$error":"#VALUE!"},{"$error":"#VALUE!"},{"$error":"#VALUE!"},"n","n",{"$error":"#VALUE!"},0,{"$error":"#VALUE!"},0,null,{"$error":"#VALUE!"},{"$error":"#VALUE!"},null,{"$error":"#VALUE!"},{"$error":"#VALUE!"},{"$error":"#VALUE!"},{"$error":"#VALUE!"}]
[null,null,null,null,null,null,272,{"$error":"#VALUE!"},{"$error":"#VALUE!"},{"$error":"#VALUE!"},{"$error":"#VALUE!"},{"$error":"#VALUE!"},{"$error":"#VALUE!"},{"$error":"#VALUE!"},{"$error":"#VALUE!"},null,{"$error":"#VALUE!"},{"$error":"#VALUE!"},{"$error":"#VALUE!"},{"$error":"#VALUE!"},{"$error":"#VALUE!"},null,{"$error":"#VALUE!"},{"$error":"#VALUE!"},{"$error":"#VALUE!"},"n","n",{"$error":"#VALUE!"},0,{"$error":"#VALUE!"},0,null,{"$error":"#VALUE!"},{"$error":"#VALUE!"},null,{"$error":"#VALUE!"},{"$error":"#VALUE!"},{"$error":"#VALUE!"},{"$error":"#VALUE!"}]
[null,null,null,null,null,null,273,{"$error":"#VALUE!"},{"$error":"#VALUE!"},{"$error":"#VALUE!"},{"$error":"#VALUE!"},{"$error":"#VALUE!"},{"$error":"#VALUE!"},{"$error":"#VALUE!"},{"$error":"#VALUE!"},null,{"$error":"#VALUE!"},{"$error":"#VALUE!"},{"$error":"#VALUE!"},{"$error":"#VALUE!"},{"$error":"#VALUE!"},null,{"$error":"#VALUE!"},{"$error":"#VALUE!"},{"$error":"#VALUE!"},"n","n",{"$error":"#VALUE!"},0,{"$error":"#VALUE!"},0,null,{"$error":"#VALUE!"},{"$error":"#VALUE!"},null,{"$error":"#VALUE!"},{"$error":"#VALUE!"},{"$error":"#VALUE!"},{"$error":"#VALUE!"}]
[null,null,null,null,null,null,274,{"$error":"#VALUE!"},{"$error":"#VALUE!"},{"$error":"#VALUE!"},{"$error":"#VALUE!"},{"$error":"#VALUE!"},{"$error":"#VALUE!"},{"$error":"#VALUE!"},{"$error":"#VALUE!"},null,{"$error":"#VALUE!"},{"$error":"#VALUE!"},{"$error":"#VALUE!"},{"$error":"#VALUE!"},{"$error":"#VALUE!"},null,{"$error":"#VALUE!"},{"$error":"#VALUE!"},{"$error":"#VALUE!"},"n","n",{"$error":"#VALUE!"},0,{"$error":"#VALUE!"},0,null,{"$error":"#VALUE!"},{"$error":"#VALUE!"},null,{"$error":"#VALUE!"},{"$error":"#VALUE!"},{"$error":"#VALUE!"},{"$error":"#VALUE!"}]
[null,null,null,null,null,null,275,{"$error":"#VALUE!"},{"$error":"#VALUE!"},{"$error":"#VALUE!"},{"$error":"#VALUE!"},{"$error":"#VALUE!"},{"$error":"#VALUE!"},{"$error":"#VALUE!"},{"$error":"#VALUE!"},null,{"$error":"#VALUE!"},{"$error":"#VALUE!"},{"$error":"#VALUE!"},{"$error":"#VALUE!"},{"$error":"#VALUE!"},null,{"$error":"#VALUE!"},{"$error":"#VALUE!"},{"$error":"#VALUE!"},"n","n",{"$error":"#VALUE!"},0,{"$error":"#VALUE!"},0,null,{"$error":"#VALUE!"},{"$error":"#VALUE!"},null,{"$error":"#VALUE!"},{"$error":"#VALUE!"},{"$error":"#VALUE!"},{"$error":"#VALUE!"}]
[null,null,null,null,null,null,276,{"$error":"#VALUE!"},{"$error":"#VALUE!"},{"$error":"#VALUE!"},{"$error":"#VALUE!"},{"$error":"#VALUE!"},{"$error":"#VALUE!"},{"$error":"#VALUE!"},{"$error":"#VALUE!"},null,{"$error":"#VALUE!"},{"$error":"#VALUE!"},{"$error":"#VALUE!"},{"$error":"#VALUE!"},{"$error":"#VALUE!"},null,{"$error":"#VALUE!"},{"$error":"#VALUE!"},{"$error":"#VALUE!"},"n","n",{"$error":"#VALUE!"},0,{"$error":"#VALUE!"},0,null,{"$error":"#VALUE!"},{"$error":"#VALUE!"},null,{"$error":"#VALUE!"},{"$error":"#VALUE!"},{"$error":"#VALUE!"},{"$error":"#VALUE!"}]

{"sheet":"Appl","index":16,"n_rows":59,"n_cols":37,"rows_kept":59,"cut":false,"hidden":true,"merged":[[20,2,20,4],[22,0,24,0],[22,28,22,30]]}
["EZ AZ OLDAL EL LESZ REJTVE"]
[{"$f":"SUM(C2:AJ2)","v":{"$error":"#N/A"}},null,{"$f":"B26","v":64},null,null,{"$f":"VLOOKUP(1,$B$3:$AG$6,5,FALSE)","v":{"$error":"#N/A"}},{"$f":"IF(F2=60,0,VLOOKUP(1,$B$3:$AG$6,6,FALSE))","v":{"$error":"#N/A"}},null,0,null,null,0,null,null,{"$f":"VLOOKUP(1,$B$3:$AG$6,14,FALSE)","v":{"$error":"#N/A"}},null,null,0,null,null,null,{"$f":"VLOOKUP(1,$B$3:$AG$6,21,FALSE)","v":{"$error":"#N/A"}},null,null,{"$f":"VLOOKUP(1,$B$3:$AG$6,24,FALSE)","v":{"$error":"#N/A"}},null,null,0,null,null,{"$f":"AB28","v":{"$error":"#N/A"}},null,{"$f":"IF(ISERR(AG9)=TRUE,AG9,0)","v":{"$error":"#DIV/0!"}},null,null,{"$f":"IF(AJ8=AJ10,74,IF(AK8=AJ10,87,64))","v":64}]
["A",{"$f":"'Új PD'!L20","v":1},null,null,null,{"$f":"VLOOKUP(Ügyféladatok!B8,Appl!E8:F12,2,FALSE)","v":{"$error":"#N/A"}},{"$f":"IF(Ügyféladatok!B42>0,5,0)","v":0},null,null,null,null,null,null,null,{"$f":"VLOOKUP(Ügyféladatok!B45,N8:O35,2,FALSE)","v":{"$error":"#N/A"}},null,null,null,null,null,null,{"$f":"VLOOKUP(Ügyféladatok!B9,U8:V14,2,FALSE)","v":{"$error":"#N/A"}},null,null,{"$f":"VLOOKUP(Ügyféladatok!B25,Appl!$X$8:$Y$9,2,FALSE)","v":{"$error":"#N/A"}},null,null,null,null,{"$f":"Ügyféladatok!B47","v":0},null,null,null,null,null,{"$f":"Ügyféladatok!B23","v":0},{"$f":"Ügyféladatok!B24","v":0}]
["A1",{"$f":"'Új PD'!M20","v":1},null,null,null,{"$f":"VLOOKUP(Ügyféladatok!C8,Appl!E8:F12,2,FALSE)","v":{"$error":"#N/A"}},{"$f":"IF(Ügyféladatok!C42>0,5,0)","v":0},null,null,null,null,null,null,null,{"$f":"VLOOKUP(Ügyféladatok!C45,N8:O35,2,FALSE)","v":{"$error":"#N/A"}},null,null,null,null,null,null,{"$f":"VLOOKUP(Ügyféladatok!C9,U8:V14,2,FALSE)","v":{"$error":"#N/A"}},null,null,{"$f":"VLOOKUP(Ügyféladatok!C25,Appl!$X$8:$Y$9,2,FALSE)","v":{"$error":"#N/A"}},null,null,null,null,{"$f":"Ügyféladatok!C47","v":0},null,null,null,null,null,{"$f":"Ügyféladatok!C23","v":0},{"$f":"Ügyféladatok!C24","v":0}]
["A2",{"$f":"'Új PD'!N20","v":1},null,null,null,{"$f":"VLOOKUP(Ügyféladatok!D8,Appl!E8:F12,2,FALSE)","v":{"$error":"#N/A"}},{"$f":"IF(Ügyféladatok!D42>0,5,0)","v":0},null,null,null,null,null,null,null,{"$f":"VLOOKUP(Ügyféladatok!D45,N8:O35,2,FALSE)","v":{"$error":"#N/A"}},null,null,null,null,null,null,{"$f":"VLOOKUP(Ügyféladatok!D9,U8:V14,2,FALSE)","v":{"$error":"#N/A"}},null,null,{"$f":"VLOOKUP(Ügyféladatok!D25,Appl!$X$8:$Y$9,2,FALSE)","v":{"$error":"#N/A"}},null,null,null,null,{"$f":"Ügyféladatok!D47","v":0},null,null,null,null,null,{"$f":"Ügyféladatok!D23","v":0},{"$f":"Ügyféladatok!D24","v":0}]
["A3",{"$f":"'Új PD'!O20","v":1},null,null,null,{"$f":"VLOOKUP(Ügyféladatok!E8,Appl!E8:F12,2,FALSE)","v":{"$error":"#N/A"}},{"$f":"IF(Ügyféladatok!E42>0,5,0)","v":0},null,null,null,null,null,null,null,{"$f":"VLOOKUP(Ügyféladatok!E45,N8:O35,2,FALSE)","v":{"$error":"#N/A"}},null,null,null,null,null,null,{"$f":"VLOOKUP(Ügyféladatok!E9,U8:V14,2,FALSE)","v":{"$error":"#N/A"}},null,null,{"$f":"VLOOKUP(Ügyféladatok!E25,Appl!$X$8:$Y$9,2,FALSE)","v":{"$error":"#N/A"}},null,null,null,null,{"$f":"Ügyféladatok!E47","v":0},null,null,null,null,null,{"$f":"Ügyféladatok!E23","v":0},{"$f":"Ügyféladatok!E24","v":0}]
[null,null,null,null,"VALUE_HU","Score point",null,"Bank","Score point",null,"VALUE_HU","Score point",null,"VALUE_HU","Score point",null,"VALUE_HU","HomeEquity","Housing",null,"VALUE_HU",null,null,"VALUE_HU","KH bérátutalás",null,"VALUE_HU",null,null,"VALUE_HU",null,null,"fedezet irsz",null,null,"hitel","számla"]
[null,"munkaviszony","születés",null,"Egyedülálló",60,null,"K&H Bank",8,null,"Adminisztráció/könyvelés",10,null,"Alapítvány",62,null,"Használt lakás/ház vásárlása",0,12,"V","8 általános vagy kevesebb",0,null,"igen",74,null,"Tulajdonos",0,null,"Alkalmazott","B",null,null,null,null,{"$f":"IF(B3=1,AJ3,IF(B4=1,AJ4,IF(B5=1,AJ5,AJ6)))","v":0},{"$f":"IF(B3=1,AK3,IF(B4=1,AK4,IF(B5=1,AK5,AK6)))","v":0}]
[{"$f":"DAYS360(B9,TODAY())/30","v":1458.3},{"$f":"Ügyféladatok!B48","v":"00:00:00"},{"$f":"Ügyféladatok!B7","v":"00:00:00"},null,"Házas",71,null,"AEGON Magyarország Hitel Zrt",0,null,"Államigazgatás",10,null,"Állami részvénytársaság",76,null,"Új lak./ház vásárlása (kulcsrakész)",0,26,"V","Szakmunkás",0,null,"nem",47,null,"Társtulajdonos",0,null,"GYES, GYED","A",null,{"$f":"10000/Hiteladatok!I4","v":{"$error":"#DIV/0!"}}]
[{"$f":"DAYS360(B10,TODAY())/30","v":1458.3},{"$f":"Ügyféladatok!C48","v":"00:00:00"},{"$f":"Ügyféladatok!C7","v":"00:00:00"},null,"Elvált",60,null,"AXA Bank",0,null,"Bányászat",0,null,"Betéti társaság",62,null,"Lakásépítés",0,26,"É","Szakközép",0,null,null,null,null,"Bérlő",0,null,"Közalkalmazott","B",null,null,null,null,"igen"]
[1458.3,{"$f":"Ügyféladatok!D48","v":"00:00:00"},{"$f":"Ügyféladatok!D7","v":"00:00:00"},null,"Élettársi viszony",71,null,"Banco Popolare",0,null,"Befektetés - osztalék",0,null,"Egyéb  ",62,null,"Felújítás",0,8,"É","Gimnázium",0,null,null,null,null,"Albérlő",0,null,"Köztisztviselő","B",null,null,null,null,"nem"]
[1458.3,{"$f":"Ügyféladatok!E48","v":"00:00:00"},{"$f":"Ügyféladatok!E7","v":"00:00:00"},null,"Özvegy",60,null,"Banco Primus S.A.",0,null,"Biztosítási tevékenység",0,null,"Egyéb szövetkezet",62,null,"Bővítés",0,8,"É","Főiskola",0,null,null,null,null,"Családdal él",0,null,"Külföldi alkalmazotti munkaviszony","A"]
[null,null,null,null,null,null,null,"Banif Plus Bank",0,null,"Egészségügy",10,null,"Egyéni vállakozó",62,null,"Korszerűsítés",0,8,"É","Egyetem",0,null,null,null,null,"Szolgálati lakás",0,null,"Nyugdíjas","C"]
[null,{"$f":"SUMPRODUCT(B9:B12,B3:B6)","v":"00:00:00"},{"$f":"SUMPRODUCT(C9:C12,B3:B6)","v":"00:00:00"},null,null,null,null,"Bank of China Hitelintézet",0,null,"Egyéb",0,null,"Egyesülés",62,null,"Közmű bevezetése",0,8,"É","Tudományos fokozat",0,null,null,null,null,"Önkormányzati lakás",0,null,"Rokkantnyugdíjas","A"]
["hónap",{"$f":"YEAR(TODAY())*12+MONTH(TODAY())-(YEAR(B14)*12+MONTH(B14))","v":1458},{"$f":"YEAR(TODAY())*12+MONTH(TODAY())-(YEAR(C14)*12+MONTH(C14))","v":1458},null,null,null,null,"BNP Paribas Hungária Bank",6,null,"Élelmiszeripar",10,null,"Gazdasági munkaközösség",62,null,"Szerkezetkész ingatlan megvásárlása",0,26,"V",null,null,null,null,null,null,"Egyéb jogcím",0,null,"Szerződéses","A"]
[null,null,null,null,null,null,null,"Budapest Bank",6,null,"Energiaszolgáltatás",10,null,"Kamara",62,null,"Egyéb ingatlan vásárlása",0,26,"V",null,null,null,null,null,null,null,null,null,"Ügyvéd, közjegyző, szellemi szabadfoglalkozású","A"]
[null,null,null,null,null,null,null,"CIB Bank",6,null,"Építőipar",0,null,"Korlátolt felelősségű társaság",62,null,"Egyéb ingatlan építés",0,26,"É",null,null,null,null,null,null,null,null,null,"Vállalkozó - nem KATA","A"]
[null,null,null,null,null,null,null,"Citibank",6,null,"Erdő-, vad- és Halgazdálkodás",0,null,"Közalapítvány",62,null,"Építési telek vásárlása",0,26,"V",null,null,null,null,null,null,null,null,null,"Vállalkozó - KATA","A"]
[null,null,null,null,null,null,null,"Cofidis",0,null,"Fa- és papíripar",0,null,"Közigazgatási szerv",76,null,"Földvásárlás",0,26,"V",null,null,null,null,null,null,null,null,null,"Egyéb","A"]
[null,null,null,null,null,null,null,"Commerzbank",6,null,"Fegyveres testület",23,null,"Közkereseti társaság",62,null,"Belf. pénzintézet által nyújtott hitel kiváltása",0,8,"V",null,null,null,null,null,null,null,null,"most",{"$f":"IF(B3=1,AD3,IF(B4=1,AD4,IF(B5=1,AD5,AD6)))","v":0},{"$f":"VLOOKUP(AD20,AD8:AE19,2,FALSE)","v":{"$error":"#N/A"}}]
[null,null,"munkaviszony",null,null,null,null,"Credigen Bank",0,null,"Fémipar",0,null,"Közös vállalat",62,null,"Külf. pénzintézet által nyújtott hitel kiváltása",0,8,"V"]
[null,null,"<=12 vagy nincs",">12 és <=60",">60",null,null,"Credit Agricole Corporate And Investment Bank",0,null,"Gép-, jármű- és műszergyártás",23,null,"Közp. költségvetési intézmény tul. lévő kht",76,null,"Egyéb",0,8,"V"]
["életkor","<=360",68,68,68,null,null,"Deutsche Bank",0,null,"Gyógyszergyártás",10,null,"Központi költségvetési intézmény",76,null,null,null,null,null,null,null,null,null,null,null,null,null,"munkaviszony"]
[null,">360 és <=600",56,68,75,null,null,"DRB Dél-Dunántúli Regionális Bank",0,null,"Informatika",10,null,"Leányvállalat",62,null,null,null,null,null,null,null,null,null,null,null,null,null,"<=12 vagy nincs",">12 és <=60",">60"]
[null,">600",64,64,64,null,null,"egyéb",0,null,"Infrastruktuális beruházás",0,null,"Részvénytársaság",78,null,null,null,null,null,null,null,null,null,null,null,null,"A",55,55,55]
[null,{"$f":"IF($B$15>60,E26,IF($B$15<=12,C26,D26))","v":64},{"$f":"IF($C$15>600,C25,IF($C$15<=360,C23,C24))","v":64},{"$f":"IF($C$15>600,D25,IF($C$15<=360,D23,D24))","v":64},64,null,null,"Erste Bank",6,null,"Ingatlan bérbeadás",0,null,"Nem közp. költségvetési intézmény tul. lévő kht",62,null,null,null,null,null,null,null,null,null,null,null,null,"B",59,69,76]
[null,null,null,null,null,null,null,"FHB",0,null,"Ingatlankereskedelem és beruházás",0,null,"Non-profit társaság",62,null,null,null,null,null,null,null,null,null,null,null,null,"C",69,69,69]
[null,null,null,null,null,null,null,"Gránit Bank",0,null,"Kiadó, nyomda",10,null,"Önk. költségvetési intézmény",76,null,null,null,null,null,null,null,null,null,null,null,null,{"$f":"IF(B15<=12,AC28,IF(B15>60,AE28,AD28))","v":{"$error":"#N/A"}},{"$f":"VLOOKUP(AE20,$AB$25:$AE$27,2,FALSE)","v":{"$error":"#N/A"}},{"$f":"VLOOKUP(AE20,$AB$25:$AE$27,3,FALSE)","v":{"$error":"#N/A"}},{"$f":"VLOOKUP(AE20,$AB$25:$AE$27,4,FALSE)","v":{"$error":"#N/A"}}]
[null,null,null,null,null,null,null,"Hanwha Bank",6,null,"Kiskereskedelem",0,null,"Pénzügyi szolgáltatást nem végző tak.szöv",62,null,"Használt lakás/ház vásárlása",0,12]
[null,null,null,null,null,null,null,"ING Bank",6,null,"Könnyűipar (egyéb)",10,null,"Pénzügyi szolgáltatást végző takarékszövetkezet",62,null,"Új lak./ház vásárlása (kulcsrakész/nem szerk.kész)",0,26]
[null,null,null,null,null,null,null,"KDB Bank",6,null,"Kőolajfeldolgozás",0,null,"Szövetkezet",62,null,"Lakásépítés",0,26]
[null,null,null,null,null,null,null,"Kinizsi Bank",0,null,"Közigazgatás",23,null,"Társadalmi szervezet",62,null,"Felújítás",0,8]
[null,null,null,null,null,null,null,"Magnet Magyar Közösségi Bank",0,null,"Külkereskedelem",0,null,"Ügyvéd, közjegyző",62,null,"Bővítés",0,8]
[null,null,null,null,null,null,null,"Magyar Cetelem",6,null,"Marketing, hirdetés",0,null,"Egyéb  ",62,null,"Belf. pénzintézet által nyújtott hitel kiváltása",0,8]
[null,null,null,null,null,null,null,"Magyar Külkereskedelmi",6,null,"Mezőgazdaság",10,null,"Nincs info",62,null,"Beruházás",0,8]
[null,null,null,null,null,null,null,"Magyar Takarékszövetkezeti Bank",0,null,"Nagyberuházás",0,null,null,null,null,"Egészségügyi kiadások",0,8]
[null,null,null,null,null,null,null,"Mohácsi Takarék Bank",0,null,"Nagykereskedelem",10,null,null,null,null,"Egyéb",0,8]
[null,null,null,null,null,null,null,"Oberbank AG",0,null,"Nehézipar (egyéb)",10,null,null,null,null,"Egyéb befektetés (pénzügyi)",0,8]
[null,null,null,null,null,null,null,"OTP Bank",6,null,"Non-profit szektor (egyéb)",0,null,null,null,null,"Egyéb családi esemény",0,8]
[null,null,null,null,null,null,null,"Pannon Takarék Bank",0,null,"Oktatás - PHD ösztöndíj",0,null,null,null,null,"Egyéb ingatlan építés",0,26]
[null,null,null,null,null,null,null,"Raiffeisen Bank",6,null,"Oktatás, képzés",10,null,null,null,null,"Egyéb ingatlan vásárlása",0,26]
[null,null,null,null,null,null,null,"Sopron Bank Burgenland",0,null,"Pénzügyi szolgáltatás",23,null,null,null,null,"Egyéb lakáscélú kiadások",0,8]
[null,null,null,null,null,null,null,"Széchenyi Kereskedelmi Bank",0,null,"Ruha- és textilipar",0,null,null,null,null,"Egyéb tartós fogyasztási cikk",0,8]
[null,null,null,null,null,null,null,"Takarékszövetkezetek",6,null,"Sporttevékenység",0,null,null,null,null,"Építési telek vásárlása",0,26]
[null,null,null,null,null,null,null,"UniCredit Bank",6,null,"Szállítás, raktározás, posta",10,null,null,null,null,"Esküvő",0,8]
[null,null,null,null,null,null,null,"Volksbank",6,null,"Szociális",10,null,null,null,null,"Földvásárlás",0,26]
[null,null,null,null,null,null,null,"WPB Capital, credit union",0,null,"Szociális - életjáradék, jogdíjak",0,null,null,null,null,"Gépkocsi vásárlás",0,8]
[null,null,null,null,null,null,null,"ZUNO BANK AG",0,null,"Szociális - GYES, GYET, GYED, TGYÁS",0,null,null,null,null,"Jogi kiadás, illeték",0,8]
[null,null,null,null,null,null,null,null,null,null,"Szociális-személyi járadék vakok részére",0,null,null,null,null,"Korszerűsítés",0,8]
[null,null,null,null,null,null,null,null,null,null,"Szolgáltatás - megbízásos alapon",0,null,null,null,null,"Közmű bevezetése",0,8]
[null,null,null,null,null,null,null,null,null,null,"Szolgáltatás (egyéb)",0,null,null,null,null,"Külf. pénzintézet által nyújtott hitel kiváltása",0,8]
[null,null,null,null,null,null,null,null,null,null,"Szolgáltatás-jogi,ügyvéd,jogász,közjegyző",0,null,null,null,null,"Likviditás megőrzése",0,8]
[null,null,null,null,null,null,null,null,null,null,"Szórakozás, kultúra",10,null,null,null,null,"Nem nevesített (hitelcél nélküli)",0,8]
[null,null,null,null,null,null,null,null,null,null,"Tanácsadás, audit",10,null,null,null,null,"Oktatás",0,8]
[null,null,null,null,null,null,null,null,null,null,"Telekommunikáció",10,null,null,null,null,"Szerkezetkész ingatlan megvásárlása",0,26]
[null,null,null,null,null,null,null,null,null,null,"Tömegközlekedés",10,null,null,null,null,"Utazás",0,8]
[null,null,null,null,null,null,null,null,null,null,"Tudományos kutatás",0]
[null,null,null,null,null,null,null,null,null,null,"Turizmus, vendéglátás",0]
[null,null,null,null,null,null,null,null,null,null,"Vegyipar",10]

{"sheet":"kondíciók","index":17,"n_rows":44,"n_cols":19,"rows_kept":44,"cut":false,"hidden":true,"merged":[[34,0,34,1],[38,0,38,5],[40,6,41,6],[0,3,0,7],[30,0,30,1],[31,0,31,1],[32,0,32,1],[33,0,33,1]]}
["dátum, hónap első napja","2021-07-01",null,"MNB alapkamat félév elején a késedelmi kamathoz",null,null,null,null,8.9999999999999993E-3,null,null,null,null,"12 havi Bubor",1.11E-2,{"$f":"IF(O1=B5,0,1)","v":1},null,1.11E-2,{"$f":"IF(R1=B5,0,1)","v":1}]
["60 hónappal később:",{"$f":"EDATE(B1,60)","v":"2026-07-01"},null,null,null,null,null,null,6.4000000000000001E-2,"PPI díja",null,null,null,"ÁKK MFL-hez 5 év",1.8800000000000001E-2,{"$f":"IF(O2=B6,0,1)","v":1},null,1.8800000000000001E-2,{"$f":"IF(R2=B6,0,1)","v":1}]
[null,null,null,null,null,null,null,null,null,null,null,null,null,"ÁKK MFL-hez 10 év",3.0700000000000002E-2,1,null,3.0700000000000002E-2,1]
["REFERENCIA KAMATOK",null,null,null,null,"TÁMOGATOTT KAMATLÁBAK","OTK","OTF","BB",null,null,null,null,"ÁKK MFL-hez 15 év",3.5299999999999998E-2,1,null,3.5299999999999998E-2,1]
["12 havi Bubor",1.34E-2,null,null,null,"alap",0.03,0.03,0,null,null,null,null,"ÁKK MFL-hez 20 év",3.6400000000000002E-2,1,null,3.6400000000000002E-2,1]
["ÁKK MFL-hez 5 év",2.01E-2,null,null,null,"ÁKK 130% feletti felárak",0.03,0.03,0.02,null,null,null,null,"ÁKK OTK-hoz, OTF-hez, BB-hez",1.7000000000000001E-2,1,null,1.7000000000000001E-2,1]
["ÁKK MFL-hez 10 év",2.8199999999999999E-2,null,null,null,"ÁKK 130% feletti felárak",null,null,0.05,null,null,null,null,"Cash loan normál kamatláb",0.12989999999999999,{"$f":"IF(O7=B13,0,1)","v":0},null,0.12989999999999999,{"$f":"IF(R7=B13,0,1)","v":0}]
["ÁKK MFL-hez 15 év",3.27E-2,null,null,null,null,null,null,null,null,null,null,null,"Cash loan VIP kamatláb",9.4899999999999998E-2,{"$f":"IF(O8=B14,0,1)","v":0},null,9.4899999999999998E-2,{"$f":"IF(R8=B14,0,1)","v":0}]
["ÁKK MFL-hez 20 év",3.3799999999999997E-2,null,null,null,"alapszámla",557,null,"szerződéskötési díj",null,"max",null,null,"K1",2.8000000000000001E-2,{"$f":"IF(O9=B17,0,1)","v":0},null,2.8000000000000001E-2,{"$f":"IF(R9=B17,0,1)","v":0}]
["ÁKK OTK-hoz, OTF-hez, BB-hez",1.83E-2,null,null,null,"földhivatal",12600,null,"MFL",7.4999999999999997E-3,150000,null,null,"K2",2.9000000000000001E-2,{"$f":"IF(O10=B18,0,1)","v":0},null,2.9000000000000001E-2,{"$f":"IF(R10=B18,0,1)","v":0}]
["ide mindig a 100% ÁKK (US) kell nem a 130% (Y4)",null,null,null,null,"értékbecslés építés/új vásárlása",31750,null,"üzleti",7.4999999999999997E-3,150000,null,null,"K3",3.1E-2,0,null,3.1E-2,0]
["CL KAMATLÁBAK","alap","RIT-tel",null,null,"helyszíni szemle",21590,null,"OTK",0.01,200000,null,null,"K4",3.3000000000000002E-2,0,null,3.3000000000000002E-2,0]
["Cash loan normál kamatláb",0.12989999999999999,{"$f":"B13-1%","v":0.11989999999999999},null,null,"értékbecslés használt lakás",30480,null,"Babaváró",0,0,null,null,"K5",3.5999999999999997E-2,0,null,3.5999999999999997E-2,0]
["Cash loan VIP kamatláb",9.4899999999999998E-2,{"$f":"B14-2%","v":7.4899999999999994E-2},null,null,"családi ház",34290,null,null,null,null,null,null,"K6",4.4999999999999998E-2,0,null,4.4999999999999998E-2,0]
[null,null,null,null,null,"telek",25400,null,null,null,"MFL","OTK",null,"5Y",4.2899999999999994E-2,{"$f":"IF(O15=D17,0,1)","v":0},null,4.2899999999999994E-2,{"$f":"IF(R15=D17,0,1)","v":0}]
["MTG lakáshitel KAMATLÁBAK","felár","1Y","5Y","10Y","fix10","fix15","fix20",null,"tul-lap",1000,3000,null,"10Y",4.8899999999999999E-2,{"$f":"IF(O16=E17,0,1)","v":0},null,4.8899999999999999E-2,{"$f":"IF(R16=E17,0,1)","v":0}]
["K1",2.8000000000000001E-2,{"$f":"$B$5+B17","v":4.1399999999999999E-2},4.2899999999999994E-2,4.8899999999999999E-2,4.8899999999999999E-2,5.1900000000000002E-2,5.5899999999999998E-2,null,"térkép",3000,4000,null,"fix10",4.8899999999999999E-2,{"$f":"IF(O17=F17,0,1)","v":0},null,4.8899999999999999E-2,{"$f":"IF(R17=F17,0,1)","v":0}]
["K2",2.9000000000000001E-2,{"$f":"$B$5+B18","v":4.24E-2},{"$f":"MIN(D$17+$B18-$B$17,$B$6+3.5%)","v":4.3899999999999995E-2},{"$f":"MIN(E$17+$B18-$B$17,$B$7+3.5%)","v":4.99E-2},4.99E-2,{"$f":"MIN(G$17+$B18-$B$17,$B$8+3.5%)","v":5.2900000000000003E-2},{"$f":"MIN(H$17+$B18-$B$17,$B$9+3.5%)","v":5.6900000000000006E-2},null,"Tulajdoni hányad ellenőrzés",null,1000,null,"fix15",5.1900000000000002E-2,{"$f":"IF(O18=G17,0,1)","v":0},null,5.1900000000000002E-2,{"$f":"IF(R18=G17,0,1)","v":0}]
["K3",3.1E-2,4.4400000000000002E-2,{"$f":"MIN(D$17+$B19-$B$17,$B$6+3.5%)","v":4.5899999999999996E-2},5.1900000000000002E-2,5.1900000000000002E-2,{"$f":"MIN(G$17+$B19-$B$17,$B$8+3.5%)","v":5.4900000000000004E-2},{"$f":"MIN(H$17+$B19-$B$17,$B$9+3.5%)","v":5.8900000000000008E-2},null,null,null,null,null,"fix20",5.5899999999999998E-2,{"$f":"IF(O19=H17,0,1)","v":0},null,5.5899999999999998E-2,{"$f":"IF(R19=H17,0,1)","v":0}]
["K4",3.3000000000000002E-2,4.6400000000000004E-2,{"$f":"MIN(D$17+$B20-$B$17,$B$6+3.5%)","v":4.7899999999999998E-2},5.3900000000000003E-2,5.3900000000000003E-2,{"$f":"MIN(G$17+$B20-$B$17,$B$8+3.5%)","v":5.6900000000000006E-2},{"$f":"MIN(H$17+$B20-$B$17,$B$9+3.5%)","v":6.090000000000001E-2},null,null,null,null,null,"OTK alap",0.03,{"$f":"IF(O20=G5,0,1)","v":0},null,0.03,{"$f":"IF(R20=G5,0,1)","v":0}]
["K5",3.5999999999999997E-2,4.9399999999999999E-2,{"$f":"MIN(D$17+$B21-$B$17,$B$6+3.5%)","v":5.0900000000000001E-2},5.6900000000000006E-2,5.6900000000000006E-2,{"$f":"MIN(G$17+$B21-$B$17,$B$8+3.5%)","v":5.9900000000000009E-2},{"$f":"MIN(H$17+$B21-$B$17,$B$9+3.5%)","v":6.3899999999999998E-2},null,null,null,null,null,"OTK felár",0.03,{"$f":"IF(O21=G6,0,1)","v":0},null,0.03,{"$f":"IF(R21=G6,0,1)","v":0}]
["K6",4.4999999999999998E-2,5.8400000000000001E-2,{"$f":"MIN(D$17+$B22-$B$17,$B$6+3.5%)","v":5.5100000000000003E-2},6.3200000000000006E-2,6.3200000000000006E-2,{"$f":"MIN(G$17+$B22-$B$17,$B$8+3.5%)","v":6.770000000000001E-2},{"$f":"MIN(H$17+$B22-$B$17,$B$9+3.5%)","v":6.88E-2},null,null,null,null,null,"OTF alap",0.03,{"$f":"IF(O22=H5,0,1)","v":0},null,0.03,{"$f":"IF(R22=H5,0,1)","v":0}]
["min",{"$f":"B17-0.6%","v":2.1999999999999999E-2},{"$f":"C17-0.6%","v":3.5400000000000001E-2},3.6899999999999995E-2,4.2900000000000001E-2,4.2900000000000001E-2,4.5900000000000003E-2,4.99E-2,null,null,null,null,null,"OTF felár",0.03,{"$f":"IF(O23=H6,0,1)","v":0},null,0.03,{"$f":"IF(R23=H6,0,1)","v":0}]
["K2-0,6%",{"$f":"B18-0.6%","v":2.3E-2},3.6400000000000002E-2,3.7899999999999996E-2,4.3900000000000002E-2,4.3900000000000002E-2,4.6900000000000004E-2,5.0900000000000008E-2,null,null,null,null,null,"BB alap",0,{"$f":"IF(O24=I5,0,1)","v":0},null,0,{"$f":"IF(R24=I5,0,1)","v":0}]
[null,null,null,null,null,null,null,null,null,null,null,null,null,"BB felár1",0.02,{"$f":"IF(O25=I6,0,1)","v":0},null,0.02,{"$f":"IF(R25=I6,0,1)","v":0}]
[null,null,null,null,null,null,null,null,null,null,null,null,null,"BB felár2",0.05,0,null,0.05,0]
[null,null,null,null,null,null,null,null,null,null,null,null,null,"alapszámla",557,{"$f":"IF(O27=G9,0,1)","v":0},null,557,{"$f":"IF(R27=G9,0,1)","v":0}]
[null,null,null,null,null,null,null,null,null,null,null,null,null,"földhivatal",12600,{"$f":"IF(O28=G10,0,1)","v":0},null,12600,{"$f":"IF(R28=G10,0,1)","v":0}]
[null,null,null,null,null,null,null,null,null,null,null,null,null,"értékbecslés",31750,0,null,31750,0]
["Kamatkedvezmények",null,null,null,null,null,null,null,null,null,null,null,null,"helyszíni szemle",21590,0,null,21590,0]
["munkabér",null,"I",-5.0000000000000001E-3,{"$f":"IF(C31=\"I\",-0.5%,\"\")","v":-5.0000000000000001E-3},{"$f":"IF(C31=F37,\"\",\"átutalási\")","v":"átutalási"},null,null,null,null,null,null,null,"értékbecslés - használt",30480,0,null,30480,0]
["vagyonbiztosítás",null,"I",-1E-3,{"$f":"IF(C32=\"I\",-0.1%,\"\")","v":-1E-3},{"$f":"IF(C32=F37,\"\",IF(AND(C33=F37,C34=F37,C35=F37,C31=F36),\" és vagyonbiztosítási\",IF(C31=F37,\"vagyonbiztosítási\",\", vagyonbiztosítási\")))","v":" és vagyonbiztosítási"},null,null,null,null,null,null,null,null,null,{"$f":"SUM(P1:P31)","v":6},null,null,{"$f":"SUM(S1:S31)","v":6}]
["életbiztosítás",null,"N",-2E-3,{"$f":"IF(C33=\"I\",-0.2%,\"\")","v":""},{"$f":"IF(C33=F37,\"\",IF(AND(C34=F37,C35=F37,OR(C31=F36,C32=F36)),\" és életbiztosítási\",IF(AND(C31=F37,C32=F37),\"életbiztosítási\",\", életbiztosítási\")))","v":""}]
["törlesztési biztosítás",null,"N",-2E-3,{"$f":"IF(AND(C34=\"I\",C33=\"I\"),\"\",IF(C34=\"I\",-0.2%,\"\"))","v":""},{"$f":"IF(C34=F37,\"\",IF(AND(C35=F37,OR(C31=F36,C32=F36,C33=F36)),\" és törlesztési biztosítási\",IF(AND(C31=F37,C32=F37,C33=F37),\"törlesztési biztosítási\",\", törlesztési biztosítási\")))","v":""}]
["prémium banki",null,"N",-2E-3,{"$f":"IF(C35=\"I\",-0.2%,\"\")","v":""},{"$f":"IF(C35=F37,\"\",IF(OR(C31=F36,C32=F36,C33=F36,C34=F36),\" és prémium banki\",\" prémium banki\"))","v":""},null,null,null,null,null,null,null,null,null,"Lista futtatva, OK"]
[null,null,null,null,{"$f":"SUM(E31:E35)","v":-6.0000000000000001E-3},"I",null,null,null,null,null,null,null,null,null,"Futtatni kell a makrót a frissítéshez"]
[null,null,null,null,null,"N"]
[]
["Minden év január 1-én kell frissíteni a következő értékeket:",null,null,null,null,null,"diff"]
[null,null,null,null,"elmúlt 20 év legmagasabb 12 havi BUBOR érték ",0.1338,{"$f":"F40-B5","v":0.12040000000000001}]
[null,null,null,null,"az elmúlt 20 év legmagasabb jegybanki alapkamata",0.125,{"$f":"F41-F42","v":0.11899999999999999}]
[null,null,null,null,"az elmúlt 20 év legalacsonyabb jegybanki alapkamata",6.0000000000000001E-3]
[]
["KSH előző évi nettó átlagkereset",268405]

{"sheet":"BB-model","index":18,"n_rows":298,"n_cols":39,"rows_kept":298,"cut":false,"hidden":true,"merged":[[20,32,20,33]]}
["Hitelfelvétel dátuma",{"$f":"Hiteladatok!I18","v":""},null,null,null,null,null,null,null,null,null,null," hónapos futamidővel, az első 60 hónap alatt 0% kamat mellett, amennyiben nem születik gyermek és a 60. hónapot követően a 60 hónap alatt lehívott állami támogatást az Ügyfél egyösszegben köteles visszafizetni, valamint a további 180 hónapban az ÁKK*130% + 5% kamattal köteles az Ügyfél visszafizetni a hitelt, 0,5% kezességvállalási díj mellett a havi törlesztőrészlet az első 5 évben "]
["Hitelösszeg",{"$f":"Hiteladatok!I15","v":0}]
[{"$f":"IF(B3>B49,\"Futamidő (év)   HIBA: Túl hosszú futamidő!\",\"Futamidő (év)\")","v":"Futamidő (év)   HIBA: Túl hosszú futamidő!"},{"$f":"Hiteladatok!I16/12","v":20},null,"THM",{"$f":"IF(ABS(AM22)<0.01,AL21,\"Indíts a THM számítást\")","v":6.1983353654069324E-2}]
[{"$f":"IF(N19>50000,\"Magasabb lenne a havi törlesztés, mint 50 000 Ft, növelni kell a futamidőt vagy csökkenteni a hitelösszeget.\",\"\")","v":""}]
["Hány gyermek után szeretnél kedvezményt kalkulálni?",0]
[{"$f":"IF(E35=E32,\"Mikorra tervezed a gyermek érkezését?\",\"Mikorra tervezed a gyermekek érkezését?\")","v":"Mikorra tervezed a gyermekek érkezését?"},null,{"$f":"IF($E$35=E31,$D$30,$D$29)","v":"elrejteni"}]
["első gyermek","2026-06-01",{"$f":"IF($E$35>E31,$D$29,$D$30)","v":"elrejteni"}]
["második gyermek","2022-09-01",{"$f":"IF($E$35>E32,$D$29,$D$30)","v":"elrejteni"}]
["harmadik gyermek","2025-04-01","elrejteni"]
[{"$f":"IF(E47>0,\"Biztos vagy ebben? Nincs 9 hónap a gyermekszületések között!\",\"\")","v":{"$error":"#VALUE!"}},null,null,"1 -5 évben","6. évtől"]
["Legmagasabb havi törlesztés",{"$f":"MAX(N23:N298)","v":0},null,{"$f":"MAX(N23:N82)","v":0},{"$f":"MAX(N83:N298)","v":0}]
["Teljes visszafizetendő",{"$f":"AJ21","v":0}]
["Tőketörlesztés",{"$f":"L21","v":0}]
["Kamattörlesztés",{"$f":"K21","v":0}]
["Állami kezességvállalás díja",{"$f":"M21","v":0}]
["Törlesztőszámla havi díja",{"$f":"W21*B38","v":91920}]
["Visszatérítendő kamattámogatás 5 év után",{"$f":"IF(J21>0,Q21,0)","v":0},{"$f":"IF(J21>0,$D$29,$D$30)","v":"mutatni"}]
[]
["Állami támogatások",null,null,null,null,null,null,null,null,null,null,null,null,{"$f":"B2/B3/12+B2*B35/12","v":0}]
["Gyermekvállalási támogatás",{"$f":"AE21","v":0},"mutatni",null,null,null,null,null,null,null,null,null,null,null,null,null,null,null,1.2200000000000001E-2]
["Állami kamattámogatás",{"$f":"Q21","v":0},{"$f":"IF(B21-B17>0,$D$29,$D$30)","v":"elrejteni"},null,null,null,null,null,null,{"$f":"MAX(J23:J298)","v":7.3800000000000004E-2},{"$f":"SUM(K23:K298)","v":0},{"$f":"SUM(L23:L298)","v":0},{"$f":"SUM(M23:M298)","v":0},{"$f":"SUM(N23:N298)","v":0},null,null,{"$f":"SUM(Q23:Q298)","v":0},{"$f":"SUM(R23:R298)","v":{"$error":"#VALUE!"}},{"$f":"SUM(S23:S298)","v":0},{"$f":"SUM(T23:T298)","v":0},{"$f":"SUM(U23:U298)","v":{"$error":"#VALUE!"}},null,{"$f":"MAX(W23:W298)","v":240},null,null,null,null,{"$f":"SUM(AB23:AB298)","v":0},{"$f":"SUM(AC23:AC298)","v":0},{"$f":"SUM(AD23:AD298)","v":0},{"$f":"SUM(AE23:AE298)","v":0},null,"grafikonhoz",null,null,{"$f":"SUM(AJ23:AJ298)","v":0},30.41666,6.1983353654069324E-2]
[null,null,null,null,null,null,null,"month","opening","interest%","interest","capital repayment","guar. fee","instalment","closing",null,"subsidy","commission","funding","marge","DI",null,"tenor","remaing tenor","1st child","2nd child","3rd child","1st grace","2nd grace","ins/grace","prepayment","tengely","volume","instalment",null,"havi teher","eltelt nap","THM",{"$f":"B2-AM298","v":0}]
["start date",{"$f":"B1","v":""},{"$f":"EOMONTH(B23,-1)+1","v":{"$error":"#VALUE!"}},null,null,null,1,{"$f":"IF(B26=12,1,B26+1)","v":{"$error":"#VALUE!"}},{"$f":"B24*1000000","v":0},{"$f":"IF(G23<61,$B$32,IF(AND($B$27<61,$B$27<>\"\"),$B$32,$B$34))","v":0},{"$f":"IF(AA23=\"b\",0,J23*I23/12)","v":0},{"$f":"N23-M23-K23","v":0},{"$f":"IF(AD23=1,0,ROUND(I23*$B$35/12,0))","v":0},{"$f":"IF(AD23=1,M23,PMT(J23/12,X23,-I23)+M23)","v":0},{"$f":"I23+K23+M23-N23-AE23","v":0},null,{"$f":"IF(I23=0,0,IF(J23=$B$32,I23*$B$33/12,0))","v":0},{"$f":"IF(H23=12,I23*$B$37,0)+B36*B24*1000000","v":{"$error":"#VALUE!"}},{"$f":"-I23*$S$20/12","v":0},{"$f":"K23+Q23+S23","v":0},{"$f":"T23+R23","v":{"$error":"#VALUE!"}},null,{"$f":"B25","v":240},{"$f":"W23","v":240},{"$f":"IF(AND(B27<>\"\",G23>=$B$27),\"b\",\"n\")","v":"n"},{"$f":"IF(AND(B28<>\"\",G23>=$B$28),\"b\",\"n\")","v":"n"},{"$f":"IF(AND(B29<>\"\",G23>=$B$29),\"b\",\"n\")","v":"n"},{"$f":"IF($E$35<1,0,IF(OR(G23<=$B$27,G23>MAX(IF($B$27=$B$28,60,36),$B$27+IF($B$27=$B$28,60,36)),$B$27>60),0,1))","v":0},{"$f":"IF($E$35<2,0,IF(OR(G23<=$B$28,G23>$B$28+IF($B$27=$B$28,60,36),$AB$21=0),0,1))","v":0},{"$f":"MAX(AB23:AC23)","v":0},{"$f":"IF(AA23=\"b\",I23,IF(Z23=\"b\",I23*0.3,0))","v":0},null,{"$f":"IF(O23=0,-100000,O23)","v":-100000},{"$f":"IF(AD23=1,0,IF(N23=0,-1000,N23))","v":-1000},null,{"$f":"N23+IF(OR(I23=0,G23>$W$21),0,$B$38)+IF(G23=MIN(60,$B$25),$B$17,0)","v":0},{"$f":"G23*$AK$21","v":30.41666},{"$f":"AJ23/((1+$AL$21)^(AK23/365))","v":0},{"$f":"AL23","v":0}]
["Loan amount M HUF",{"$f":"B2/1000000","v":0},null,null,null,null,{"$f":"G23+1","v":2},{"$f":"IF(H23=12,1,H23+1)","v":{"$error":"#VALUE!"}},{"$f":"O23","v":0},0,0,{"$f":"N24-M24-K24","v":0},{"$f":"ROUND(IF(OR(AD24=1,AA24=\"b\",ROUND(I24,0)=0),0,IF(OR(H24=2,M23=0),I23*$B$35/12,M23)),0)","v":0},{"$f":"IF(OR(AA24=\"b\",ROUND(I24,0)=0),0,IF(OR(AND($B$27<61,AA24=\"b\"),AD24=1),M24,PMT(J24/12,X24,-I24)+M24))","v":0},0,null,{"$f":"IF(I24=0,0,IF(H24<>$H$23,Q23,IF(J24=$B$32,I24*$B$33/12,0)))","v":0},{"$f":"IF(H24=12,O24*$B$37,0)","v":{"$error":"#VALUE!"}},0,{"$f":"K24+Q24+S24","v":0},{"$f":"T24+R24","v":{"$error":"#VALUE!"}},null,{"$f":"IF(Y23=\"b\",W23+$C$27,W23)","v":240},{"$f":"W24-G23","v":239},{"$f":"IF(G24=$B$27,\"b\",\"n\")","v":"n"},{"$f":"IF(G24=$B$28,\"b\",\"n\")","v":"n"},{"$f":"IF(G24=$B$29,\"b\",\"n\")","v":"n"},{"$f":"IF($E$35<1,0,IF(OR(G24<=$B$27,G24>MAX(IF($B$27=$B$28,60,36),$B$27+IF($B$27=$B$28,60,36)),$B$27>60),0,1))","v":0},{"$f":"IF($E$35<2,0,IF(OR(G24<=$B$28,G24>$B$28+IF($B$27=$B$28,60,36),$AB$21=0),0,1))","v":0},{"$f":"MAX(AB24:AC24)","v":0},{"$f":"IF(AA24=\"b\",I24,IF(Z24=\"b\",I24*0.3,0))","v":0},null,{"$f":"IF(O24=0,-100000,O24)","v":-100000},{"$f":"IF(AD24=1,0,IF(N24=0,-1000,N24))","v":-1000},null,{"$f":"N24+IF(OR(I24=0,G24>$W$21),0,$B$38)+IF(G24=MIN(60,$B$25),$B$17,0)","v":0},{"$f":"G24*$AK$21","v":60.833320000000001},{"$f":"AJ24/((1+$AL$21)^(AK24/365))","v":0},{"$f":"AM23+AL24","v":0}]
["Tenor",{"$f":"B3*12","v":240},null,null,null,null,{"$f":"G24+1","v":3},{"$f":"IF(H24=12,1,H24+1)","v":{"$error":"#VALUE!"}},{"$f":"O24","v":0},0,0,0,0,0,0,null,0,{"$error":"#VALUE!"},0,0,{"$error":"#VALUE!"},null,{"$f":"IF(Y24=\"b\",W24+$C$27,W24)","v":240},{"$f":"W25-G24","v":238},"n","n","n",0,0,0,0,null,-100000,-1000,null,0,91.249979999999994,{"$f":"AJ25/((1+$AL$21)^(AK25/365))","v":0},{"$f":"AM24+AL25","v":0}]
["disbursment month",{"$f":"MONTH(B23)","v":{"$error":"#VALUE!"}},null,null,null,null,4,{"$error":"#VALUE!"},0,0,0,0,0,0,0,null,0,{"$error":"#VALUE!"},0,0,{"$error":"#VALUE!"},null,240,237,"n","n","n",0,0,0,0,null,-100000,-1000,null,0,121.66664,0,0]
["12th week of 1st pregnancy (month)",{"$f":"IF(E35=E31,\"\",B45-6)","v":""},{"$f":"IF(AND(B27<>\"\",B27<61),36,0)","v":0},null,null,null,5,{"$error":"#VALUE!"},0,0,0,0,0,0,0,null,0,{"$error":"#VALUE!"},0,0,{"$error":"#VALUE!"},null,240,236,"n","n","n",0,0,0,0,null,-100000,-1000,null,0,152.08330000000001,0,0]
["12th week of 2nd pregnancy (month)",{"$f":"IF(E35<E33,\"\",C45-6)","v":""},null,null,null,null,6,{"$error":"#VALUE!"},0,0,0,0,0,0,0,null,0,{"$error":"#VALUE!"},0,0,{"$error":"#VALUE!"},null,240,235,"n","n","n",0,0,0,0,{"$f":"ROUNDDOWN(G28/12,0)+1","v":1},-100000,-1000,null,0,182.49995999999999,0,0]
["12th week of 3rd pregnancy (month)",{"$f":"IF(E35<E34,\"\",D45-6)","v":""},null,"mutatni",null,null,7,{"$error":"#VALUE!"},0,0,0,0,0,0,0,null,0,{"$error":"#VALUE!"},0,0,{"$error":"#VALUE!"},null,240,234,"n","n","n",0,0,0,0,null,-100000,-1000,null,0,212.91661999999999,0,0]
[null,null,null,"elrejteni",null,null,8,{"$error":"#VALUE!"},0,0,0,0,0,0,0,null,0,{"$error":"#VALUE!"},0,0,{"$error":"#VALUE!"},null,240,233,"n","n","n",0,0,0,0,null,-100000,-1000,null,0,243.33328,0,0]
["ÁKK",{"$f":"kondíciók!B10","v":1.83E-2},null,0,0,null,9,{"$error":"#VALUE!"},0,0,0,0,0,0,0,null,0,{"$error":"#VALUE!"},0,0,{"$error":"#VALUE!"},null,240,232,"n","n","n",0,0,0,0,null,-100000,-1000,null,0,273.74993999999998,0,0]
["Iinterest rate 0",0,null,1,1,null,10,{"$error":"#VALUE!"},0,0,0,0,0,0,0,null,0,{"$error":"#VALUE!"},0,0,{"$error":"#VALUE!"},null,240,231,"n","n","n",0,0,0,0,null,-100000,-1000,null,0,304.16660000000002,0,0]
["Iinterest rate 1",{"$f":"ROUND(B31*1.3,4)+kondíciók!I6","v":4.3800000000000006E-2},null,2,2,null,11,{"$error":"#VALUE!"},0,0,0,0,0,0,0,null,0,{"$error":"#VALUE!"},0,0,{"$error":"#VALUE!"},null,240,230,"n","n","n",0,0,0,0,null,-100000,-1000,null,0,334.58326,0,0]
["Iinterest rate 2",{"$f":"ROUND(B31*1.3,4)+kondíciók!I7","v":7.3800000000000004E-2},null,"3 vagy több",3,null,12,{"$error":"#VALUE!"},0,0,0,0,0,0,0,null,0,{"$error":"#VALUE!"},0,0,{"$error":"#VALUE!"},null,240,229,"n","n","n",0,0,0,0,null,-100000,-1000,null,0,364.99991999999997,0,0]
["Guarantee fee",5.0000000000000001E-3,null,"gyerekszám",{"$f":"VLOOKUP(B5,D31:E34,2,FALSE)","v":0},null,13,{"$error":"#VALUE!"},0,0,0,0,0,0,0,null,0,{"$error":"#VALUE!"},0,0,{"$error":"#VALUE!"},null,240,228,"n","n","n",0,0,0,0,null,-100000,-1000,null,0,395.41658000000001,0,0]
["commission up-front",8.0000000000000002E-3,null,null,null,null,14,{"$error":"#VALUE!"},0,0,0,0,0,0,0,null,0,{"$error":"#VALUE!"},0,0,{"$error":"#VALUE!"},null,240,227,"n","n","n",0,0,0,0,null,-100000,-1000,null,0,425.83323999999999,0,0]
["commision yearly",3.0000000000000001E-3,null,null,null,null,15,{"$error":"#VALUE!"},0,0,0,0,0,0,0,null,0,{"$error":"#VALUE!"},0,0,{"$error":"#VALUE!"},null,240,226,"n","n","n",0,0,0,0,null,-100000,-1000,null,0,456.24990000000003,0,0]
["monthly current account fee",{"$f":"Hiteladatok!I6","v":383},null,null,null,null,16,{"$error":"#VALUE!"},0,0,0,0,0,0,0,null,0,{"$error":"#VALUE!"},0,0,{"$error":"#VALUE!"},null,240,225,"n","n","n",0,0,0,0,null,-100000,-1000,null,0,486.66656,0,0]
[null,null,null,null,null,null,17,{"$error":"#VALUE!"},0,0,0,0,0,0,0,null,0,{"$error":"#VALUE!"},0,0,{"$error":"#VALUE!"},null,240,224,"n","n","n",0,0,0,0,null,-100000,-1000,null,0,517.08321999999998,0,0]
[null,"1. gyerek","2. gyerek","3. gyerek",null,null,18,{"$error":"#VALUE!"},0,0,0,0,0,0,0,null,0,{"$error":"#VALUE!"},0,0,{"$error":"#VALUE!"},null,240,223,"n","n","n",0,0,0,0,2,-100000,-1000,null,0,547.49987999999996,0,0]
["rögzített dátum",{"$f":"B7","v":"2026-06-01"},{"$f":"B8","v":"2022-09-01"},{"$f":"B9","v":"2025-04-01"},null,null,19,{"$error":"#VALUE!"},0,0,0,0,0,0,0,null,0,{"$error":"#VALUE!"},0,0,{"$error":"#VALUE!"},null,240,222,"n","n","n",0,0,0,0,null,-100000,-1000,null,0,577.91654000000005,0,0]
["hó eleje",{"$f":"EOMONTH(B41,-1)+1","v":"2026-06-01"},{"$f":"EOMONTH(C41,-1)+1","v":"2022-09-01"},"2025-04-01",null,null,20,{"$error":"#VALUE!"},0,0,0,0,0,0,0,null,0,{"$error":"#VALUE!"},0,0,{"$error":"#VALUE!"},null,240,221,"n","n","n",0,0,0,0,null,-100000,-1000,null,0,608.33320000000003,0,0]
["ha üres vagy létszámfeletti, akkor távoli",{"$f":"IF(OR(B7=\"\",$E$35<1),100000,B42)","v":"2173-10-14"},{"$f":"IF(OR(B8=\"\",$E$35<2),100000,C42)","v":"2173-10-14"},{"$f":"IF(OR(B9=\"\",$E$35<3),100000,D42)","v":"2173-10-14"},null,null,21,{"$error":"#VALUE!"},0,0,0,0,0,0,0,null,0,{"$error":"#VALUE!"},0,0,{"$error":"#VALUE!"},null,240,220,"n","n","n",0,0,0,0,null,-100000,-1000,null,0,638.74986000000001,0,0]
["min, középső, max",{"$f":"MIN(B43:D43)","v":"2173-10-14"},{"$f":"IF(OR(AND(B43>=C43,B43<=D43),AND(B43<=C43,B43>=D43)),B43,IF(OR(AND(C43>=B43,C43<=D43),AND(C43<=B43,C43>=D43)),C43,D43))","v":"2173-10-14"},{"$f":"MAX(B43:D43)","v":"2173-10-14"},null,null,22,{"$error":"#VALUE!"},0,0,0,0,0,0,0,null,0,{"$error":"#VALUE!"},0,0,{"$error":"#VALUE!"},null,240,219,"n","n","n",0,0,0,0,null,-100000,-1000,null,0,669.16651999999999,0,0]
["folyósítástól hány hónap múlva születik",{"$f":"DAYS360($C$23,B44,TRUE)/30","v":{"$error":"#VALUE!"}},{"$f":"DAYS360($C$23,C44,TRUE)/30","v":{"$error":"#VALUE!"}},{"$f":"DAYS360($C$23,D44,TRUE)/30","v":{"$error":"#VALUE!"}},null,null,23,{"$error":"#VALUE!"},0,0,0,0,0,0,0,null,0,{"$error":"#VALUE!"},0,0,{"$error":"#VALUE!"},null,240,218,"n","n","n",0,0,0,0,null,-100000,-1000,null,0,699.58317999999997,0,0]
["különbség a születések között",null,{"$f":"C45-B45","v":{"$error":"#VALUE!"}},{"$f":"D45-C45","v":{"$error":"#VALUE!"}},null,null,24,{"$error":"#VALUE!"},0,0,0,0,0,0,0,null,0,{"$error":"#VALUE!"},0,0,{"$error":"#VALUE!"},null,240,217,"n","n","n",0,0,0,0,null,-100000,-1000,null,0,729.99983999999995,0,0]
["van 9 hónap köztük?",null,{"$f":"IF(AND(C46<>0,C46<10),1,0)","v":{"$error":"#VALUE!"}},{"$f":"IF(AND(D46<>0,D46<10),1,0)","v":{"$error":"#VALUE!"}},{"$f":"MAX(C47:D47)","v":{"$error":"#VALUE!"}},null,25,{"$error":"#VALUE!"},0,0,0,0,0,0,0,null,0,{"$error":"#VALUE!"},0,0,{"$error":"#VALUE!"},null,240,216,"n","n","n",0,0,0,0,null,-100000,-1000,null,0,760.41650000000004,0,0]
[null,null,null,null,null,null,26,{"$error":"#VALUE!"},0,0,0,0,0,0,0,null,0,{"$error":"#VALUE!"},0,0,{"$error":"#VALUE!"},null,240,215,"n","n","n",0,0,0,0,null,-100000,-1000,null,0,790.83316000000002,0,0]
["max futamidő",{"$f":"IF(B2<5000000,10,20)","v":10},null,null,null,null,27,{"$error":"#VALUE!"},0,0,0,0,0,0,0,null,0,{"$error":"#VALUE!"},0,0,{"$error":"#VALUE!"},null,240,214,"n","n","n",0,0,0,0,null,-100000,-1000,null,0,821.24982,0,0]
["Futamidő (év)   HIBA: Túl hosszú futamidő!",null,null,null,null,null,28,{"$error":"#VALUE!"},0,0,0,0,0,0,0,null,0,{"$error":"#VALUE!"},0,0,{"$error":"#VALUE!"},null,240,213,"n","n","n",0,0,0,0,null,-100000,-1000,null,0,851.66647999999998,0,0]
[null,null,null,null,null,null,29,{"$error":"#VALUE!"},0,0,0,0,0,0,0,null,0,{"$error":"#VALUE!"},0,0,{"$error":"#VALUE!"},null,240,212,"n","n","n",0,0,0,0,null,-100000,-1000,null,0,882.08313999999996,0,0]
[null,null,null,null,null,null,30,{"$error":"#VALUE!"},0,0,0,0,0,0,0,null,0,{"$error":"#VALUE!"},0,0,{"$error":"#VALUE!"},null,240,211,"n","n","n",0,0,0,0,3,-100000,-1000,null,0,912.49980000000005,0,0]
[null,null,null,null,null,null,31,{"$error":"#VALUE!"},0,0,0,0,0,0,0,null,0,{"$error":"#VALUE!"},0,0,{"$error":"#VALUE!"},null,240,210,"n","n","n",0,0,0,0,null,-100000,-1000,null,0,942.91646000000003,0,0]
[null,null,null,null,null,null,32,{"$error":"#VALUE!"},0,0,0,0,0,0,0,null,0,{"$error":"#VALUE!"},0,0,{"$error":"#VALUE!"},null,240,209,"n","n","n",0,0,0,0,null,-100000,-1000,null,0,973.33312000000001,0,0]
[null,null,null,null,null,null,33,{"$error":"#VALUE!"},0,0,0,0,0,0,0,null,0,{"$error":"#VALUE!"},0,0,{"$error":"#VALUE!"},null,240,208,"n","n","n",0,0,0,0,null,-100000,-1000,null,0,1003.74978,0,0]
[null,null,null,null,null,null,34,{"$error":"#VALUE!"},0,0,0,0,0,0,0,null,0,{"$error":"#VALUE!"},0,0,{"$error":"#VALUE!"},null,240,207,"n","n","n",0,0,0,0,null,-100000,-1000,null,0,1034.16644,0,0]
[null,null,null,null,null,null,35,{"$error":"#VALUE!"},0,0,0,0,0,0,0,null,0,{"$error":"#VALUE!"},0,0,{"$error":"#VALUE!"},null,240,206,"n","n","n",0,0,0,0,null,-100000,-1000,null,0,1064.5831000000001,0,0]
[null,null,null,null,null,null,36,{"$error":"#VALUE!"},0,0,0,0,0,0,0,null,0,{"$error":"#VALUE!"},0,0,{"$error":"#VALUE!"},null,240,205,"n","n","n",0,0,0,0,null,-100000,-1000,null,0,1094.9997599999999,0,0]
[null,null,null,null,null,null,37,{"$error":"#VALUE!"},0,0,0,0,0,0,0,null,0,{"$error":"#VALUE!"},0,0,{"$error":"#VALUE!"},null,240,204,"n","n","n",0,0,0,0,null,-100000,-1000,null,0,1125.41642,0,0]
[null,null,null,null,null,null,38,{"$error":"#VALUE!"},0,0,0,0,0,0,0,null,0,{"$error":"#VALUE!"},0,0,{"$error":"#VALUE!"},null,240,203,"n","n","n",0,0,0,0,null,-100000,-1000,null,0,1155.8330800000001,0,0]
[null,null,null,null,null,null,39,{"$error":"#VALUE!"},0,0,0,0,0,0,0,null,0,{"$error":"#VALUE!"},0,0,{"$error":"#VALUE!"},null,240,202,"n","n","n",0,0,0,0,null,-100000,-1000,null,0,1186.24974,0,0]
[null,null,null,null,null,null,40,{"$error":"#VALUE!"},0,0,0,0,0,0,0,null,0,{"$error":"#VALUE!"},0,0,{"$error":"#VALUE!"},null,240,201,"n","n","n",0,0,0,0,null,-100000,-1000,null,0,1216.6664000000001,0,0]
[null,null,null,null,null,null,41,{"$error":"#VALUE!"},0,0,0,0,0,0,0,null,0,{"$error":"#VALUE!"},0,0,{"$error":"#VALUE!"},null,240,200,"n","n","n",0,0,0,0,null,-100000,-1000,null,0,1247.0830599999999,0,0]
[null,null,null,null,null,null,42,{"$error":"#VALUE!"},0,0,0,0,0,0,0,null,0,{"$error":"#VALUE!"},0,0,{"$error":"#VALUE!"},null,240,199,"n","n","n",0,0,0,0,4,-100000,-1000,null,0,1277.49972,0,0]
[null,null,null,null,null,null,43,{"$error":"#VALUE!"},0,0,0,0,0,0,0,null,0,{"$error":"#VALUE!"},0,0,{"$error":"#VALUE!"},null,240,198,"n","n","n",0,0,0,0,null,-100000,-1000,null,0,1307.9163800000001,0,0]
[null,null,null,null,null,null,44,{"$error":"#VALUE!"},0,0,0,0,0,0,0,null,0,{"$error":"#VALUE!"},0,0,{"$error":"#VALUE!"},null,240,197,"n","n","n",0,0,0,0,null,-100000,-1000,null,0,1338.33304,0,0]
[null,null,null,null,null,null,45,{"$error":"#VALUE!"},0,0,0,0,0,0,0,null,0,{"$error":"#VALUE!"},0,0,{"$error":"#VALUE!"},null,240,196,"n","n","n",0,0,0,0,null,-100000,-1000,null,0,1368.7497000000001,0,0]
[null,null,null,null,null,null,46,{"$error":"#VALUE!"},0,0,0,0,0,0,0,null,0,{"$error":"#VALUE!"},0,0,{"$error":"#VALUE!"},null,240,195,"n","n","n",0,0,0,0,null,-100000,-1000,null,0,1399.1663599999999,0,0]
[null,null,null,null,null,null,47,{"$error":"#VALUE!"},0,0,0,0,0,0,0,null,0,{"$error":"#VALUE!"},0,0,{"$error":"#VALUE!"},null,240,194,"n","n","n",0,0,0,0,null,-100000,-1000,null,0,1429.58302,0,0]
[null,null,null,null,null,null,48,{"$error":"#VALUE!"},0,0,0,0,0,0,0,null,0,{"$error":"#VALUE!"},0,0,{"$error":"#VALUE!"},null,240,193,"n","n","n",0,0,0,0,null,-100000,-1000,null,0,1459.9996799999999,0,0]
[null,null,null,null,null,null,49,{"$error":"#VALUE!"},0,0,0,0,0,0,0,null,0,{"$error":"#VALUE!"},0,0,{"$error":"#VALUE!"},null,240,192,"n","n","n",0,0,0,0,null,-100000,-1000,null,0,1490.41634,0,0]
[null,null,null,null,null,null,50,{"$error":"#VALUE!"},0,0,0,0,0,0,0,null,0,{"$error":"#VALUE!"},0,0,{"$error":"#VALUE!"},null,240,191,"n","n","n",0,0,0,0,null,-100000,-1000,null,0,1520.8330000000001,0,0]
[null,null,null,null,null,null,51,{"$error":"#VALUE!"},0,0,0,0,0,0,0,null,0,{"$error":"#VALUE!"},0,0,{"$error":"#VALUE!"},null,240,190,"n","n","n",0,0,0,0,null,-100000,-1000,null,0,1551.2496599999999,0,0]
[null,null,null,null,null,null,52,{"$error":"#VALUE!"},0,0,0,0,0,0,0,null,0,{"$error":"#VALUE!"},0,0,{"$error":"#VALUE!"},null,240,189,"n","n","n",0,0,0,0,null,-100000,-1000,null,0,1581.66632,0,0]
[null,null,null,null,null,null,53,{"$error":"#VALUE!"},0,0,0,0,0,0,0,null,0,{"$error":"#VALUE!"},0,0,{"$error":"#VALUE!"},null,240,188,"n","n","n",0,0,0,0,null,-100000,-1000,null,0,1612.0829799999999,0,0]
[null,null,null,null,null,null,54,{"$error":"#VALUE!"},0,0,0,0,0,0,0,null,0,{"$error":"#VALUE!"},0,0,{"$error":"#VALUE!"},null,240,187,"n","n","n",0,0,0,0,5,-100000,-1000,null,0,1642.49964,0,0]
[null,null,null,null,null,null,55,{"$error":"#VALUE!"},0,0,0,0,0,0,0,null,0,{"$error":"#VALUE!"},0,0,{"$error":"#VALUE!"},null,240,186,"n","n","n",0,0,0,0,null,-100000,-1000,null,0,1672.9163000000001,0,0]
[null,null,null,null,null,null,56,{"$error":"#VALUE!"},0,0,0,0,0,0,0,null,0,{"$error":"#VALUE!"},0,0,{"$error":"#VALUE!"},null,240,185,"n","n","n",0,0,0,0,null,-100000,-1000,null,0,1703.33296,0,0]
[null,null,null,null,null,null,57,{"$error":"#VALUE!"},0,0,0,0,0,0,0,null,0,{"$error":"#VALUE!"},0,0,{"$error":"#VALUE!"},null,240,184,"n","n","n",0,0,0,0,null,-100000,-1000,null,0,1733.74962,0,0]
[null,null,null,null,null,null,58,{"$error":"#VALUE!"},0,0,0,0,0,0,0,null,0,{"$error":"#VALUE!"},0,0,{"$error":"#VALUE!"},null,240,183,"n","n","n",0,0,0,0,null,-100000,-1000,null,0,1764.1662799999999,0,0]
[null,null,null,null,null,null,59,{"$error":"#VALUE!"},0,0,0,0,0,0,0,null,0,{"$error":"#VALUE!"},0,0,{"$error":"#VALUE!"},null,240,182,"n","n","n",0,0,0,0,null,-100000,-1000,null,0,1794.58294,0,0]
[null,null,null,null,null,null,60,{"$error":"#VALUE!"},0,0,0,0,0,0,0,null,0,{"$error":"#VALUE!"},0,0,{"$error":"#VALUE!"},null,240,181,"n","n","n",0,0,0,0,null,-100000,-1000,null,0,1824.9996000000001,0,0]
[null,null,null,null,null,null,61,{"$error":"#VALUE!"},0,7.3800000000000004E-2,0,0,0,0,0,null,0,{"$error":"#VALUE!"},0,0,{"$error":"#VALUE!"},null,240,180,"n","n","n",0,0,0,0,null,-100000,-1000,null,0,1855.41626,0,0]
[null,null,null,null,null,null,62,{"$error":"#VALUE!"},0,7.3800000000000004E-2,0,0,0,0,0,null,0,{"$error":"#VALUE!"},0,0,{"$error":"#VALUE!"},null,240,179,"n","n","n",0,0,0,0,null,-100000,-1000,null,0,1885.8329200000001,0,0]
[null,null,null,null,null,null,63,{"$error":"#VALUE!"},0,7.3800000000000004E-2,0,0,0,0,0,null,0,{"$error":"#VALUE!"},0,0,{"$error":"#VALUE!"},null,240,178,"n","n","n",0,0,0,0,null,-100000,-1000,null,0,1916.2495799999999,0,0]
[null,null,null,null,null,null,64,{"$error":"#VALUE!"},0,7.3800000000000004E-2,0,0,0,0,0,null,0,{"$error":"#VALUE!"},0,0,{"$error":"#VALUE!"},null,240,177,"n","n","n",0,0,0,0,null,-100000,-1000,null,0,1946.66624,0,0]
[null,null,null,null,null,null,65,{"$error":"#VALUE!"},0,{"$f":"IF(G87<61,$B$32,IF(AND($B$27<61,$B$27<>\"\"),$B$32,$B$34))","v":7.3800000000000004E-2},{"$f":"IF(AA87=\"b\",0,J87*I87/12)","v":0},0,0,0,{"$f":"I87+K87+M87-N87-AE87","v":0},null,0,{"$error":"#VALUE!"},{"$f":"-I87*$S$20/12","v":0},0,{"$error":"#VALUE!"},null,240,176,"n","n","n",0,0,0,0,null,-100000,-1000,null,0,1977.0829000000001,0,0]
[null,null,null,null,null,null,66,{"$error":"#VALUE!"},0,7.3800000000000004E-2,0,{"$f":"N88-M88-K88","v":0},{"$f":"ROUND(IF(OR(AD88=1,AA88=\"b\",ROUND(I88,0)=0),0,IF(OR(H88=2,M87=0),I87*$B$35/12,M87)),0)","v":0},{"$f":"IF(OR(AA88=\"b\",ROUND(I88,0)=0),0,IF(OR(AND($B$27<61,AA88=\"b\"),AD88=1),M88,PMT(J88/12,X88,-I88)+M88))","v":0},0,null,{"$f":"IF(I88=0,0,IF(H88<>$H$23,Q87,IF(J88=$B$32,I88*$B$33/12,0)))","v":0},{"$f":"IF(H88=12,O88*$B$37,0)","v":{"$error":"#VALUE!"}},0,{"$f":"K88+Q88+S88","v":0},{"$f":"T88+R88","v":{"$error":"#VALUE!"}},null,240,175,{"$f":"IF(G88=$B$27,\"b\",\"n\")","v":"n"},{"$f":"IF(G88=$B$28,\"b\",\"n\")","v":"n"},{"$f":"IF(G88=$B$29,\"b\",\"n\")","v":"n"},{"$f":"IF($E$35<1,0,IF(OR(G88<=$B$27,G88>MAX(IF($B$27=$B$28,60,36),$B$27+IF($B$27=$B$28,60,36)),$B$27>60),0,1))","v":0},{"$f":"IF($E$35<2,0,IF(OR(G88<=$B$28,G88>$B$28+IF($B$27=$B$28,60,36),$AB$21=0),0,1))","v":0},{"$f":"MAX(AB88:AC88)","v":0},{"$f":"IF(AA88=\"b\",I88,IF(Z88=\"b\",I88*0.3,0))","v":0},{"$f":"ROUNDDOWN(G88/12,0)+1","v":6},{"$f":"IF(O88=0,-100000,O88)","v":-100000},{"$f":"IF(AD88=1,0,IF(N88=0,-1000,N88))","v":-1000},null,{"$f":"N88+IF(OR(I88=0,G88>$W$21),0,$B$38)+IF(G88=MIN(60,$B$25),$B$17,0)","v":0},{"$f":"G88*$AK$21","v":2007.49956},0,0]
[null,null,null,null,null,null,{"$f":"G88+1","v":67},{"$f":"IF(H88=12,1,H88+1)","v":{"$error":"#VALUE!"}},{"$f":"O88","v":0},7.3800000000000004E-2,0,0,0,0,0,null,0,{"$error":"#VALUE!"},0,0,{"$error":"#VALUE!"},null,{"$f":"IF(Y88=\"b\",W88+$C$27,W88)","v":240},{"$f":"W89-G88","v":174},"n","n","n",0,0,0,0,null,-100000,-1000,null,0,2037.9162200000001,{"$f":"AJ89/((1+$AL$21)^(AK89/365))","v":0},{"$f":"AM88+AL89","v":0}]
[null,null,null,null,null,null,68,{"$error":"#VALUE!"},0,7.3800000000000004E-2,0,0,0,0,0,null,0,{"$error":"#VALUE!"},0,0,{"$error":"#VALUE!"},null,240,173,"n","n","n",0,0,0,0,null,-100000,-1000,null,0,2068.3328799999999,0,0]
[null,null,null,null,null,null,69,{"$error":"#VALUE!"},0,7.3800000000000004E-2,0,0,0,0,0,null,0,{"$error":"#VALUE!"},0,0,{"$error":"#VALUE!"},null,240,172,"n","n","n",0,0,0,0,null,-100000,-1000,null,0,2098.7495399999998,0,0]
[null,null,null,null,null,null,70,{"$error":"#VALUE!"},0,7.3800000000000004E-2,0,0,0,0,0,null,0,{"$error":"#VALUE!"},0,0,{"$error":"#VALUE!"},null,240,171,"n","n","n",0,0,0,0,null,-100000,-1000,null,0,2129.1662000000001,0,0]
[null,null,null,null,null,null,71,{"$error":"#VALUE!"},0,7.3800000000000004E-2,0,0,0,0,0,null,0,{"$error":"#VALUE!"},0,0,{"$error":"#VALUE!"},null,240,170,"n","n","n",0,0,0,0,null,-100000,-1000,null,0,2159.58286,0,0]
[null,null,null,null,null,null,72,{"$error":"#VALUE!"},0,7.3800000000000004E-2,0,0,0,0,0,null,0,{"$error":"#VALUE!"},0,0,{"$error":"#VALUE!"},null,240,169,"n","n","n",0,0,0,0,null,-100000,-1000,null,0,2189.9995199999998,0,0]
[null,null,null,null,null,null,73,{"$error":"#VALUE!"},0,7.3800000000000004E-2,0,0,0,0,0,null,0,{"$error":"#VALUE!"},0,0,{"$error":"#VALUE!"},null,240,168,"n","n","n",0,0,0,0,null,-100000,-1000,null,0,2220.4161800000002,0,0]
[null,null,null,null,null,null,74,{"$error":"#VALUE!"},0,7.3800000000000004E-2,0,0,0,0,0,null,0,{"$error":"#VALUE!"},0,0,{"$error":"#VALUE!"},null,240,167,"n","n","n",0,0,0,0,null,-100000,-1000,null,0,2250.83284,0,0]
[null,null,null,null,null,null,75,{"$error":"#VALUE!"},0,7.3800000000000004E-2,0,0,0,0,0,null,0,{"$error":"#VALUE!"},0,0,{"$error":"#VALUE!"},null,240,166,"n","n","n",0,0,0,0,null,-100000,-1000,null,0,2281.2494999999999,0,0]
[null,null,null,null,null,null,76,{"$error":"#VALUE!"},0,7.3800000000000004E-2,0,0,0,0,0,null,0,{"$error":"#VALUE!"},0,0,{"$error":"#VALUE!"},null,240,165,"n","n","n",0,0,0,0,null,-100000,-1000,null,0,2311.6661600000002,0,0]
[null,null,null,null,null,null,77,{"$error":"#VALUE!"},0,7.3800000000000004E-2,0,0,0,0,0,null,0,{"$error":"#VALUE!"},0,0,{"$error":"#VALUE!"},null,240,164,"n","n","n",0,0,0,0,null,-100000,-1000,null,0,2342.0828200000001,0,0]
[null,null,null,null,null,null,78,{"$error":"#VALUE!"},0,7.3800000000000004E-2,0,0,0,0,0,null,0,{"$error":"#VALUE!"},0,0,{"$error":"#VALUE!"},null,240,163,"n","n","n",0,0,0,0,7,-100000,-1000,null,0,2372.4994799999999,0,0]
[null,null,null,null,null,null,79,{"$error":"#VALUE!"},0,7.3800000000000004E-2,0,0,0,0,0,null,0,{"$error":"#VALUE!"},0,0,{"$error":"#VALUE!"},null,240,162,"n","n","n",0,0,0,0,null,-100000,-1000,null,0,2402.9161399999998,0,0]
[null,null,null,null,null,null,80,{"$error":"#VALUE!"},0,7.3800000000000004E-2,0,0,0,0,0,null,0,{"$error":"#VALUE!"},0,0,{"$error":"#VALUE!"},null,240,161,"n","n","n",0,0,0,0,null,-100000,-1000,null,0,2433.3328000000001,0,0]
[null,null,null,null,null,null,81,{"$error":"#VALUE!"},0,7.3800000000000004E-2,0,0,0,0,0,null,0,{"$error":"#VALUE!"},0,0,{"$error":"#VALUE!"},null,240,160,"n","n","n",0,0,0,0,null,-100000,-1000,null,0,2463.74946,0,0]
[null,null,null,null,null,null,82,{"$error":"#VALUE!"},0,7.3800000000000004E-2,0,0,0,0,0,null,0,{"$error":"#VALUE!"},0,0,{"$error":"#VALUE!"},null,240,159,"n","n","n",0,0,0,0,null,-100000,-1000,null,0,2494.1661199999999,0,0]
[null,null,null,null,null,null,83,{"$error":"#VALUE!"},0,7.3800000000000004E-2,0,0,0,0,0,null,0,{"$error":"#VALUE!"},0,0,{"$error":"#VALUE!"},null,240,158,"n","n","n",0,0,0,0,null,-100000,-1000,null,0,2524.5827800000002,0,0]
[null,null,null,null,null,null,84,{"$error":"#VALUE!"},0,7.3800000000000004E-2,0,0,0,0,0,null,0,{"$error":"#VALUE!"},0,0,{"$error":"#VALUE!"},null,240,157,"n","n","n",0,0,0,0,null,-100000,-1000,null,0,2554.99944,0,0]
[null,null,null,null,null,null,85,{"$error":"#VALUE!"},0,7.3800000000000004E-2,0,0,0,0,0,null,0,{"$error":"#VALUE!"},0,0,{"$error":"#VALUE!"},null,240,156,"n","n","n",0,0,0,0,null,-100000,-1000,null,0,2585.4160999999999,0,0]
[null,null,null,null,null,null,86,{"$error":"#VALUE!"},0,7.3800000000000004E-2,0,0,0,0,0,null,0,{"$error":"#VALUE!"},0,0,{"$error":"#VALUE!"},null,240,155,"n","n","n",0,0,0,0,null,-100000,-1000,null,0,2615.8327600000002,0,0]
[null,null,null,null,null,null,87,{"$error":"#VALUE!"},0,7.3800000000000004E-2,0,0,0,0,0,null,0,{"$error":"#VALUE!"},0,0,{"$error":"#VALUE!"},null,240,154,"n","n","n",0,0,0,0,null,-100000,-1000,null,0,2646.2494200000001,0,0]
[null,null,null,null,null,null,88,{"$error":"#VALUE!"},0,7.3800000000000004E-2,0,0,0,0,0,null,0,{"$error":"#VALUE!"},0,0,{"$error":"#VALUE!"},null,240,153,"n","n","n",0,0,0,0,null,-100000,-1000,null,0,2676.66608,0,0]
[null,null,null,null,null,null,89,{"$error":"#VALUE!"},0,7.3800000000000004E-2,0,0,0,0,0,null,0,{"$error":"#VALUE!"},0,0,{"$error":"#VALUE!"},null,240,152,"n","n","n",0,0,0,0,null,-100000,-1000,null,0,2707.0827399999998,0,0]
[null,null,null,null,null,null,90,{"$error":"#VALUE!"},0,7.3800000000000004E-2,0,0,0,0,0,null,0,{"$error":"#VALUE!"},0,0,{"$error":"#VALUE!"},null,240,151,"n","n","n",0,0,0,0,8,-100000,-1000,null,0,2737.4994000000002,0,0]
[null,null,null,null,null,null,91,{"$error":"#VALUE!"},0,7.3800000000000004E-2,0,0,0,0,0,null,0,{"$error":"#VALUE!"},0,0,{"$error":"#VALUE!"},null,240,150,"n","n","n",0,0,0,0,null,-100000,-1000,null,0,2767.91606,0,0]
[null,null,null,null,null,null,92,{"$error":"#VALUE!"},0,7.3800000000000004E-2,0,0,0,0,0,null,0,{"$error":"#VALUE!"},0,0,{"$error":"#VALUE!"},null,240,149,"n","n","n",0,0,0,0,null,-100000,-1000,null,0,2798.3327199999999,0,0]
[null,null,null,null,null,null,93,{"$error":"#VALUE!"},0,7.3800000000000004E-2,0,0,0,0,0,null,0,{"$error":"#VALUE!"},0,0,{"$error":"#VALUE!"},null,240,148,"n","n","n",0,0,0,0,null,-100000,-1000,null,0,2828.7493800000002,0,0]
[null,null,null,null,null,null,94,{"$error":"#VALUE!"},0,7.3800000000000004E-2,0,0,0,0,0,null,0,{"$error":"#VALUE!"},0,0,{"$error":"#VALUE!"},null,240,147,"n","n","n",0,0,0,0,null,-100000,-1000,null,0,2859.1660400000001,0,0]
[null,null,null,null,null,null,95,{"$error":"#VALUE!"},0,7.3800000000000004E-2,0,0,0,0,0,null,0,{"$error":"#VALUE!"},0,0,{"$error":"#VALUE!"},null,240,146,"n","n","n",0,0,0,0,null,-100000,-1000,null,0,2889.5826999999999,0,0]
[null,null,null,null,null,null,96,{"$error":"#VALUE!"},0,7.3800000000000004E-2,0,0,0,0,0,null,0,{"$error":"#VALUE!"},0,0,{"$error":"#VALUE!"},null,240,145,"n","n","n",0,0,0,0,null,-100000,-1000,null,0,2919.9993599999998,0,0]
[null,null,null,null,null,null,97,{"$error":"#VALUE!"},0,7.3800000000000004E-2,0,0,0,0,0,null,0,{"$error":"#VALUE!"},0,0,{"$error":"#VALUE!"},null,240,144,"n","n","n",0,0,0,0,null,-100000,-1000,null,0,2950.4160200000001,0,0]
[null,null,null,null,null,null,98,{"$error":"#VALUE!"},0,7.3800000000000004E-2,0,0,0,0,0,null,0,{"$error":"#VALUE!"},0,0,{"$error":"#VALUE!"},null,240,143,"n","n","n",0,0,0,0,null,-100000,-1000,null,0,2980.83268,0,0]
[null,null,null,null,null,null,99,{"$error":"#VALUE!"},0,7.3800000000000004E-2,0,0,0,0,0,null,0,{"$error":"#VALUE!"},0,0,{"$error":"#VALUE!"},null,240,142,"n","n","n",0,0,0,0,null,-100000,-1000,null,0,3011.2493399999998,0,0]
[null,null,null,null,null,null,100,{"$error":"#VALUE!"},0,7.3800000000000004E-2,0,0,0,0,0,null,0,{"$error":"#VALUE!"},0,0,{"$error":"#VALUE!"},null,240,141,"n","n","n",0,0,0,0,null,-100000,-1000,null,0,3041.6660000000002,0,0]
[null,null,null,null,null,null,101,{"$error":"#VALUE!"},0,7.3800000000000004E-2,0,0,0,0,0,null,0,{"$error":"#VALUE!"},0,0,{"$error":"#VALUE!"},null,240,140,"n","n","n",0,0,0,0,null,-100000,-1000,null,0,3072.08266,0,0]
[null,null,null,null,null,null,102,{"$error":"#VALUE!"},0,7.3800000000000004E-2,0,0,0,0,0,null,0,{"$error":"#VALUE!"},0,0,{"$error":"#VALUE!"},null,240,139,"n","n","n",0,0,0,0,9,-100000,-1000,null,0,3102.4993199999999,0,0]
[null,null,null,null,null,null,103,{"$error":"#VALUE!"},0,7.3800000000000004E-2,0,0,0,0,0,null,0,{"$error":"#VALUE!"},0,0,{"$error":"#VALUE!"},null,240,138,"n","n","n",0,0,0,0,null,-100000,-1000,null,0,3132.9159800000002,0,0]
[null,null,null,null,null,null,104,{"$error":"#VALUE!"},0,7.3800000000000004E-2,0,0,0,0,0,null,0,{"$error":"#VALUE!"},0,0,{"$error":"#VALUE!"},null,240,137,"n","n","n",0,0,0,0,null,-100000,-1000,null,0,3163.3326400000001,0,0]
[null,null,null,null,null,null,105,{"$error":"#VALUE!"},0,7.3800000000000004E-2,0,0,0,0,0,null,0,{"$error":"#VALUE!"},0,0,{"$error":"#VALUE!"},null,240,136,"n","n","n",0,0,0,0,null,-100000,-1000,null,0,3193.7492999999999,0,0]
[null,null,null,null,null,null,106,{"$error":"#VALUE!"},0,7.3800000000000004E-2,0,0,0,0,0,null,0,{"$error":"#VALUE!"},0,0,{"$error":"#VALUE!"},null,240,135,"n","n","n",0,0,0,0,null,-100000,-1000,null,0,3224.1659599999998,0,0]
[null,null,null,null,null,null,107,{"$error":"#VALUE!"},0,7.3800000000000004E-2,0,0,0,0,0,null,0,{"$error":"#VALUE!"},0,0,{"$error":"#VALUE!"},null,240,134,"n","n","n",0,0,0,0,null,-100000,-1000,null,0,3254.5826200000001,0,0]
[null,null,null,null,null,null,108,{"$error":"#VALUE!"},0,7.3800000000000004E-2,0,0,0,0,0,null,0,{"$error":"#VALUE!"},0,0,{"$error":"#VALUE!"},null,240,133,"n","n","n",0,0,0,0,null,-100000,-1000,null,0,3284.99928,0,0]
[null,null,null,null,null,null,109,{"$error":"#VALUE!"},0,7.3800000000000004E-2,0,0,0,0,0,null,0,{"$error":"#VALUE!"},0,0,{"$error":"#VALUE!"},null,240,132,"n","n","n",0,0,0,0,null,-100000,-1000,null,0,3315.4159399999999,0,0]
[null,null,null,null,null,null,110,{"$error":"#VALUE!"},0,7.3800000000000004E-2,0,0,0,0,0,null,0,{"$error":"#VALUE!"},0,0,{"$error":"#VALUE!"},null,240,131,"n","n","n",0,0,0,0,null,-100000,-1000,null,0,3345.8326000000002,0,0]
[null,null,null,null,null,null,111,{"$error":"#VALUE!"},0,7.3800000000000004E-2,0,0,0,0,0,null,0,{"$error":"#VALUE!"},0,0,{"$error":"#VALUE!"},null,240,130,"n","n","n",0,0,0,0,null,-100000,-1000,null,0,3376.24926,0,0]
[null,null,null,null,null,null,112,{"$error":"#VALUE!"},0,7.3800000000000004E-2,0,0,0,0,0,null,0,{"$error":"#VALUE!"},0,0,{"$error":"#VALUE!"},null,240,129,"n","n","n",0,0,0,0,null,-100000,-1000,null,0,3406.6659199999999,0,0]
[null,null,null,null,null,null,113,{"$error":"#VALUE!"},0,7.3800000000000004E-2,0,0,0,0,0,null,0,{"$error":"#VALUE!"},0,0,{"$error":"#VALUE!"},null,240,128,"n","n","n",0,0,0,0,null,-100000,-1000,null,0,3437.0825800000002,0,0]
[null,null,null,null,null,null,114,{"$error":"#VALUE!"},0,7.3800000000000004E-2,0,0,0,0,0,null,0,{"$error":"#VALUE!"},0,0,{"$error":"#VALUE!"},null,240,127,"n","n","n",0,0,0,0,10,-100000,-1000,null,0,3467.4992400000001,0,0]
[null,null,null,null,null,null,115,{"$error":"#VALUE!"},0,7.3800000000000004E-2,0,0,0,0,0,null,0,{"$error":"#VALUE!"},0,0,{"$error":"#VALUE!"},null,240,126,"n","n","n",0,0,0,0,null,-100000,-1000,null,0,3497.9159,0,0]
[null,null,null,null,null,null,116,{"$error":"#VALUE!"},0,7.3800000000000004E-2,0,0,0,0,0,null,0,{"$error":"#VALUE!"},0,0,{"$error":"#VALUE!"},null,240,125,"n","n","n",0,0,0,0,null,-100000,-1000,null,0,3528.3325599999998,0,0]
[null,null,null,null,null,null,117,{"$error":"#VALUE!"},0,7.3800000000000004E-2,0,0,0,0,0,null,0,{"$error":"#VALUE!"},0,0,{"$error":"#VALUE!"},null,240,124,"n","n","n",0,0,0,0,null,-100000,-1000,null,0,3558.7492200000002,0,0]
[null,null,null,null,null,null,118,{"$error":"#VALUE!"},0,7.3800000000000004E-2,0,0,0,0,0,null,0,{"$error":"#VALUE!"},0,0,{"$error":"#VALUE!"},null,240,123,"n","n","n",0,0,0,0,null,-100000,-1000,null,0,3589.16588,0,0]
[null,null,null,null,null,null,119,{"$error":"#VALUE!"},0,7.3800000000000004E-2,0,0,0,0,0,null,0,{"$error":"#VALUE!"},0,0,{"$error":"#VALUE!"},null,240,122,"n","n","n",0,0,0,0,null,-100000,-1000,null,0,3619.5825399999999,0,0]
[null,null,null,null,null,null,120,{"$error":"#VALUE!"},0,7.3800000000000004E-2,0,0,0,0,0,null,0,{"$error":"#VALUE!"},0,0,{"$error":"#VALUE!"},null,240,121,"n","n","n",0,0,0,0,null,-100000,-1000,null,0,3649.9992000000002,0,0]
[null,null,null,null,null,null,121,{"$error":"#VALUE!"},0,7.3800000000000004E-2,0,0,0,0,0,null,0,{"$error":"#VALUE!"},0,0,{"$error":"#VALUE!"},null,240,120,"n","n","n",0,0,0,0,null,-100000,-1000,null,0,3680.4158600000001,0,0]
[null,null,null,null,null,null,122,{"$error":"#VALUE!"},0,7.3800000000000004E-2,0,0,0,0,0,null,0,{"$error":"#VALUE!"},0,0,{"$error":"#VALUE!"},null,240,119,"n","n","n",0,0,0,0,null,-100000,-1000,null,0,3710.8325199999999,0,0]
[null,null,null,null,null,null,123,{"$error":"#VALUE!"},0,7.3800000000000004E-2,0,0,0,0,0,null,0,{"$error":"#VALUE!"},0,0,{"$error":"#VALUE!"},null,240,118,"n","n","n",0,0,0,0,null,-100000,-1000,null,0,3741.2491800000003,0,0]
[null,null,null,null,null,null,124,{"$error":"#VALUE!"},0,7.3800000000000004E-2,0,0,0,0,0,null,0,{"$error":"#VALUE!"},0,0,{"$error":"#VALUE!"},null,240,117,"n","n","n",0,0,0,0,null,-100000,-1000,null,0,3771.6658400000001,0,0]
[null,null,null,null,null,null,125,{"$error":"#VALUE!"},0,7.3800000000000004E-2,0,0,0,0,0,null,0,{"$error":"#VALUE!"},0,0,{"$error":"#VALUE!"},null,240,116,"n","n","n",0,0,0,0,null,-100000,-1000,null,0,3802.0825,0,0]
[null,null,null,null,null,null,126,{"$error":"#VALUE!"},0,7.3800000000000004E-2,0,0,0,0,0,null,0,{"$error":"#VALUE!"},0,0,{"$error":"#VALUE!"},null,240,115,"n","n","n",0,0,0,0,11,-100000,-1000,null,0,3832.4991599999998,0,0]
[null,null,null,null,null,null,127,{"$error":"#VALUE!"},0,7.3800000000000004E-2,0,0,0,0,0,null,0,{"$error":"#VALUE!"},0,0,{"$error":"#VALUE!"},null,240,114,"n","n","n",0,0,0,0,null,-100000,-1000,null,0,3862.9158200000002,0,0]
[null,null,null,null,null,null,128,{"$error":"#VALUE!"},0,7.3800000000000004E-2,0,0,0,0,0,null,0,{"$error":"#VALUE!"},0,0,{"$error":"#VALUE!"},null,240,113,"n","n","n",0,0,0,0,null,-100000,-1000,null,0,3893.33248,0,0]
[null,null,null,null,null,null,129,{"$error":"#VALUE!"},0,{"$f":"IF(G151<61,$B$32,IF(AND($B$27<61,$B$27<>\"\"),$B$32,$B$34))","v":7.3800000000000004E-2},{"$f":"IF(AA151=\"b\",0,J151*I151/12)","v":0},0,0,0,{"$f":"I151+K151+M151-N151-AE151","v":0},null,0,{"$error":"#VALUE!"},{"$f":"-I151*$S$20/12","v":0},0,{"$error":"#VALUE!"},null,240,112,"n","n","n",0,0,0,0,null,-100000,-1000,null,0,3923.7491399999999,0,0]
[null,null,null,null,null,null,130,{"$error":"#VALUE!"},0,7.3800000000000004E-2,0,{"$f":"N152-M152-K152","v":0},{"$f":"ROUND(IF(OR(AD152=1,AA152=\"b\",ROUND(I152,0)=0),0,IF(OR(H152=2,M151=0),I151*$B$35/12,M151)),0)","v":0},{"$f":"IF(OR(AA152=\"b\",ROUND(I152,0)=0),0,IF(OR(AND($B$27<61,AA152=\"b\"),AD152=1),M152,PMT(J152/12,X152,-I152)+M152))","v":0},0,null,{"$f":"IF(I152=0,0,IF(H152<>$H$23,Q151,IF(J152=$B$32,I152*$B$33/12,0)))","v":0},{"$f":"IF(H152=12,O152*$B$37,0)","v":{"$error":"#VALUE!"}},0,{"$f":"K152+Q152+S152","v":0},{"$f":"T152+R152","v":{"$error":"#VALUE!"}},null,240,111,{"$f":"IF(G152=$B$27,\"b\",\"n\")","v":"n"},{"$f":"IF(G152=$B$28,\"b\",\"n\")","v":"n"},{"$f":"IF(G152=$B$29,\"b\",\"n\")","v":"n"},{"$f":"IF($E$35<1,0,IF(OR(G152<=$B$27,G152>MAX(IF($B$27=$B$28,60,36),$B$27+IF($B$27=$B$28,60,36)),$B$27>60),0,1))","v":0},{"$f":"IF($E$35<2,0,IF(OR(G152<=$B$28,G152>$B$28+IF($B$27=$B$28,60,36),$AB$21=0),0,1))","v":0},{"$f":"MAX(AB152:AC152)","v":0},{"$f":"IF(AA152=\"b\",I152,IF(Z152=\"b\",I152*0.3,0))","v":0},null,{"$f":"IF(O152=0,-100000,O152)","v":-100000},{"$f":"IF(AD152=1,0,IF(N152=0,-1000,N152))","v":-1000},null,{"$f":"N152+IF(OR(I152=0,G152>$W$21),0,$B$38)+IF(G152=MIN(60,$B$25),$B$17,0)","v":0},{"$f":"G152*$AK$21","v":3954.1658000000002},0,0]
[null,null,null,null,null,null,{"$f":"G152+1","v":131},{"$f":"IF(H152=12,1,H152+1)","v":{"$error":"#VALUE!"}},{"$f":"O152","v":0},7.3800000000000004E-2,0,0,0,0,0,null,0,{"$error":"#VALUE!"},0,0,{"$error":"#VALUE!"},null,{"$f":"IF(Y152=\"b\",W152+$C$27,W152)","v":240},{"$f":"W153-G152","v":110},"n","n","n",0,0,0,0,null,-100000,-1000,null,0,3984.5824600000001,{"$f":"AJ153/((1+$AL$21)^(AK153/365))","v":0},{"$f":"AM152+AL153","v":0}]
[null,null,null,null,null,null,132,{"$error":"#VALUE!"},0,7.3800000000000004E-2,0,0,0,0,0,null,0,{"$error":"#VALUE!"},0,0,{"$error":"#VALUE!"},null,240,109,"n","n","n",0,0,0,0,null,-100000,-1000,null,0,4014.9991199999999,0,0]
[null,null,null,null,null,null,133,{"$error":"#VALUE!"},0,7.3800000000000004E-2,0,0,0,0,0,null,0,{"$error":"#VALUE!"},0,0,{"$error":"#VALUE!"},null,240,108,"n","n","n",0,0,0,0,null,-100000,-1000,null,0,4045.4157799999998,0,0]
[null,null,null,null,null,null,134,{"$error":"#VALUE!"},0,7.3800000000000004E-2,0,0,0,0,0,null,0,{"$error":"#VALUE!"},0,0,{"$error":"#VALUE!"},null,240,107,"n","n","n",0,0,0,0,null,-100000,-1000,null,0,4075.8324400000001,0,0]
[null,null,null,null,null,null,135,{"$error":"#VALUE!"},0,7.3800000000000004E-2,0,0,0,0,0,null,0,{"$error":"#VALUE!"},0,0,{"$error":"#VALUE!"},null,240,106,"n","n","n",0,0,0,0,null,-100000,-1000,null,0,4106.2491,0,0]
[null,null,null,null,null,null,136,{"$error":"#VALUE!"},0,7.3800000000000004E-2,0,0,0,0,0,null,0,{"$error":"#VALUE!"},0,0,{"$error":"#VALUE!"},null,240,105,"n","n","n",0,0,0,0,null,-100000,-1000,null,0,4136.6657599999999,0,0]
[null,null,null,null,null,null,137,{"$error":"#VALUE!"},0,7.3800000000000004E-2,0,0,0,0,0,null,0,{"$error":"#VALUE!"},0,0,{"$error":"#VALUE!"},null,240,104,"n","n","n",0,0,0,0,null,-100000,-1000,null,0,4167.0824199999997,0,0]
[null,null,null,null,null,null,138,{"$error":"#VALUE!"},0,7.3800000000000004E-2,0,0,0,0,0,null,0,{"$error":"#VALUE!"},0,0,{"$error":"#VALUE!"},null,240,103,"n","n","n",0,0,0,0,{"$f":"ROUNDDOWN(G160/12,0)+1","v":12},-100000,-1000,null,0,4197.4990799999996,0,0]
[null,null,null,null,null,null,139,{"$error":"#VALUE!"},0,7.3800000000000004E-2,0,0,0,0,0,null,0,{"$error":"#VALUE!"},0,0,{"$error":"#VALUE!"},null,240,102,"n","n","n",0,0,0,0,null,-100000,-1000,null,0,4227.9157400000004,0,0]
[null,null,null,null,null,null,140,{"$error":"#VALUE!"},0,7.3800000000000004E-2,0,0,0,0,0,null,0,{"$error":"#VALUE!"},0,0,{"$error":"#VALUE!"},null,240,101,"n","n","n",0,0,0,0,null,-100000,-1000,null,0,4258.3324000000002,0,0]
[null,null,null,null,null,null,141,{"$error":"#VALUE!"},0,7.3800000000000004E-2,0,0,0,0,0,null,0,{"$error":"#VALUE!"},0,0,{"$error":"#VALUE!"},null,240,100,"n","n","n",0,0,0,0,null,-100000,-1000,null,0,4288.7490600000001,0,0]
[null,null,null,null,null,null,142,{"$error":"#VALUE!"},0,7.3800000000000004E-2,0,0,0,0,0,null,0,{"$error":"#VALUE!"},0,0,{"$error":"#VALUE!"},null,240,99,"n","n","n",0,0,0,0,null,-100000,-1000,null,0,4319.16572,0,0]
[null,null,null,null,null,null,143,{"$error":"#VALUE!"},0,7.3800000000000004E-2,0,0,0,0,0,null,0,{"$error":"#VALUE!"},0,0,{"$error":"#VALUE!"},null,240,98,"n","n","n",0,0,0,0,null,-100000,-1000,null,0,4349.5823799999998,0,0]
[null,null,null,null,null,null,144,{"$error":"#VALUE!"},0,7.3800000000000004E-2,0,0,0,0,0,null,0,{"$error":"#VALUE!"},0,0,{"$error":"#VALUE!"},null,240,97,"n","n","n",0,0,0,0,null,-100000,-1000,null,0,4379.9990399999997,0,0]
[null,null,null,null,null,null,145,{"$error":"#VALUE!"},0,7.3800000000000004E-2,0,0,0,0,0,null,0,{"$error":"#VALUE!"},0,0,{"$error":"#VALUE!"},null,240,96,"n","n","n",0,0,0,0,null,-100000,-1000,null,0,4410.4157000000005,0,0]
[null,null,null,null,null,null,146,{"$error":"#VALUE!"},0,7.3800000000000004E-2,0,0,0,0,0,null,0,{"$error":"#VALUE!"},0,0,{"$error":"#VALUE!"},null,240,95,"n","n","n",0,0,0,0,null,-100000,-1000,null,0,4440.8323600000003,0,0]
[null,null,null,null,null,null,147,{"$error":"#VALUE!"},0,7.3800000000000004E-2,0,0,0,0,0,null,0,{"$error":"#VALUE!"},0,0,{"$error":"#VALUE!"},null,240,94,"n","n","n",0,0,0,0,null,-100000,-1000,null,0,4471.2490200000002,0,0]
[null,null,null,null,null,null,148,{"$error":"#VALUE!"},0,7.3800000000000004E-2,0,0,0,0,0,null,0,{"$error":"#VALUE!"},0,0,{"$error":"#VALUE!"},null,240,93,"n","n","n",0,0,0,0,null,-100000,-1000,null,0,4501.6656800000001,0,0]
[null,null,null,null,null,null,149,{"$error":"#VALUE!"},0,7.3800000000000004E-2,0,0,0,0,0,null,0,{"$error":"#VALUE!"},0,0,{"$error":"#VALUE!"},null,240,92,"n","n","n",0,0,0,0,null,-100000,-1000,null,0,4532.0823399999999,0,0]
[null,null,null,null,null,null,150,{"$error":"#VALUE!"},0,7.3800000000000004E-2,0,0,0,0,0,null,0,{"$error":"#VALUE!"},0,0,{"$error":"#VALUE!"},null,240,91,"n","n","n",0,0,0,0,13,-100000,-1000,null,0,4562.4989999999998,0,0]
[null,null,null,null,null,null,151,{"$error":"#VALUE!"},0,7.3800000000000004E-2,0,0,0,0,0,null,0,{"$error":"#VALUE!"},0,0,{"$error":"#VALUE!"},null,240,90,"n","n","n",0,0,0,0,null,-100000,-1000,null,0,4592.9156599999997,0,0]
[null,null,null,null,null,null,152,{"$error":"#VALUE!"},0,7.3800000000000004E-2,0,0,0,0,0,null,0,{"$error":"#VALUE!"},0,0,{"$error":"#VALUE!"},null,240,89,"n","n","n",0,0,0,0,null,-100000,-1000,null,0,4623.3323200000004,0,0]
[null,null,null,null,null,null,153,{"$error":"#VALUE!"},0,7.3800000000000004E-2,0,0,0,0,0,null,0,{"$error":"#VALUE!"},0,0,{"$error":"#VALUE!"},null,240,88,"n","n","n",0,0,0,0,null,-100000,-1000,null,0,4653.7489800000003,0,0]
[null,null,null,null,null,null,154,{"$error":"#VALUE!"},0,7.3800000000000004E-2,0,0,0,0,0,null,0,{"$error":"#VALUE!"},0,0,{"$error":"#VALUE!"},null,240,87,"n","n","n",0,0,0,0,null,-100000,-1000,null,0,4684.1656400000002,0,0]
[null,null,null,null,null,null,155,{"$error":"#VALUE!"},0,7.3800000000000004E-2,0,0,0,0,0,null,0,{"$error":"#VALUE!"},0,0,{"$error":"#VALUE!"},null,240,86,"n","n","n",0,0,0,0,null,-100000,-1000,null,0,4714.5823,0,0]
[null,null,null,null,null,null,156,{"$error":"#VALUE!"},0,7.3800000000000004E-2,0,0,0,0,0,null,0,{"$error":"#VALUE!"},0,0,{"$error":"#VALUE!"},null,240,85,"n","n","n",0,0,0,0,null,-100000,-1000,null,0,4744.9989599999999,0,0]
[null,null,null,null,null,null,157,{"$error":"#VALUE!"},0,7.3800000000000004E-2,0,0,0,0,0,null,0,{"$error":"#VALUE!"},0,0,{"$error":"#VALUE!"},null,240,84,"n","n","n",0,0,0,0,null,-100000,-1000,null,0,4775.4156199999998,0,0]
[null,null,null,null,null,null,158,{"$error":"#VALUE!"},0,7.3800000000000004E-2,0,0,0,0,0,null,0,{"$error":"#VALUE!"},0,0,{"$error":"#VALUE!"},null,240,83,"n","n","n",0,0,0,0,null,-100000,-1000,null,0,4805.8322799999996,0,0]
[null,null,null,null,null,null,159,{"$error":"#VALUE!"},0,7.3800000000000004E-2,0,0,0,0,0,null,0,{"$error":"#VALUE!"},0,0,{"$error":"#VALUE!"},null,240,82,"n","n","n",0,0,0,0,null,-100000,-1000,null,0,4836.2489400000004,0,0]
[null,null,null,null,null,null,160,{"$error":"#VALUE!"},0,7.3800000000000004E-2,0,0,0,0,0,null,0,{"$error":"#VALUE!"},0,0,{"$error":"#VALUE!"},null,240,81,"n","n","n",0,0,0,0,null,-100000,-1000,null,0,4866.6656000000003,0,0]
[null,null,null,null,null,null,161,{"$error":"#VALUE!"},0,7.3800000000000004E-2,0,0,0,0,0,null,0,{"$error":"#VALUE!"},0,0,{"$error":"#VALUE!"},null,240,80,"n","n","n",0,0,0,0,null,-100000,-1000,null,0,4897.0822600000001,0,0]
[null,null,null,null,null,null,162,{"$error":"#VALUE!"},0,7.3800000000000004E-2,0,0,0,0,0,null,0,{"$error":"#VALUE!"},0,0,{"$error":"#VALUE!"},null,240,79,"n","n","n",0,0,0,0,14,-100000,-1000,null,0,4927.49892,0,0]
[null,null,null,null,null,null,163,{"$error":"#VALUE!"},0,7.3800000000000004E-2,0,0,0,0,0,null,0,{"$error":"#VALUE!"},0,0,{"$error":"#VALUE!"},null,240,78,"n","n","n",0,0,0,0,null,-100000,-1000,null,0,4957.9155799999999,0,0]
[null,null,null,null,null,null,164,{"$error":"#VALUE!"},0,7.3800000000000004E-2,0,0,0,0,0,null,0,{"$error":"#VALUE!"},0,0,{"$error":"#VALUE!"},null,240,77,"n","n","n",0,0,0,0,null,-100000,-1000,null,0,4988.3322399999997,0,0]
[null,null,null,null,null,null,165,{"$error":"#VALUE!"},0,7.3800000000000004E-2,0,0,0,0,0,null,0,{"$error":"#VALUE!"},0,0,{"$error":"#VALUE!"},null,240,76,"n","n","n",0,0,0,0,null,-100000,-1000,null,0,5018.7488999999996,0,0]
[null,null,null,null,null,null,166,{"$error":"#VALUE!"},0,7.3800000000000004E-2,0,0,0,0,0,null,0,{"$error":"#VALUE!"},0,0,{"$error":"#VALUE!"},null,240,75,"n","n","n",0,0,0,0,null,-100000,-1000,null,0,5049.1655600000004,0,0]
[null,null,null,null,null,null,167,{"$error":"#VALUE!"},0,7.3800000000000004E-2,0,0,0,0,0,null,0,{"$error":"#VALUE!"},0,0,{"$error":"#VALUE!"},null,240,74,"n","n","n",0,0,0,0,null,-100000,-1000,null,0,5079.5822200000002,0,0]
[null,null,null,null,null,null,168,{"$error":"#VALUE!"},0,7.3800000000000004E-2,0,0,0,0,0,null,0,{"$error":"#VALUE!"},0,0,{"$error":"#VALUE!"},null,240,73,"n","n","n",0,0,0,0,null,-100000,-1000,null,0,5109.9988800000001,0,0]
[null,null,null,null,null,null,169,{"$error":"#VALUE!"},0,7.3800000000000004E-2,0,0,0,0,0,null,0,{"$error":"#VALUE!"},0,0,{"$error":"#VALUE!"},null,240,72,"n","n","n",0,0,0,0,null,-100000,-1000,null,0,5140.41554,0,0]
[null,null,null,null,null,null,170,{"$error":"#VALUE!"},0,7.3800000000000004E-2,0,0,0,0,0,null,0,{"$error":"#VALUE!"},0,0,{"$error":"#VALUE!"},null,240,71,"n","n","n",0,0,0,0,null,-100000,-1000,null,0,5170.8321999999998,0,0]
[null,null,null,null,null,null,171,{"$error":"#VALUE!"},0,7.3800000000000004E-2,0,0,0,0,0,null,0,{"$error":"#VALUE!"},0,0,{"$error":"#VALUE!"},null,240,70,"n","n","n",0,0,0,0,null,-100000,-1000,null,0,5201.2488599999997,0,0]
[null,null,null,null,null,null,172,{"$error":"#VALUE!"},0,7.3800000000000004E-2,0,0,0,0,0,null,0,{"$error":"#VALUE!"},0,0,{"$error":"#VALUE!"},null,240,69,"n","n","n",0,0,0,0,null,-100000,-1000,null,0,5231.6655200000005,0,0]
[null,null,null,null,null,null,173,{"$error":"#VALUE!"},0,7.3800000000000004E-2,0,0,0,0,0,null,0,{"$error":"#VALUE!"},0,0,{"$error":"#VALUE!"},null,240,68,"n","n","n",0,0,0,0,null,-100000,-1000,null,0,5262.0821800000003,0,0]
[null,null,null,null,null,null,174,{"$error":"#VALUE!"},0,7.3800000000000004E-2,0,0,0,0,0,null,0,{"$error":"#VALUE!"},0,0,{"$error":"#VALUE!"},null,240,67,"n","n","n",0,0,0,0,15,-100000,-1000,null,0,5292.4988400000002,0,0]
[null,null,null,null,null,null,175,{"$error":"#VALUE!"},0,7.3800000000000004E-2,0,0,0,0,0,null,0,{"$error":"#VALUE!"},0,0,{"$error":"#VALUE!"},null,240,66,"n","n","n",0,0,0,0,null,-100000,-1000,null,0,5322.9155000000001,0,0]
[null,null,null,null,null,null,176,{"$error":"#VALUE!"},0,7.3800000000000004E-2,0,0,0,0,0,null,0,{"$error":"#VALUE!"},0,0,{"$error":"#VALUE!"},null,240,65,"n","n","n",0,0,0,0,null,-100000,-1000,null,0,5353.3321599999999,0,0]
[null,null,null,null,null,null,177,{"$error":"#VALUE!"},0,7.3800000000000004E-2,0,0,0,0,0,null,0,{"$error":"#VALUE!"},0,0,{"$error":"#VALUE!"},null,240,64,"n","n","n",0,0,0,0,null,-100000,-1000,null,0,5383.7488199999998,0,0]
[null,null,null,null,null,null,178,{"$error":"#VALUE!"},0,7.3800000000000004E-2,0,0,0,0,0,null,0,{"$error":"#VALUE!"},0,0,{"$error":"#VALUE!"},null,240,63,"n","n","n",0,0,0,0,null,-100000,-1000,null,0,5414.1654799999997,0,0]
[null,null,null,null,null,null,179,{"$error":"#VALUE!"},0,7.3800000000000004E-2,0,0,0,0,0,null,0,{"$error":"#VALUE!"},0,0,{"$error":"#VALUE!"},null,240,62,"n","n","n",0,0,0,0,null,-100000,-1000,null,0,5444.5821400000004,0,0]
[null,null,null,null,null,null,180,{"$error":"#VALUE!"},0,7.3800000000000004E-2,0,0,0,0,0,null,0,{"$error":"#VALUE!"},0,0,{"$error":"#VALUE!"},null,240,61,"n","n","n",0,0,0,0,null,-100000,-1000,null,0,5474.9988000000003,0,0]
[null,null,null,null,null,null,181,{"$error":"#VALUE!"},0,7.3800000000000004E-2,0,0,0,0,0,null,0,{"$error":"#VALUE!"},0,0,{"$error":"#VALUE!"},null,240,60,"n","n","n",0,0,0,0,null,-100000,-1000,null,0,5505.4154600000002,0,0]
[null,null,null,null,null,null,182,{"$error":"#VALUE!"},0,7.3800000000000004E-2,0,0,0,0,0,null,0,{"$error":"#VALUE!"},0,0,{"$error":"#VALUE!"},null,240,59,"n","n","n",0,0,0,0,null,-100000,-1000,null,0,5535.83212,0,0]
[null,null,null,null,null,null,183,{"$error":"#VALUE!"},0,7.3800000000000004E-2,0,0,0,0,0,null,0,{"$error":"#VALUE!"},0,0,{"$error":"#VALUE!"},null,240,58,"n","n","n",0,0,0,0,null,-100000,-1000,null,0,5566.2487799999999,0,0]
[null,null,null,null,null,null,184,{"$error":"#VALUE!"},0,7.3800000000000004E-2,0,0,0,0,0,null,0,{"$error":"#VALUE!"},0,0,{"$error":"#VALUE!"},null,240,57,"n","n","n",0,0,0,0,null,-100000,-1000,null,0,5596.6654399999998,0,0]
[null,null,null,null,null,null,185,{"$error":"#VALUE!"},0,7.3800000000000004E-2,0,0,0,0,0,null,0,{"$error":"#VALUE!"},0,0,{"$error":"#VALUE!"},null,240,56,"n","n","n",0,0,0,0,null,-100000,-1000,null,0,5627.0820999999996,0,0]
[null,null,null,null,null,null,186,{"$error":"#VALUE!"},0,7.3800000000000004E-2,0,0,0,0,0,null,0,{"$error":"#VALUE!"},0,0,{"$error":"#VALUE!"},null,240,55,"n","n","n",0,0,0,0,16,-100000,-1000,null,0,5657.4987600000004,0,0]
[null,null,null,null,null,null,187,{"$error":"#VALUE!"},0,7.3800000000000004E-2,0,0,0,0,0,null,0,{"$error":"#VALUE!"},0,0,{"$error":"#VALUE!"},null,240,54,"n","n","n",0,0,0,0,null,-100000,-1000,null,0,5687.9154200000003,0,0]
[null,null,null,null,null,null,188,{"$error":"#VALUE!"},0,7.3800000000000004E-2,0,0,0,0,0,null,0,{"$error":"#VALUE!"},0,0,{"$error":"#VALUE!"},null,240,53,"n","n","n",0,0,0,0,null,-100000,-1000,null,0,5718.3320800000001,0,0]
[null,null,null,null,null,null,189,{"$error":"#VALUE!"},0,7.3800000000000004E-2,0,0,0,0,0,null,0,{"$error":"#VALUE!"},0,0,{"$error":"#VALUE!"},null,240,52,"n","n","n",0,0,0,0,null,-100000,-1000,null,0,5748.74874,0,0]
[null,null,null,null,null,null,190,{"$error":"#VALUE!"},0,7.3800000000000004E-2,0,0,0,0,0,null,0,{"$error":"#VALUE!"},0,0,{"$error":"#VALUE!"},null,240,51,"n","n","n",0,0,0,0,null,-100000,-1000,null,0,5779.1653999999999,0,0]
[null,null,null,null,null,null,191,{"$error":"#VALUE!"},0,7.3800000000000004E-2,0,0,0,0,0,null,0,{"$error":"#VALUE!"},0,0,{"$error":"#VALUE!"},null,240,50,"n","n","n",0,0,0,0,null,-100000,-1000,null,0,5809.5820599999997,0,0]
[null,null,null,null,null,null,192,{"$error":"#VALUE!"},0,7.3800000000000004E-2,0,0,0,0,0,null,0,{"$error":"#VALUE!"},0,0,{"$error":"#VALUE!"},null,240,49,"n","n","n",0,0,0,0,null,-100000,-1000,null,0,5839.9987199999996,0,0]
[null,null,null,null,null,null,193,{"$error":"#VALUE!"},0,{"$f":"IF(G215<61,$B$32,IF(AND($B$27<61,$B$27<>\"\"),$B$32,$B$34))","v":7.3800000000000004E-2},{"$f":"IF(AA215=\"b\",0,J215*I215/12)","v":0},0,0,0,{"$f":"I215+K215+M215-N215-AE215","v":0},null,0,{"$error":"#VALUE!"},{"$f":"-I215*$S$20/12","v":0},0,{"$error":"#VALUE!"},null,240,48,"n","n","n",0,0,0,0,null,-100000,-1000,null,0,5870.4153800000004,0,0]
[null,null,null,null,null,null,194,{"$error":"#VALUE!"},0,7.3800000000000004E-2,0,{"$f":"N216-M216-K216","v":0},{"$f":"ROUND(IF(OR(AD216=1,AA216=\"b\",ROUND(I216,0)=0),0,IF(OR(H216=2,M215=0),I215*$B$35/12,M215)),0)","v":0},{"$f":"IF(OR(AA216=\"b\",ROUND(I216,0)=0),0,IF(OR(AND($B$27<61,AA216=\"b\"),AD216=1),M216,PMT(J216/12,X216,-I216)+M216))","v":0},0,null,{"$f":"IF(I216=0,0,IF(H216<>$H$23,Q215,IF(J216=$B$32,I216*$B$33/12,0)))","v":0},{"$f":"IF(H216=12,O216*$B$37,0)","v":{"$error":"#VALUE!"}},0,{"$f":"K216+Q216+S216","v":0},{"$f":"T216+R216","v":{"$error":"#VALUE!"}},null,240,47,{"$f":"IF(G216=$B$27,\"b\",\"n\")","v":"n"},{"$f":"IF(G216=$B$28,\"b\",\"n\")","v":"n"},{"$f":"IF(G216=$B$29,\"b\",\"n\")","v":"n"},{"$f":"IF($E$35<1,0,IF(OR(G216<=$B$27,G216>MAX(IF($B$27=$B$28,60,36),$B$27+IF($B$27=$B$28,60,36)),$B$27>60),0,1))","v":0},{"$f":"IF($E$35<2,0,IF(OR(G216<=$B$28,G216>$B$28+IF($B$27=$B$28,60,36),$AB$21=0),0,1))","v":0},{"$f":"MAX(AB216:AC216)","v":0},{"$f":"IF(AA216=\"b\",I216,IF(Z216=\"b\",I216*0.3,0))","v":0},null,{"$f":"IF(O216=0,-100000,O216)","v":-100000},{"$f":"IF(AD216=1,0,IF(N216=0,-1000,N216))","v":-1000},null,{"$f":"N216+IF(OR(I216=0,G216>$W$21),0,$B$38)+IF(G216=MIN(60,$B$25),$B$17,0)","v":0},{"$f":"G216*$AK$21","v":5900.8320400000002},0,0]
[null,null,null,null,null,null,{"$f":"G216+1","v":195},{"$f":"IF(H216=12,1,H216+1)","v":{"$error":"#VALUE!"}},{"$f":"O216","v":0},7.3800000000000004E-2,0,0,0,0,0,null,0,{"$error":"#VALUE!"},0,0,{"$error":"#VALUE!"},null,{"$f":"IF(Y216=\"b\",W216+$C$27,W216)","v":240},{"$f":"W217-G216","v":46},"n","n","n",0,0,0,0,null,-100000,-1000,null,0,5931.2487000000001,{"$f":"AJ217/((1+$AL$21)^(AK217/365))","v":0},{"$f":"AM216+AL217","v":0}]
[null,null,null,null,null,null,196,{"$error":"#VALUE!"},0,7.3800000000000004E-2,0,0,0,0,0,null,0,{"$error":"#VALUE!"},0,0,{"$error":"#VALUE!"},null,240,45,"n","n","n",0,0,0,0,null,-100000,-1000,null,0,5961.66536,0,0]
[null,null,null,null,null,null,197,{"$error":"#VALUE!"},0,7.3800000000000004E-2,0,0,0,0,0,null,0,{"$error":"#VALUE!"},0,0,{"$error":"#VALUE!"},null,240,44,"n","n","n",0,0,0,0,null,-100000,-1000,null,0,5992.0820199999998,0,0]
[null,null,null,null,null,null,198,{"$error":"#VALUE!"},0,7.3800000000000004E-2,0,0,0,0,0,null,0,{"$error":"#VALUE!"},0,0,{"$error":"#VALUE!"},null,240,43,"n","n","n",0,0,0,0,{"$f":"ROUNDDOWN(G220/12,0)+1","v":17},-100000,-1000,null,0,6022.4986799999997,0,0]
[null,null,null,null,null,null,199,{"$error":"#VALUE!"},0,7.3800000000000004E-2,0,0,0,0,0,null,0,{"$error":"#VALUE!"},0,0,{"$error":"#VALUE!"},null,240,42,"n","n","n",0,0,0,0,null,-100000,-1000,null,0,6052.9153400000005,0,0]
[null,null,null,null,null,null,200,{"$error":"#VALUE!"},0,7.3800000000000004E-2,0,0,0,0,0,null,0,{"$error":"#VALUE!"},0,0,{"$error":"#VALUE!"},null,240,41,"n","n","n",0,0,0,0,null,-100000,-1000,null,0,6083.3320000000003,0,0]
[null,null,null,null,null,null,201,{"$error":"#VALUE!"},0,7.3800000000000004E-2,0,0,0,0,0,null,0,{"$error":"#VALUE!"},0,0,{"$error":"#VALUE!"},null,240,40,"n","n","n",0,0,0,0,null,-100000,-1000,null,0,6113.7486600000002,0,0]
[null,null,null,null,null,null,202,{"$error":"#VALUE!"},0,7.3800000000000004E-2,0,0,0,0,0,null,0,{"$error":"#VALUE!"},0,0,{"$error":"#VALUE!"},null,240,39,"n","n","n",0,0,0,0,null,-100000,-1000,null,0,6144.1653200000001,0,0]
[null,null,null,null,null,null,203,{"$error":"#VALUE!"},0,7.3800000000000004E-2,0,0,0,0,0,null,0,{"$error":"#VALUE!"},0,0,{"$error":"#VALUE!"},null,240,38,"n","n","n",0,0,0,0,null,-100000,-1000,null,0,6174.5819799999999,0,0]
[null,null,null,null,null,null,204,{"$error":"#VALUE!"},0,7.3800000000000004E-2,0,0,0,0,0,null,0,{"$error":"#VALUE!"},0,0,{"$error":"#VALUE!"},null,240,37,"n","n","n",0,0,0,0,null,-100000,-1000,null,0,6204.9986399999998,0,0]
[null,null,null,null,null,null,205,{"$error":"#VALUE!"},0,7.3800000000000004E-2,0,0,0,0,0,null,0,{"$error":"#VALUE!"},0,0,{"$error":"#VALUE!"},null,240,36,"n","n","n",0,0,0,0,null,-100000,-1000,null,0,6235.4152999999997,0,0]
[null,null,null,null,null,null,206,{"$error":"#VALUE!"},0,7.3800000000000004E-2,0,0,0,0,0,null,0,{"$error":"#VALUE!"},0,0,{"$error":"#VALUE!"},null,240,35,"n","n","n",0,0,0,0,null,-100000,-1000,null,0,6265.8319600000004,0,0]
[null,null,null,null,null,null,207,{"$error":"#VALUE!"},0,7.3800000000000004E-2,0,0,0,0,0,null,0,{"$error":"#VALUE!"},0,0,{"$error":"#VALUE!"},null,240,34,"n","n","n",0,0,0,0,null,-100000,-1000,null,0,6296.2486200000003,0,0]
[null,null,null,null,null,null,208,{"$error":"#VALUE!"},0,7.3800000000000004E-2,0,0,0,0,0,null,0,{"$error":"#VALUE!"},0,0,{"$error":"#VALUE!"},null,240,33,"n","n","n",0,0,0,0,null,-100000,-1000,null,0,6326.6652800000002,0,0]
[null,null,null,null,null,null,209,{"$error":"#VALUE!"},0,7.3800000000000004E-2,0,0,0,0,0,null,0,{"$error":"#VALUE!"},0,0,{"$error":"#VALUE!"},null,240,32,"n","n","n",0,0,0,0,null,-100000,-1000,null,0,6357.08194,0,0]
[null,null,null,null,null,null,210,{"$error":"#VALUE!"},0,7.3800000000000004E-2,0,0,0,0,0,null,0,{"$error":"#VALUE!"},0,0,{"$error":"#VALUE!"},null,240,31,"n","n","n",0,0,0,0,18,-100000,-1000,null,0,6387.4985999999999,0,0]
[null,null,null,null,null,null,211,{"$error":"#VALUE!"},0,7.3800000000000004E-2,0,0,0,0,0,null,0,{"$error":"#VALUE!"},0,0,{"$error":"#VALUE!"},null,240,30,"n","n","n",0,0,0,0,null,-100000,-1000,null,0,6417.9152599999998,0,0]
[null,null,null,null,null,null,212,{"$error":"#VALUE!"},0,7.3800000000000004E-2,0,0,0,0,0,null,0,{"$error":"#VALUE!"},0,0,{"$error":"#VALUE!"},null,240,29,"n","n","n",0,0,0,0,null,-100000,-1000,null,0,6448.3319199999996,0,0]
[null,null,null,null,null,null,213,{"$error":"#VALUE!"},0,7.3800000000000004E-2,0,0,0,0,0,null,0,{"$error":"#VALUE!"},0,0,{"$error":"#VALUE!"},null,240,28,"n","n","n",0,0,0,0,null,-100000,-1000,null,0,6478.7485800000004,0,0]
[null,null,null,null,null,null,214,{"$error":"#VALUE!"},0,7.3800000000000004E-2,0,0,0,0,0,null,0,{"$error":"#VALUE!"},0,0,{"$error":"#VALUE!"},null,240,27,"n","n","n",0,0,0,0,null,-100000,-1000,null,0,6509.1652400000003,0,0]
[null,null,null,null,null,null,215,{"$error":"#VALUE!"},0,7.3800000000000004E-2,0,0,0,0,0,null,0,{"$error":"#VALUE!"},0,0,{"$error":"#VALUE!"},null,240,26,"n","n","n",0,0,0,0,null,-100000,-1000,null,0,6539.5819000000001,0,0]
[null,null,null,null,null,null,216,{"$error":"#VALUE!"},0,7.3800000000000004E-2,0,0,0,0,0,null,0,{"$error":"#VALUE!"},0,0,{"$error":"#VALUE!"},null,240,25,"n","n","n",0,0,0,0,null,-100000,-1000,null,0,6569.99856,0,0]
[null,null,null,null,null,null,217,{"$error":"#VALUE!"},0,7.3800000000000004E-2,0,0,0,0,0,null,0,{"$error":"#VALUE!"},0,0,{"$error":"#VALUE!"},null,240,24,"n","n","n",0,0,0,0,null,-100000,-1000,null,0,6600.4152199999999,0,0]
[null,null,null,null,null,null,218,{"$error":"#VALUE!"},0,7.3800000000000004E-2,0,0,0,0,0,null,0,{"$error":"#VALUE!"},0,0,{"$error":"#VALUE!"},null,240,23,"n","n","n",0,0,0,0,null,-100000,-1000,null,0,6630.8318799999997,0,0]
[null,null,null,null,null,null,219,{"$error":"#VALUE!"},0,7.3800000000000004E-2,0,0,0,0,0,null,0,{"$error":"#VALUE!"},0,0,{"$error":"#VALUE!"},null,240,22,"n","n","n",0,0,0,0,null,-100000,-1000,null,0,6661.2485400000005,0,0]
[null,null,null,null,null,null,220,{"$error":"#VALUE!"},0,7.3800000000000004E-2,0,0,0,0,0,null,0,{"$error":"#VALUE!"},0,0,{"$error":"#VALUE!"},null,240,21,"n","n","n",0,0,0,0,null,-100000,-1000,null,0,6691.6652000000004,0,0]
[null,null,null,null,null,null,221,{"$error":"#VALUE!"},0,7.3800000000000004E-2,0,0,0,0,0,null,0,{"$error":"#VALUE!"},0,0,{"$error":"#VALUE!"},null,240,20,"n","n","n",0,0,0,0,null,-100000,-1000,null,0,6722.0818600000002,0,0]
[null,null,null,null,null,null,222,{"$error":"#VALUE!"},0,7.3800000000000004E-2,0,0,0,0,0,null,0,{"$error":"#VALUE!"},0,0,{"$error":"#VALUE!"},null,240,19,"n","n","n",0,0,0,0,19,-100000,-1000,null,0,6752.4985200000001,0,0]
[null,null,null,null,null,null,223,{"$error":"#VALUE!"},0,7.3800000000000004E-2,0,0,0,0,0,null,0,{"$error":"#VALUE!"},0,0,{"$error":"#VALUE!"},null,240,18,"n","n","n",0,0,0,0,null,-100000,-1000,null,0,6782.91518,0,0]
[null,null,null,null,null,null,224,{"$error":"#VALUE!"},0,7.3800000000000004E-2,0,0,0,0,0,null,0,{"$error":"#VALUE!"},0,0,{"$error":"#VALUE!"},null,240,17,"n","n","n",0,0,0,0,null,-100000,-1000,null,0,6813.3318399999998,0,0]
[null,null,null,null,null,null,225,{"$error":"#VALUE!"},0,7.3800000000000004E-2,0,0,0,0,0,null,0,{"$error":"#VALUE!"},0,0,{"$error":"#VALUE!"},null,240,16,"n","n","n",0,0,0,0,null,-100000,-1000,null,0,6843.7484999999997,0,0]
[null,null,null,null,null,null,226,{"$error":"#VALUE!"},0,7.3800000000000004E-2,0,0,0,0,0,null,0,{"$error":"#VALUE!"},0,0,{"$error":"#VALUE!"},null,240,15,"n","n","n",0,0,0,0,null,-100000,-1000,null,0,6874.1651600000005,0,0]
[null,null,null,null,null,null,227,{"$error":"#VALUE!"},0,7.3800000000000004E-2,0,0,0,0,0,null,0,{"$error":"#VALUE!"},0,0,{"$error":"#VALUE!"},null,240,14,"n","n","n",0,0,0,0,null,-100000,-1000,null,0,6904.5818200000003,0,0]
[null,null,null,null,null,null,228,{"$error":"#VALUE!"},0,7.3800000000000004E-2,0,0,0,0,0,null,0,{"$error":"#VALUE!"},0,0,{"$error":"#VALUE!"},null,240,13,"n","n","n",0,0,0,0,null,-100000,-1000,null,0,6934.9984800000002,0,0]
[null,null,null,null,null,null,229,{"$error":"#VALUE!"},0,7.3800000000000004E-2,0,0,0,0,0,null,0,{"$error":"#VALUE!"},0,0,{"$error":"#VALUE!"},null,240,12,"n","n","n",0,0,0,0,null,-100000,-1000,null,0,6965.4151400000001,0,0]
[null,null,null,null,null,null,230,{"$error":"#VALUE!"},0,7.3800000000000004E-2,0,0,0,0,0,null,0,{"$error":"#VALUE!"},0,0,{"$error":"#VALUE!"},null,240,11,"n","n","n",0,0,0,0,null,-100000,-1000,null,0,6995.8317999999999,0,0]
[null,null,null,null,null,null,231,{"$error":"#VALUE!"},0,7.3800000000000004E-2,0,0,0,0,0,null,0,{"$error":"#VALUE!"},0,0,{"$error":"#VALUE!"},null,240,10,"n","n","n",0,0,0,0,null,-100000,-1000,null,0,7026.2484599999998,0,0]
[null,null,null,null,null,null,232,{"$error":"#VALUE!"},0,7.3800000000000004E-2,0,0,0,0,0,null,0,{"$error":"#VALUE!"},0,0,{"$error":"#VALUE!"},null,240,9,"n","n","n",0,0,0,0,null,-100000,-1000,null,0,7056.6651199999997,0,0]
[null,null,null,null,null,null,233,{"$error":"#VALUE!"},0,7.3800000000000004E-2,0,0,0,0,0,null,0,{"$error":"#VALUE!"},0,0,{"$error":"#VALUE!"},null,240,8,"n","n","n",0,0,0,0,null,-100000,-1000,null,0,7087.0817800000004,0,0]
[null,null,null,null,null,null,234,{"$error":"#VALUE!"},0,7.3800000000000004E-2,0,0,0,0,0,null,0,{"$error":"#VALUE!"},0,0,{"$error":"#VALUE!"},null,240,7,"n","n","n",0,0,0,0,20,-100000,-1000,null,0,7117.4984400000003,0,0]
[null,null,null,null,null,null,235,{"$error":"#VALUE!"},0,7.3800000000000004E-2,0,0,0,0,0,null,0,{"$error":"#VALUE!"},0,0,{"$error":"#VALUE!"},null,240,6,"n","n","n",0,0,0,0,null,-100000,-1000,null,0,7147.9151000000002,0,0]
[null,null,null,null,null,null,236,{"$error":"#VALUE!"},0,7.3800000000000004E-2,0,0,0,0,0,null,0,{"$error":"#VALUE!"},0,0,{"$error":"#VALUE!"},null,240,5,"n","n","n",0,0,0,0,null,-100000,-1000,null,0,7178.33176,0,0]
[null,null,null,null,null,null,237,{"$error":"#VALUE!"},0,7.3800000000000004E-2,0,0,0,0,0,null,0,{"$error":"#VALUE!"},0,0,{"$error":"#VALUE!"},null,240,4,"n","n","n",0,0,0,0,null,-100000,-1000,null,0,7208.7484199999999,0,0]
[null,null,null,null,null,null,238,{"$error":"#VALUE!"},0,7.3800000000000004E-2,0,0,0,0,0,null,0,{"$error":"#VALUE!"},0,0,{"$error":"#VALUE!"},null,240,3,"n","n","n",0,0,0,0,null,-100000,-1000,null,0,7239.1650799999998,0,0]
[null,null,null,null,null,null,239,{"$error":"#VALUE!"},0,7.3800000000000004E-2,0,0,0,0,0,null,0,{"$error":"#VALUE!"},0,0,{"$error":"#VALUE!"},null,240,2,"n","n","n",0,0,0,0,null,-100000,-1000,null,0,7269.5817399999996,0,0]
[null,null,null,null,null,null,240,{"$error":"#VALUE!"},0,7.3800000000000004E-2,0,0,0,0,0,null,0,{"$error":"#VALUE!"},0,0,{"$error":"#VALUE!"},null,240,1,"n","n","n",0,0,0,0,null,-100000,-1000,null,0,7299.9984000000004,0,0]
[null,null,null,null,null,null,241,{"$error":"#VALUE!"},0,7.3800000000000004E-2,0,0,0,0,0,null,0,{"$error":"#VALUE!"},0,0,{"$error":"#VALUE!"},null,240,0,"n","n","n",0,0,0,0,null,-100000,-1000,null,0,7330.4150600000003,0,0]
[null,null,null,null,null,null,242,{"$error":"#VALUE!"},0,7.3800000000000004E-2,0,0,0,0,0,null,0,{"$error":"#VALUE!"},0,0,{"$error":"#VALUE!"},null,240,-1,"n","n","n",0,0,0,0,null,-100000,-1000,null,0,7360.8317200000001,0,0]
[null,null,null,null,null,null,243,{"$error":"#VALUE!"},0,7.3800000000000004E-2,0,0,0,0,0,null,0,{"$error":"#VALUE!"},0,0,{"$error":"#VALUE!"},null,240,-2,"n","n","n",0,0,0,0,null,-100000,-1000,null,0,7391.24838,0,0]
[null,null,null,null,null,null,244,{"$error":"#VALUE!"},0,7.3800000000000004E-2,0,0,0,0,0,null,0,{"$error":"#VALUE!"},0,0,{"$error":"#VALUE!"},null,240,-3,"n","n","n",0,0,0,0,null,-100000,-1000,null,0,7421.6650399999999,0,0]
[null,null,null,null,null,null,245,{"$error":"#VALUE!"},0,7.3800000000000004E-2,0,0,0,0,0,null,0,{"$error":"#VALUE!"},0,0,{"$error":"#VALUE!"},null,240,-4,"n","n","n",0,0,0,0,null,-100000,-1000,null,0,7452.0816999999997,0,0]
[null,null,null,null,null,null,246,{"$error":"#VALUE!"},0,7.3800000000000004E-2,0,0,0,0,0,null,0,{"$error":"#VALUE!"},0,0,{"$error":"#VALUE!"},null,240,-5,"n","n","n",0,0,0,0,21,-100000,-1000,null,0,7482.4983600000005,0,0]
[null,null,null,null,null,null,247,{"$error":"#VALUE!"},0,7.3800000000000004E-2,0,0,0,0,0,null,0,{"$error":"#VALUE!"},0,0,{"$error":"#VALUE!"},null,240,-6,"n","n","n",0,0,0,0,null,-100000,-1000,null,0,7512.9150200000004,0,0]
[null,null,null,null,null,null,248,{"$error":"#VALUE!"},0,7.3800000000000004E-2,0,0,0,0,0,null,0,{"$error":"#VALUE!"},0,0,{"$error":"#VALUE!"},null,240,-7,"n","n","n",0,0,0,0,null,-100000,-1000,null,0,7543.3316800000002,0,0]
[null,null,null,null,null,null,249,{"$error":"#VALUE!"},0,7.3800000000000004E-2,0,0,0,0,0,null,0,{"$error":"#VALUE!"},0,0,{"$error":"#VALUE!"},null,240,-8,"n","n","n",0,0,0,0,null,-100000,-1000,null,0,7573.7483400000001,0,0]
[null,null,null,null,null,null,250,{"$error":"#VALUE!"},0,7.3800000000000004E-2,0,0,0,0,0,null,0,{"$error":"#VALUE!"},0,0,{"$error":"#VALUE!"},null,240,-9,"n","n","n",0,0,0,0,null,-100000,-1000,null,0,7604.165,0,0]
[null,null,null,null,null,null,251,{"$error":"#VALUE!"},0,7.3800000000000004E-2,0,0,0,0,0,null,0,{"$error":"#VALUE!"},0,0,{"$error":"#VALUE!"},null,240,-10,"n","n","n",0,0,0,0,null,-100000,-1000,null,0,7634.5816599999998,0,0]
[null,null,null,null,null,null,252,{"$error":"#VALUE!"},0,7.3800000000000004E-2,0,0,0,0,0,null,0,{"$error":"#VALUE!"},0,0,{"$error":"#VALUE!"},null,240,-11,"n","n","n",0,0,0,0,null,-100000,-1000,null,0,7664.9983199999997,0,0]
[null,null,null,null,null,null,253,{"$error":"#VALUE!"},0,7.3800000000000004E-2,0,0,0,0,0,null,0,{"$error":"#VALUE!"},0,0,{"$error":"#VALUE!"},null,240,-12,"n","n","n",0,0,0,0,null,-100000,-1000,null,0,7695.4149800000005,0,0]
[null,null,null,null,null,null,254,{"$error":"#VALUE!"},0,7.3800000000000004E-2,0,0,0,0,0,null,0,{"$error":"#VALUE!"},0,0,{"$error":"#VALUE!"},null,240,-13,"n","n","n",0,0,0,0,null,-100000,-1000,null,0,7725.8316400000003,0,0]
[null,null,null,null,null,null,255,{"$error":"#VALUE!"},0,7.3800000000000004E-2,0,0,0,0,0,null,0,{"$error":"#VALUE!"},0,0,{"$error":"#VALUE!"},null,240,-14,"n","n","n",0,0,0,0,null,-100000,-1000,null,0,7756.2483000000002,0,0]
[null,null,null,null,null,null,256,{"$error":"#VALUE!"},0,7.3800000000000004E-2,0,0,0,0,0,null,0,{"$error":"#VALUE!"},0,0,{"$error":"#VALUE!"},null,240,-15,"n","n","n",0,0,0,0,null,-100000,-1000,null,0,7786.6649600000001,0,0]
[null,null,null,null,null,null,257,{"$error":"#VALUE!"},0,{"$f":"IF(G279<61,$B$32,IF(AND($B$27<61,$B$27<>\"\"),$B$32,$B$34))","v":7.3800000000000004E-2},{"$f":"IF(AA279=\"b\",0,J279*I279/12)","v":0},0,0,0,{"$f":"I279+K279+M279-N279-AE279","v":0},null,0,{"$error":"#VALUE!"},{"$f":"-I279*$S$20/12","v":0},0,{"$error":"#VALUE!"},null,240,-16,"n","n","n",0,0,0,0,null,-100000,-1000,null,0,7817.0816199999999,0,0]
[null,null,null,null,null,null,258,{"$error":"#VALUE!"},0,7.3800000000000004E-2,0,{"$f":"N280-M280-K280","v":0},{"$f":"ROUND(IF(OR(AD280=1,AA280=\"b\",ROUND(I280,0)=0),0,IF(OR(H280=2,M279=0),I279*$B$35/12,M279)),0)","v":0},{"$f":"IF(OR(AA280=\"b\",ROUND(I280,0)=0),0,IF(OR(AND($B$27<61,AA280=\"b\"),AD280=1),M280,PMT(J280/12,X280,-I280)+M280))","v":0},0,null,{"$f":"IF(I280=0,0,IF(H280<>$H$23,Q279,IF(J280=$B$32,I280*$B$33/12,0)))","v":0},{"$f":"IF(H280=12,O280*$B$37,0)","v":{"$error":"#VALUE!"}},0,{"$f":"K280+Q280+S280","v":0},{"$f":"T280+R280","v":{"$error":"#VALUE!"}},null,240,-17,{"$f":"IF(G280=$B$27,\"b\",\"n\")","v":"n"},{"$f":"IF(G280=$B$28,\"b\",\"n\")","v":"n"},{"$f":"IF(G280=$B$29,\"b\",\"n\")","v":"n"},{"$f":"IF($E$35<1,0,IF(OR(G280<=$B$27,G280>MAX(IF($B$27=$B$28,60,36),$B$27+IF($B$27=$B$28,60,36)),$B$27>60),0,1))","v":0},{"$f":"IF($E$35<2,0,IF(OR(G280<=$B$28,G280>$B$28+IF($B$27=$B$28,60,36),$AB$21=0),0,1))","v":0},{"$f":"MAX(AB280:AC280)","v":0},{"$f":"IF(AA280=\"b\",I280,IF(Z280=\"b\",I280*0.3,0))","v":0},{"$f":"ROUNDDOWN(G280/12,0)+1","v":22},{"$f":"IF(O280=0,-100000,O280)","v":-100000},{"$f":"IF(AD280=1,0,IF(N280=0,-1000,N280))","v":-1000},null,{"$f":"N280+IF(OR(I280=0,G280>$W$21),0,$B$38)+IF(G280=MIN(60,$B$25),$B$17,0)","v":0},{"$f":"G280*$AK$21","v":7847.4982799999998},0,0]
[null,null,null,null,null,null,{"$f":"G280+1","v":259},{"$f":"IF(H280=12,1,H280+1)","v":{"$error":"#VALUE!"}},{"$f":"O280","v":0},7.3800000000000004E-2,0,0,0,0,0,null,0,{"$error":"#VALUE!"},0,0,{"$error":"#VALUE!"},null,{"$f":"IF(Y280=\"b\",W280+$C$27,W280)","v":240},{"$f":"W281-G280","v":-18},"n","n","n",0,0,0,0,null,-100000,-1000,null,0,7877.9149399999997,{"$f":"AJ281/((1+$AL$21)^(AK281/365))","v":0},{"$f":"AM280+AL281","v":0}]
[null,null,null,null,null,null,260,{"$error":"#VALUE!"},0,7.3800000000000004E-2,0,0,0,0,0,null,0,{"$error":"#VALUE!"},0,0,{"$error":"#VALUE!"},null,240,-19,"n","n","n",0,0,0,0,null,-100000,-1000,null,0,7908.3316000000004,0,0]
[null,null,null,null,null,null,261,{"$error":"#VALUE!"},0,7.3800000000000004E-2,0,0,0,0,0,null,0,{"$error":"#VALUE!"},0,0,{"$error":"#VALUE!"},null,240,-20,"n","n","n",0,0,0,0,null,-100000,-1000,null,0,7938.7482600000003,0,0]
[null,null,null,null,null,null,262,{"$error":"#VALUE!"},0,7.3800000000000004E-2,0,0,0,0,0,null,0,{"$error":"#VALUE!"},0,0,{"$error":"#VALUE!"},null,240,-21,"n","n","n",0,0,0,0,null,-100000,-1000,null,0,7969.1649200000002,0,0]
[null,null,null,null,null,null,263,{"$error":"#VALUE!"},0,7.3800000000000004E-2,0,0,0,0,0,null,0,{"$error":"#VALUE!"},0,0,{"$error":"#VALUE!"},null,240,-22,"n","n","n",0,0,0,0,null,-100000,-1000,null,0,7999.58158,0,0]
[null,null,null,null,null,null,264,{"$error":"#VALUE!"},0,7.3800000000000004E-2,0,0,0,0,0,null,0,{"$error":"#VALUE!"},0,0,{"$error":"#VALUE!"},null,240,-23,"n","n","n",0,0,0,0,null,-100000,-1000,null,0,8029.9982399999999,0,0]
[null,null,null,null,null,null,265,{"$error":"#VALUE!"},0,7.3800000000000004E-2,0,0,0,0,0,null,0,{"$error":"#VALUE!"},0,0,{"$error":"#VALUE!"},null,240,-24,"n","n","n",0,0,0,0,null,-100000,-1000,null,0,8060.4148999999998,0,0]
[null,null,null,null,null,null,266,{"$error":"#VALUE!"},0,7.3800000000000004E-2,0,0,0,0,0,null,0,{"$error":"#VALUE!"},0,0,{"$error":"#VALUE!"},null,240,-25,"n","n","n",0,0,0,0,null,-100000,-1000,null,0,8090.8315599999996,0,0]
[null,null,null,null,null,null,267,{"$error":"#VALUE!"},0,7.3800000000000004E-2,0,0,0,0,0,null,0,{"$error":"#VALUE!"},0,0,{"$error":"#VALUE!"},null,240,-26,"n","n","n",0,0,0,0,null,-100000,-1000,null,0,8121.2482200000004,0,0]
[null,null,null,null,null,null,268,{"$error":"#VALUE!"},0,7.3800000000000004E-2,0,0,0,0,0,null,0,{"$error":"#VALUE!"},0,0,{"$error":"#VALUE!"},null,240,-27,"n","n","n",0,0,0,0,null,-100000,-1000,null,0,8151.6648800000003,0,0]
[null,null,null,null,null,null,269,{"$error":"#VALUE!"},0,7.3800000000000004E-2,0,0,0,0,0,null,0,{"$error":"#VALUE!"},0,0,{"$error":"#VALUE!"},null,240,-28,"n","n","n",0,0,0,0,null,-100000,-1000,null,0,8182.0815400000001,0,0]
[null,null,null,null,null,null,270,{"$error":"#VALUE!"},0,7.3800000000000004E-2,0,0,0,0,0,null,0,{"$error":"#VALUE!"},0,0,{"$error":"#VALUE!"},null,240,-29,"n","n","n",0,0,0,0,23,-100000,-1000,null,0,8212.4982,0,0]
[null,null,null,null,null,null,271,{"$error":"#VALUE!"},0,7.3800000000000004E-2,0,0,0,0,0,null,0,{"$error":"#VALUE!"},0,0,{"$error":"#VALUE!"},null,240,-30,"n","n","n",0,0,0,0,null,-100000,-1000,null,0,8242.9148600000008,0,0]
[null,null,null,null,null,null,272,{"$error":"#VALUE!"},0,7.3800000000000004E-2,0,0,0,0,0,null,0,{"$error":"#VALUE!"},0,0,{"$error":"#VALUE!"},null,240,-31,"n","n","n",0,0,0,0,null,-100000,-1000,null,0,8273.3315199999997,0,0]
[null,null,null,null,null,null,273,{"$error":"#VALUE!"},0,7.3800000000000004E-2,0,0,0,0,0,null,0,{"$error":"#VALUE!"},0,0,{"$error":"#VALUE!"},null,240,-32,"n","n","n",0,0,0,0,null,-100000,-1000,null,0,8303.7481800000005,0,0]
[null,null,null,null,null,null,274,{"$error":"#VALUE!"},0,7.3800000000000004E-2,0,0,0,0,0,null,0,{"$error":"#VALUE!"},0,0,{"$error":"#VALUE!"},null,240,-33,"n","n","n",0,0,0,0,null,-100000,-1000,null,0,8334.1648399999995,0,0]
[null,null,null,null,null,null,275,{"$error":"#VALUE!"},0,7.3800000000000004E-2,0,0,0,0,0,null,0,{"$error":"#VALUE!"},0,0,{"$error":"#VALUE!"},null,240,-34,"n","n","n",0,0,0,0,null,-100000,-1000,null,0,8364.5815000000002,0,0]
[null,null,null,null,null,null,276,{"$error":"#VALUE!"},0,7.3800000000000004E-2,0,0,0,0,0,null,0,{"$error":"#VALUE!"},0,0,{"$error":"#VALUE!"},null,240,-35,"n","n","n",0,0,0,0,null,-100000,-1000,null,0,8394.9981599999992,0,0]

{"sheet":"Közjegyzői-normál","index":19,"n_rows":32,"n_cols":10,"rows_kept":32,"cut":false,"hidden":true,"merged":[]}
["MUNKADÍJ",null,null,null,null,null,null,null,null,1]
["ügyérték",{"$f":"Hiteladatok!B15","v":0},null,null,null,null,null,null,null,2]
["1 v. 2 oldalú",1]
[null,"min","max","díj","%","a % az x felett"]
[{"$f":"IF(AND($B$2>=B5,$B$2<=C5),1,0)","v":1},0,20000,5500,0,0]
[{"$f":"IF(AND($B$2>=B6,$B$2<=C6),1,0)","v":0},{"$f":"C5+1","v":20001},50000,5500,0.04,{"$f":"B6-1","v":20000}]
[0,50001,100000,6700,0.03,50000]
[0,100001,500000,8200,0.02,100000]
[0,500001,5000000,16200,0.01,500000]
[0,5000001,10000000,61200,5.0000000000000001E-3,5000000]
[0,10000001,200000000,86200,2.5000000000000001E-3,10000000]
[0,200000001,500000000,561200,2E-3,200000000]
[0,500000001,1000000000,1161200,1E-3,500000000]
[null,null,"munkadíj",{"$f":"(VLOOKUP(1,$A$5:$F$13,4,FALSE)+VLOOKUP(1,$A$5:$F$13,5,FALSE)*(B2-VLOOKUP(1,$A$5:$F$13,6,FALSE)))*IF(B3=1,0.3,1)","v":1650}]
["KÖLTSÉGÁTALÁNY"]
["Vetítési alap: munkadíj"]
["Mérték",0.4]
[null,null,"költségátalány",{"$f":"D14*B17","v":660}]
[]
["HITELES KIADMÁNY DÍJA"]
["díj",900]
["min díj",{"$f":"6*B21","v":5400}]
["max díj",{"$f":"16*B21","v":14400}]
[null,null,"hiteles kiadmány átlagdíja",{"$f":"AVERAGE(B22:B23)","v":9900}]
[]
["EGYÉB KÖLTSÉG (archiválás, készkiadás, stb)"]
["min költség",3500]
["max költség",6000]
[null,null,"egyéb átlagköltség",{"$f":"AVERAGE(B27:B28)","v":4750}]
[]
[]
[null,null,"ÖSSZESEN",{"$f":"D14+D18+D24+D29","v":16960}]